{"text_format":"1","workbook":"xlsx","n_sheets":18,"sheets":["ТитГЗ","КРС","ССЗ","ПО","Общеж","Питание","Служ_КРС","Служ_ССЗ","Служебный 1","Служебный 3","ПрСведения","СводГЗ","ТитОтчет","КРСОтч","ССЗОтч","ПООтч","ОбщежОтч","ПитаниеОтч"],"not_rendered":{"charts":0,"images":0,"macros":1,"external_links":0,"defined_names":164,"comments":5,"pivot_tables":0},"unopened":[],"bounds":{"document_bytes":16777216,"sheet_cells":100000,"rows_first":2000,"rows_last":500,"rows_between":2000,"halvings":0,"cell_chars":16384,"cell_head_chars":4096},"cells_cut":0,"cells_raw":0,"read":"whole","date_system":"1900"}

{"sheet":"ТитГЗ","index":0,"n_rows":32,"n_cols":12,"rows_kept":32,"cut":false,"hidden":true,"merged":[[27,0,28,8],[14,11,14,12],[21,11,21,12],[22,11,22,12],[23,11,23,12],[24,11,24,12],[16,0,18,8],[0,9,0,12],[8,9,8,12],[21,0,22,8],[23,0,24,8],[25,0,26,8],[2,9,2,12],[15,10,16,10],[15,11,16,12],[17,11,17,12],[18,10,20,10],[18,11,20,12],[11,4,11,8],[13,3,13,9],[6,9,6,12],[4,9,4,12],[3,9,3,12]]}
[null,null,null,null,null,null,null,null,null,"УТВЕРЖДАЮ"]
[]
[null,null,null,null,null,null,null,null,null,"Заместитель председателя комитета"]
[null,null,null,null,null,null,null,null,null,"образования, науки и молодежной политики "]
[null,null,null,null,null,null,null,null,null,"Волгоградской области"]
[]
[null,null,null,null,null,null,null,null,null,"______________ Ю.В.Кузнецов"]
[]
[null,null,null,null,null,null,null,null,null,"\"_____\" _______________ 2018 г."]
[]
[]
[null,null,null,null,"ГОСУДАРСТВЕННОЕ ЗАДАНИЕ № "]
[]
[null,null,null,"на 2018 год и плановый период 2019 и 2020 годов"]
[null,null,null,null,null,null,null,null,null,null,null,"Коды"]
["Наименование государственного учреждения (Волгоградской области)",null,null,null,null,null,null,null,null,null,"Форма по ОКУД","0506001"]
["государственное бюджетное профессиональное образовательное учреждение \"Волгоградский колледж управления и новых технологий имени Юрия Гагарина\""]
[null,null,null,null,null,null,null,null,null,null,"Дата"]
[null,null,null,null,null,null,null,null,null,null,"по сводному реестру"]
[]
["Виды деятельности государственного учреждения (Волгоградской области)"]
[{"$f":"IF(ISERROR(VLOOKUP(L22,'Служебный 1'!I2:L5,4,FALSE)),\"\",VLOOKUP(L22,'Служебный 1'!I2:L5,4,FALSE))","v":"Управление эксплуатацией жилого фонда"},null,null,null,null,null,null,null,null,null,"По ОКВЭД",{"$f":"'Служебный 1'!K5","v":"70.32.1"}]
[null,null,null,null,null,null,null,null,null,null,"По ОКВЭД",{"$f":"'Служебный 1'!K4","v":"85.21"}]
[{"$f":"IF(ISERROR(VLOOKUP(L23,'Служебный 1'!I2:L5,4,FALSE)),\"\",VLOOKUP(L23,'Служебный 1'!I2:L5,4,FALSE))","v":"Среднее профессиональное образование"},null,null,null,null,null,null,null,null,null,"По ОКВЭД",{"$f":"'Служебный 1'!K3","v":"85.21"}]
[null,null,null,null,null,null,null,null,null,null,null,{"$f":"'Служебный 1'!K2","v":"85.21"}]
[{"$f":"IF(ISERROR(VLOOKUP(L24,'Служебный 1'!I2:L5,4,FALSE)),\"\",VLOOKUP(L24,'Служебный 1'!I2:L5,4,FALSE))","v":"Среднее профессиональное образование"}]
[]
[{"$f":"IF(ISERROR(VLOOKUP(L25,'Служебный 1'!I2:L5,4,FALSE)),\"\",VLOOKUP(L25,'Служебный 1'!I2:L5,4,FALSE))","v":"Среднее профессиональное образование"}]
[]
[]
["Вид государственного учреждения"]
["профессиональное образовательное учреждение"]

{"sheet":"КРС","index":1,"n_rows":157,"n_cols":28,"rows_kept":157,"cut":false,"hidden":true,"merged":[[16,0,16,4],[10,6,10,27],[11,1,12,1],[11,2,12,2],[11,3,12,3],[11,4,12,4],[11,5,12,5],[11,6,12,21],[11,22,11,24],[11,25,11,27],[12,22,12,23],[3,0,3,3],[5,0,5,5],[10,0,12,0],[10,1,10,3],[10,4,10,5],[13,22,13,23],[20,9,20,20],[20,21,20,23],[21,11,22,11],[21,15,22,15],[21,16,22,16],[21,17,22,17],[14,6,14,21],[14,22,14,23],[149,0,149,26],[21,18,22,18],[21,19,22,19],[21,20,22,20],[21,24,22,24],[125,0,125,4],[129,0,129,26],[20,0,22,0],[20,6,20,8],[21,13,22,13],[20,24,20,26],[21,1,22,1],[21,2,22,2],[21,3,22,3],[21,4,22,4],[21,5,22,5],[148,0,148,26],[21,14,22,14],[21,9,22,9],[21,10,22,10],[130,5,130,26],[21,6,22,6],[21,7,21,8],[143,0,143,26],[144,0,144,26],[146,0,146,26],[147,0,147,26],[145,0,145,26],[0,0,0,27],[1,0,1,27],[138,0,138,26],[131,1,131,2],[131,5,131,26],[132,1,132,2],[132,5,132,26],[137,0,137,26],[130,1,130,2],[21,21,22,21],[21,22,22,22],[21,23,22,23],[21,12,22,12],[20,1,20,3],[20,4,20,5],[13,6,13,21],[155,5,155,6],[21,25,22,25],[21,26,22,26],[156,0,156,1],[156,2,156,4],[156,5,156,6],[154,0,154,1],[154,2,154,4],[154,5,154,6],[155,0,155,1],[155,2,155,4],[150,0,150,26],[139,0,139,26],[140,0,140,26],[141,0,141,26],[142,0,142,26]]}
[{"$f":"IF(V25=0,\"\",\"Часть 1. Сведения об оказываемых государственных услугах\")","v":"Часть 1. Сведения об оказываемых государственных услугах"}]
[{"$f":"\"Раздел \"&'Служебный 1'!N2","v":"Раздел 1"}]
["1. Наименование государственной услуги"]
["Реализация образовательных программ среднего профессионального образования - программ подготовки квалифицированных рабочих, служащих",null,null,null,"Уникальный номер по базовому (отраслевому) перечню","11.Д57.0"]
["2. Категория потребителей государственной услуги"]
["Физические лица, имеющие основное общее образование"]
["3. Показатели, характеризующие объем и (или) качество государственной услуги:"]
[]
["3.1. Показатели, характеризующие качество государственной услуги:"]
[]
["Уникальный номер реестровой записи","Показатель, характеризущий содержание государственной услуги",null,null,"Показатель, характеризущий условия (формы) оказания государственной услуги",null,"Показатель качества государственной услуги"]
[null,"Профессии и укрупненные группы","Категория потребителей","Уровень образования, необходимый для приема на обучение","Формы обучения и формы реализации образовательных программ","(наименование показателя)","наименование показателя",null,null,null,null,null,null,null,null,null,null,null,null,null,null,null,"единица измерения по ОКЕИ",null,null,"Значение показателя качества государственной услуги"]
[null,null,null,null,null,null,null,null,null,null,null,null,null,null,null,null,null,null,null,null,null,null,"наиме-нование",null,"код",2018,2019,2020]
[1,2,3,4,5,6,7,null,null,null,null,null,null,null,null,null,null,null,null,null,null,null,8,null,9,10,11,12]
[]
[]
["допустимые (возможные) отклонения от установленных показателей качества государственной услуги, в пределах которых государственное задание считается выполненным (процентов)"]
[]
["3.2. Показатели, характеризующие объем государственной услуги:"]
[]
["Уникальный номер реестровой записи","Показатель, характеризущий содержание государственной услуги",null,null,"Показатель, характеризущий условия (форму) оказания государственной услуги",null,"Показатель объема государственной услуги",null,null,"Количество студентов, получающих образовательные услуги за счет областного бюджета, на первое число каждого месяца 2018 года, чел",null,null,null,null,null,null,null,null,null,null,null,"Значение показателя объема государственной услуги",null,null,"Среднегодовой размер платы (цена, тариф)"]
[null,{"$f":"B12","v":"Профессии и укрупненные группы"},{"$f":"C12","v":"Категория потребителей"},{"$f":"D12","v":"Уровень образования, необходимый для приема на обучение"},{"$f":"E12","v":"Формы обучения и формы реализации образовательных программ"},"(наименование показателя)","наименование показателя","единица измерения по ОКЕИ",null,"январь","февраль","март","апрель","май","июнь","июль","август","сентябрь","октябрь","ноябрь","декабрь",2018,2019,2020,2018,2019,2020]
[null,null,null,null,null,null,null,"наименование","код"]
[1,2,3,4,5,6,7,8,9,null,null,null,null,null,null,null,null,null,null,null,null,10,11,12,13,14,15]
[{"$f":"VLOOKUP(B25&D25&E25,[0]!nom_npo,2,FALSE)","v":"11Д57001101000101008100"},"08.01.08 Мастер отделочных строительных работ","не указано","Основное общее образование","Очная",null,"Численность обучающихся","Человек",792,48,48,48,48,48,48,39,39,64,64,62,62,{"$f":"ROUND(SUM(J25:U25)/12,1)","v":51.5},62.3,67.8]
[{"$f":"VLOOKUP(B26&D26&E26,[0]!nom_npo,2,FALSE)","v":"11Д57006401000101004100"},"13.01.10 Электромонтер по ремонту и обслуживанию электрооборудования (по отраслям)","не указано","Основное общее образование","Очная",null,"Численность обучающихся","Человек",792,60,60,60,60,60,60,42,42,67,67,66,66,59.2,64.3,67.8]
[{"$f":"VLOOKUP(B27&D27&E27,[0]!nom_npo,2,FALSE)","v":"11Д57006401000201003100"},"13.01.10 Электромонтер по ремонту и обслуживанию электрооборудования (по отраслям)","не указано","Среднее общее образование","Очная",null,"Численность обучающихся","Человек",792,17,17,17,17,17,17,0,0,25,25,25,24,16.8,20.3,20.8]
[{"$f":"VLOOKUP(B28&D28&E28,[0]!nom_npo,2,FALSE)","v":"11Д57007401000101002100"},"15.01.05 Сварщик (ручной и частично механизированной сварки (наплавки)","не указано","Основное общее образование","Очная",null,"Численность обучающихся","Человек",792,146,146,146,146,146,146,112,112,162,162,160,160,145.30000000000001,156.69999999999999,150.69999999999999]
[{"$f":"VLOOKUP(B29&D29&E29,[0]!nom_npo,2,FALSE)","v":"11Д57009401000101008100"},"15.01.25 Станочник (металлообработка)","не указано","Основное общее образование","Очная",null,"Численность обучающихся","Человек",792,64,64,64,64,64,64,44,44,44,44,44,44,54,25,0]
[{"$f":"VLOOKUP(B30&D30&E30,[0]!nom_npo,2,FALSE)","v":"11Д57009901000101003100"},"15.01.30 Слесарь","не указано","Основное общее образование","Очная",null,"Численность обучающихся","Человек",792,16,16,16,16,16,16,0,0,0,0,0,0,8,0,0]
[{"$f":"VLOOKUP(B31&D31&E31,[0]!nom_npo,2,FALSE)","v":"11Д57015001000101009100"},"19.01.17 Повар, кондитер","не указано","Основное общее образование","Очная",null,"Численность обучающихся","Человек",792,17,17,17,17,17,17,0,0,0,0,0,0,8.5,0,0]
[{"$f":"VLOOKUP(B32&D32&E32,[0]!nom_npo,2,FALSE)","v":"11Д57018901000101004100"},"23.01.08 Слесарь по ремонту строительных машин","не указано","Основное общее образование","Очная",null,"Численность обучающихся","Человек",792,61,61,61,61,61,61,48,48,73,73,73,70,62.6,66.8,67.8]
[{"$f":"VLOOKUP(B33&D33&E33,[0]!nom_npo,2,FALSE)","v":"11Д57018901000201003100"},"23.01.08 Слесарь по ремонту строительных машин","не указано","Среднее общее образование","Очная",null,"Численность обучающихся","Человек",792,19,19,19,19,19,19,0,0,0,0,0,0,9.5,0,0]
[{"$f":"VLOOKUP(B34&D34&E34,[0]!nom_npo,2,FALSE)","v":"11Д57028901000101003100"},"43.01.02 Парикмахер","не указано","Основное общее образование","Очная",null,"Численность обучающихся","Человек",792,66,66,66,66,66,66,45,45,45,45,45,45,55.5,25,0]
[{"$f":"VLOOKUP(B35&D35&E35,[0]!nom_npo,2,FALSE)","v":0},"15.01.32 Оператор станков с программным управлением","не указано","Основное общее образование","Очная",null,"Численность обучающихся","Человек",792,0,0,0,0,0,0,0,0,50,50,48,48,16.3,64.7,114.7]
[{"$f":"VLOOKUP(B36&D36&E36,[0]!nom_npo,2,FALSE)","v":0},"43.01.09 Повар, кондитер","не указано","Основное общее образование","Очная",null,"Численность обучающихся","Человек",792,0,0,0,0,0,0,0,0,25,25,25,24,8.3000000000000007,32.299999999999997,57.3]
[{"$f":"VLOOKUP(B37&D37&E37,[0]!nom_npo,2,FALSE)","v":{"$error":"#N/A"}},null,"не указано",null,null,null,"Численность обучающихся","Человек",792,null,null,null,null,null,null,null,null,null,null,null,null,0]
[{"$f":"VLOOKUP(B38&D38&E38,[0]!nom_npo,2,FALSE)","v":{"$error":"#N/A"}},null,"не указано",null,null,null,"Численность обучающихся","Человек",792,null,null,null,null,null,null,null,null,null,null,null,null,0]
[{"$f":"VLOOKUP(B39&D39&E39,[0]!nom_npo,2,FALSE)","v":{"$error":"#N/A"}},null,"не указано",null,null,null,"Численность обучающихся","Человек",792,null,null,null,null,null,null,null,null,null,null,null,null,0]
[{"$f":"VLOOKUP(B40&D40&E40,[0]!nom_npo,2,FALSE)","v":{"$error":"#N/A"}},null,"не указано",null,null,null,"Численность обучающихся","Человек",792,null,null,null,null,null,null,null,null,null,null,null,null,0]
[{"$f":"VLOOKUP(B41&D41&E41,[0]!nom_npo,2,FALSE)","v":{"$error":"#N/A"}},null,"не указано",null,null,null,"Численность обучающихся","Человек",792,null,null,null,null,null,null,null,null,null,null,null,null,0]
[{"$f":"VLOOKUP(B42&D42&E42,[0]!nom_npo,2,FALSE)","v":{"$error":"#N/A"}},null,"не указано",null,null,null,"Численность обучающихся","Человек",792,null,null,null,null,null,null,null,null,null,null,null,null,0]
[{"$f":"VLOOKUP(B43&D43&E43,[0]!nom_npo,2,FALSE)","v":{"$error":"#N/A"}},null,"не указано",null,null,null,"Численность обучающихся","Человек",792,null,null,null,null,null,null,null,null,null,null,null,null,0]
[{"$f":"VLOOKUP(B44&D44&E44,[0]!nom_npo,2,FALSE)","v":{"$error":"#N/A"}},null,"не указано",null,null,null,"Численность обучающихся","Человек",792,null,null,null,null,null,null,null,null,null,null,null,null,0]
[{"$f":"VLOOKUP(B45&D45&E45,[0]!nom_npo,2,FALSE)","v":{"$error":"#N/A"}},null,"не указано",null,null,null,"Численность обучающихся","Человек",792,null,null,null,null,null,null,null,null,null,null,null,null,0]
[{"$f":"VLOOKUP(B46&D46&E46,[0]!nom_npo,2,FALSE)","v":{"$error":"#N/A"}},null,"не указано",null,null,null,"Численность обучающихся","Человек",792,null,null,null,null,null,null,null,null,null,null,null,null,0]
[{"$f":"VLOOKUP(B47&D47&E47,[0]!nom_npo,2,FALSE)","v":{"$error":"#N/A"}},null,"не указано",null,null,null,"Численность обучающихся","Человек",792,null,null,null,null,null,null,null,null,null,null,null,null,0]
[{"$f":"VLOOKUP(B48&D48&E48,[0]!nom_npo,2,FALSE)","v":{"$error":"#N/A"}},null,"не указано",null,null,null,"Численность обучающихся","Человек",792,null,null,null,null,null,null,null,null,null,null,null,null,0]
[{"$f":"VLOOKUP(B49&D49&E49,[0]!nom_npo,2,FALSE)","v":{"$error":"#N/A"}},null,"не указано",null,null,null,"Численность обучающихся","Человек",792,null,null,null,null,null,null,null,null,null,null,null,null,0]
[{"$f":"VLOOKUP(B50&D50&E50,[0]!nom_npo,2,FALSE)","v":{"$error":"#N/A"}},null,"не указано",null,null,null,"Численность обучающихся","Человек",792,null,null,null,null,null,null,null,null,null,null,null,null,0]
[{"$f":"VLOOKUP(B51&D51&E51,[0]!nom_npo,2,FALSE)","v":{"$error":"#N/A"}},null,"не указано",null,null,null,"Численность обучающихся","Человек",792,null,null,null,null,null,null,null,null,null,null,null,null,0]
[{"$f":"VLOOKUP(B52&D52&E52,[0]!nom_npo,2,FALSE)","v":{"$error":"#N/A"}},null,"не указано",null,null,null,"Численность обучающихся","Человек",792,null,null,null,null,null,null,null,null,null,null,null,null,0]
[{"$f":"VLOOKUP(B53&D53&E53,[0]!nom_npo,2,FALSE)","v":{"$error":"#N/A"}},null,"не указано",null,null,null,"Численность обучающихся","Человек",792,null,null,null,null,null,null,null,null,null,null,null,null,0]
[{"$f":"VLOOKUP(B54&D54&E54,[0]!nom_npo,2,FALSE)","v":{"$error":"#N/A"}},null,"не указано",null,null,null,"Численность обучающихся","Человек",792,null,null,null,null,null,null,null,null,null,null,null,null,0]
[{"$f":"VLOOKUP(B55&D55&E55,[0]!nom_npo,2,FALSE)","v":{"$error":"#N/A"}},null,"не указано",null,null,null,"Численность обучающихся","Человек",792,null,null,null,null,null,null,null,null,null,null,null,null,0]
[{"$f":"VLOOKUP(B56&D56&E56,[0]!nom_npo,2,FALSE)","v":{"$error":"#N/A"}},null,"не указано",null,null,null,"Численность обучающихся","Человек",792,null,null,null,null,null,null,null,null,null,null,null,null,0]
[{"$f":"VLOOKUP(B57&D57&E57,[0]!nom_npo,2,FALSE)","v":{"$error":"#N/A"}},null,"не указано",null,null,null,"Численность обучающихся","Человек",792,null,null,null,null,null,null,null,null,null,null,null,null,0]
[{"$f":"VLOOKUP(B58&D58&E58,[0]!nom_npo,2,FALSE)","v":{"$error":"#N/A"}},null,"не указано",null,null,null,"Численность обучающихся","Человек",792,null,null,null,null,null,null,null,null,null,null,null,null,0]
[{"$f":"VLOOKUP(B59&D59&E59,[0]!nom_npo,2,FALSE)","v":{"$error":"#N/A"}},null,"не указано",null,null,null,"Численность обучающихся","Человек",792,null,null,null,null,null,null,null,null,null,null,null,null,0]
[{"$f":"VLOOKUP(B60&D60&E60,[0]!nom_npo,2,FALSE)","v":{"$error":"#N/A"}},null,"не указано",null,null,null,"Численность обучающихся","Человек",792,null,null,null,null,null,null,null,null,null,null,null,null,0]
[{"$f":"VLOOKUP(B61&D61&E61,[0]!nom_npo,2,FALSE)","v":{"$error":"#N/A"}},null,"не указано",null,null,null,"Численность обучающихся","Человек",792,null,null,null,null,null,null,null,null,null,null,null,null,0]
[{"$f":"VLOOKUP(B62&D62&E62,[0]!nom_npo,2,FALSE)","v":{"$error":"#N/A"}},null,"не указано",null,null,null,"Численность обучающихся","Человек",792,null,null,null,null,null,null,null,null,null,null,null,null,0]
[{"$f":"VLOOKUP(B63&D63&E63,[0]!nom_npo,2,FALSE)","v":{"$error":"#N/A"}},null,"не указано",null,null,null,"Численность обучающихся","Человек",792,null,null,null,null,null,null,null,null,null,null,null,null,0]
[{"$f":"VLOOKUP(B64&D64&E64,[0]!nom_npo,2,FALSE)","v":{"$error":"#N/A"}},null,"не указано",null,null,null,"Численность обучающихся","Человек",792,null,null,null,null,null,null,null,null,null,null,null,null,0]
[{"$f":"VLOOKUP(B65&D65&E65,[0]!nom_npo,2,FALSE)","v":{"$error":"#N/A"}},null,"не указано",null,null,null,"Численность обучающихся","Человек",792,null,null,null,null,null,null,null,null,null,null,null,null,0]
[{"$f":"VLOOKUP(B66&D66&E66,[0]!nom_npo,2,FALSE)","v":{"$error":"#N/A"}},null,"не указано",null,null,null,"Численность обучающихся","Человек",792,null,null,null,null,null,null,null,null,null,null,null,null,0]
[{"$f":"VLOOKUP(B67&D67&E67,[0]!nom_npo,2,FALSE)","v":{"$error":"#N/A"}},null,"не указано",null,null,null,"Численность обучающихся","Человек",792,null,null,null,null,null,null,null,null,null,null,null,null,0]
[{"$f":"VLOOKUP(B68&D68&E68,[0]!nom_npo,2,FALSE)","v":{"$error":"#N/A"}},null,"не указано",null,null,null,"Численность обучающихся","Человек",792,null,null,null,null,null,null,null,null,null,null,null,null,0]
[{"$f":"VLOOKUP(B69&D69&E69,[0]!nom_npo,2,FALSE)","v":{"$error":"#N/A"}},null,"не указано",null,null,null,"Численность обучающихся","Человек",792,null,null,null,null,null,null,null,null,null,null,null,null,0]
[{"$f":"VLOOKUP(B70&D70&E70,[0]!nom_npo,2,FALSE)","v":{"$error":"#N/A"}},null,"не указано",null,null,null,"Численность обучающихся","Человек",792,null,null,null,null,null,null,null,null,null,null,null,null,0]
[{"$f":"VLOOKUP(B71&D71&E71,[0]!nom_npo,2,FALSE)","v":{"$error":"#N/A"}},null,"не указано",null,null,null,"Численность обучающихся","Человек",792,null,null,null,null,null,null,null,null,null,null,null,null,0]
[{"$f":"VLOOKUP(B72&D72&E72,[0]!nom_npo,2,FALSE)","v":{"$error":"#N/A"}},null,"не указано",null,null,null,"Численность обучающихся","Человек",792,null,null,null,null,null,null,null,null,null,null,null,null,0]
[{"$f":"VLOOKUP(B73&D73&E73,[0]!nom_npo,2,FALSE)","v":{"$error":"#N/A"}},null,"не указано",null,null,null,"Численность обучающихся","Человек",792,null,null,null,null,null,null,null,null,null,null,null,null,0]
[{"$f":"VLOOKUP(B74&D74&E74,[0]!nom_npo,2,FALSE)","v":{"$error":"#N/A"}},null,"не указано",null,null,null,"Численность обучающихся","Человек",792,null,null,null,null,null,null,null,null,null,null,null,null,0]
[{"$f":"VLOOKUP(B75&D75&E75,[0]!nom_npo,2,FALSE)","v":{"$error":"#N/A"}},null,"не указано",null,null,null,"Численность обучающихся","Человек",792,null,null,null,null,null,null,null,null,null,null,null,null,0]
[{"$f":"VLOOKUP(B76&D76&E76,[0]!nom_npo,2,FALSE)","v":{"$error":"#N/A"}},null,"не указано",null,null,null,"Численность обучающихся","Человек",792,null,null,null,null,null,null,null,null,null,null,null,null,0]
[{"$f":"VLOOKUP(B77&D77&E77,[0]!nom_npo,2,FALSE)","v":{"$error":"#N/A"}},null,"не указано",null,null,null,"Численность обучающихся","Человек",792,null,null,null,null,null,null,null,null,null,null,null,null,0]
[{"$f":"VLOOKUP(B78&D78&E78,[0]!nom_npo,2,FALSE)","v":{"$error":"#N/A"}},null,"не указано",null,null,null,"Численность обучающихся","Человек",792,null,null,null,null,null,null,null,null,null,null,null,null,0]
[{"$f":"VLOOKUP(B79&D79&E79,[0]!nom_npo,2,FALSE)","v":{"$error":"#N/A"}},null,"не указано",null,null,null,"Численность обучающихся","Человек",792,null,null,null,null,null,null,null,null,null,null,null,null,0]
[{"$f":"VLOOKUP(B80&D80&E80,[0]!nom_npo,2,FALSE)","v":{"$error":"#N/A"}},null,"не указано",null,null,null,"Численность обучающихся","Человек",792,null,null,null,null,null,null,null,null,null,null,null,null,0]
[{"$f":"VLOOKUP(B81&D81&E81,[0]!nom_npo,2,FALSE)","v":{"$error":"#N/A"}},null,"не указано",null,null,null,"Численность обучающихся","Человек",792,null,null,null,null,null,null,null,null,null,null,null,null,0]
[{"$f":"VLOOKUP(B82&D82&E82,[0]!nom_npo,2,FALSE)","v":{"$error":"#N/A"}},null,"не указано",null,null,null,"Численность обучающихся","Человек",792,null,null,null,null,null,null,null,null,null,null,null,null,0]
[{"$f":"VLOOKUP(B83&D83&E83,[0]!nom_npo,2,FALSE)","v":{"$error":"#N/A"}},null,"не указано",null,null,null,"Численность обучающихся","Человек",792,null,null,null,null,null,null,null,null,null,null,null,null,0]
[{"$f":"VLOOKUP(B84&D84&E84,[0]!nom_npo,2,FALSE)","v":{"$error":"#N/A"}},null,"не указано",null,null,null,"Численность обучающихся","Человек",792,null,null,null,null,null,null,null,null,null,null,null,null,0]
[{"$f":"VLOOKUP(B85&D85&E85,[0]!nom_npo,2,FALSE)","v":{"$error":"#N/A"}},null,"не указано",null,null,null,"Численность обучающихся","Человек",792,null,null,null,null,null,null,null,null,null,null,null,null,0]
[{"$f":"VLOOKUP(B86&D86&E86,[0]!nom_npo,2,FALSE)","v":{"$error":"#N/A"}},null,"не указано",null,null,null,"Численность обучающихся","Человек",792,null,null,null,null,null,null,null,null,null,null,null,null,0]
[{"$f":"VLOOKUP(B87&D87&E87,[0]!nom_npo,2,FALSE)","v":{"$error":"#N/A"}},null,"не указано",null,null,null,"Численность обучающихся","Человек",792,null,null,null,null,null,null,null,null,null,null,null,null,0]
[{"$f":"VLOOKUP(B88&D88&E88,[0]!nom_npo,2,FALSE)","v":{"$error":"#N/A"}},null,"не указано",null,null,null,"Численность обучающихся","Человек",792,null,null,null,null,null,null,null,null,null,null,null,null,0]
[{"$f":"VLOOKUP(B89&D89&E89,[0]!nom_npo,2,FALSE)","v":{"$error":"#N/A"}},null,"не указано",null,null,null,"Численность обучающихся","Человек",792,null,null,null,null,null,null,null,null,null,null,null,null,0]
[{"$f":"VLOOKUP(B90&D90&E90,[0]!nom_npo,2,FALSE)","v":{"$error":"#N/A"}},null,"не указано",null,null,null,"Численность обучающихся","Человек",792,null,null,null,null,null,null,null,null,null,null,null,null,0]
[{"$f":"VLOOKUP(B91&D91&E91,[0]!nom_npo,2,FALSE)","v":{"$error":"#N/A"}},null,"не указано",null,null,null,"Численность обучающихся","Человек",792,null,null,null,null,null,null,null,null,null,null,null,null,0]
[{"$f":"VLOOKUP(B92&D92&E92,[0]!nom_npo,2,FALSE)","v":{"$error":"#N/A"}},null,"не указано",null,null,null,"Численность обучающихся","Человек",792,null,null,null,null,null,null,null,null,null,null,null,null,0]
[{"$f":"VLOOKUP(B93&D93&E93,[0]!nom_npo,2,FALSE)","v":{"$error":"#N/A"}},null,"не указано",null,null,null,"Численность обучающихся","Человек",792,null,null,null,null,null,null,null,null,null,null,null,null,0]
[{"$f":"VLOOKUP(B94&D94&E94,[0]!nom_npo,2,FALSE)","v":{"$error":"#N/A"}},null,"не указано",null,null,null,"Численность обучающихся","Человек",792,null,null,null,null,null,null,null,null,null,null,null,null,0]
[{"$f":"VLOOKUP(B95&D95&E95,[0]!nom_npo,2,FALSE)","v":{"$error":"#N/A"}},null,"не указано",null,null,null,"Численность обучающихся","Человек",792,null,null,null,null,null,null,null,null,null,null,null,null,0]
[{"$f":"VLOOKUP(B96&D96&E96,[0]!nom_npo,2,FALSE)","v":{"$error":"#N/A"}},null,"не указано",null,null,null,"Численность обучающихся","Человек",792,null,null,null,null,null,null,null,null,null,null,null,null,0]
[{"$f":"VLOOKUP(B97&D97&E97,[0]!nom_npo,2,FALSE)","v":{"$error":"#N/A"}},null,"не указано",null,null,null,"Численность обучающихся","Человек",792,null,null,null,null,null,null,null,null,null,null,null,null,0]
[{"$f":"VLOOKUP(B98&D98&E98,[0]!nom_npo,2,FALSE)","v":{"$error":"#N/A"}},null,"не указано",null,null,null,"Численность обучающихся","Человек",792,null,null,null,null,null,null,null,null,null,null,null,null,0]
[{"$f":"VLOOKUP(B99&D99&E99,[0]!nom_npo,2,FALSE)","v":{"$error":"#N/A"}},null,"не указано",null,null,null,"Численность обучающихся","Человек",792,null,null,null,null,null,null,null,null,null,null,null,null,0]
[{"$f":"VLOOKUP(B100&D100&E100,[0]!nom_npo,2,FALSE)","v":{"$error":"#N/A"}},null,"не указано",null,null,null,"Численность обучающихся","Человек",792,null,null,null,null,null,null,null,null,null,null,null,null,0]
[{"$f":"VLOOKUP(B101&D101&E101,[0]!nom_npo,2,FALSE)","v":{"$error":"#N/A"}},null,"не указано",null,null,null,"Численность обучающихся","Человек",792,null,null,null,null,null,null,null,null,null,null,null,null,0]
[{"$f":"VLOOKUP(B102&D102&E102,[0]!nom_npo,2,FALSE)","v":{"$error":"#N/A"}},null,"не указано",null,null,null,"Численность обучающихся","Человек",792,null,null,null,null,null,null,null,null,null,null,null,null,0]
[{"$f":"VLOOKUP(B103&D103&E103,[0]!nom_npo,2,FALSE)","v":{"$error":"#N/A"}},null,"не указано",null,null,null,"Численность обучающихся","Человек",792,null,null,null,null,null,null,null,null,null,null,null,null,0]
[{"$f":"VLOOKUP(B104&D104&E104,[0]!nom_npo,2,FALSE)","v":{"$error":"#N/A"}},null,"не указано",null,null,null,"Численность обучающихся","Человек",792,null,null,null,null,null,null,null,null,null,null,null,null,0]
[{"$f":"VLOOKUP(B105&D105&E105,[0]!nom_npo,2,FALSE)","v":{"$error":"#N/A"}},null,"не указано",null,null,null,"Численность обучающихся","Человек",792,null,null,null,null,null,null,null,null,null,null,null,null,0]
[{"$f":"VLOOKUP(B106&D106&E106,[0]!nom_npo,2,FALSE)","v":{"$error":"#N/A"}},null,"не указано",null,null,null,"Численность обучающихся","Человек",792,null,null,null,null,null,null,null,null,null,null,null,null,0]
[{"$f":"VLOOKUP(B107&D107&E107,[0]!nom_npo,2,FALSE)","v":{"$error":"#N/A"}},null,"не указано",null,null,null,"Численность обучающихся","Человек",792,null,null,null,null,null,null,null,null,null,null,null,null,0]
[{"$f":"VLOOKUP(B108&D108&E108,[0]!nom_npo,2,FALSE)","v":{"$error":"#N/A"}},null,"не указано",null,null,null,"Численность обучающихся","Человек",792,null,null,null,null,null,null,null,null,null,null,null,null,0]
[{"$f":"VLOOKUP(B109&D109&E109,[0]!nom_npo,2,FALSE)","v":{"$error":"#N/A"}},null,"не указано",null,null,null,"Численность обучающихся","Человек",792,null,null,null,null,null,null,null,null,null,null,null,null,0]
[{"$f":"VLOOKUP(B110&D110&E110,[0]!nom_npo,2,FALSE)","v":{"$error":"#N/A"}},null,"не указано",null,null,null,"Численность обучающихся","Человек",792,null,null,null,null,null,null,null,null,null,null,null,null,0]
[{"$f":"VLOOKUP(B111&D111&E111,[0]!nom_npo,2,FALSE)","v":{"$error":"#N/A"}},null,"не указано",null,null,null,"Численность обучающихся","Человек",792,null,null,null,null,null,null,null,null,null,null,null,null,0]
[{"$f":"VLOOKUP(B112&D112&E112,[0]!nom_npo,2,FALSE)","v":{"$error":"#N/A"}},null,"не указано",null,null,null,"Численность обучающихся","Человек",792,null,null,null,null,null,null,null,null,null,null,null,null,0]
[{"$f":"VLOOKUP(B113&D113&E113,[0]!nom_npo,2,FALSE)","v":{"$error":"#N/A"}},null,"не указано",null,null,null,"Численность обучающихся","Человек",792,null,null,null,null,null,null,null,null,null,null,null,null,0]
[{"$f":"VLOOKUP(B114&D114&E114,[0]!nom_npo,2,FALSE)","v":{"$error":"#N/A"}},null,"не указано",null,null,null,"Численность обучающихся","Человек",792,null,null,null,null,null,null,null,null,null,null,null,null,0]
[{"$f":"VLOOKUP(B115&D115&E115,[0]!nom_npo,2,FALSE)","v":{"$error":"#N/A"}},null,"не указано",null,null,null,"Численность обучающихся","Человек",792,null,null,null,null,null,null,null,null,null,null,null,null,0]
[{"$f":"VLOOKUP(B116&D116&E116,[0]!nom_npo,2,FALSE)","v":{"$error":"#N/A"}},null,"не указано",null,null,null,"Численность обучающихся","Человек",792,null,null,null,null,null,null,null,null,null,null,null,null,0]
[{"$f":"VLOOKUP(B117&D117&E117,[0]!nom_npo,2,FALSE)","v":{"$error":"#N/A"}},null,"не указано",null,null,null,"Численность обучающихся","Человек",792,null,null,null,null,null,null,null,null,null,null,null,null,0]
[{"$f":"VLOOKUP(B118&D118&E118,[0]!nom_npo,2,FALSE)","v":{"$error":"#N/A"}},null,"не указано",null,null,null,"Численность обучающихся","Человек",792,null,null,null,null,null,null,null,null,null,null,null,null,0]
[{"$f":"VLOOKUP(B119&D119&E119,[0]!nom_npo,2,FALSE)","v":{"$error":"#N/A"}},null,"не указано",null,null,null,"Численность обучающихся","Человек",792,null,null,null,null,null,null,null,null,null,null,null,null,0]
[{"$f":"VLOOKUP(B120&D120&E120,[0]!nom_npo,2,FALSE)","v":{"$error":"#N/A"}},null,"не указано",null,null,null,"Численность обучающихся","Человек",792,null,null,null,null,null,null,null,null,null,null,null,null,0]
[{"$f":"VLOOKUP(B121&D121&E121,[0]!nom_npo,2,FALSE)","v":{"$error":"#N/A"}},null,"не указано",null,null,null,"Численность обучающихся","Человек",792,null,null,null,null,null,null,null,null,null,null,null,null,0]
[{"$f":"VLOOKUP(B122&D122&E122,[0]!nom_npo,2,FALSE)","v":{"$error":"#N/A"}},null,"не указано",null,null,null,"Численность обучающихся","Человек",792,null,null,null,null,null,null,null,null,null,null,null,null,0]
[{"$f":"VLOOKUP(B123&D123&E123,[0]!nom_npo,2,FALSE)","v":{"$error":"#N/A"}},null,"не указано",null,null,null,"Численность обучающихся","Человек",792,null,null,null,null,null,null,null,null,null,null,null,null,0]
[{"$f":"VLOOKUP(B124&D124&E124,[0]!nom_npo,2,FALSE)","v":{"$error":"#N/A"}},null,"не указано",null,null,null,"Численность обучающихся","Человек",792,null,null,null,null,null,null,null,null,null,null,null,null,0]
[]
["допустимые (возможные) отклонения от установленных показателей объема государственной услуги, в пределах которых государственное задание считается выполненным (процентов)",null,null,null,null,0.05]
[]
["4. Нормативные правовые акты, устанавливающие размер платы (цену, тариф) либо порядок ее (его) установления:"]
[]
["Нормативный правовой акт"]
["вид","принявший орган",null,"дата","номер","наименование"]
[1,2,null,3,4,5]
[]
[]
["5. Порядок оказания государственной услуги"]
["5.1. Нормативные правовые акты, регулирующие порядок оказания государственной услуги"]
[]
["Федеральный закон Российской Федерации от 29.12.12 № 273-ФЗ \"Об образовании в Российской Федерации\""]
["Приказ Минобрнауки России от 23.01.2014 № 36 \"Об утверждении Порядка приема на обучение по образовательным программам среднего профессионального образования\""]
["Приказ Минобрнауки России от 14.06.2013 № 464 \"Об утверждении Порядка организации и осуществления образовательной деятельности по образовательным программам среднего профессионального образования\""]
[]
["Приказ Минобрнауки России от 06.06.2013 № 443 \"Об утверждении Порядка и случаев перехода лиц, обучающихся по образовательным программам среднего профессионального и высшего образования, с платного обучения на бесплатное\""]
["Приказ Минобрнауки России от 13.06.2013 № 455 \"Об утверждении Порядка и оснований предоставления академического отпуска обучающимся\""]
["Приказ Минобрнауки России от 18.04.2013 № 291 \"Об утверждении Положения о практике обучающихся, осваивающих основные профессиональные образовательные программы среднего профессионального образования\""]
["Приказ Минобрнауки России от 16.08.2013 № 968 \"Об утверждении Порядка проведения государственной итоговой аттестации по образовательным программам среднего профессионального образования\""]
["Письмо Минобрнауки России от 30.03.2015 № АК-821/06 \"О направлении методических рекомендаций по итоговой аттестации слушателей\""]
["Приказ Минобрнауки России от 04.07.2013 № 531 \"Об утверждении образцов и описаний диплома о среднем профессиональном образовании и приложения к нему\""]
["Приказ Минобрнауки России от 25.10.2013 № 1186 \"Об утверждении Порядка заполнения, учета и выдачи дипломов о среднем профессиональном образовании и их дубликатов\""]
["Постановление Правительства РФ от 10.07.2013 № 582 \"Об утверждении Правил размещения на официальном сайте образовательной организации в информационно-телекоммуникационной сети \"Интернет\" и обновления информации об образовательной организации\""]
["Приказ Рособрнадзора от 29.05.2014 № 785 \"Об утверждении требований к структуре официального сайта образовательной организации в информационно-телекоммуникационной сети \"Интернет\" и формату представления на нем информации\""]
["Письмо Минобрнауки России от 22.07.2013 № 09-889 \"О размещении на официальном сайте образовательной организации информации\""]
[]
["5.2. Порядок информирования потенциальных потребителей государственной услуги:"]
[]
["Способ информирования",null,"Состав размещаемой информации",null,null,"Частота обновления информации"]
[1,null,2,null,null,3]
["Размещение информации о деятельности образовательной организации на официальном сайте образовательной организации в сети \"Интернет\" и на информационном стенде приемной комиссии",null,"Состав размещаемой информации и правила размещения указаны в следующих документах: Приказ Рособрнадзора от 29.05.2014 № 785 \"Об утверждении требований к структуре официального сайта образовательной организации в информационно-телекоммуникационной сети \"Интернет\" и формату представления на нем информации\"; Постановление Правительства РФ от 10.07.2013 № 582 \"Об утверждении Правил размещения на официальном сайте образовательной организации в информационно-телекоммуникационной сети \"Интернет\" и обновления информации об образовательной организации\"; Письмо Минобрнауки России от 22.07.2013 № 09-889 \"О размещении на официальном сайте образовательной организации информации\"",null,null,"Не позднее 10 рабочих дней после изменения размещаемой информации\n"]

{"sheet":"ССЗ","index":2,"n_rows":157,"n_cols":28,"rows_kept":157,"cut":false,"hidden":true,"merged":[[156,0,156,1],[156,2,156,4],[156,5,156,6],[149,0,149,26],[150,0,150,26],[154,0,154,1],[154,2,154,4],[154,5,154,6],[155,0,155,1],[155,2,155,4],[155,5,155,6],[130,1,130,2],[130,5,130,26],[131,1,131,2],[131,5,131,26],[148,0,148,26],[137,0,137,26],[139,0,139,26],[140,0,140,26],[147,0,147,26],[144,0,144,26],[145,0,145,26],[146,0,146,26],[141,0,141,26],[142,0,142,26],[143,0,143,26],[125,0,125,4],[21,7,21,8],[138,0,138,26],[21,21,22,21],[21,10,22,10],[132,1,132,2],[132,5,132,26],[21,22,22,22],[21,23,22,23],[21,24,22,24],[21,26,22,26],[21,15,22,15],[21,9,22,9],[21,20,22,20],[21,11,22,11],[129,0,129,26],[21,13,22,13],[21,5,22,5],[21,14,22,14],[21,6,22,6],[21,12,22,12],[13,6,13,21],[13,22,13,23],[14,6,14,21],[14,22,14,23],[20,21,20,23],[16,0,16,4],[20,24,20,26],[21,1,22,1],[21,2,22,2],[21,3,22,3],[21,4,22,4],[21,16,22,16],[21,17,22,17],[21,18,22,18],[21,19,22,19],[20,0,22,0],[20,1,20,3],[20,4,20,5],[20,6,20,8],[20,9,20,20],[21,25,22,25],[11,6,12,21],[11,25,11,27],[12,22,12,23],[0,0,0,27],[1,0,1,27],[3,0,3,3],[5,0,5,5],[10,0,12,0],[10,1,10,3],[10,4,10,5],[10,6,10,27],[11,22,11,24],[11,1,12,1],[11,2,12,2],[11,3,12,3],[11,4,12,4],[11,5,12,5]]}
[{"$f":"IF(КРС!A1=\"\",IF(V25=0,\"\",\"Часть 1. Сведения об оказываемых государственных услугах\"),\"\")","v":""}]
[{"$f":"\"Раздел \"&'Служебный 1'!N3","v":"Раздел 2"}]
["1. Наименование государственной услуги"]
["Реализация образовательных программ среднего профессионального образования - программ подготовки специалистов среднего звена",null,null,null,"Уникальный номер по базовому (отраслевому) перечню","11.Д56.0"]
["2. Категория потребителей государственной услуги"]
["Физические лица, имеющие основное общее образование"]
["3. Показатели, характеризующие объем и (или) качество государственной услуги:"]
[]
["3.1. Показатели, характеризующие качество государственной услуги:"]
[]
["Уникальный номер реестровой записи","Показатель, характеризущий содержание государственной услуги",null,null,"Показатель, характеризущий условия (формы) оказания государственной услуги",null,"Показатель качества государственной услуги"]
[null,"Специальности и укрупненные группы","Категория потребителей","Уровень образования, необходимый для приема на обучение","Формы обучения и формы реализации образовательных программ","(наименование показателя)","наименование показателя",null,null,null,null,null,null,null,null,null,null,null,null,null,null,null,"единица измерения по ОКЕИ",null,null,"Значение показателя качества государственной услуги"]
[null,null,null,null,null,null,null,null,null,null,null,null,null,null,null,null,null,null,null,null,null,null,"наиме-нование",null,"код",2018,2019,2020]
[1,2,3,4,5,6,7,null,null,null,null,null,null,null,null,null,null,null,null,null,null,null,8,null,9,10,11,12]
[]
[]
["допустимые (возможные) отклонения от установленных показателей качества государственной услуги, в пределах которых государственное задание считается выполненным (процентов)"]
[]
["3.2. Показатели, характеризующие объем государственной услуги:"]
[]
["Уникальный номер реестровой записи","Показатель, характеризущий содержание государственной услуги",null,null,"Показатель, характеризущий условия (форму) оказания государственной услуги",null,"Показатель объема государственной услуги",null,null,"Количество студентов, получающих образовательные услуги за счет областного бюджета, на первое число каждого месяца 2018 года, чел",null,null,null,null,null,null,null,null,null,null,null,"Значение показателя объема государственной услуги",null,null,"Среднегодовой размер платы (цена, тариф)"]
[null,{"$f":"B12","v":"Специальности и укрупненные группы"},{"$f":"C12","v":"Категория потребителей"},{"$f":"D12","v":"Уровень образования, необходимый для приема на обучение"},{"$f":"E12","v":"Формы обучения и формы реализации образовательных программ"},"(наименование показателя)","наименование показателя","единица измерения по ОКЕИ",null,"январь","февраль","март","апрель","май","июнь","июль","август","сентябрь","октябрь","ноябрь","декабрь",2018,2019,2020,2018,2019,2020]
[null,null,null,null,null,null,null,"наименование","код"]
[1,2,3,4,5,6,7,8,9,null,null,null,null,null,null,null,null,null,null,null,null,10,11,12,13,14,15]
[{"$f":"VLOOKUP(B25&D25&E25,[0]!nom_spo,2,FALSE)","v":"11Д56002201000101006100"},"09.02.03 Программирование в компьютерных системах","не указано","Основное общее образование","Очная",null,"Численность обучающихся","Человек",792,105,105,105,105,105,105,76,76,101,101,101,101,{"$f":"ROUND(SUM(J25:U25)/12,1)","v":98.8},98.3,98.8]
[{"$f":"VLOOKUP(B26&D26&E26,[0]!nom_spo,2,FALSE)","v":"11Д56003001000101006100"},"11.02.01 Радиоаппаратостроение","не указано","Основное общее образование","Очная",null,"Численность обучающихся","Человек",792,47,47,47,47,47,47,47,47,72,72,70,70,55,78.3,92.8]
[{"$f":"VLOOKUP(B27&D27&E27,[0]!nom_spo,2,FALSE)","v":"11Д56007701000101000100"},"15.02.08 Технология машиностроения","не указано","Основное общее образование","Очная",null,"Численность обучающихся","Человек",792,185,185,185,185,185,185,147,147,172,172,170,170,174,159.30000000000001,140.30000000000001]
[{"$f":"VLOOKUP(B28&D28&E28,[0]!nom_spo,2,FALSE)","v":"11Д56007701000217001100"},"15.02.08 Технология машиностроения","не указано","Среднее общее образование","Заочная",null,"Численность обучающихся","Человек",792,9,9,9,9,9,9,6,6,6,6,6,6,7.5,4,0]
[{"$f":"VLOOKUP(B29&D29&E29,[0]!nom_spo,2,FALSE)","v":"11Д56012801000201008100"},"22.02.02 Металлургия цветных металлов","не указано","Среднее общее образование","Очная",null,"Численность обучающихся","Человек",792,24,24,24,24,24,24,24,24,49,49,49,47,32.200000000000003,55.3,68.3]
[{"$f":"VLOOKUP(B30&D30&E30,[0]!nom_spo,2,FALSE)","v":"11Д56013201000101003100"},"22.02.06 Сварочное производство","не указано","Основное общее образование","Очная",null,"Численность обучающихся","Человек",792,107,107,107,107,107,107,88,88,113,113,111,111,{"$f":"ROUND(SUM(J30:U30)/12,1)","v":105.5},108.8,101.8]
[{"$f":"VLOOKUP(B31&D31&E31,[0]!nom_spo,2,FALSE)","v":"11Д56013601000101009100"},"23.02.02 Автомобиле- и тракторостроение","не указано","Основное общее образование","Очная",null,"Численность обучающихся","Человек",792,92,92,92,92,92,92,74,74,99,99,97,97,91,91.8,116.7]
[{"$f":"VLOOKUP(B32&D32&E32,[0]!nom_spo,2,FALSE)","v":"11Д56013701000101008100"},"23.02.03 Техническое обслуживание и ремонт автомобильного транспорта","не указано","Основное общее образование","Очная",null,"Численность обучающихся","Человек",792,202,202,202,202,202,202,138,138,188,188,187,187,{"$f":"ROUND(SUM(J32:U32)/12,1)","v":186.5},183.7,190.7]
[{"$f":"VLOOKUP(B33&D33&E33,[0]!nom_spo,2,FALSE)","v":"11Д56013701000217009100"},"23.02.03 Техническое обслуживание и ремонт автомобильного транспорта","не указано","Среднее общее образование","Заочная",null,"Численность обучающихся","Человек",792,1,1,1,1,1,1,0,0,0,0,0,0,0.5,0,0]
[{"$f":"VLOOKUP(B34&D34&E34,[0]!nom_spo,2,FALSE)","v":"11Д56020701000101003100"},"38.02.01 Экономика и бухгалтерский учет (по отраслям)","не указано","Основное общее образование","Очная",null,"Численность обучающихся","Человек",792,23,23,23,23,23,23,23,23,23,23,23,23,23,0,0]
[{"$f":"VLOOKUP(B35&D35&E35,[0]!nom_spo,2,FALSE)","v":"11Д56021801000101000100"},"40.02.01 Право и организация социального обеспечения","не указано","Основное общее образование","Очная",null,"Численность обучающихся","Человек",792,1,1,1,1,1,1,0,0,0,0,0,0,0.5,0,0]
[{"$f":"VLOOKUP(B36&D36&E36,[0]!nom_spo,2,FALSE)","v":"11Д56021901000217000100"},"40.02.02 Правоохранительная деятельность","не указано","Среднее общее образование","Заочная",null,"Численность обучающихся","Человек",792,1,1,0,0,0,0,0,0,0,0,0,0,0.2,0,0]
[{"$f":"VLOOKUP(B37&D37&E37,[0]!nom_spo,2,FALSE)","v":"11Д56022601000101000100"},"43.02.02 Парикмахерское искусство","не указано","Основное общее образование","Очная",null,"Численность обучающихся","Человек",792,47,47,47,47,47,47,22,22,22,22,22,22,34.5,0,0]
[{"$f":"VLOOKUP(B38&D38&E38,[0]!nom_spo,2,FALSE)","v":"11Д56023501000101009100"},"43.02.11 Гостиничный сервис","не указано","Основное общее образование","Очная",null,"Численность обучающихся","Человек",792,72,72,72,72,72,72,52,52,52,52,52,52,62,43,16.5]
[{"$f":"VLOOKUP(B39&D39&E39,[0]!nom_spo,2,FALSE)","v":0},"09.02.07 Информационные системы и программирование","не указано","Основное общее образование","Очная",null,"Численность обучающихся","Человек",792,0,0,0,0,0,0,0,0,25,25,25,25,8.3000000000000007,32.299999999999997,57.3]
[{"$f":"VLOOKUP(B40&D40&E40,[0]!nom_spo,2,FALSE)","v":"11Д56007801000101009100"},"15.02.09 Аддитивные технологии","не указано","Основное общее образование","Очная",null,"Численность обучающихся","Человек",792,0,0,0,0,0,0,0,0,25,25,25,24,8.3000000000000007,32.299999999999997,57.3]
[{"$f":"VLOOKUP(B41&D41&E41,[0]!nom_spo,2,FALSE)","v":0},"15.02.15 Технология металлообрабатывающего производства","не указано","Основное общее образование","Очная",null,"Численность обучающихся","Человек",792,0,0,0,0,0,0,0,0,25,25,25,24,8.3000000000000007,32.299999999999997,57.3]
[{"$f":"VLOOKUP(B42&D42&E42,[0]!nom_spo,2,FALSE)","v":0},"43.02.13 Технология парикмахерского искусства","не указано","Основное общее образование","Очная",null,"Численность обучающихся","Человек",792,0,0,0,0,0,0,0,0,50,50,50,48,16.5,64.7,114.7]
[{"$f":"VLOOKUP(B43&D43&E43,[0]!nom_spo,2,FALSE)","v":0},"43.02.14 Гостиничное дело","не указано","Основное общее образование","Очная",null,"Численность обучающихся","Человек",792,0,0,0,0,0,0,0,0,25,25,25,25,8.3000000000000007,32.299999999999997,57.3]
[{"$f":"VLOOKUP(B44&D44&E44,[0]!nom_spo,2,FALSE)","v":{"$error":"#N/A"}},null,"не указано",null,null,null,"Численность обучающихся","Человек",792,null,null,null,null,null,null,null,null,null,null,null,null,0]
[{"$f":"VLOOKUP(B45&D45&E45,[0]!nom_spo,2,FALSE)","v":{"$error":"#N/A"}},null,"не указано",null,null,null,"Численность обучающихся","Человек",792,null,null,null,null,null,null,null,null,null,null,null,null,0]
[{"$f":"VLOOKUP(B46&D46&E46,[0]!nom_spo,2,FALSE)","v":{"$error":"#N/A"}},null,"не указано",null,null,null,"Численность обучающихся","Человек",792,null,null,null,null,null,null,null,null,null,null,null,null,0]
[{"$f":"VLOOKUP(B47&D47&E47,[0]!nom_spo,2,FALSE)","v":{"$error":"#N/A"}},null,"не указано",null,null,null,"Численность обучающихся","Человек",792,null,null,null,null,null,null,null,null,null,null,null,null,0]
[{"$f":"VLOOKUP(B48&D48&E48,[0]!nom_spo,2,FALSE)","v":{"$error":"#N/A"}},null,"не указано",null,null,null,"Численность обучающихся","Человек",792,null,null,null,null,null,null,null,null,null,null,null,null,0]
[{"$f":"VLOOKUP(B49&D49&E49,[0]!nom_spo,2,FALSE)","v":{"$error":"#N/A"}},null,"не указано",null,null,null,"Численность обучающихся","Человек",792,null,null,null,null,null,null,null,null,null,null,null,null,0]
[{"$f":"VLOOKUP(B50&D50&E50,[0]!nom_spo,2,FALSE)","v":{"$error":"#N/A"}},null,"не указано",null,null,null,"Численность обучающихся","Человек",792,null,null,null,null,null,null,null,null,null,null,null,null,0]
[{"$f":"VLOOKUP(B51&D51&E51,[0]!nom_spo,2,FALSE)","v":{"$error":"#N/A"}},null,"не указано",null,null,null,"Численность обучающихся","Человек",792,null,null,null,null,null,null,null,null,null,null,null,null,0]
[{"$f":"VLOOKUP(B52&D52&E52,[0]!nom_spo,2,FALSE)","v":{"$error":"#N/A"}},null,"не указано",null,null,null,"Численность обучающихся","Человек",792,null,null,null,null,null,null,null,null,null,null,null,null,0]
[{"$f":"VLOOKUP(B53&D53&E53,[0]!nom_spo,2,FALSE)","v":{"$error":"#N/A"}},null,"не указано",null,null,null,"Численность обучающихся","Человек",792,null,null,null,null,null,null,null,null,null,null,null,null,0]
[{"$f":"VLOOKUP(B54&D54&E54,[0]!nom_spo,2,FALSE)","v":{"$error":"#N/A"}},null,"не указано",null,null,null,"Численность обучающихся","Человек",792,null,null,null,null,null,null,null,null,null,null,null,null,0]
[{"$f":"VLOOKUP(B55&D55&E55,[0]!nom_spo,2,FALSE)","v":{"$error":"#N/A"}},null,"не указано",null,null,null,"Численность обучающихся","Человек",792,null,null,null,null,null,null,null,null,null,null,null,null,0]
[{"$f":"VLOOKUP(B56&D56&E56,[0]!nom_spo,2,FALSE)","v":{"$error":"#N/A"}},null,"не указано",null,null,null,"Численность обучающихся","Человек",792,null,null,null,null,null,null,null,null,null,null,null,null,0]
[{"$f":"VLOOKUP(B57&D57&E57,[0]!nom_spo,2,FALSE)","v":{"$error":"#N/A"}},null,"не указано",null,null,null,"Численность обучающихся","Человек",792,null,null,null,null,null,null,null,null,null,null,null,null,0]
[{"$f":"VLOOKUP(B58&D58&E58,[0]!nom_spo,2,FALSE)","v":{"$error":"#N/A"}},null,"не указано",null,null,null,"Численность обучающихся","Человек",792,null,null,null,null,null,null,null,null,null,null,null,null,0]
[{"$f":"VLOOKUP(B59&D59&E59,[0]!nom_spo,2,FALSE)","v":{"$error":"#N/A"}},null,"не указано",null,null,null,"Численность обучающихся","Человек",792,null,null,null,null,null,null,null,null,null,null,null,null,0]
[{"$f":"VLOOKUP(B60&D60&E60,[0]!nom_spo,2,FALSE)","v":{"$error":"#N/A"}},null,"не указано",null,null,null,"Численность обучающихся","Человек",792,null,null,null,null,null,null,null,null,null,null,null,null,0]
[{"$f":"VLOOKUP(B61&D61&E61,[0]!nom_spo,2,FALSE)","v":{"$error":"#N/A"}},null,"не указано",null,null,null,"Численность обучающихся","Человек",792,null,null,null,null,null,null,null,null,null,null,null,null,0]
[{"$f":"VLOOKUP(B62&D62&E62,[0]!nom_spo,2,FALSE)","v":{"$error":"#N/A"}},null,"не указано",null,null,null,"Численность обучающихся","Человек",792,null,null,null,null,null,null,null,null,null,null,null,null,0]
[{"$f":"VLOOKUP(B63&D63&E63,[0]!nom_spo,2,FALSE)","v":{"$error":"#N/A"}},null,"не указано",null,null,null,"Численность обучающихся","Человек",792,null,null,null,null,null,null,null,null,null,null,null,null,0]
[{"$f":"VLOOKUP(B64&D64&E64,[0]!nom_spo,2,FALSE)","v":{"$error":"#N/A"}},null,"не указано",null,null,null,"Численность обучающихся","Человек",792,null,null,null,null,null,null,null,null,null,null,null,null,0]
[{"$f":"VLOOKUP(B65&D65&E65,[0]!nom_spo,2,FALSE)","v":{"$error":"#N/A"}},null,"не указано",null,null,null,"Численность обучающихся","Человек",792,null,null,null,null,null,null,null,null,null,null,null,null,0]
[{"$f":"VLOOKUP(B66&D66&E66,[0]!nom_spo,2,FALSE)","v":{"$error":"#N/A"}},null,"не указано",null,null,null,"Численность обучающихся","Человек",792,null,null,null,null,null,null,null,null,null,null,null,null,0]
[{"$f":"VLOOKUP(B67&D67&E67,[0]!nom_spo,2,FALSE)","v":{"$error":"#N/A"}},null,"не указано",null,null,null,"Численность обучающихся","Человек",792,null,null,null,null,null,null,null,null,null,null,null,null,0]
[{"$f":"VLOOKUP(B68&D68&E68,[0]!nom_spo,2,FALSE)","v":{"$error":"#N/A"}},null,"не указано",null,null,null,"Численность обучающихся","Человек",792,null,null,null,null,null,null,null,null,null,null,null,null,0]
[{"$f":"VLOOKUP(B69&D69&E69,[0]!nom_spo,2,FALSE)","v":{"$error":"#N/A"}},null,"не указано",null,null,null,"Численность обучающихся","Человек",792,null,null,null,null,null,null,null,null,null,null,null,null,0]
[{"$f":"VLOOKUP(B70&D70&E70,[0]!nom_spo,2,FALSE)","v":{"$error":"#N/A"}},null,"не указано",null,null,null,"Численность обучающихся","Человек",792,null,null,null,null,null,null,null,null,null,null,null,null,0]
[{"$f":"VLOOKUP(B71&D71&E71,[0]!nom_spo,2,FALSE)","v":{"$error":"#N/A"}},null,"не указано",null,null,null,"Численность обучающихся","Человек",792,null,null,null,null,null,null,null,null,null,null,null,null,0]
[{"$f":"VLOOKUP(B72&D72&E72,[0]!nom_spo,2,FALSE)","v":{"$error":"#N/A"}},null,"не указано",null,null,null,"Численность обучающихся","Человек",792,null,null,null,null,null,null,null,null,null,null,null,null,0]
[{"$f":"VLOOKUP(B73&D73&E73,[0]!nom_spo,2,FALSE)","v":{"$error":"#N/A"}},null,"не указано",null,null,null,"Численность обучающихся","Человек",792,null,null,null,null,null,null,null,null,null,null,null,null,0]
[{"$f":"VLOOKUP(B74&D74&E74,[0]!nom_spo,2,FALSE)","v":{"$error":"#N/A"}},null,"не указано",null,null,null,"Численность обучающихся","Человек",792,null,null,null,null,null,null,null,null,null,null,null,null,0]
[{"$f":"VLOOKUP(B75&D75&E75,[0]!nom_spo,2,FALSE)","v":{"$error":"#N/A"}},null,"не указано",null,null,null,"Численность обучающихся","Человек",792,null,null,null,null,null,null,null,null,null,null,null,null,0]
[{"$f":"VLOOKUP(B76&D76&E76,[0]!nom_spo,2,FALSE)","v":{"$error":"#N/A"}},null,"не указано",null,null,null,"Численность обучающихся","Человек",792,null,null,null,null,null,null,null,null,null,null,null,null,0]
[{"$f":"VLOOKUP(B77&D77&E77,[0]!nom_spo,2,FALSE)","v":{"$error":"#N/A"}},null,"не указано",null,null,null,"Численность обучающихся","Человек",792,null,null,null,null,null,null,null,null,null,null,null,null,0]
[{"$f":"VLOOKUP(B78&D78&E78,[0]!nom_spo,2,FALSE)","v":{"$error":"#N/A"}},null,"не указано",null,null,null,"Численность обучающихся","Человек",792,null,null,null,null,null,null,null,null,null,null,null,null,0]
[{"$f":"VLOOKUP(B79&D79&E79,[0]!nom_spo,2,FALSE)","v":{"$error":"#N/A"}},null,"не указано",null,null,null,"Численность обучающихся","Человек",792,null,null,null,null,null,null,null,null,null,null,null,null,0]
[{"$f":"VLOOKUP(B80&D80&E80,[0]!nom_spo,2,FALSE)","v":{"$error":"#N/A"}},null,"не указано",null,null,null,"Численность обучающихся","Человек",792,null,null,null,null,null,null,null,null,null,null,null,null,0]
[{"$f":"VLOOKUP(B81&D81&E81,[0]!nom_spo,2,FALSE)","v":{"$error":"#N/A"}},null,"не указано",null,null,null,"Численность обучающихся","Человек",792,null,null,null,null,null,null,null,null,null,null,null,null,0]
[{"$f":"VLOOKUP(B82&D82&E82,[0]!nom_spo,2,FALSE)","v":{"$error":"#N/A"}},null,"не указано",null,null,null,"Численность обучающихся","Человек",792,null,null,null,null,null,null,null,null,null,null,null,null,0]
[{"$f":"VLOOKUP(B83&D83&E83,[0]!nom_spo,2,FALSE)","v":{"$error":"#N/A"}},null,"не указано",null,null,null,"Численность обучающихся","Человек",792,null,null,null,null,null,null,null,null,null,null,null,null,0]
[{"$f":"VLOOKUP(B84&D84&E84,[0]!nom_spo,2,FALSE)","v":{"$error":"#N/A"}},null,"не указано",null,null,null,"Численность обучающихся","Человек",792,null,null,null,null,null,null,null,null,null,null,null,null,0]
[{"$f":"VLOOKUP(B85&D85&E85,[0]!nom_spo,2,FALSE)","v":{"$error":"#N/A"}},null,"не указано",null,null,null,"Численность обучающихся","Человек",792,null,null,null,null,null,null,null,null,null,null,null,null,0]
[{"$f":"VLOOKUP(B86&D86&E86,[0]!nom_spo,2,FALSE)","v":{"$error":"#N/A"}},null,"не указано",null,null,null,"Численность обучающихся","Человек",792,null,null,null,null,null,null,null,null,null,null,null,null,0]
[{"$f":"VLOOKUP(B87&D87&E87,[0]!nom_spo,2,FALSE)","v":{"$error":"#N/A"}},null,"не указано",null,null,null,"Численность обучающихся","Человек",792,null,null,null,null,null,null,null,null,null,null,null,null,0]
[{"$f":"VLOOKUP(B88&D88&E88,[0]!nom_spo,2,FALSE)","v":{"$error":"#N/A"}},null,"не указано",null,null,null,"Численность обучающихся","Человек",792,null,null,null,null,null,null,null,null,null,null,null,null,0]
[{"$f":"VLOOKUP(B89&D89&E89,[0]!nom_spo,2,FALSE)","v":{"$error":"#N/A"}},null,"не указано",null,null,null,"Численность обучающихся","Человек",792,null,null,null,null,null,null,null,null,null,null,null,null,0]
[{"$f":"VLOOKUP(B90&D90&E90,[0]!nom_spo,2,FALSE)","v":{"$error":"#N/A"}},null,"не указано",null,null,null,"Численность обучающихся","Человек",792,null,null,null,null,null,null,null,null,null,null,null,null,0]
[{"$f":"VLOOKUP(B91&D91&E91,[0]!nom_spo,2,FALSE)","v":{"$error":"#N/A"}},null,"не указано",null,null,null,"Численность обучающихся","Человек",792,null,null,null,null,null,null,null,null,null,null,null,null,0]
[{"$f":"VLOOKUP(B92&D92&E92,[0]!nom_spo,2,FALSE)","v":{"$error":"#N/A"}},null,"не указано",null,null,null,"Численность обучающихся","Человек",792,null,null,null,null,null,null,null,null,null,null,null,null,0]
[{"$f":"VLOOKUP(B93&D93&E93,[0]!nom_spo,2,FALSE)","v":{"$error":"#N/A"}},null,"не указано",null,null,null,"Численность обучающихся","Человек",792,null,null,null,null,null,null,null,null,null,null,null,null,0]
[{"$f":"VLOOKUP(B94&D94&E94,[0]!nom_spo,2,FALSE)","v":{"$error":"#N/A"}},null,"не указано",null,null,null,"Численность обучающихся","Человек",792,null,null,null,null,null,null,null,null,null,null,null,null,0]
[{"$f":"VLOOKUP(B95&D95&E95,[0]!nom_spo,2,FALSE)","v":{"$error":"#N/A"}},null,"не указано",null,null,null,"Численность обучающихся","Человек",792,null,null,null,null,null,null,null,null,null,null,null,null,0]
[{"$f":"VLOOKUP(B96&D96&E96,[0]!nom_spo,2,FALSE)","v":{"$error":"#N/A"}},null,"не указано",null,null,null,"Численность обучающихся","Человек",792,null,null,null,null,null,null,null,null,null,null,null,null,0]
[{"$f":"VLOOKUP(B97&D97&E97,[0]!nom_spo,2,FALSE)","v":{"$error":"#N/A"}},null,"не указано",null,null,null,"Численность обучающихся","Человек",792,null,null,null,null,null,null,null,null,null,null,null,null,0]
[{"$f":"VLOOKUP(B98&D98&E98,[0]!nom_spo,2,FALSE)","v":{"$error":"#N/A"}},null,"не указано",null,null,null,"Численность обучающихся","Человек",792,null,null,null,null,null,null,null,null,null,null,null,null,0]
[{"$f":"VLOOKUP(B99&D99&E99,[0]!nom_spo,2,FALSE)","v":{"$error":"#N/A"}},null,"не указано",null,null,null,"Численность обучающихся","Человек",792,null,null,null,null,null,null,null,null,null,null,null,null,0]
[{"$f":"VLOOKUP(B100&D100&E100,[0]!nom_spo,2,FALSE)","v":{"$error":"#N/A"}},null,"не указано",null,null,null,"Численность обучающихся","Человек",792,null,null,null,null,null,null,null,null,null,null,null,null,0]
[{"$f":"VLOOKUP(B101&D101&E101,[0]!nom_spo,2,FALSE)","v":{"$error":"#N/A"}},null,"не указано",null,null,null,"Численность обучающихся","Человек",792,null,null,null,null,null,null,null,null,null,null,null,null,0]
[{"$f":"VLOOKUP(B102&D102&E102,[0]!nom_spo,2,FALSE)","v":{"$error":"#N/A"}},null,"не указано",null,null,null,"Численность обучающихся","Человек",792,null,null,null,null,null,null,null,null,null,null,null,null,0]
[{"$f":"VLOOKUP(B103&D103&E103,[0]!nom_spo,2,FALSE)","v":{"$error":"#N/A"}},null,"не указано",null,null,null,"Численность обучающихся","Человек",792,null,null,null,null,null,null,null,null,null,null,null,null,0]
[{"$f":"VLOOKUP(B104&D104&E104,[0]!nom_spo,2,FALSE)","v":{"$error":"#N/A"}},null,"не указано",null,null,null,"Численность обучающихся","Человек",792,null,null,null,null,null,null,null,null,null,null,null,null,0]
[{"$f":"VLOOKUP(B105&D105&E105,[0]!nom_spo,2,FALSE)","v":{"$error":"#N/A"}},null,"не указано",null,null,null,"Численность обучающихся","Человек",792,null,null,null,null,null,null,null,null,null,null,null,null,0]
[{"$f":"VLOOKUP(B106&D106&E106,[0]!nom_spo,2,FALSE)","v":{"$error":"#N/A"}},null,"не указано",null,null,null,"Численность обучающихся","Человек",792,null,null,null,null,null,null,null,null,null,null,null,null,0]
[{"$f":"VLOOKUP(B107&D107&E107,[0]!nom_spo,2,FALSE)","v":{"$error":"#N/A"}},null,"не указано",null,null,null,"Численность обучающихся","Человек",792,null,null,null,null,null,null,null,null,null,null,null,null,0]
[{"$f":"VLOOKUP(B108&D108&E108,[0]!nom_spo,2,FALSE)","v":{"$error":"#N/A"}},null,"не указано",null,null,null,"Численность обучающихся","Человек",792,null,null,null,null,null,null,null,null,null,null,null,null,0]
[{"$f":"VLOOKUP(B109&D109&E109,[0]!nom_spo,2,FALSE)","v":{"$error":"#N/A"}},null,"не указано",null,null,null,"Численность обучающихся","Человек",792,null,null,null,null,null,null,null,null,null,null,null,null,0]
[{"$f":"VLOOKUP(B110&D110&E110,[0]!nom_spo,2,FALSE)","v":{"$error":"#N/A"}},null,"не указано",null,null,null,"Численность обучающихся","Человек",792,null,null,null,null,null,null,null,null,null,null,null,null,0]
[{"$f":"VLOOKUP(B111&D111&E111,[0]!nom_spo,2,FALSE)","v":{"$error":"#N/A"}},null,"не указано",null,null,null,"Численность обучающихся","Человек",792,null,null,null,null,null,null,null,null,null,null,null,null,0]
[{"$f":"VLOOKUP(B112&D112&E112,[0]!nom_spo,2,FALSE)","v":{"$error":"#N/A"}},null,"не указано",null,null,null,"Численность обучающихся","Человек",792,null,null,null,null,null,null,null,null,null,null,null,null,0]
[{"$f":"VLOOKUP(B113&D113&E113,[0]!nom_spo,2,FALSE)","v":{"$error":"#N/A"}},null,"не указано",null,null,null,"Численность обучающихся","Человек",792,null,null,null,null,null,null,null,null,null,null,null,null,0]
[{"$f":"VLOOKUP(B114&D114&E114,[0]!nom_spo,2,FALSE)","v":{"$error":"#N/A"}},null,"не указано",null,null,null,"Численность обучающихся","Человек",792,null,null,null,null,null,null,null,null,null,null,null,null,0]
[{"$f":"VLOOKUP(B115&D115&E115,[0]!nom_spo,2,FALSE)","v":{"$error":"#N/A"}},null,"не указано",null,null,null,"Численность обучающихся","Человек",792,null,null,null,null,null,null,null,null,null,null,null,null,0]
[{"$f":"VLOOKUP(B116&D116&E116,[0]!nom_spo,2,FALSE)","v":{"$error":"#N/A"}},null,"не указано",null,null,null,"Численность обучающихся","Человек",792,null,null,null,null,null,null,null,null,null,null,null,null,0]
[{"$f":"VLOOKUP(B117&D117&E117,[0]!nom_spo,2,FALSE)","v":{"$error":"#N/A"}},null,"не указано",null,null,null,"Численность обучающихся","Человек",792,null,null,null,null,null,null,null,null,null,null,null,null,0]
[{"$f":"VLOOKUP(B118&D118&E118,[0]!nom_spo,2,FALSE)","v":{"$error":"#N/A"}},null,"не указано",null,null,null,"Численность обучающихся","Человек",792,null,null,null,null,null,null,null,null,null,null,null,null,0]
[{"$f":"VLOOKUP(B119&D119&E119,[0]!nom_spo,2,FALSE)","v":{"$error":"#N/A"}},null,"не указано",null,null,null,"Численность обучающихся","Человек",792,null,null,null,null,null,null,null,null,null,null,null,null,0]
[{"$f":"VLOOKUP(B120&D120&E120,[0]!nom_spo,2,FALSE)","v":{"$error":"#N/A"}},null,"не указано",null,null,null,"Численность обучающихся","Человек",792,null,null,null,null,null,null,null,null,null,null,null,null,0]
[{"$f":"VLOOKUP(B121&D121&E121,[0]!nom_spo,2,FALSE)","v":{"$error":"#N/A"}},null,"не указано",null,null,null,"Численность обучающихся","Человек",792,null,null,null,null,null,null,null,null,null,null,null,null,0]
[{"$f":"VLOOKUP(B122&D122&E122,[0]!nom_spo,2,FALSE)","v":{"$error":"#N/A"}},null,"не указано",null,null,null,"Численность обучающихся","Человек",792,null,null,null,null,null,null,null,null,null,null,null,null,0]
[{"$f":"VLOOKUP(B123&D123&E123,[0]!nom_spo,2,FALSE)","v":{"$error":"#N/A"}},null,"не указано",null,null,null,"Численность обучающихся","Человек",792,null,null,null,null,null,null,null,null,null,null,null,null,0]
[{"$f":"VLOOKUP(B124&D124&E124,[0]!nom_spo,2,FALSE)","v":{"$error":"#N/A"}},null,"не указано",null,null,null,"Численность обучающихся","Человек",792,null,null,null,null,null,null,null,null,null,null,null,null,0]
[]
["допустимые (возможные) отклонения от установленных показателей объема государственной услуги, в пределах которых государственное задание считается выполненным (процентов)",null,null,null,null,0.05]
[]
["4. Нормативные правовые акты, устанавливающие размер платы (цену, тариф) либо порядок ее (его) установления:"]
[]
["Нормативный правовой акт"]
["вид","принявший орган",null,"дата","номер","наименование"]
[1,2,null,3,4,5]
[]
[]
["5. Порядок оказания государственной услуги"]
["5.1. Нормативные правовые акты, регулирующие порядок оказания государственной услуги"]
[]
["Федеральный закон Российской Федерации от 29.12.12 № 273-ФЗ \"Об образовании в Российской Федерации\""]
["Приказ Минобрнауки России от 23.01.2014 № 36 \"Об утверждении Порядка приема на обучение по образовательным программам среднего профессионального образования\""]
["Приказ Минобрнауки России от 14.06.2013 № 464 \"Об утверждении Порядка организации и осуществления образовательной деятельности по образовательным программам среднего профессионального образования\""]
[]
["Приказ Минобрнауки России от 06.06.2013 № 443 \"Об утверждении Порядка и случаев перехода лиц, обучающихся по образовательным программам среднего профессионального и высшего образования, с платного обучения на бесплатное\""]
["Приказ Минобрнауки России от 13.06.2013 № 455 \"Об утверждении Порядка и оснований предоставления академического отпуска обучающимся\""]
["Приказ Минобрнауки России от 18.04.2013 № 291 \"Об утверждении Положения о практике обучающихся, осваивающих основные профессиональные образовательные программы среднего профессионального образования\""]
["Приказ Минобрнауки России от 16.08.2013 № 968 \"Об утверждении Порядка проведения государственной итоговой аттестации по образовательным программам среднего профессионального образования\""]
["Письмо Минобрнауки России от 30.03.2015 № АК-821/06 \"О направлении методических рекомендаций по итоговой аттестации слушателей\""]
["Приказ Минобрнауки России от 04.07.2013 № 531 \"Об утверждении образцов и описаний диплома о среднем профессиональном образовании и приложения к нему\""]
["Приказ Минобрнауки России от 25.10.2013 № 1186 \"Об утверждении Порядка заполнения, учета и выдачи дипломов о среднем профессиональном образовании и их дубликатов\""]
["Постановление Правительства РФ от 10.07.2013 № 582 \"Об утверждении Правил размещения на официальном сайте образовательной организации в информационно-телекоммуникационной сети \"Интернет\" и обновления информации об образовательной организации\""]
["Приказ Рособрнадзора от 29.05.2014 № 785 \"Об утверждении требований к структуре официального сайта образовательной организации в информационно-телекоммуникационной сети \"Интернет\" и формату представления на нем информации\""]
["Письмо Минобрнауки России от 22.07.2013 № 09-889 \"О размещении на официальном сайте образовательной организации информации\""]
[]
["5.2. Порядок информирования потенциальных потребителей государственной услуги:"]
[]
["Способ информирования",null,"Состав размещаемой информации",null,null,"Частота обновления информации"]
[1,null,2,null,null,3]
["Размещение информации о деятельности образовательной организации на официальном сайте образовательной организации в сети \"Интернет\" и на информационном стенде приемной комиссии",null,"Состав размещаемой информации и правила размещения указаны в следующих документах: Приказ Рособрнадзора от 29.05.2014 № 785 \"Об утверждении требований к структуре официального сайта образовательной организации в информационно-телекоммуникационной сети \"Интернет\" и формату представления на нем информации\"; Постановление Правительства РФ от 10.07.2013 № 582 \"Об утверждении Правил размещения на официальном сайте образовательной организации в информационно-телекоммуникационной сети \"Интернет\" и обновления информации об образовательной организации\"; Письмо Минобрнауки России от 22.07.2013 № 09-889 \"О размещении на официальном сайте образовательной организации информации\"",null,null,"Не позднее 10 рабочих дней после изменения размещаемой информации\n"]

{"sheet":"ПО","index":3,"n_rows":62,"n_cols":29,"rows_kept":62,"cut":false,"hidden":true,"merged":[[20,25,20,27],[50,0,50,27],[43,5,43,27],[21,27,22,27],[45,1,45,2],[24,1,29,1],[45,5,45,27],[43,1,43,2],[20,9,22,9],[30,6,35,6],[24,3,29,3],[24,4,29,4],[21,5,22,5],[21,17,22,17],[38,0,38,4],[42,0,42,27],[24,0,29,0],[30,0,35,0],[30,1,35,1],[30,2,35,2],[30,3,35,3],[30,4,35,4],[30,5,35,5],[61,0,61,1],[61,2,61,4],[61,5,61,6],[60,0,60,1],[60,2,60,4],[20,0,22,0],[20,1,20,3],[21,6,22,6],[20,4,20,5],[21,1,22,1],[21,2,22,2],[21,3,22,3],[21,4,22,4],[20,6,20,8],[24,2,29,2],[24,5,29,5],[24,6,29,6],[24,7,29,7],[53,0,53,27],[52,0,52,27],[13,6,13,22],[20,22,20,24],[59,5,59,6],[44,1,44,2],[44,5,44,27],[55,0,55,27],[51,0,51,27],[13,23,13,24],[21,12,22,12],[21,14,22,14],[21,15,22,15],[21,16,22,16],[21,18,22,18],[21,13,22,13],[30,24,35,24],[30,25,35,25],[30,26,35,26],[30,7,35,7],[24,27,29,27],[21,24,22,24],[21,23,22,23],[21,22,22,22],[21,21,22,21],[21,11,22,11],[60,5,60,6],[14,6,14,22],[21,10,22,10],[59,0,59,1],[59,2,59,4],[21,26,22,26],[21,20,22,20],[54,0,54,27],[16,0,16,4],[14,23,14,24],[20,10,20,21],[30,27,35,27],[30,22,35,22],[21,7,21,8],[21,19,22,19],[24,8,29,8],[30,8,35,8],[24,26,29,26],[30,23,35,23],[24,24,29,24],[24,25,29,25],[24,23,29,23],[24,22,29,22],[21,25,22,25],[5,0,5,5],[10,6,10,28],[11,5,12,5],[11,2,12,2],[10,1,10,3],[11,3,12,3],[11,4,12,4],[0,0,0,27],[1,0,1,27],[11,1,12,1],[10,4,10,5],[10,0,12,0],[11,6,12,22],[11,26,11,28],[11,23,11,25],[12,23,12,24],[3,0,3,3]]}
[{"$f":"IF(AND(КРС!A1=\"\",ССЗ!A1=\"\"),IF(W25=0,\"\",\"Часть 1. Сведения об оказываемых государственных услугах\"),\"\")","v":""}]
[{"$f":"\"Раздел \"&'Служебный 1'!N4","v":"Раздел 0"}]
["1. Наименование государственной услуги"]
["Реализация основных профессиональных образовательных программ профессионального обучения - программ профессиональной подготовки по профессиям рабочих, должностям служащих",null,null,null,"Уникальный номер по базовому (отраслевому) перечню","11.Г51.0"]
["2. Категория потребителей государственной услуги"]
["Физические лица, ранее не имевшие профессии рабочего или должности служащего"]
["3. Показатели, характеризующие объем и (или) качество государственной услуги:"]
[]
["3.1. Показатели, характеризующие качество государственной услуги:"]
[]
["Уникальный номер реестровой записи","Показатель, характеризущий содержание государственной услуги",null,null,"Показатель, характеризущий условия (формы) оказания государственной услуги",null,"Показатель качества государственной услуги"]
[null,"Виды образовательных программ","Категория потребителей","Место обучения","Формы образования и формы реализации образовательных программ","(наименование показателя)","наименование показателя",null,null,null,null,null,null,null,null,null,null,null,null,null,null,null,null,"единица измерения по ОКЕИ",null,null,"Значение показателя качества государственной услуги"]
[null,null,null,null,null,null,null,null,null,null,null,null,null,null,null,null,null,null,null,null,null,null,null,"наименование",null,"код",2018,2019,2020]
[1,2,3,4,5,6,7,null,null,null,null,null,null,null,null,null,null,null,null,null,null,null,null,8,null,9,10,11,12]
[]
[]
["допустимые (возможные) отклонения от установленных показателей качества государственной услуги, в пределах которых государственное задание считается выполненным (процентов)"]
[]
["3.2. Показатели, характеризующие объем государственной услуги:"]
[]
["Уникальный номер реестровой записи","Показатель, характеризущий содержание государственной услуги",null,null,"Показатель, характеризущий условия (форму) оказания государственной услуги",null,"Показатель объема государственной услуги",null,null,"Наименование профессии","Количество студентов, получающих образовательные услуги за счет областного бюджета, на первое число каждого месяца 2018 года, чел",null,null,null,null,null,null,null,null,null,null,null,"Значение показателя объема государственной услуги",null,null,"Среднегодовой размер платы (цена, тариф)"]
[null,{"$f":"B12","v":"Виды образовательных программ"},{"$f":"C12","v":"Категория потребителей"},{"$f":"D12","v":"Место обучения"},{"$f":"E12","v":"Формы образования и формы реализации образовательных программ"},"(наименование показателя)","наименование показателя","единица измерения по ОКЕИ",null,null,"январь","февраль","март","апрель","май","июнь","июль","август","сентябрь","октябрь","ноябрь","декабрь",2018,2019,2020,2018,2019,2020]
[null,null,null,null,null,null,null,"наименование","код"]
[1,2,3,4,5,6,7,8,9,null,null,null,null,null,null,null,null,null,null,null,null,null,10,11,12,13,14,15]
[{"$f":"VLOOKUP(B25,'Служебный 3'!A4:E5,2,FALSE)","v":{"$error":"#N/A"}},null,{"$f":"VLOOKUP(B25,'Служебный 3'!A4:E5,3,FALSE)","v":{"$error":"#N/A"}},{"$f":"VLOOKUP(B25,'Служебный 3'!A4:E5,4,FALSE)","v":{"$error":"#N/A"}},{"$f":"VLOOKUP(B25,'Служебный 3'!A4:E5,5,FALSE)","v":{"$error":"#N/A"}},null,"Количество человеко-часов","Человеко-час",539,null,{"$f":"SUM(K26:K30)","v":0},0,0,0,0,0,0,0,0,0,0,0,{"$f":"ROUND(SUM(K25:V25)/12,1)*1479","v":0}]
[]
[]
[]
[]
[]
[{"$f":"VLOOKUP(B31,'Служебный 3'!A4:E5,2,FALSE)","v":{"$error":"#N/A"}},null,{"$f":"VLOOKUP(B31,'Служебный 3'!A4:E5,3,FALSE)","v":{"$error":"#N/A"}},{"$f":"VLOOKUP(B31,'Служебный 3'!A4:E5,4,FALSE)","v":{"$error":"#N/A"}},{"$f":"VLOOKUP(B31,'Служебный 3'!A4:E5,5,FALSE)","v":{"$error":"#N/A"}},null,"Количество человеко-часов","Человеко-час",539,null,{"$f":"SUM(K32:K36)","v":0},0,0,0,0,0,0,0,0,0,0,0,{"$f":"ROUND(SUM(K31:V31)/12,1)*1479","v":0}]
[]
[]
[]
[]
[]
[]
[]
["допустимые (возможные) отклонения от установленных показателей объема государственной услуги, в пределах которых государственное задание считается выполненным (процентов)",null,null,null,null,0.05]
[]
["4. Нормативные правовые акты, устанавливающие размер платы (цену, тариф) либо порядок ее (его) установления:"]
[]
["Нормативный правовой акт"]
["вид","принявший орган",null,"дата","номер","наименование"]
[1,2,null,3,4,5]
[]
[]
["5. Порядок оказания государственной услуги"]
["5.1. Нормативные правовые акты, регулирующие порядок оказания государственной услуги"]
[]
["Федеральный закон Российской Федерации от 29.12.12 № 273-ФЗ \"Об образовании в Российской Федерации\""]
["Приказ Минобрнауки России от 18.04.2013 № 292 \"Об утверждении  Порядка организации и осуществления образовательной деятельности по основным программам профессионального обучения\""]
["Письмо Минобрнауки России от 30.03.2015 № АК-821/06 \"О направлении методических рекомендаций по итоговой аттестации слушателей\""]
["Постановление Правительства РФ от 10.07.2013 № 582 \"Об утверждении Правил размещения на официальном сайте образовательной организации в информационно-телекоммуникационной сети \"Интернет\" и обновления информации об образовательной организации\""]
["Приказ Рособрнадзора от 29.05.2014 № 785 \"Об утверждении требований к структуре официального сайта образовательной организации в информационно-телекоммуникационной сети \"Интернет\" и формату представления на нем информации\""]
["Письмо Минобрнауки России от 22.07.2013 № 09-889 \"О размещении на официальном сайте образовательной организации информации\""]
[]
["5.2. Порядок информирования потенциальных потребителей государственной услуги:"]
[]
["Способ информирования",null,"Состав размещаемой информации",null,null,"Частота обновления информации"]
[1,null,2,null,null,3]
["Размещение информации о деятельности образовательной организации на официальном сайте образовательной организации в сети \"Интернет\" и на информационном стенде приемной комиссии",null,"Состав размещаемой информации и правила размещения указаны в следующих документах: Приказ Рособрнадзора от 29.05.2014 № 785 \"Об утверждении требований к структуре официального сайта образовательной организации в информационно-телекоммуникационной сети \"Интернет\" и формату представления на нем информации\"; Постановление Правительства РФ от 10.07.2013 № 582 \"Об утверждении Правил размещения на официальном сайте образовательной организации в информационно-телекоммуникационной сети \"Интернет\" и обновления информации об образовательной организации\"; Письмо Минобрнауки России от 22.07.2013 № 09-889 \"О размещении на официальном сайте образовательной организации информации\"",null,null,"Не позднее 10 рабочих дней после изменения размещаемой информации\n"]

{"sheet":"Общеж","index":4,"n_rows":59,"n_cols":28,"rows_kept":59,"cut":false,"hidden":true,"merged":[[19,0,19,4],[24,14,25,14],[24,15,25,15],[23,24,23,26],[24,22,25,22],[23,4,23,5],[24,23,25,23],[15,22,15,23],[15,6,15,21],[12,6,12,27],[13,1,14,1],[13,2,14,2],[3,0,3,3],[12,0,14,0],[12,1,12,3],[12,4,12,5],[5,0,7,5],[14,22,14,23],[13,6,14,21],[13,25,13,27],[13,5,14,5],[13,22,13,24],[58,0,58,1],[58,2,58,4],[58,5,58,6],[50,0,50,26],[51,0,51,26],[57,0,57,1],[57,2,57,4],[57,5,57,6],[56,5,56,6],[16,22,16,23],[41,0,41,26],[47,0,47,26],[24,18,25,18],[24,16,25,16],[56,0,56,1],[44,0,44,26],[56,2,56,4],[52,0,52,26],[24,17,25,17],[24,20,25,20],[42,0,42,26],[24,19,25,19],[16,5,17,5],[34,1,34,2],[0,0,0,27],[43,0,43,26],[1,0,1,27],[16,2,17,2],[16,3,17,3],[36,5,36,26],[24,24,25,24],[33,0,33,26],[16,4,17,4],[24,6,25,6],[34,5,34,26],[36,1,36,2],[24,5,25,5],[24,3,25,3],[13,3,14,3],[13,4,14,4],[49,0,49,26],[17,6,17,21],[17,22,17,23],[16,0,17,0],[16,1,17,1],[48,0,48,26],[24,7,24,8],[24,9,25,9],[24,4,25,4],[24,21,25,21],[46,0,46,26],[45,0,45,26],[16,6,16,21],[23,21,23,23],[24,11,25,11],[23,6,23,8],[35,5,35,26],[24,25,25,25],[24,26,25,26],[29,0,29,4],[24,10,25,10],[35,1,35,2],[23,0,25,0],[23,1,23,3],[24,1,25,1],[24,2,25,2],[23,9,23,20],[24,12,25,12],[24,13,25,13]]}
[{"$f":"IF(AND(КРС!A1=\"\",ССЗ!A1=\"\",ПО!A1=\"\"),IF(V25=0,\"\",\"Часть 1. Сведения об оказываемых государственных услугах\"),\"\")","v":""}]
[{"$f":"\"Раздел \"&'Служебный 1'!N5","v":"Раздел 3"}]
["1. Наименование государственной услуги"]
["Заключение договоров найма специализированного жилого помещения",null,null,null,"Уникальный номер по базовому (отраслевому) перечню","28.006.0"]
["2. Категория потребителей государственной услуги"]
["Физические лица"]
[]
[]
["3. Показатели, характеризующие объем и (или) качество государственной услуги:"]
[]
["3.1. Показатели, характеризующие качество государственной услуги:"]
[]
["Уникальный номер реестровой записи","Показатель, характеризущий содержание государственной услуги",null,null,"Показатель, характеризущий условия (формы) оказания государственной услуги",null,"Показатель качества государственной услуги"]
[null,"(наименование показателя)","(наименование показателя)","(наименование показателя)","(наименование показателя)","(наименование показателя)","наименование показателя",null,null,null,null,null,null,null,null,null,null,null,null,null,null,null,"единица измерения по ОКЕИ",null,null,"Значение показателя качества государственной услуги"]
[null,null,null,null,null,null,null,null,null,null,null,null,null,null,null,null,null,null,null,null,null,null,"наименование",null,"код",2018,2019,2020]
[1,2,3,4,5,6,7,null,null,null,null,null,null,null,null,null,null,null,null,null,null,null,8,null,9,10,11,12]
["28006000000000000005102",null,null,null,null,null,"Соблюдение сроков выполнения работ",null,null,null,null,null,null,null,null,null,null,null,null,null,null,null,"Процент",null,744,100,100,100]
[null,null,null,null,null,null,"Количество письменных жалоб на качество предоставленных услуг",null,null,null,null,null,null,null,null,null,null,null,null,null,null,null,"Штука",null,796,0,0,0]
[]
["допустимые (возможные) отклонения от установленных показателей качества государственной услуги, в пределах которых государственное задание считается выполненным (процентов)",null,null,null,null,0.05]
[]
["3.2. Показатели, характеризующие объем государственной услуги:"]
[]
["Уникальный номер реестровой записи","Показатель, характеризущий содержание государственной услуги",null,null,"Показатель, характеризущий условия (форму) оказания государственной услуги",null,"Показатель объема государственной услуги",null,null,"Количество студентов, получающих образовательные услуги за счет областного бюджета и проживающие в общежитии, на первое число каждого месяца 2018 года, чел",null,null,null,null,null,null,null,null,null,null,null,"Значение показателя объема государственной услуги",null,null,"Среднегодовой размер платы (цена, тариф)"]
[null,"(наименование показателя)","(наименование показателя)","(наименование показателя)","(наименование показателя)","(наименование показателя)","наименование показателя","единица измерения по ОКЕИ",null,"январь","февраль","март","апрель","май","июнь","июль","август","сентябрь","октябрь","ноябрь","декабрь",2018,2019,2020,2018,2019,2020]
[null,null,null,null,null,null,null,"наименование","код"]
[1,2,3,4,5,6,7,8,9,null,null,null,null,null,null,null,null,null,null,null,null,10,11,12,13,14,15]
[{"$f":"A17","v":"28006000000000000005102"},null,null,null,null,null,"Площадь муниципального жилого фонда","Квадратный метр","055",240,240,240,240,240,240,180,180,240,240,240,240,{"$f":"ROUND(SUM(J28:U28)/12,1)*6","v":1380},1380,1380]
[]
["допустимые (возможные) отклонения от установленных показателей объема государственной услуги, в пределах которых государственное задание считается выполненным (процентов)",null,null,null,null,0.05]
[]
["4. Нормативные правовые акты, устанавливающие размер платы (цену, тариф) либо порядок ее (его) установления:"]
[]
["Нормативный правовой акт"]
["вид","принявший орган",null,"дата","номер","наименование"]
[1,2,null,3,4,5]
[]
[]
["5. Порядок оказания государственной услуги"]
["5.1. Нормативные правовые акты, регулирующие порядок оказания государственной услуги"]
[]
["Жилищный кодекс Российской Федерации от 29.12.2004 № 188-ФЗ"]
["Постановление Правительства РФ от 14.11.2014 № 1190 \"О Правилах определения размера платы за коммунальные услуги, вносимой нанимателями жилых помещений в общежитиях, входящих в жилищный фонд организаций, осуществляющих образовательную деятельность, по договорам найма жилого помещения в общежитии\""]
["Приказ Минобрнауки России от 15.08.2014 № 1010 \"О максимальном размере платы за пользование жилым помещением (платы за наем) в общежитии для обучающихся по основным образовательным программам среднего профессионального и высшего образования по очной форме обучения и на период прохождения промежуточной и итоговой аттестации обучающимся по данным образовательным программам по заочной форме обучения в организациях, осуществляющих образовательную деятельность, функции и полномочия учредителя которых осуществляет Министерство образования и науки Российской Федерации\"\n"]
["Приказ комитета образования и науки Волгоградской обл. от 24.04.2015 № 586 \"Об установлении максимального размера платы за пользование жилым помещением (платы за наем) в общежитии для обучающихся по основным образовательным программам среднего профессионального образования по очной форме обучения и на период прохождения промежуточной и итоговой аттестации обучающимся по данным образовательным программам по заочной форме обучения в организациях, осуществляющих образовательную деятельность, функции и полномочия учредителя которых осуществляет комитет образования и науки Волгоградской области\""]
["Письмо Минобрнауки России от 26.03.2014 № 09-567 \"О направлении методических рекомендаций по расчету размера платы за проживание в общежитиях\" (вместе с \"Методическими рекомендациями по расчету размера платы за проживание в общежитиях образовательных организаций\", утв. Минобрнауки России 20.03.2014 № НТ-362/09)"]
["Письмо Минобрнауки России от 02.10.2013 № ВК-573/09 \"О порядке оплаты за проживание в студенческом общежитии\""]
["Письмо Рособразования от 27.07.2007 № 1276/12-16 \"О направлении для использования в работе Примерного положения о студенческом общежитии\" (вместе с \"Примерным положением о студенческом общежитии федерального государственного образовательного учреждения высшего и среднего профессионального образования Российской Федерации, подведомственного Федеральному агентству по образованию\", утв. Минобрнауки РФ 10.07.2007)"]
["Приказ Минобрнауки России от 23.01.2014 № 36 \"Об утверждении Порядка приема на обучение по образовательным программам среднего профессионального образования\""]
["Приказ Минобрнауки России от 13.06.2013 № 455 \"Об утверждении Порядка и оснований предоставления академического отпуска обучающимся\""]
["Постановление Правительства РФ от 10.07.2013 № 582 \"Об утверждении Правил размещения на официальном сайте образовательной организации в информационно-телекоммуникационной сети \"Интернет\" и обновления информации об образовательной организации\""]
["Приказ Рособрнадзора от 29.05.2014 № 785 \"Об утверждении требований к структуре официального сайта образовательной организации в информационно-телекоммуникационной сети \"Интернет\" и формату представления на нем информации\""]
["Письмо Минобрнауки России от 22.07.2013 № 09-889 \"О размещении на официальном сайте образовательной организации информации\""]
[]
["5.2. Порядок информирования потенциальных потребителей государственной услуги:"]
[]
["Способ информирования",null,"Состав размещаемой информации",null,null,"Частота обновления информации"]
[1,null,2,null,null,3]
["Размещение информации о деятельности образовательной организации на официальном сайте образовательной организации в сети \"Интернет\" и на информационном стенде приемной комиссии",null,"Состав размещаемой информации и правила размещения указаны в следующих документах: Приказ Рособрнадзора от 29.05.2014 № 785 \"Об утверждении требований к структуре официального сайта образовательной организации в информационно-телекоммуникационной сети \"Интернет\" и формату представления на нем информации\"; Постановление Правительства РФ от 10.07.2013 № 582 \"Об утверждении Правил размещения на официальном сайте образовательной организации в информационно-телекоммуникационной сети \"Интернет\" и обновления информации об образовательной организации\"; Письмо Минобрнауки России от 22.07.2013 № 09-889 \"О размещении на официальном сайте образовательной организации информации\"",null,null,"Не позднее 10 рабочих дней после изменения размещаемой информации\n"]

{"sheet":"Питание","index":5,"n_rows":55,"n_cols":28,"rows_kept":55,"cut":false,"hidden":true,"merged":[[19,24,19,26],[12,6,12,21],[12,22,12,23],[0,0,0,27],[2,0,2,3],[9,0,11,0],[9,1,9,3],[9,4,9,5],[9,6,9,27],[10,1,11,1],[10,2,11,2],[10,3,11,3],[10,4,11,4],[10,5,11,5],[10,6,11,21],[10,22,10,24],[10,25,10,27],[11,22,11,23],[13,6,13,21],[13,22,13,23],[20,6,21,6],[20,11,21,11],[15,0,15,4],[19,0,21,0],[19,1,19,3],[19,4,19,5],[19,6,19,8],[20,1,21,1],[19,21,19,23],[19,9,19,20],[20,25,21,25],[20,22,21,22],[20,23,21,23],[20,12,21,12],[20,13,21,13],[20,14,21,14],[20,15,21,15],[20,19,21,19],[20,20,21,20],[20,16,21,16],[20,17,21,17],[20,24,21,24],[38,0,38,26],[39,0,39,26],[20,26,21,26],[25,0,25,4],[20,7,20,8],[20,9,21,9],[20,10,21,10],[20,21,21,21],[20,2,21,2],[20,3,21,3],[20,4,21,4],[20,5,21,5],[29,0,29,26],[30,1,30,2],[30,5,30,26],[20,18,21,18],[31,1,31,2],[31,5,31,26],[32,1,32,2],[32,5,32,26],[37,0,37,26],[54,0,54,1],[54,2,54,4],[54,5,54,6],[48,0,48,26],[52,0,52,1],[52,2,52,4],[52,5,52,6],[53,0,53,1],[53,2,53,4],[53,5,53,6],[40,0,40,26],[41,0,41,26],[42,0,42,26],[43,0,43,26],[44,0,44,26],[45,0,45,26],[46,0,46,26],[47,0,47,26]]}
[{"$f":"\"Раздел \"&'Служебный 1'!N6","v":"Раздел "}]
["1. Наименование государственной услуги"]
["Предоставление питания",null,null,null,"Уникальный номер по базовому (отраслевому) перечню","11.Д07.0"]
["2. Категория потребителей государственной услуги"]
["Физические лица"]
["3. Показатели, характеризующие объем и (или) качество государственной услуги:"]
[]
["3.1. Показатели, характеризующие качество государственной услуги:"]
[]
["Уникальный номер реестровой записи","Показатель, характеризущий содержание государственной услуги",null,null,"Показатель, характеризущий условия (формы) оказания государственной услуги",null,"Показатель качества государственной услуги"]
[null,"(наименование показателя)","(наименование показателя)","(наименование показателя)","(наименование показателя)","(наименование показателя)","наименование показателя",null,null,null,null,null,null,null,null,null,null,null,null,null,null,null,"единица измерения по ОКЕИ",null,null,"Значение показателя качества государственной услуги"]
[null,null,null,null,null,null,null,null,null,null,null,null,null,null,null,null,null,null,null,null,null,null,"наименование",null,"код",2017,2018,2019]
[1,2,3,4,5,6,7,null,null,null,null,null,null,null,null,null,null,null,null,null,null,null,8,null,9,10,11,12]
[]
[]
["допустимые (возможные) отклонения от установленных показателей качества государственной услуги, в пределах которых государственное задание считается выполненным (процентов)"]
[]
["3.2. Показатели, характеризующие объем государственной услуги:"]
[]
["Уникальный номер реестровой записи","Показатель, характеризущий содержание государственной услуги",null,null,"Показатель, характеризущий условия (форму) оказания государственной услуги",null,"Показатель объема государственной услуги",null,null,"Количество студентов, получающих образовательные услуги за счет областного бюджета и проживающие в общежитии, на первое число каждого месяца 2016 года, чел",null,null,null,null,null,null,null,null,null,null,null,"Значение показателя объема государственной услуги",null,null,"Среднегодовой размер платы (цена, тариф)"]
[null,"(наименование показателя)","(наименование показателя)","(наименование показателя)","(наименование показателя)","(наименование показателя)","наименование показателя","единица измерения по ОКЕИ",null,"январь","февраль","март","апрель","май","июнь","июль","август","сентябрь","октябрь","ноябрь","декабрь",2017,2018,2019,2017,2018,2019]
[null,null,null,null,null,null,null,"наименование","код"]
[1,2,3,4,5,6,7,8,9,null,null,null,null,null,null,null,null,null,null,null,null,10,11,12,13,14,15]
["11Д07000000000000005100",null,null,null,null,null,"Число обучающихся","Человек",792,null,null,null,null,null,null,null,null,null,null,null,null,{"$f":"ROUND(SUM(J24:U24)/12,1)","v":0}]
[]
["допустимые (возможные) отклонения от установленных показателей объема государственной услуги, в пределах которых государственное задание считается выполненным (процентов)",null,null,null,null,0.1]
[]
["4. Нормативные правовые акты, устанавливающие размер платы (цену, тариф) либо порядок ее (его) установления:"]
[]
["Нормативный правовой акт"]
["вид","принявший орган",null,"дата","номер","наименование"]
[1,2,null,3,4,5]
[]
[]
["5. Порядок оказания государственной услуги"]
["5.1. Нормативные правовые акты, регулирующие порядок оказания государственной услуги"]
[]
["Федеральный закон Российской Федерации от 29.12.12 № 273-ФЗ \"Об образовании в Российской Федерации\""]
[]
[]
[]
[]
[]
[]
[]
[]
[]
[]
[]
[]
["5.2. Порядок информирования потенциальных потребителей государственной услуги:"]
[]
["Способ информирования",null,"Состав размещаемой информации",null,null,"Частота обновления информации"]
[1,null,2,null,null,3]
["Размещение информации о деятельности образовательной организации на официальном сайте образовательной организации в сети \"Интернет\" и на информационном стенде приемной комиссии",null,"Состав размещаемой информации и правила размещения указаны в следующих документах: Приказ Рособрнадзора от 29.05.2014 № 785 \"Об утверждении требований к структуре официального сайта образовательной организации в информационно-телекоммуникационной сети \"Интернет\" и формату представления на нем информации\"; Постановление Правительства РФ от 10.07.2013 № 582 \"Об утверждении Правил размещения на официальном сайте образовательной организации в информационно-телекоммуникационной сети \"Интернет\" и обновления информации об образовательной организации\"; Письмо Минобрнауки России от 22.07.2013 № 09-889 \"О размещении на официальном сайте образовательной организации информации\"",null,null,"Не позднее 10 рабочих дней после изменения размещаемой информации\n"]

{"sheet":"Служ_КРС","index":6,"n_rows":1185,"n_cols":11,"rows_kept":1185,"cut":false,"hidden":true,"merged":[]}
["05.01.01 Гидрометнаблюдатель",null,"Основное общее образование",null,"Очная",null,{"$f":"I1&J1&K1","v":"05.01.01 ГидрометнаблюдательОсновное общее образованиеОчная"},"11Д57000201000101009100","05.01.01 Гидрометнаблюдатель","Основное общее образование","Очная"]
["08.01.01 Изготовитель арматурных сеток и каркасов",null,"Среднее общее образование",null,"Очно-заочная",null,{"$f":"I2&J2&K2","v":"05.01.01 ГидрометнаблюдательОсновное общее образованиеОчно-заочная"},"11Д57000201000109001100","05.01.01 Гидрометнаблюдатель","Основное общее образование","Очно-заочная"]
["08.01.02 Монтажник трубопроводов",null,null,null,null,null,"05.01.01 ГидрометнаблюдательСреднее общее образованиеОчная","11Д57000201000201008100","05.01.01 Гидрометнаблюдатель","Среднее общее образование","Очная"]
["08.01.03 Трубоклад",null,null,null,null,null,"05.01.01 ГидрометнаблюдательСреднее общее образованиеОчно-заочная","11Д57000201000209000100","05.01.01 Гидрометнаблюдатель","Среднее общее образование","Очно-заочная"]
["08.01.04 Кровельщик",null,null,null,null,null,"08.01.01 Изготовитель арматурных сеток и каркасовОсновное общее образованиеОчная","11Д57000401000101007100","08.01.01 Изготовитель арматурных сеток и каркасов","Основное общее образование","Очная"]
["08.01.05 Мастер столярно-плотничных и паркетных работ",null,null,null,null,null,"08.01.01 Изготовитель арматурных сеток и каркасовОсновное общее образованиеОчно-заочная","11Д57000401000109009100","08.01.01 Изготовитель арматурных сеток и каркасов","Основное общее образование","Очно-заочная"]
["08.01.06 Мастер сухого строительства",null,null,null,null,null,"08.01.01 Изготовитель арматурных сеток и каркасовСреднее общее образованиеОчная","11Д57000401000201006100","08.01.01 Изготовитель арматурных сеток и каркасов","Среднее общее образование","Очная"]
["08.01.07 Мастер общестроительных работ",null,null,null,null,null,"08.01.01 Изготовитель арматурных сеток и каркасовСреднее общее образованиеОчно-заочная","11Д57000401000209008100","08.01.01 Изготовитель арматурных сеток и каркасов","Среднее общее образование","Очно-заочная"]
["08.01.08 Мастер отделочных строительных работ",null,null,null,null,null,"08.01.02 Монтажник трубопроводовОсновное общее образованиеОчная","11Д57000501000101006100","08.01.02 Монтажник трубопроводов","Основное общее образование","Очная"]
["08.01.09 Слесарь по строительно-монтажным работам",null,null,null,null,null,"08.01.02 Монтажник трубопроводовОсновное общее образованиеОчно-заочная","11Д57000501000109008100","08.01.02 Монтажник трубопроводов","Основное общее образование","Очно-заочная"]
["08.01.10 Мастер жилищно-коммунального хозяйства",null,null,null,null,null,"08.01.02 Монтажник трубопроводовСреднее общее образованиеОчная","11Д57000501000201005100","08.01.02 Монтажник трубопроводов","Среднее общее образование","Очная"]
["08.01.11 Машинист машин и оборудования в производстве цемента",null,null,null,null,null,"08.01.02 Монтажник трубопроводовСреднее общее образованиеОчно-заочная","11Д57000501000209007100","08.01.02 Монтажник трубопроводов","Среднее общее образование","Очно-заочная"]
["08.01.12 Оператор технологического оборудования в производстве стеновых и вяжущих материалов",null,null,null,null,null,"08.01.03 ТрубокладОсновное общее образованиеОчная","11Д57000601000101005100","08.01.03 Трубоклад","Основное общее образование","Очная"]
["08.01.13 Изготовитель железобетонных изделий",null,null,null,null,null,"08.01.03 ТрубокладОсновное общее образованиеОчно-заочная","11Д57000601000109007100","08.01.03 Трубоклад","Основное общее образование","Очно-заочная"]
["08.01.14 Монтажник санитарно-технических, вентиляционных систем и оборудования",null,null,null,null,null,"08.01.03 ТрубокладСреднее общее образованиеОчная","11Д57000601000201004100","08.01.03 Трубоклад","Среднее общее образование","Очная"]
["08.01.15 Слесарь по изготовлению деталей и узлов технических систем в строительстве",null,null,null,null,null,"08.01.03 ТрубокладСреднее общее образованиеОчно-заочная","11Д57000601000209006100","08.01.03 Трубоклад","Среднее общее образование","Очно-заочная"]
["08.01.16 Электромонтажник по сигнализации, централизации и блокировке",null,null,null,null,null,"08.01.04 КровельщикОсновное общее образованиеОчная","11Д57000701000101004100","08.01.04 Кровельщик","Основное общее образование","Очная"]
["08.01.17 Электромонтажник-наладчик",null,null,null,null,null,"08.01.04 КровельщикОсновное общее образованиеОчно-заочная","11Д57000701000109006100","08.01.04 Кровельщик","Основное общее образование","Очно-заочная"]
["08.01.18 Электромонтажник электрических сетей и электрооборудования",null,null,null,null,null,"08.01.04 КровельщикСреднее общее образованиеОчная","11Д57000701000201003100","08.01.04 Кровельщик","Среднее общее образование","Очная"]
["08.01.19 Электромонтажник по силовым сетям и электрооборудованию",null,null,null,null,null,"08.01.04 КровельщикСреднее общее образованиеОчно-заочная","11Д57000701000209005100","08.01.04 Кровельщик","Среднее общее образование","Очно-заочная"]
["08.01.20 Электромонтажник по электрическим машинам",null,null,null,null,null,"08.01.05 Мастер столярно-плотничных и паркетных работОсновное общее образованиеОчная","11Д57000801000101003100","08.01.05 Мастер столярно-плотничных и паркетных работ","Основное общее образование","Очная"]
["08.01.21 Монтажник электрических подъемников (лифтов)",null,null,null,null,null,"08.01.05 Мастер столярно-плотничных и паркетных работОсновное общее образованиеОчно-заочная","11Д57000801000109005100","08.01.05 Мастер столярно-плотничных и паркетных работ","Основное общее образование","Очно-заочная"]
["08.01.22 Мастер путевых машин",null,null,null,null,null,"08.01.05 Мастер столярно-плотничных и паркетных работСреднее общее образованиеОчная","11Д57000801000201002100","08.01.05 Мастер столярно-плотничных и паркетных работ","Среднее общее образование","Очная"]
["08.01.23 Бригадир-путеец",null,null,null,null,null,"08.01.05 Мастер столярно-плотничных и паркетных работСреднее общее образованиеОчно-заочная","11Д57000801000209004100","08.01.05 Мастер столярно-плотничных и паркетных работ","Среднее общее образование","Очно-заочная"]
["08.01.25 Мастер отделочных строительных и декоративных работ",null,null,null,null,null,"08.01.06 Мастер сухого строительстваОсновное общее образованиеОчная","11Д57000901000101002100","08.01.06 Мастер сухого строительства","Основное общее образование","Очная"]
["09.01.01 Наладчик аппаратного и программного обеспечения",null,null,null,null,null,"08.01.06 Мастер сухого строительстваОсновное общее образованиеОчно-заочная","11Д57000901000109004100","08.01.06 Мастер сухого строительства","Основное общее образование","Очно-заочная"]
["09.01.02 Наладчик компьютерных сетей",null,null,null,null,null,"08.01.06 Мастер сухого строительстваСреднее общее образованиеОчная","11Д57000901000201001100","08.01.06 Мастер сухого строительства","Среднее общее образование","Очная"]
["09.01.03 Мастер по обработке цифровой информации",null,null,null,null,null,"08.01.06 Мастер сухого строительстваСреднее общее образованиеОчно-заочная","11Д57000901000209003100","08.01.06 Мастер сухого строительства","Среднее общее образование","Очно-заочная"]
["11.01.01 Монтажник радиоэлектронной аппаратуры и приборов",null,null,null,null,null,"08.01.07 Мастер общестроительных работОсновное общее образованиеОчная","11Д57001001000101009100","08.01.07 Мастер общестроительных работ","Основное общее образование","Очная"]
["11.01.02 Радиомеханик",null,null,null,null,null,"08.01.07 Мастер общестроительных работОсновное общее образованиеОчно-заочная","11Д57001001000109001100","08.01.07 Мастер общестроительных работ","Основное общее образование","Очно-заочная"]
["11.01.03 Радиооператор",null,null,null,null,null,"08.01.07 Мастер общестроительных работСреднее общее образованиеОчная","11Д57001001000201008100","08.01.07 Мастер общестроительных работ","Среднее общее образование","Очная"]
["11.01.04 Монтажник оборудования радио- и телефонной связи",null,null,null,null,null,"08.01.07 Мастер общестроительных работСреднее общее образованиеОчно-заочная","11Д57001001000209000100","08.01.07 Мастер общестроительных работ","Среднее общее образование","Очно-заочная"]
["11.01.05 Монтажник связи",null,null,null,null,null,"08.01.08 Мастер отделочных строительных работОсновное общее образованиеОчная","11Д57001101000101008100","08.01.08 Мастер отделочных строительных работ","Основное общее образование","Очная"]
["11.01.06 Электромонтер оборудования электросвязи и проводного вещания",null,null,null,null,null,"08.01.08 Мастер отделочных строительных работОсновное общее образованиеОчно-заочная","11Д57001101000109000100","08.01.08 Мастер отделочных строительных работ","Основное общее образование","Очно-заочная"]
["11.01.07 Электромонтер по ремонту линейно-кабельных сооружений телефонной связи и проводного вещания",null,null,null,null,null,"08.01.08 Мастер отделочных строительных работСреднее общее образованиеОчная","11Д57001101000201007100","08.01.08 Мастер отделочных строительных работ","Среднее общее образование","Очная"]
["11.01.08 Оператор связи",null,null,null,null,null,"08.01.08 Мастер отделочных строительных работСреднее общее образованиеОчно-заочная","11Д57001101000209009100","08.01.08 Мастер отделочных строительных работ","Среднее общее образование","Очно-заочная"]
["11.01.09 Оператор микроэлектронного производства",null,null,null,null,null,"08.01.09 Слесарь по строительно-монтажным работамОсновное общее образованиеОчная","11Д57001201000101007100","08.01.09 Слесарь по строительно-монтажным работам","Основное общее образование","Очная"]
["11.01.10 Оператор оборудования элионных процессов",null,null,null,null,null,"08.01.09 Слесарь по строительно-монтажным работамОсновное общее образованиеОчно-заочная","11Д57001201000109009100","08.01.09 Слесарь по строительно-монтажным работам","Основное общее образование","Очно-заочная"]
["11.01.11 Наладчик технологического оборудования (электронная техника)",null,null,null,null,null,"08.01.09 Слесарь по строительно-монтажным работамСреднее общее образованиеОчная","11Д57001201000201006100","08.01.09 Слесарь по строительно-монтажным работам","Среднее общее образование","Очная"]
["11.01.12 Сборщик изделий электронной техники",null,null,null,null,null,"08.01.09 Слесарь по строительно-монтажным работамСреднее общее образованиеОчно-заочная","11Д57001201000209008100","08.01.09 Слесарь по строительно-монтажным работам","Среднее общее образование","Очно-заочная"]
["11.01.13 Сборщик приборов вакуумной электроники",null,null,null,null,null,"08.01.10 Мастер жилищно-коммунального хозяйстваОсновное общее образованиеОчная","11Д57001301000101006100","08.01.10 Мастер жилищно-коммунального хозяйства","Основное общее образование","Очная"]
["12.01.01 Наладчик оборудования оптического производства",null,null,null,null,null,"08.01.10 Мастер жилищно-коммунального хозяйстваОсновное общее образованиеОчно-заочная","11Д57001301000109008100","08.01.10 Мастер жилищно-коммунального хозяйства","Основное общее образование","Очно-заочная"]
["12.01.02 Оптик-механик",null,null,null,null,null,"08.01.10 Мастер жилищно-коммунального хозяйстваСреднее общее образованиеОчная","11Д57001301000201005100","08.01.10 Мастер жилищно-коммунального хозяйства","Среднее общее образование","Очная"]
["12.01.03 Сборщик очков",null,null,null,null,null,"08.01.10 Мастер жилищно-коммунального хозяйстваСреднее общее образованиеОчно-заочная","11Д57001301000209007100","08.01.10 Мастер жилищно-коммунального хозяйства","Среднее общее образование","Очно-заочная"]
["12.01.04 Электромеханик по ремонту и обслуживанию наркозно-дыхательной аппаратуры",null,null,null,null,null,"08.01.11 Машинист машин и оборудования в производстве цементаОсновное общее образованиеОчная","11Д57001401000101005100","08.01.11 Машинист машин и оборудования в производстве цемента","Основное общее образование","Очная"]
["12.01.05 Электромеханик по ремонту и обслуживанию медицинского оборудования",null,null,null,null,null,"08.01.11 Машинист машин и оборудования в производстве цементаОсновное общее образованиеОчно-заочная","11Д57001401000109007100","08.01.11 Машинист машин и оборудования в производстве цемента","Основное общее образование","Очно-заочная"]
["12.01.06 Электромеханик по ремонту и обслуживанию медицинских оптических приборов",null,null,null,null,null,"08.01.11 Машинист машин и оборудования в производстве цементаСреднее общее образованиеОчная","11Д57001401000201004100","08.01.11 Машинист машин и оборудования в производстве цемента","Среднее общее образование","Очная"]
["12.01.07 Электромеханик по ремонту и обслуживанию электронной медицинской аппаратуры",null,null,null,null,null,"08.01.11 Машинист машин и оборудования в производстве цементаСреднее общее образованиеОчно-заочная","11Д57001401000209006100","08.01.11 Машинист машин и оборудования в производстве цемента","Среднее общее образование","Очно-заочная"]
["12.01.08 Механик протезно-ортопедических изделий",null,null,null,null,null,"08.01.12 Оператор технологического оборудования в производстве стеновых и вяжущих материаловОсновное общее образованиеОчная","11Д57001501000101004100","08.01.12 Оператор технологического оборудования в производстве стеновых и вяжущих материалов","Основное общее образование","Очная"]
["13.01.01 Машинист котлов",null,null,null,null,null,"08.01.12 Оператор технологического оборудования в производстве стеновых и вяжущих материаловОсновное общее образованиеОчно-заочная","11Д57001501000109006100","08.01.12 Оператор технологического оборудования в производстве стеновых и вяжущих материалов","Основное общее образование","Очно-заочная"]
["13.01.02 Машинист паровых турбин",null,null,null,null,null,"08.01.12 Оператор технологического оборудования в производстве стеновых и вяжущих материаловСреднее общее образованиеОчная","11Д57001501000201003100","08.01.12 Оператор технологического оборудования в производстве стеновых и вяжущих материалов","Среднее общее образование","Очная"]
["13.01.03 Электрослесарь по ремонту оборудования электростанций",null,null,null,null,null,"08.01.12 Оператор технологического оборудования в производстве стеновых и вяжущих материаловСреднее общее образованиеОчно-заочная","11Д57001501000209005100","08.01.12 Оператор технологического оборудования в производстве стеновых и вяжущих материалов","Среднее общее образование","Очно-заочная"]
["13.01.04 Слесарь по ремонту оборудования электростанций",null,null,null,null,null,"08.01.13 Изготовитель железобетонных изделийОсновное общее образованиеОчная","11Д57001601000101003100","08.01.13 Изготовитель железобетонных изделий","Основное общее образование","Очная"]
["13.01.05 Электромонтер по техническому обслуживанию электростанций и сетей",null,null,null,null,null,"08.01.13 Изготовитель железобетонных изделийОсновное общее образованиеОчно-заочная","11Д57001601000109005100","08.01.13 Изготовитель железобетонных изделий","Основное общее образование","Очно-заочная"]
["13.01.06 Электромонтер-линейщик по монтажу воздушных линий высокого напряжения и контактной сети",null,null,null,null,null,"08.01.13 Изготовитель железобетонных изделийСреднее общее образованиеОчная","11Д57001601000201002100","08.01.13 Изготовитель железобетонных изделий","Среднее общее образование","Очная"]
["13.01.07 Электромонтер по ремонту электросетей",null,null,null,null,null,"08.01.13 Изготовитель железобетонных изделийСреднее общее образованиеОчно-заочная","11Д57001601000209004100","08.01.13 Изготовитель железобетонных изделий","Среднее общее образование","Очно-заочная"]
["13.01.08 Сборщик трансформаторов",null,null,null,null,null,"08.01.14 Монтажник санитарно-технических, вентиляционных систем и оборудованияОсновное общее образованиеОчная","11Д57001701000101002100","08.01.14 Монтажник санитарно-технических, вентиляционных систем и оборудования","Основное общее образование","Очная"]
["13.01.09 Сборщик электрических машин и аппаратов",null,null,null,null,null,"08.01.14 Монтажник санитарно-технических, вентиляционных систем и оборудованияОсновное общее образованиеОчно-заочная","11Д57001701000109004100","08.01.14 Монтажник санитарно-технических, вентиляционных систем и оборудования","Основное общее образование","Очно-заочная"]
["13.01.10 Электромонтер по ремонту и обслуживанию электрооборудования (по отраслям)",null,null,null,null,null,"08.01.14 Монтажник санитарно-технических, вентиляционных систем и оборудованияСреднее общее образованиеОчная","11Д57001701000201001100","08.01.14 Монтажник санитарно-технических, вентиляционных систем и оборудования","Среднее общее образование","Очная"]
["13.01.11 Электромеханик по испытанию и ремонту электрооборудования летательных аппаратов",null,null,null,null,null,"08.01.14 Монтажник санитарно-технических, вентиляционных систем и оборудованияСреднее общее образованиеОчно-заочная","11Д57001701000209003100","08.01.14 Монтажник санитарно-технических, вентиляционных систем и оборудования","Среднее общее образование","Очно-заочная"]
["13.01.12 Сборщик электроизмерительных приборов",null,null,null,null,null,"08.01.15 Слесарь по изготовлению деталей и узлов технических систем в строительствеОсновное общее образованиеОчная","11Д57001801000101001100","08.01.15 Слесарь по изготовлению деталей и узлов технических систем в строительстве","Основное общее образование","Очная"]
["13.01.13 Электромонтажник-схемщик",null,null,null,null,null,"08.01.15 Слесарь по изготовлению деталей и узлов технических систем в строительствеОсновное общее образованиеОчно-заочная","11Д57001801000109003100","08.01.15 Слесарь по изготовлению деталей и узлов технических систем в строительстве","Основное общее образование","Очно-заочная"]
["13.01.14 Электромеханик по лифтам",null,null,null,null,null,"08.01.15 Слесарь по изготовлению деталей и узлов технических систем в строительствеСреднее общее образованиеОчная","11Д57001801000201000100","08.01.15 Слесарь по изготовлению деталей и узлов технических систем в строительстве","Среднее общее образование","Очная"]
["15.01.01 Оператор в производстве металлических изделий",null,null,null,null,null,"08.01.15 Слесарь по изготовлению деталей и узлов технических систем в строительствеСреднее общее образованиеОчно-заочная","11Д57001801000209002100","08.01.15 Слесарь по изготовлению деталей и узлов технических систем в строительстве","Среднее общее образование","Очно-заочная"]
["15.01.02 Наладчик холодноштамповочного оборудования",null,null,null,null,null,"08.01.16 Электромонтажник по сигнализации, централизации и блокировкеОсновное общее образованиеОчная","11Д57001901000101000100","08.01.16 Электромонтажник по сигнализации, централизации и блокировке","Основное общее образование","Очная"]
["15.01.03 Наладчик кузнечно-прессового оборудования",null,null,null,null,null,{"$f":"I66&J66&K66","v":"08.01.16 Электромонтажник по сигнализации, централизации и блокировкеОсновное общее образованиеОчно-заочная"},"11Д57001901000109002100","08.01.16 Электромонтажник по сигнализации, централизации и блокировке","Основное общее образование","Очно-заочная"]
["15.01.04 Наладчик сварочного и газоплазморезательного оборудования",null,null,null,null,null,"08.01.16 Электромонтажник по сигнализации, централизации и блокировкеСреднее общее образованиеОчная","11Д57001901000201009100","08.01.16 Электромонтажник по сигнализации, централизации и блокировке","Среднее общее образование","Очная"]
["15.01.05 Сварщик (ручной и частично механизированной сварки (наплавки)",null,null,null,null,null,"08.01.16 Электромонтажник по сигнализации, централизации и блокировкеСреднее общее образованиеОчно-заочная","11Д57001901000209001100","08.01.16 Электромонтажник по сигнализации, централизации и блокировке","Среднее общее образование","Очно-заочная"]
["15.01.06 Сварщик на лазерных установках",null,null,null,null,null,"08.01.17 Электромонтажник-наладчикОсновное общее образованиеОчная","11Д57002001000101007100","08.01.17 Электромонтажник-наладчик","Основное общее образование","Очная"]
["15.01.07 Сварщик на электронно-лучевых сварочных установках",null,null,null,null,null,"08.01.17 Электромонтажник-наладчикОсновное общее образованиеОчно-заочная","11Д57002001000109009100","08.01.17 Электромонтажник-наладчик","Основное общее образование","Очно-заочная"]
["15.01.08 Наладчик литейного оборудования",null,null,null,null,null,"08.01.17 Электромонтажник-наладчикСреднее общее образованиеОчная","11Д57002001000201006100","08.01.17 Электромонтажник-наладчик","Среднее общее образование","Очная"]
["15.01.09 Машинист лесозаготовительных и трелевочных машин",null,null,null,null,null,"08.01.17 Электромонтажник-наладчикСреднее общее образованиеОчно-заочная","11Д57002001000209008100","08.01.17 Электромонтажник-наладчик","Среднее общее образование","Очно-заочная"]
["15.01.10 Слесарь по ремонту лесозаготовительного оборудования",null,null,null,null,null,"08.01.18 Электромонтажник электрических сетей и электрооборудованияОсновное общее образованиеОчная","11Д57002101000101006100","08.01.18 Электромонтажник электрических сетей и электрооборудования","Основное общее образование","Очная"]
["15.01.11 Электромонтажник блоков электронно-механических часов",null,null,null,null,null,"08.01.18 Электромонтажник электрических сетей и электрооборудованияОсновное общее образованиеОчно-заочная","11Д57002101000109008100","08.01.18 Электромонтажник электрических сетей и электрооборудования","Основное общее образование","Очно-заочная"]
["15.01.12 Часовщик-ремонтник",null,null,null,null,null,"08.01.18 Электромонтажник электрических сетей и электрооборудованияСреднее общее образованиеОчная","11Д57002101000201005100","08.01.18 Электромонтажник электрических сетей и электрооборудования","Среднее общее образование","Очная"]
["15.01.13 Монтажник технологического оборудования (по видам оборудования)",null,null,null,null,null,"08.01.18 Электромонтажник электрических сетей и электрооборудованияСреднее общее образованиеОчно-заочная","11Д57002101000209007100","08.01.18 Электромонтажник электрических сетей и электрооборудования","Среднее общее образование","Очно-заочная"]
["15.01.14 Наладчик оборудования в бумажном производстве",null,null,null,null,null,"08.01.19 Электромонтажник по силовым сетям и электрооборудованиюОсновное общее образованиеОчная","11Д57002201000101005100","08.01.19 Электромонтажник по силовым сетям и электрооборудованию","Основное общее образование","Очная"]
["15.01.15 Наладчик деревообрабатывающего оборудования",null,null,null,null,null,"08.01.19 Электромонтажник по силовым сетям и электрооборудованиюОсновное общее образованиеОчно-заочная","11Д57002201000109007100","08.01.19 Электромонтажник по силовым сетям и электрооборудованию","Основное общее образование","Очно-заочная"]
["15.01.16 Наладчик технологического оборудования в производстве строительных материалов",null,null,null,null,null,"08.01.19 Электромонтажник по силовым сетям и электрооборудованиюСреднее общее образованиеОчная","11Д57002201000201004100","08.01.19 Электромонтажник по силовым сетям и электрооборудованию","Среднее общее образование","Очная"]
["15.01.17 Электромеханик по торговому и холодильному оборудованию",null,null,null,null,null,"08.01.19 Электромонтажник по силовым сетям и электрооборудованиюСреднее общее образованиеОчно-заочная","11Д57002201000209006100","08.01.19 Электромонтажник по силовым сетям и электрооборудованию","Среднее общее образование","Очно-заочная"]
["15.01.18 Машинист холодильных установок",null,null,null,null,null,"08.01.20 Электромонтажник по электрическим машинамОсновное общее образованиеОчная","11Д57002301000101004100","08.01.20 Электромонтажник по электрическим машинам","Основное общее образование","Очная"]
["15.01.19 Наладчик контрольно-измерительных приборов и автоматики",null,null,null,null,null,"08.01.20 Электромонтажник по электрическим машинамОсновное общее образованиеОчно-заочная","11Д57002301000109006100","08.01.20 Электромонтажник по электрическим машинам","Основное общее образование","Очно-заочная"]
["15.01.20 Слесарь по контрольно-измерительным приборам и автоматике",null,null,null,null,null,"08.01.20 Электромонтажник по электрическим машинамСреднее общее образованиеОчная","11Д57002301000201003100","08.01.20 Электромонтажник по электрическим машинам","Среднее общее образование","Очная"]
["15.01.21 Электромонтер охранно-пожарной сигнализации",null,null,null,null,null,"08.01.20 Электромонтажник по электрическим машинамСреднее общее образованиеОчно-заочная","11Д57002301000209005100","08.01.20 Электромонтажник по электрическим машинам","Среднее общее образование","Очно-заочная"]
["15.01.22 Чертежник-конструктор",null,null,null,null,null,"08.01.21 Монтажник электрических подъемников (лифтов)Основное общее образованиеОчная","11Д57002401000101003100","08.01.21 Монтажник электрических подъемников (лифтов)","Основное общее образование","Очная"]
["15.01.23 Наладчик станков и оборудования в механообработке",null,null,null,null,null,"08.01.21 Монтажник электрических подъемников (лифтов)Основное общее образованиеОчно-заочная","11Д57002401000109005100","08.01.21 Монтажник электрических подъемников (лифтов)","Основное общее образование","Очно-заочная"]
["15.01.24 Наладчик шлифовальных станков",null,null,null,null,null,"08.01.21 Монтажник электрических подъемников (лифтов)Среднее общее образованиеОчная","11Д57002401000201002100","08.01.21 Монтажник электрических подъемников (лифтов)","Среднее общее образование","Очная"]
["15.01.25 Станочник (металлообработка)",null,null,null,null,null,"08.01.21 Монтажник электрических подъемников (лифтов)Среднее общее образованиеОчно-заочная","11Д57002401000209004100","08.01.21 Монтажник электрических подъемников (лифтов)","Среднее общее образование","Очно-заочная"]
["15.01.26 Токарь-универсал",null,null,null,null,null,"08.01.22 Мастер путевых машинОсновное общее образованиеОчная","11Д57002501000101002100","08.01.22 Мастер путевых машин","Основное общее образование","Очная"]
["15.01.27 Фрезеровщик-универсал",null,null,null,null,null,"08.01.22 Мастер путевых машинОсновное общее образованиеОчно-заочная","11Д57002501000109004100","08.01.22 Мастер путевых машин","Основное общее образование","Очно-заочная"]
["15.01.28 Шлифовщик-универсал",null,null,null,null,null,"08.01.22 Мастер путевых машинСреднее общее образованиеОчная","11Д57002501000201001100","08.01.22 Мастер путевых машин","Среднее общее образование","Очная"]
["15.01.29 Контролер станочных и слесарных работ",null,null,null,null,null,"08.01.22 Мастер путевых машинСреднее общее образованиеОчно-заочная","11Д57002501000209003100","08.01.22 Мастер путевых машин","Среднее общее образование","Очно-заочная"]
["15.01.30 Слесарь",null,null,null,null,null,"08.01.23 Бригадир-путеецОсновное общее образованиеОчная","11Д57002601000101001100","08.01.23 Бригадир-путеец","Основное общее образование","Очная"]
["15.01.32 Оператор станков с программным управлением",null,null,null,null,null,"08.01.23 Бригадир-путеецОсновное общее образованиеОчно-заочная","11Д57002601000109003100","08.01.23 Бригадир-путеец","Основное общее образование","Очно-заочная"]
["18.01.01 Лаборант по физико-механическим испытаниям",null,null,null,null,null,"08.01.23 Бригадир-путеецСреднее общее образованиеОчная","11Д57002601000201000100","08.01.23 Бригадир-путеец","Среднее общее образование","Очная"]
["18.01.02 Лаборант-эколог",null,null,null,null,null,"08.01.23 Бригадир-путеецСреднее общее образованиеОчно-заочная","11Д57002601000209002100","08.01.23 Бригадир-путеец","Среднее общее образование","Очно-заочная"]
["18.01.03 Аппаратчик-оператор экологических установок",null,null,null,null,null,"09.01.01 Наладчик аппаратного и программного обеспеченияОсновное общее образованиеОчная","11Д57002801000101009100","09.01.01 Наладчик аппаратного и программного обеспечения","Основное общее образование","Очная"]
["18.01.04 Изготовитель изделий строительной керамики",null,null,null,null,null,"09.01.01 Наладчик аппаратного и программного обеспеченияОсновное общее образованиеОчно-заочная","11Д57002801000109001100","09.01.01 Наладчик аппаратного и программного обеспечения","Основное общее образование","Очно-заочная"]
["18.01.05 Аппаратчик-оператор производства неорганических веществ",null,null,null,null,null,"09.01.01 Наладчик аппаратного и программного обеспеченияСреднее общее образованиеОчная","11Д57002801000201008100","09.01.01 Наладчик аппаратного и программного обеспечения","Среднее общее образование","Очная"]
["18.01.06 Оператор производства стекловолокна, стекловолокнистых материалов и изделий стеклопластиков",null,null,null,null,null,"09.01.01 Наладчик аппаратного и программного обеспеченияСреднее общее образованиеОчно-заочная","11Д57002801000209000100","09.01.01 Наладчик аппаратного и программного обеспечения","Среднее общее образование","Очно-заочная"]
["18.01.07 Аппаратчик производства стекловолокнистых материалов и стеклопластиков",null,null,null,null,null,"09.01.02 Наладчик компьютерных сетейОсновное общее образованиеОчная","11Д57002901000101008100","09.01.02 Наладчик компьютерных сетей","Основное общее образование","Очная"]
["18.01.08 Мастер-изготовитель деталей и изделий из стекла",null,null,null,null,null,"09.01.02 Наладчик компьютерных сетейОсновное общее образованиеОчно-заочная","11Д57002901000109000100","09.01.02 Наладчик компьютерных сетей","Основное общее образование","Очно-заочная"]
["18.01.09 Мастер-обработчик стекла и стеклоизделий",null,null,null,null,null,"09.01.02 Наладчик компьютерных сетейСреднее общее образованиеОчная","11Д57002901000201007100","09.01.02 Наладчик компьютерных сетей","Среднее общее образование","Очная"]
["18.01.10 Отдельщик и резчик стекла",null,null,null,null,null,"09.01.02 Наладчик компьютерных сетейСреднее общее образованиеОчно-заочная","11Д57002901000209009100","09.01.02 Наладчик компьютерных сетей","Среднее общее образование","Очно-заочная"]
["18.01.11 Контролер стекольного производства",null,null,null,null,null,"09.01.03 Мастер по обработке цифровой информацииОсновное общее образованиеОчная","11Д57003001000101005100","09.01.03 Мастер по обработке цифровой информации","Основное общее образование","Очная"]
["18.01.12 Изготовитель фарфоровых и фаянсовых изделий",null,null,null,null,null,"09.01.03 Мастер по обработке цифровой информацииОсновное общее образованиеОчно-заочная","11Д57003001000109007100","09.01.03 Мастер по обработке цифровой информации","Основное общее образование","Очно-заочная"]
["18.01.13 Отделочник и комплектовщик фарфоровых и фаянсовых изделий",null,null,null,null,null,"09.01.03 Мастер по обработке цифровой информацииСреднее общее образованиеОчная","11Д57003001000201004100","09.01.03 Мастер по обработке цифровой информации","Среднее общее образование","Очная"]
["18.01.14 Контролер-приемщик фарфоровых, фаянсовых и керамических изделий",null,null,null,null,null,"09.01.03 Мастер по обработке цифровой информацииСреднее общее образованиеОчно-заочная","11Д57003001000209006100","09.01.03 Мастер по обработке цифровой информации","Среднее общее образование","Очно-заочная"]
["18.01.15 Изготовитель эмалированной посуды",null,null,null,null,null,"11.01.01 Монтажник радиоэлектронной аппаратуры и приборовОсновное общее образованиеОчная","11Д57003201000101003100","11.01.01 Монтажник радиоэлектронной аппаратуры и приборов","Основное общее образование","Очная"]
["18.01.16 Аппаратчик в производстве химических волокон",null,null,null,null,null,"11.01.01 Монтажник радиоэлектронной аппаратуры и приборовОсновное общее образованиеОчно-заочная","11Д57003201000109005100","11.01.01 Монтажник радиоэлектронной аппаратуры и приборов","Основное общее образование","Очно-заочная"]
["18.01.17 Оператор в производстве химических волокон",null,null,null,null,null,"11.01.01 Монтажник радиоэлектронной аппаратуры и приборовСреднее общее образованиеОчная","11Д57003201000201002100","11.01.01 Монтажник радиоэлектронной аппаратуры и приборов","Среднее общее образование","Очная"]
["18.01.18 Аппаратчик производства синтетических смол и пластических масс",null,null,null,null,null,"11.01.01 Монтажник радиоэлектронной аппаратуры и приборовСреднее общее образованиеОчно-заочная","11Д57003201000209004100","11.01.01 Монтажник радиоэлектронной аппаратуры и приборов","Среднее общее образование","Очно-заочная"]
["18.01.19 Машинист-оператор в производстве изделий из пластмасс",null,null,null,null,null,"11.01.02 РадиомеханикОсновное общее образованиеОчная","11Д57003301000101002100","11.01.02 Радиомеханик","Основное общее образование","Очная"]
["18.01.20 Прессовщик изделий из пластмасс",null,null,null,null,null,"11.01.02 РадиомеханикОсновное общее образованиеОчно-заочная","11Д57003301000109004100","11.01.02 Радиомеханик","Основное общее образование","Очно-заочная"]
["18.01.21 Машинист-аппаратчик подготовительных процессов в производстве резиновых смесей, резиновых технических изделий и шин",null,null,null,null,null,"11.01.02 РадиомеханикСреднее общее образованиеОчная","11Д57003301000201001100","11.01.02 Радиомеханик","Среднее общее образование","Очная"]
["18.01.22 Оператор в производстве шин",null,null,null,null,null,"11.01.02 РадиомеханикСреднее общее образованиеОчно-заочная","11Д57003301000209003100","11.01.02 Радиомеханик","Среднее общее образование","Очно-заочная"]
["18.01.23 Оператор процессов вулканизации",null,null,null,null,null,"11.01.03 РадиооператорОсновное общее образованиеОчная","11Д57003401000101001100","11.01.03 Радиооператор","Основное общее образование","Очная"]
["18.01.24 Мастер шиномонтажной мастерской",null,null,null,null,null,"11.01.03 РадиооператорОсновное общее образованиеОчно-заочная","11Д57003401000109003100","11.01.03 Радиооператор","Основное общее образование","Очно-заочная"]
["18.01.25 Оператор в производстве резиновых технических изделий и обуви",null,null,null,null,null,"11.01.03 РадиооператорСреднее общее образованиеОчная","11Д57003401000201000100","11.01.03 Радиооператор","Среднее общее образование","Очная"]
["18.01.26 Аппаратчик-оператор нефтехимического производства",null,null,null,null,null,"11.01.03 РадиооператорСреднее общее образованиеОчно-заочная","11Д57003401000209002100","11.01.03 Радиооператор","Среднее общее образование","Очно-заочная"]
["18.01.27 Машинист технологических насосов и компрессоров",null,null,null,null,null,"11.01.04 Монтажник оборудования радио- и телефонной связиОсновное общее образованиеОчная","11Д57003501000101000100","11.01.04 Монтажник оборудования радио- и телефонной связи","Основное общее образование","Очная"]
["18.01.28 Оператор нефтепереработки",null,null,null,null,null,"11.01.04 Монтажник оборудования радио- и телефонной связиОсновное общее образованиеОчно-заочная","11Д57003501000109002100","11.01.04 Монтажник оборудования радио- и телефонной связи","Основное общее образование","Очно-заочная"]
["18.01.29 Мастер по обслуживанию магистральных трубопроводов",null,null,null,null,null,"11.01.04 Монтажник оборудования радио- и телефонной связиСреднее общее образованиеОчная","11Д57003501000201009100","11.01.04 Монтажник оборудования радио- и телефонной связи","Среднее общее образование","Очная"]
["18.01.30 Аппаратчик-оператор коксохимического производства",null,null,null,null,null,"11.01.04 Монтажник оборудования радио- и телефонной связиСреднее общее образованиеОчно-заочная","11Д57003501000209001100","11.01.04 Монтажник оборудования радио- и телефонной связи","Среднее общее образование","Очно-заочная"]
["18.01.31 Машинист машин коксохимического производства",null,null,null,null,null,"11.01.05 Монтажник связиОсновное общее образованиеОчная","11Д57003601000101009100","11.01.05 Монтажник связи","Основное общее образование","Очная"]
["18.01.32 Аппаратчик-оператор азотных производств и продуктов органического синтеза",null,null,null,null,null,"11.01.05 Монтажник связиОсновное общее образованиеОчно-заочная","11Д57003601000109001100","11.01.05 Монтажник связи","Основное общее образование","Очно-заочная"]
["18.01.33 Лаборант по контролю качества сырья, реактивов, промежуточных продуктов, готовой продукции, отходов производства (по отраслям)",null,null,null,null,null,null,null,"18.01.33 Лаборант по контролю качества сырья, реактивов, промежуточных продуктов, готовой продукции, отходов производства (по отраслям)","Основное общее образование","Очная"]
["19.01.01 Аппаратчик-оператор в биотехнологии",null,null,null,null,null,"11.01.05 Монтажник связиСреднее общее образованиеОчная","11Д57003601000201008100","11.01.05 Монтажник связи","Среднее общее образование","Очная"]
["19.01.02 Лаборант-аналитик",null,null,null,null,null,"11.01.05 Монтажник связиСреднее общее образованиеОчно-заочная","11Д57003601000209000100","11.01.05 Монтажник связи","Среднее общее образование","Очно-заочная"]
["19.01.03 Аппаратчик элеваторного, мукомольного, крупяного и комбикормового производства",null,null,null,null,null,"11.01.06 Электромонтер оборудования электросвязи и проводного вещанияОсновное общее образованиеОчная","11Д57003701000101008100","11.01.06 Электромонтер оборудования электросвязи и проводного вещания","Основное общее образование","Очная"]
["19.01.04 Пекарь",null,null,null,null,null,{"$f":"I131&J131&K131","v":"11.01.06 Электромонтер оборудования электросвязи и проводного вещанияОсновное общее образованиеОчно-заочная"},"11Д57003701000109000100","11.01.06 Электромонтер оборудования электросвязи и проводного вещания","Основное общее образование","Очно-заочная"]
["19.01.05 Оператор поточно-автоматической линии (макаронное производство)",null,null,null,null,null,"11.01.06 Электромонтер оборудования электросвязи и проводного вещанияСреднее общее образованиеОчная","11Д57003701000201007100","11.01.06 Электромонтер оборудования электросвязи и проводного вещания","Среднее общее образование","Очная"]
["19.01.06 Аппаратчик производства сахара",null,null,null,null,null,"11.01.06 Электромонтер оборудования электросвязи и проводного вещанияСреднее общее образованиеОчно-заочная","11Д57003701000209009100","11.01.06 Электромонтер оборудования электросвязи и проводного вещания","Среднее общее образование","Очно-заочная"]
["19.01.07 Кондитер сахаристых изделий",null,null,null,null,null,"11.01.07 Электромонтер по ремонту линейно-кабельных сооружений телефонной связи и проводного вещанияОсновное общее образованиеОчная","11Д57003801000101007100","11.01.07 Электромонтер по ремонту линейно-кабельных сооружений телефонной связи и проводного вещания","Основное общее образование","Очная"]
["19.01.08 Пивовар",null,null,null,null,null,"11.01.07 Электромонтер по ремонту линейно-кабельных сооружений телефонной связи и проводного вещанияОсновное общее образованиеОчно-заочная","11Д57003801000109009100","11.01.07 Электромонтер по ремонту линейно-кабельных сооружений телефонной связи и проводного вещания","Основное общее образование","Очно-заочная"]
["19.01.09 Наладчик оборудования в производстве пищевой продукции (по отраслям производства)",null,null,null,null,null,"11.01.07 Электромонтер по ремонту линейно-кабельных сооружений телефонной связи и проводного вещанияСреднее общее образованиеОчная","11Д57003801000201006100","11.01.07 Электромонтер по ремонту линейно-кабельных сооружений телефонной связи и проводного вещания","Среднее общее образование","Очная"]
["19.01.10 Мастер производства молочной продукции",null,null,null,null,null,"11.01.07 Электромонтер по ремонту линейно-кабельных сооружений телефонной связи и проводного вещанияСреднее общее образованиеОчно-заочная","11Д57003801000209008100","11.01.07 Электромонтер по ремонту линейно-кабельных сооружений телефонной связи и проводного вещания","Среднее общее образование","Очно-заочная"]
["19.01.11 Изготовитель мороженого",null,null,null,null,null,"11.01.08 Оператор связиОсновное общее образованиеОчная","11Д57003901000101006100","11.01.08 Оператор связи","Основное общее образование","Очная"]
["19.01.12 Переработчик скота и мяса",null,null,null,null,null,"11.01.08 Оператор связиОсновное общее образованиеОчно-заочная","11Д57003901000109008100","11.01.08 Оператор связи","Основное общее образование","Очно-заочная"]
["19.01.13 Обработчик птицы и кроликов",null,null,null,null,null,"11.01.08 Оператор связиСреднее общее образованиеОчная","11Д57003901000201005100","11.01.08 Оператор связи","Среднее общее образование","Очная"]
["19.01.14 Оператор процессов колбасного производства",null,null,null,null,null,"11.01.08 Оператор связиСреднее общее образованиеОчно-заочная","11Д57003901000209007100","11.01.08 Оператор связи","Среднее общее образование","Очно-заочная"]
["19.01.15 Аппаратчик получения растительного масла",null,null,null,null,null,"11.01.09 Оператор микроэлектронного производстваОсновное общее образованиеОчная","11Д57004001000101003100","11.01.09 Оператор микроэлектронного производства","Основное общее образование","Очная"]
["19.01.16 Оператор линии производства маргарина",null,null,null,null,null,"11.01.09 Оператор микроэлектронного производстваОсновное общее образованиеОчно-заочная","11Д57004001000109005100","11.01.09 Оператор микроэлектронного производства","Основное общее образование","Очно-заочная"]
["19.01.17 Повар, кондитер",null,null,null,null,null,"11.01.09 Оператор микроэлектронного производстваСреднее общее образованиеОчная","11Д57004001000201002100","11.01.09 Оператор микроэлектронного производства","Среднее общее образование","Очная"]
["20.01.01 Пожарный",null,null,null,null,null,"11.01.09 Оператор микроэлектронного производстваСреднее общее образованиеОчно-заочная","11Д57004001000209004100","11.01.09 Оператор микроэлектронного производства","Среднее общее образование","Очно-заочная"]
["21.01.01 Оператор нефтяных и газовых скважин",null,null,null,null,null,"11.01.10 Оператор оборудования элионных процессовОсновное общее образованиеОчная","11Д57004101000101002100","11.01.10 Оператор оборудования элионных процессов","Основное общее образование","Очная"]
["21.01.02 Оператор по ремонту скважин",null,null,null,null,null,"11.01.10 Оператор оборудования элионных процессовОсновное общее образованиеОчно-заочная","11Д57004101000109004100","11.01.10 Оператор оборудования элионных процессов","Основное общее образование","Очно-заочная"]
["21.01.03 Бурильщик эксплуатационных и разведочных скважин",null,null,null,null,null,"11.01.10 Оператор оборудования элионных процессовСреднее общее образованиеОчная","11Д57004101000201001100","11.01.10 Оператор оборудования элионных процессов","Среднее общее образование","Очная"]
["21.01.04 Машинист на буровых установках",null,null,null,null,null,"11.01.10 Оператор оборудования элионных процессовСреднее общее образованиеОчно-заочная","11Д57004101000209003100","11.01.10 Оператор оборудования элионных процессов","Среднее общее образование","Очно-заочная"]
["21.01.05 Оператор (моторист) по цементажу скважин",null,null,null,null,null,"11.01.11 Наладчик технологического оборудования (электронная техника)Основное общее образованиеОчная","11Д57004201000101001100","11.01.11 Наладчик технологического оборудования (электронная техника)","Основное общее образование","Очная"]
["21.01.06 Вышкомонтажник (широкого профиля)",null,null,null,null,null,"11.01.11 Наладчик технологического оборудования (электронная техника)Основное общее образованиеОчно-заочная","11Д57004201000109003100","11.01.11 Наладчик технологического оборудования (электронная техника)","Основное общее образование","Очно-заочная"]
["21.01.07 Бурильщик морского бурения скважин",null,null,null,null,null,"11.01.11 Наладчик технологического оборудования (электронная техника)Среднее общее образованиеОчная","11Д57004201000201000100","11.01.11 Наладчик технологического оборудования (электронная техника)","Среднее общее образование","Очная"]
["21.01.08 Машинист на открытых горных работах",null,null,null,null,null,"11.01.11 Наладчик технологического оборудования (электронная техника)Среднее общее образованиеОчно-заочная","11Д57004201000209002100","11.01.11 Наладчик технологического оборудования (электронная техника)","Среднее общее образование","Очно-заочная"]
["21.01.09 Машинист машин по добыче и переработке торфа",null,null,null,null,null,"11.01.12 Сборщик изделий электронной техникиОсновное общее образованиеОчная","11Д57004301000101000100","11.01.12 Сборщик изделий электронной техники","Основное общее образование","Очная"]
["21.01.10 Ремонтник горного оборудования",null,null,null,null,null,"11.01.12 Сборщик изделий электронной техникиОсновное общее образованиеОчно-заочная","11Д57004301000109002100","11.01.12 Сборщик изделий электронной техники","Основное общее образование","Очно-заочная"]
["21.01.11 Горнорабочий на подземных работах",null,null,null,null,null,"11.01.12 Сборщик изделий электронной техникиСреднее общее образованиеОчная","11Д57004301000201009100","11.01.12 Сборщик изделий электронной техники","Среднее общее образование","Очная"]
["21.01.12 Машинист электровоза (на горных выработках)",null,null,null,null,null,"11.01.12 Сборщик изделий электронной техникиСреднее общее образованиеОчно-заочная","11Д57004301000209001100","11.01.12 Сборщик изделий электронной техники","Среднее общее образование","Очно-заочная"]
["21.01.13 Проходчик",null,null,null,null,null,"11.01.13 Сборщик приборов вакуумной электроникиОсновное общее образованиеОчная","11Д57004401000101009100","11.01.13 Сборщик приборов вакуумной электроники","Основное общее образование","Очная"]
["21.01.14 Горномонтажник подземный",null,null,null,null,null,"11.01.13 Сборщик приборов вакуумной электроникиОсновное общее образованиеОчно-заочная","11Д57004401000109001100","11.01.13 Сборщик приборов вакуумной электроники","Основное общее образование","Очно-заочная"]
["21.01.15 Электрослесарь подземный",null,null,null,null,null,"11.01.13 Сборщик приборов вакуумной электроникиСреднее общее образованиеОчная","11Д57004401000201008100","11.01.13 Сборщик приборов вакуумной электроники","Среднее общее образование","Очная"]
["21.01.16 Обогатитель полезных ископаемых",null,null,null,null,null,"11.01.13 Сборщик приборов вакуумной электроникиСреднее общее образованиеОчно-заочная","11Д57004401000209000100","11.01.13 Сборщик приборов вакуумной электроники","Среднее общее образование","Очно-заочная"]
["22.01.01 Доменщик",null,null,null,null,null,"12.01.01 Наладчик оборудования оптического производстваОсновное общее образованиеОчная","11Д57004601000101007100","12.01.01 Наладчик оборудования оптического производства","Основное общее образование","Очная"]
["22.01.02 Сталеплавильщик (по типам производства)",null,null,null,null,null,"12.01.01 Наладчик оборудования оптического производстваОсновное общее образованиеОчно-заочная","11Д57004601000109009100","12.01.01 Наладчик оборудования оптического производства","Основное общее образование","Очно-заочная"]
["22.01.03 Машинист крана металлургического производства",null,null,null,null,null,"12.01.01 Наладчик оборудования оптического производстваСреднее общее образованиеОчная","11Д57004601000201006100","12.01.01 Наладчик оборудования оптического производства","Среднее общее образование","Очная"]
["22.01.04 Контролер металлургического производства",null,null,null,null,null,"12.01.01 Наладчик оборудования оптического производстваСреднее общее образованиеОчно-заочная","11Д57004601000209008100","12.01.01 Наладчик оборудования оптического производства","Среднее общее образование","Очно-заочная"]
["22.01.05 Аппаратчик-оператор в производстве цветных металлов",null,null,null,null,null,"12.01.02 Оптик-механикОсновное общее образованиеОчная","11Д57004701000101006100","12.01.02 Оптик-механик","Основное общее образование","Очная"]
["22.01.06 Оператор-обработчик цветных металлов",null,null,null,null,null,"12.01.02 Оптик-механикОсновное общее образованиеОчно-заочная","11Д57004701000109008100","12.01.02 Оптик-механик","Основное общее образование","Очно-заочная"]
["22.01.07 Модельщик",null,null,null,null,null,"12.01.02 Оптик-механикСреднее общее образованиеОчная","11Д57004701000201005100","12.01.02 Оптик-механик","Среднее общее образование","Очная"]
["22.01.08 Оператор прокатного производства",null,null,null,null,null,"12.01.02 Оптик-механикСреднее общее образованиеОчно-заочная","11Д57004701000209007100","12.01.02 Оптик-механик","Среднее общее образование","Очно-заочная"]
["22.01.09 Оператор трубного производства",null,null,null,null,null,"12.01.03 Сборщик очковОсновное общее образованиеОчная","11Д57004801000101005100","12.01.03 Сборщик очков","Основное общее образование","Очная"]
["22.01.10 Оператор в производстве огнеупоров",null,null,null,null,null,"12.01.03 Сборщик очковОсновное общее образованиеОчно-заочная","11Д57004801000109007100","12.01.03 Сборщик очков","Основное общее образование","Очно-заочная"]
["23.01.01 Оператор транспортного терминала",null,null,null,null,null,"12.01.03 Сборщик очковСреднее общее образованиеОчная","11Д57004801000201004100","12.01.03 Сборщик очков","Среднее общее образование","Очная"]
["23.01.02 Докер-механизатор",null,null,null,null,null,"12.01.03 Сборщик очковСреднее общее образованиеОчно-заочная","11Д57004801000209006100","12.01.03 Сборщик очков","Среднее общее образование","Очно-заочная"]
["23.01.03 Автомеханик",null,null,null,null,null,"12.01.04 Электромеханик по ремонту и обслуживанию наркознодыхательной аппаратурыОсновное общее образованиеОчная","11Д57004901000101004100","12.01.04 Электромеханик по ремонту и обслуживанию наркознодыхательной аппаратуры","Основное общее образование","Очная"]
["23.01.04 Водитель городского электротранспорта",null,null,null,null,null,"12.01.04 Электромеханик по ремонту и обслуживанию наркознодыхательной аппаратурыОсновное общее образованиеОчно-заочная","11Д57004901000109006100","12.01.04 Электромеханик по ремонту и обслуживанию наркознодыхательной аппаратуры","Основное общее образование","Очно-заочная"]
["23.01.05 Слесарь по ремонту городского электротранспорта",null,null,null,null,null,"12.01.04 Электромеханик по ремонту и обслуживанию наркознодыхательной аппаратурыСреднее общее образованиеОчная","11Д57004901000201003100","12.01.04 Электромеханик по ремонту и обслуживанию наркознодыхательной аппаратуры","Среднее общее образование","Очная"]
["23.01.06 Машинист дорожных и строительных машин",null,null,null,null,null,"12.01.04 Электромеханик по ремонту и обслуживанию наркознодыхательной аппаратурыСреднее общее образованиеОчно-заочная","11Д57004901000209005100","12.01.04 Электромеханик по ремонту и обслуживанию наркознодыхательной аппаратуры","Среднее общее образование","Очно-заочная"]
["23.01.07 Машинист крана (крановщик)",null,null,null,null,null,"12.01.05 Электромеханик по ремонту и обслуживанию медицинского оборудованияОсновное общее образованиеОчная","11Д57005001000101000100","12.01.05 Электромеханик по ремонту и обслуживанию медицинского оборудования","Основное общее образование","Очная"]
["23.01.08 Слесарь по ремонту строительных машин",null,null,null,null,null,"12.01.05 Электромеханик по ремонту и обслуживанию медицинского оборудованияОсновное общее образованиеОчно-заочная","11Д57005001000109002100","12.01.05 Электромеханик по ремонту и обслуживанию медицинского оборудования","Основное общее образование","Очно-заочная"]
["23.01.09 Машинист локомотива",null,null,null,null,null,"12.01.05 Электромеханик по ремонту и обслуживанию медицинского оборудованияСреднее общее образованиеОчная","11Д57005001000201009100","12.01.05 Электромеханик по ремонту и обслуживанию медицинского оборудования","Среднее общее образование","Очная"]
["23.01.10 Слесарь по обслуживанию и ремонту подвижного состава",null,null,null,null,null,"12.01.05 Электромеханик по ремонту и обслуживанию медицинского оборудованияСреднее общее образованиеОчно-заочная","11Д57005001000209001100","12.01.05 Электромеханик по ремонту и обслуживанию медицинского оборудования","Среднее общее образование","Очно-заочная"]
["23.01.11 Слесарь-электрик по ремонту электрооборудования подвижного состава (электровозов, электропоездов)",null,null,null,null,null,"12.01.06 Электромеханик по ремонту и обслуживанию медицинских оптических приборовОсновное общее образованиеОчная","11Д57005101000101009100","12.01.06 Электромеханик по ремонту и обслуживанию медицинских оптических приборов","Основное общее образование","Очная"]
["23.01.12 Слесарь-электрик метрополитена",null,null,null,null,null,"12.01.06 Электромеханик по ремонту и обслуживанию медицинских оптических приборовОсновное общее образованиеОчно-заочная","11Д57005101000109001100","12.01.06 Электромеханик по ремонту и обслуживанию медицинских оптических приборов","Основное общее образование","Очно-заочная"]
["23.01.13 Электромонтер тяговой подстанции",null,null,null,null,null,"12.01.06 Электромеханик по ремонту и обслуживанию медицинских оптических приборовСреднее общее образованиеОчная","11Д57005101000201008100","12.01.06 Электромеханик по ремонту и обслуживанию медицинских оптических приборов","Среднее общее образование","Очная"]
["23.01.14 Электромонтер устройств сигнализации, централизации, блокировки (СЦБ)",null,null,null,null,null,"12.01.06 Электромеханик по ремонту и обслуживанию медицинских оптических приборовСреднее общее образованиеОчно-заочная","11Д57005101000209000100","12.01.06 Электромеханик по ремонту и обслуживанию медицинских оптических приборов","Среднее общее образование","Очно-заочная"]
["23.01.15 Оператор поста централизации",null,null,null,null,null,"12.01.07 Электромеханик по ремонту и обслуживанию электронной медицинской аппаратурыОсновное общее образованиеОчная","11Д57005201000101008100","12.01.07 Электромеханик по ремонту и обслуживанию электронной медицинской аппаратуры","Основное общее образование","Очная"]
["23.01.16 Составитель поездов",null,null,null,null,null,"12.01.07 Электромеханик по ремонту и обслуживанию электронной медицинской аппаратурыОсновное общее образованиеОчно-заочная","11Д57005201000109000100","12.01.07 Электромеханик по ремонту и обслуживанию электронной медицинской аппаратуры","Основное общее образование","Очно-заочная"]
["24.01.01 Слесарь-сборщик авиационной техники",null,null,null,null,null,"12.01.07 Электромеханик по ремонту и обслуживанию электронной медицинской аппаратурыСреднее общее образованиеОчная","11Д57005201000201007100","12.01.07 Электромеханик по ремонту и обслуживанию электронной медицинской аппаратуры","Среднее общее образование","Очная"]
["24.01.02 Электромонтажник авиационной техники",null,null,null,null,null,"12.01.07 Электромеханик по ремонту и обслуживанию электронной медицинской аппаратурыСреднее общее образованиеОчно-заочная","11Д57005201000209009100","12.01.07 Электромеханик по ремонту и обслуживанию электронной медицинской аппаратуры","Среднее общее образование","Очно-заочная"]
["24.01.03 Слесарь-механик авиационных приборов",null,null,null,null,null,"12.01.08 Механик протезно-ортопедических изделийОсновное общее образованиеОчная","11Д57005301000101007100","12.01.08 Механик протезно-ортопедических изделий","Основное общее образование","Очная"]
["24.01.04 Слесарь по ремонту авиационной техники",null,null,null,null,null,"12.01.08 Механик протезно-ортопедических изделийОсновное общее образованиеОчно-заочная","11Д57005301000109009100","12.01.08 Механик протезно-ортопедических изделий","Основное общее образование","Очно-заочная"]
["26.01.01 Судостроитель-судоремонтник металлических судов",null,null,null,null,null,"12.01.08 Механик протезно-ортопедических изделийСреднее общее образованиеОчная","11Д57005301000201006100","12.01.08 Механик протезно-ортопедических изделий","Среднее общее образование","Очная"]
["26.01.02 Судостроитель-судоремонтник неметаллических судов",null,null,null,null,null,"12.01.08 Механик протезно-ортопедических изделийСреднее общее образованиеОчно-заочная","11Д57005301000209008100","12.01.08 Механик протезно-ортопедических изделий","Среднее общее образование","Очно-заочная"]
["26.01.03 Слесарь-монтажник судовой",null,null,null,null,null,"13.01.01 Машинист котловОсновное общее образованиеОчная","11Д57005501000101005100","13.01.01 Машинист котлов","Основное общее образование","Очная"]
["26.01.04 Слесарь-механик судовой",null,null,null,null,null,{"$f":"I195&J195&K195","v":"13.01.01 Машинист котловОсновное общее образованиеОчно-заочная"},"11Д57005501000109007100","13.01.01 Машинист котлов","Основное общее образование","Очно-заочная"]
["26.01.05 Электрорадиомонтажник судовой",null,null,null,null,null,"13.01.01 Машинист котловСреднее общее образованиеОчная","11Д57005501000201004100","13.01.01 Машинист котлов","Среднее общее образование","Очная"]
["26.01.06 Судоводитель-помощник механика маломерного судна",null,null,null,null,null,"13.01.01 Машинист котловСреднее общее образованиеОчно-заочная","11Д57005501000209006100","13.01.01 Машинист котлов","Среднее общее образование","Очно-заочная"]
["26.01.07 Матрос",null,null,null,null,null,"13.01.02 Машинист паровых турбинОсновное общее образованиеОчная","11Д57005601000101004100","13.01.02 Машинист паровых турбин","Основное общее образование","Очная"]
["26.01.08 Моторист (машинист)",null,null,null,null,null,"13.01.02 Машинист паровых турбинОсновное общее образованиеОчно-заочная","11Д57005601000109006100","13.01.02 Машинист паровых турбин","Основное общее образование","Очно-заочная"]
["26.01.09 Моторист судовой",null,null,null,null,null,"13.01.02 Машинист паровых турбинСреднее общее образованиеОчная","11Д57005601000201003100","13.01.02 Машинист паровых турбин","Среднее общее образование","Очная"]
["26.01.10 Механик маломерного судна",null,null,null,null,null,"13.01.02 Машинист паровых турбинСреднее общее образованиеОчно-заочная","11Д57005601000209005100","13.01.02 Машинист паровых турбин","Среднее общее образование","Очно-заочная"]
["26.01.11 Машинист-котельный судовой",null,null,null,null,null,"13.01.03 Электрослесарь по ремонту оборудования электростанцийОсновное общее образованиеОчная","11Д57005701000101003100","13.01.03 Электрослесарь по ремонту оборудования электростанций","Основное общее образование","Очная"]
["26.01.12 Электрик судовой",null,null,null,null,null,"13.01.03 Электрослесарь по ремонту оборудования электростанцийОсновное общее образованиеОчно-заочная","11Д57005701000109005100","13.01.03 Электрослесарь по ремонту оборудования электростанций","Основное общее образование","Очно-заочная"]
["26.01.13 Водолаз",null,null,null,null,null,"13.01.03 Электрослесарь по ремонту оборудования электростанцийСреднее общее образованиеОчная","11Д57005701000201002100","13.01.03 Электрослесарь по ремонту оборудования электростанций","Среднее общее образование","Очная"]
["29.01.01 Скорняк",null,null,null,null,null,"13.01.03 Электрослесарь по ремонту оборудования электростанцийСреднее общее образованиеОчно-заочная","11Д57005701000209004100","13.01.03 Электрослесарь по ремонту оборудования электростанций","Среднее общее образование","Очно-заочная"]
["29.01.02 Обувщик (широкого профиля)",null,null,null,null,null,"13.01.04 Слесарь по ремонту оборудования электростанцийОсновное общее образованиеОчная","11Д57005801000101002100","13.01.04 Слесарь по ремонту оборудования электростанций","Основное общее образование","Очная"]
["29.01.03 Сборщик обуви",null,null,null,null,null,"13.01.04 Слесарь по ремонту оборудования электростанцийОсновное общее образованиеОчно-заочная","11Д57005801000109004100","13.01.04 Слесарь по ремонту оборудования электростанций","Основное общее образование","Очно-заочная"]
["29.01.04 Художник по костюму",null,null,null,null,null,"13.01.04 Слесарь по ремонту оборудования электростанцийСреднее общее образованиеОчная","11Д57005801000201001100","13.01.04 Слесарь по ремонту оборудования электростанций","Среднее общее образование","Очная"]
["29.01.05 Закройщик",null,null,null,null,null,"13.01.04 Слесарь по ремонту оборудования электростанцийСреднее общее образованиеОчно-заочная","11Д57005801000209003100","13.01.04 Слесарь по ремонту оборудования электростанций","Среднее общее образование","Очно-заочная"]
["29.01.06 Раскройщик материалов",null,null,null,null,null,"13.01.05 Электромонтер по техническому обслуживанию электростанций и сетейОсновное общее образованиеОчная","11Д57005901000101001100","13.01.05 Электромонтер по техническому обслуживанию электростанций и сетей","Основное общее образование","Очная"]
["29.01.07 Портной",null,null,null,null,null,"13.01.05 Электромонтер по техническому обслуживанию электростанций и сетейОсновное общее образованиеОчно-заочная","11Д57005901000109003100","13.01.05 Электромонтер по техническому обслуживанию электростанций и сетей","Основное общее образование","Очно-заочная"]
["29.01.08 Оператор швейного оборудования",null,null,null,null,null,"13.01.05 Электромонтер по техническому обслуживанию электростанций и сетейСреднее общее образованиеОчная","11Д57005901000201000100","13.01.05 Электромонтер по техническому обслуживанию электростанций и сетей","Среднее общее образование","Очная"]
["29.01.09 Вышивальщица",null,null,null,null,null,"13.01.05 Электромонтер по техническому обслуживанию электростанций и сетейСреднее общее образованиеОчно-заочная","11Д57005901000209002100","13.01.05 Электромонтер по техническому обслуживанию электростанций и сетей","Среднее общее образование","Очно-заочная"]
["29.01.10 Модистка головных уборов",null,null,null,null,null,"13.01.06 Электромонтер-линейщик по монтажу воздушных линий высокого напряжения и контактной сетиОсновное общее образованиеОчная","11Д57006001000101008100","13.01.06 Электромонтер-линейщик по монтажу воздушных линий высокого напряжения и контактной сети","Основное общее образование","Очная"]
["29.01.11 Контролер качества текстильных изделий",null,null,null,null,null,"13.01.06 Электромонтер-линейщик по монтажу воздушных линий высокого напряжения и контактной сетиОсновное общее образованиеОчно-заочная","11Д57006001000109000100","13.01.06 Электромонтер-линейщик по монтажу воздушных линий высокого напряжения и контактной сети","Основное общее образование","Очно-заочная"]
["29.01.12 Оператор крутильного оборудования (для всех видов производств)",null,null,null,null,null,"13.01.06 Электромонтер-линейщик по монтажу воздушных линий высокого напряжения и контактной сетиСреднее общее образованиеОчная","11Д57006001000201007100","13.01.06 Электромонтер-линейщик по монтажу воздушных линий высокого напряжения и контактной сети","Среднее общее образование","Очная"]
["29.01.13 Оператор оборудования чесального производства (для всех видов производств)",null,null,null,null,null,"13.01.06 Электромонтер-линейщик по монтажу воздушных линий высокого напряжения и контактной сетиСреднее общее образованиеОчно-заочная","11Д57006001000209009100","13.01.06 Электромонтер-линейщик по монтажу воздушных линий высокого напряжения и контактной сети","Среднее общее образование","Очно-заочная"]
["29.01.14 Оператор прядильного производства",null,null,null,null,null,"13.01.07 Электромонтер по ремонту электросетейОсновное общее образованиеОчная","11Д57006101000101007100","13.01.07 Электромонтер по ремонту электросетей","Основное общее образование","Очная"]
["29.01.15 Раклист",null,null,null,null,null,"13.01.07 Электромонтер по ремонту электросетейОсновное общее образованиеОчно-заочная","11Д57006101000109009100","13.01.07 Электромонтер по ремонту электросетей","Основное общее образование","Очно-заочная"]
["29.01.16 Ткач",null,null,null,null,null,"13.01.07 Электромонтер по ремонту электросетейСреднее общее образованиеОчная","11Д57006101000201006100","13.01.07 Электромонтер по ремонту электросетей","Среднее общее образование","Очная"]
["29.01.17 Оператор вязально-швейного оборудования",null,null,null,null,null,"13.01.07 Электромонтер по ремонту электросетейСреднее общее образованиеОчно-заочная","11Д57006101000209008100","13.01.07 Электромонтер по ремонту электросетей","Среднее общее образование","Очно-заочная"]
["29.01.18 Вязальщица текстильно-галантерейных изделий",null,null,null,null,null,"13.01.08 Сборщик трансформаторовОсновное общее образованиеОчная","11Д57006201000101006100","13.01.08 Сборщик трансформаторов","Основное общее образование","Очная"]
["29.01.19 Оператор производства нетканых материалов",null,null,null,null,null,"13.01.08 Сборщик трансформаторовОсновное общее образованиеОчно-заочная","11Д57006201000109008100","13.01.08 Сборщик трансформаторов","Основное общее образование","Очно-заочная"]
["29.01.20 Красильщик (общие профессии производства текстиля)",null,null,null,null,null,"13.01.08 Сборщик трансформаторовСреднее общее образованиеОчная","11Д57006201000201005100","13.01.08 Сборщик трансформаторов","Среднее общее образование","Очная"]
["29.01.21 Оператор оборудования отделочного производства (общие профессии производства текстиля)",null,null,null,null,null,"13.01.08 Сборщик трансформаторовСреднее общее образованиеОчно-заочная","11Д57006201000209007100","13.01.08 Сборщик трансформаторов","Среднее общее образование","Очно-заочная"]
["29.01.22 Аппаратчик отделочного производства (общие профессии производства текстиля)",null,null,null,null,null,"13.01.09 Сборщик электрических машин и аппаратовОсновное общее образованиеОчная","11Д57006301000101005100","13.01.09 Сборщик электрических машин и аппаратов","Основное общее образование","Очная"]
["29.01.23 Наладчик полиграфического оборудования",null,null,null,null,null,"13.01.09 Сборщик электрических машин и аппаратовОсновное общее образованиеОчно-заочная","11Д57006301000109007100","13.01.09 Сборщик электрических машин и аппаратов","Основное общее образование","Очно-заочная"]
["29.01.24 Оператор электронного набора и верстки",null,null,null,null,null,"13.01.09 Сборщик электрических машин и аппаратовСреднее общее образованиеОчная","11Д57006301000201004100","13.01.09 Сборщик электрических машин и аппаратов","Среднее общее образование","Очная"]
["29.01.25 Переплетчик",null,null,null,null,null,"13.01.09 Сборщик электрических машин и аппаратовСреднее общее образованиеОчно-заочная","11Д57006301000209006100","13.01.09 Сборщик электрических машин и аппаратов","Среднее общее образование","Очно-заочная"]
["29.01.26 Печатник плоской печати",null,null,null,null,null,"13.01.10 Электромонтер по ремонту и обслуживанию электрооборудования (по отраслям)Основное общее образованиеОчная","11Д57006401000101004100","13.01.10 Электромонтер по ремонту и обслуживанию электрооборудования (по отраслям)","Основное общее образование","Очная"]
["29.01.27 Мастер печатного дела",null,null,null,null,null,"13.01.10 Электромонтер по ремонту и обслуживанию электрооборудования (по отраслям)Основное общее образованиеОчно-заочная","11Д57006401000109006100","13.01.10 Электромонтер по ремонту и обслуживанию электрооборудования (по отраслям)","Основное общее образование","Очно-заочная"]
["29.01.28 Огранщик алмазов в бриллианты",null,null,null,null,null,"13.01.10 Электромонтер по ремонту и обслуживанию электрооборудования (по отраслям)Среднее общее образованиеОчная","11Д57006401000201003100","13.01.10 Электромонтер по ремонту и обслуживанию электрооборудования (по отраслям)","Среднее общее образование","Очная"]
["29.01.29 Мастер столярного и мебельного производства",null,null,null,null,null,"13.01.10 Электромонтер по ремонту и обслуживанию электрооборудования (по отраслям)Среднее общее образованиеОчно-заочная","11Д57006401000209005100","13.01.10 Электромонтер по ремонту и обслуживанию электрооборудования (по отраслям)","Среднее общее образование","Очно-заочная"]
["29.01.30 Обойщик мебели",null,null,null,null,null,"13.01.11 Электромеханик по испытанию и ремонту электрооборудования летательных аппаратовОсновное общее образованиеОчная","11Д57006501000101003100","13.01.11 Электромеханик по испытанию и ремонту электрооборудования летательных аппаратов","Основное общее образование","Очная"]
["34.01.01 Младшая медицинская сестра по уходу за больными",null,null,null,null,null,"13.01.11 Электромеханик по испытанию и ремонту электрооборудования летательных аппаратовОсновное общее образованиеОчно-заочная","11Д57006501000109005100","13.01.11 Электромеханик по испытанию и ремонту электрооборудования летательных аппаратов","Основное общее образование","Очно-заочная"]
["35.01.01 Мастер по лесному хозяйству",null,null,null,null,null,"13.01.11 Электромеханик по испытанию и ремонту электрооборудования летательных аппаратовСреднее общее образованиеОчная","11Д57006501000201002100","13.01.11 Электромеханик по испытанию и ремонту электрооборудования летательных аппаратов","Среднее общее образование","Очная"]
["35.01.02 Станочник деревообрабатывающих станков",null,null,null,null,null,"13.01.11 Электромеханик по испытанию и ремонту электрооборудования летательных аппаратовСреднее общее образованиеОчно-заочная","11Д57006501000209004100","13.01.11 Электромеханик по испытанию и ремонту электрооборудования летательных аппаратов","Среднее общее образование","Очно-заочная"]
["35.01.03 Станочник-обработчик",null,null,null,null,null,"13.01.12 Сборщик электроизмерительных приборовОсновное общее образованиеОчная","11Д57006601000101002100","13.01.12 Сборщик электроизмерительных приборов","Основное общее образование","Очная"]
["35.01.04 Оператор линии и установок в деревообработке",null,null,null,null,null,"13.01.12 Сборщик электроизмерительных приборовОсновное общее образованиеОчно-заочная","11Д57006601000109004100","13.01.12 Сборщик электроизмерительных приборов","Основное общее образование","Очно-заочная"]
["35.01.05 Контролер полуфабрикатов и изделий из древесины",null,null,null,null,null,"13.01.12 Сборщик электроизмерительных приборовСреднее общее образованиеОчная","11Д57006601000201001100","13.01.12 Сборщик электроизмерительных приборов","Среднее общее образование","Очная"]
["35.01.06 Машинист машин по производству бумаги и картона",null,null,null,null,null,"13.01.12 Сборщик электроизмерительных приборовСреднее общее образованиеОчно-заочная","11Д57006601000209003100","13.01.12 Сборщик электроизмерительных приборов","Среднее общее образование","Очно-заочная"]
["35.01.07 Сушильщик в бумажном производстве",null,null,null,null,null,"13.01.13 Электромонтажник-схемщикОсновное общее образованиеОчная","11Д57006701000101001100","13.01.13 Электромонтажник-схемщик","Основное общее образование","Очная"]
["35.01.08 Контролер целлюлозно-бумажного производства",null,null,null,null,null,"13.01.13 Электромонтажник-схемщикОсновное общее образованиеОчно-заочная","11Д57006701000109003100","13.01.13 Электромонтажник-схемщик","Основное общее образование","Очно-заочная"]
["35.01.09 Мастер растениеводства",null,null,null,null,null,"13.01.13 Электромонтажник-схемщикСреднее общее образованиеОчная","11Д57006701000201000100","13.01.13 Электромонтажник-схемщик","Среднее общее образование","Очная"]
["35.01.10 Овощевод защищенного грунта",null,null,null,null,null,"13.01.13 Электромонтажник-схемщикСреднее общее образованиеОчно-заочная","11Д57006701000209002100","13.01.13 Электромонтажник-схемщик","Среднее общее образование","Очно-заочная"]
["35.01.11 Мастер сельскохозяйственного производства",null,null,null,null,null,"13.01.14 Электромеханик по лифтамОсновное общее образованиеОчная","11Д57006801000101000100","13.01.14 Электромеханик по лифтам","Основное общее образование","Очная"]
["35.01.12 Заготовитель продуктов и сырья",null,null,null,null,null,"13.01.14 Электромеханик по лифтамОсновное общее образованиеОчно-заочная","11Д57006801000109002100","13.01.14 Электромеханик по лифтам","Основное общее образование","Очно-заочная"]
["35.01.13 Тракторист-машинист сельскохозяйственного производства",null,null,null,null,null,"13.01.14 Электромеханик по лифтамСреднее общее образованиеОчная","11Д57006801000201009100","13.01.14 Электромеханик по лифтам","Среднее общее образование","Очная"]
["35.01.14 Мастер по техническому обслуживанию и ремонту машинно-тракторного парка",null,null,null,null,null,"13.01.14 Электромеханик по лифтамСреднее общее образованиеОчно-заочная","11Д57006801000209001100","13.01.14 Электромеханик по лифтам","Среднее общее образование","Очно-заочная"]
["35.01.15 Электромонтер по ремонту и обслуживанию электрооборудования в сельскохозяйственном производстве",null,null,null,null,null,"15.01.01 Оператор в производстве металлических изделийОсновное общее образованиеОчная","11Д57007001000101006100","15.01.01 Оператор в производстве металлических изделий","Основное общее образование","Очная"]
["35.01.16 Рыбовод",null,null,null,null,null,"15.01.01 Оператор в производстве металлических изделийОсновное общее образованиеОчно-заочная","11Д57007001000109008100","15.01.01 Оператор в производстве металлических изделий","Основное общее образование","Очно-заочная"]
["35.01.17 Обработчик рыбы и морепродуктов",null,null,null,null,null,"15.01.01 Оператор в производстве металлических изделийСреднее общее образованиеОчная","11Д57007001000201005100","15.01.01 Оператор в производстве металлических изделий","Среднее общее образование","Очная"]
["35.01.18 Рыбак прибрежного лова",null,null,null,null,null,"15.01.01 Оператор в производстве металлических изделийСреднее общее образованиеОчно-заочная","11Д57007001000209007100","15.01.01 Оператор в производстве металлических изделий","Среднее общее образование","Очно-заочная"]
["35.01.19 Мастер садово-паркового и ландшафтного строительства",null,null,null,null,null,"15.01.02 Наладчик холодноштамповочного оборудованияОсновное общее образованиеОчная","11Д57007101000101005100","15.01.02 Наладчик холодноштамповочного оборудования","Основное общее образование","Очная"]
["35.01.20 Пчеловод",null,null,null,null,null,"15.01.02 Наладчик холодноштамповочного оборудованияОсновное общее образованиеОчно-заочная","11Д57007101000109007100","15.01.02 Наладчик холодноштамповочного оборудования","Основное общее образование","Очно-заочная"]
["35.01.21 Оленевод-механизатор",null,null,null,null,null,"15.01.02 Наладчик холодноштамповочного оборудованияСреднее общее образованиеОчная","11Д57007101000201004100","15.01.02 Наладчик холодноштамповочного оборудования","Среднее общее образование","Очная"]
["35.01.22 Охотник промысловый",null,null,null,null,null,"15.01.02 Наладчик холодноштамповочного оборудованияСреднее общее образованиеОчно-заочная","11Д57007101000209006100","15.01.02 Наладчик холодноштамповочного оборудования","Среднее общее образование","Очно-заочная"]
["35.01.23 Хозяйка(ин) усадьбы",null,null,null,null,null,"15.01.03 Наладчик кузнечно-прессового оборудованияОсновное общее образованиеОчная","11Д57007201000101004100","15.01.03 Наладчик кузнечно-прессового оборудования","Основное общее образование","Очная"]
["35.01.24 Управляющий сельской усадьбой",null,null,null,null,null,{"$f":"I259&J259&K259","v":"15.01.03 Наладчик кузнечно-прессового оборудованияОсновное общее образованиеОчно-заочная"},"11Д57007201000109006100","15.01.03 Наладчик кузнечно-прессового оборудования","Основное общее образование","Очно-заочная"]
["36.01.01 Младший ветеринарный фельдшер",null,null,null,null,null,"15.01.03 Наладчик кузнечно-прессового оборудованияСреднее общее образованиеОчная","11Д57007201000201003100","15.01.03 Наладчик кузнечно-прессового оборудования","Среднее общее образование","Очная"]
["36.01.02 Мастер животноводства",null,null,null,null,null,"15.01.03 Наладчик кузнечно-прессового оборудованияСреднее общее образованиеОчно-заочная","11Д57007201000209005100","15.01.03 Наладчик кузнечно-прессового оборудования","Среднее общее образование","Очно-заочная"]
["36.01.03 Тренер-наездник лошадей",null,null,null,null,null,"15.01.04 Наладчик сварочного и газоплазморезательного оборудованияОсновное общее образованиеОчная","11Д57007301000101003100","15.01.04 Наладчик сварочного и газоплазморезательного оборудования","Основное общее образование","Очная"]
["38.01.01 Оператор диспетчерской (производственно-диспетчерской) службы",null,null,null,null,null,"15.01.04 Наладчик сварочного и газоплазморезательного оборудованияОсновное общее образованиеОчно-заочная","11Д57007301000109005100","15.01.04 Наладчик сварочного и газоплазморезательного оборудования","Основное общее образование","Очно-заочная"]
["38.01.02 Продавец, контролер-кассир",null,null,null,null,null,"15.01.04 Наладчик сварочного и газоплазморезательного оборудованияСреднее общее образованиеОчная","11Д57007301000201002100","15.01.04 Наладчик сварочного и газоплазморезательного оборудования","Среднее общее образование","Очная"]
["38.01.03 Контролер банка",null,null,null,null,null,"15.01.04 Наладчик сварочного и газоплазморезательного оборудованияСреднее общее образованиеОчно-заочная","11Д57007301000209004100","15.01.04 Наладчик сварочного и газоплазморезательного оборудования","Среднее общее образование","Очно-заочная"]
["39.01.01 Социальный работник",null,null,null,null,null,"15.01.05 Сварщик (ручной и частично механизированной сварки (наплавки)Основное общее образованиеОчная","11Д57007401000101002100","15.01.05 Сварщик (ручной и частично механизированной сварки (наплавки)","Основное общее образование","Очная"]
["42.01.01 Агент рекламный",null,null,null,null,null,"15.01.05 Сварщик (ручной и частично механизированной сварки (наплавки)Основное общее образованиеОчно-заочная","11Д57007401000109004100","15.01.05 Сварщик (ручной и частично механизированной сварки (наплавки)","Основное общее образование","Очно-заочная"]
["43.01.01 Официант, бармен",null,null,null,null,null,"15.01.05 Сварщик (ручной и частично механизированной сварки (наплавки)Среднее общее образованиеОчная","11Д57007401000201001100","15.01.05 Сварщик (ручной и частично механизированной сварки (наплавки)","Среднее общее образование","Очная"]
["43.01.02 Парикмахер",null,null,null,null,null,"15.01.05 Сварщик (ручной и частично механизированной сварки (наплавки)Среднее общее образованиеОчно-заочная","11Д57007401000209003100","15.01.05 Сварщик (ручной и частично механизированной сварки (наплавки)","Среднее общее образование","Очно-заочная"]
["43.01.03 Бортпроводник судовой",null,null,null,null,null,"15.01.06 Сварщик на лазерных установкахОсновное общее образованиеОчная","11Д57007501000101001100","15.01.06 Сварщик на лазерных установках","Основное общее образование","Очная"]
["43.01.04 Повар судовой",null,null,null,null,null,"15.01.06 Сварщик на лазерных установкахОсновное общее образованиеОчно-заочная","11Д57007501000109003100","15.01.06 Сварщик на лазерных установках","Основное общее образование","Очно-заочная"]
["43.01.05 Оператор по обработке перевозочных документов на железнодорожном транспорте",null,null,null,null,null,"15.01.06 Сварщик на лазерных установкахСреднее общее образованиеОчная","11Д57007501000201000100","15.01.06 Сварщик на лазерных установках","Среднее общее образование","Очная"]
["43.01.06 Проводник на железнодорожном транспорте",null,null,null,null,null,"15.01.06 Сварщик на лазерных установкахСреднее общее образованиеОчно-заочная","11Д57007501000209002100","15.01.06 Сварщик на лазерных установках","Среднее общее образование","Очно-заочная"]
["43.01.07 Слесарь по эксплуатации и ремонту газового оборудования",null,null,null,null,null,"15.01.07 Сварщик на электронно-лучевых сварочных установкахОсновное общее образованиеОчная","11Д57007601000101000100","15.01.07 Сварщик на электронно-лучевых сварочных установках","Основное общее образование","Очная"]
["43.01.08 Аппаратчик химической чистки",null,null,null,null,null,"15.01.07 Сварщик на электронно-лучевых сварочных установкахОсновное общее образованиеОчно-заочная","11Д57007601000109002100","15.01.07 Сварщик на электронно-лучевых сварочных установках","Основное общее образование","Очно-заочная"]
["43.01.09 Повар, кондитер",null,null,null,null,null,"15.01.07 Сварщик на электронно-лучевых сварочных установкахСреднее общее образованиеОчная","11Д57007601000201009100","15.01.07 Сварщик на электронно-лучевых сварочных установках","Среднее общее образование","Очная"]
["46.01.01 Секретарь",null,null,null,null,null,"15.01.07 Сварщик на электронно-лучевых сварочных установкахСреднее общее образованиеОчно-заочная","11Д57007601000209001100","15.01.07 Сварщик на электронно-лучевых сварочных установках","Среднее общее образование","Очно-заочная"]
["46.01.02 Архивариус",null,null,null,null,null,"15.01.08 Наладчик литейного оборудованияОсновное общее образованиеОчная","11Д57007701000101009100","15.01.08 Наладчик литейного оборудования","Основное общее образование","Очная"]
["46.01.03 Делопроизводитель",null,null,null,null,null,"15.01.08 Наладчик литейного оборудованияОсновное общее образованиеОчно-заочная","11Д57007701000109001100","15.01.08 Наладчик литейного оборудования","Основное общее образование","Очно-заочная"]
["54.01.01 Исполнитель художественно-оформительских работ",null,null,null,null,null,"15.01.08 Наладчик литейного оборудованияСреднее общее образованиеОчная","11Д57007701000201008100","15.01.08 Наладчик литейного оборудования","Среднее общее образование","Очная"]
["54.01.02 Ювелир",null,null,null,null,null,"15.01.08 Наладчик литейного оборудованияСреднее общее образованиеОчно-заочная","11Д57007701000209000100","15.01.08 Наладчик литейного оборудования","Среднее общее образование","Очно-заочная"]
["54.01.03 Фотограф",null,null,null,null,null,"15.01.09 Машинист лесозаготовительных и трелевочных машинОсновное общее образованиеОчная","11Д57007801000101008100","15.01.09 Машинист лесозаготовительных и трелевочных машин","Основное общее образование","Очная"]
["54.01.04 Мастер народных художественных промыслов",null,null,null,null,null,"15.01.09 Машинист лесозаготовительных и трелевочных машинОсновное общее образованиеОчно-заочная","11Д57007801000109000100","15.01.09 Машинист лесозаготовительных и трелевочных машин","Основное общее образование","Очно-заочная"]
["54.01.05 Изготовитель художественных изделий из тканей с художественной росписью",null,null,null,null,null,"15.01.09 Машинист лесозаготовительных и трелевочных машинСреднее общее образованиеОчная","11Д57007801000201007100","15.01.09 Машинист лесозаготовительных и трелевочных машин","Среднее общее образование","Очная"]
["54.01.06 Изготовитель художественных изделий из металла",null,null,null,null,null,"15.01.09 Машинист лесозаготовительных и трелевочных машинСреднее общее образованиеОчно-заочная","11Д57007801000209009100","15.01.09 Машинист лесозаготовительных и трелевочных машин","Среднее общее образование","Очно-заочная"]
["54.01.07 Изготовитель художественных изделий из керамики",null,null,null,null,null,"15.01.10 Слесарь по ремонту лесозаготовительного оборудованияОсновное общее образованиеОчная","11Д57007901000101007100","15.01.10 Слесарь по ремонту лесозаготовительного оборудования","Основное общее образование","Очная"]
["54.01.08 Художник декоративной росписи по металлу",null,null,null,null,null,"15.01.10 Слесарь по ремонту лесозаготовительного оборудованияОсновное общее образованиеОчно-заочная","11Д57007901000109009100","15.01.10 Слесарь по ремонту лесозаготовительного оборудования","Основное общее образование","Очно-заочная"]
["54.01.09 Художник росписи по эмали",null,null,null,null,null,"15.01.10 Слесарь по ремонту лесозаготовительного оборудованияСреднее общее образованиеОчная","11Д57007901000201006100","15.01.10 Слесарь по ремонту лесозаготовительного оборудования","Среднее общее образование","Очная"]
["54.01.10 Художник росписи по дереву",null,null,null,null,null,"15.01.10 Слесарь по ремонту лесозаготовительного оборудованияСреднее общее образованиеОчно-заочная","11Д57007901000209008100","15.01.10 Слесарь по ремонту лесозаготовительного оборудования","Среднее общее образование","Очно-заочная"]
["54.01.11 Художник росписи по ткани",null,null,null,null,null,"15.01.11 Электромонтажник блоков электронно-механических часовОсновное общее образованиеОчная","11Д57008001000101004100","15.01.11 Электромонтажник блоков электронно-механических часов","Основное общее образование","Очная"]
["54.01.12 Художник миниатюрной живописи",null,null,null,null,null,"15.01.11 Электромонтажник блоков электронно-механических часовОсновное общее образованиеОчно-заочная","11Д57008001000109006100","15.01.11 Электромонтажник блоков электронно-механических часов","Основное общее образование","Очно-заочная"]
["54.01.13 Изготовитель художественных изделий из дерева",null,null,null,null,null,"15.01.11 Электромонтажник блоков электронно-механических часовСреднее общее образованиеОчная","11Д57008001000201003100","15.01.11 Электромонтажник блоков электронно-механических часов","Среднее общее образование","Очная"]
["54.01.14 Резчик",null,null,null,null,null,"15.01.11 Электромонтажник блоков электронно-механических часовСреднее общее образованиеОчно-заочная","11Д57008001000209005100","15.01.11 Электромонтажник блоков электронно-механических часов","Среднее общее образование","Очно-заочная"]
["54.01.15 Инкрустатор",null,null,null,null,null,"15.01.12 Часовщик-ремонтникОсновное общее образованиеОчная","11Д57008101000101003100","15.01.12 Часовщик-ремонтник","Основное общее образование","Очная"]
["54.01.16 Лепщик-модельщих архитектурных деталей",null,null,null,null,null,"15.01.12 Часовщик-ремонтникОсновное общее образованиеОчно-заочная","11Д57008101000109005100","15.01.12 Часовщик-ремонтник","Основное общее образование","Очно-заочная"]
["54.01.17 Реставратор строительный",null,null,null,null,null,"15.01.12 Часовщик-ремонтникСреднее общее образованиеОчная","11Д57008101000201002100","15.01.12 Часовщик-ремонтник","Среднее общее образование","Очная"]
["54.01.18 Реставратор тканей, гобеленов и ковров",null,null,null,null,null,"15.01.12 Часовщик-ремонтникСреднее общее образованиеОчно-заочная","11Д57008101000209004100","15.01.12 Часовщик-ремонтник","Среднее общее образование","Очно-заочная"]
["54.01.19 Реставратор памятников каменного и деревянного зодчества",null,null,null,null,null,"15.01.13 Монтажник технологического оборудования (по видам оборудования)Основное общее образованиеОчная","11Д57008201000101002100","15.01.13 Монтажник технологического оборудования (по видам оборудования)","Основное общее образование","Очная"]
["55.01.01 Киномеханик",null,null,null,null,null,"15.01.13 Монтажник технологического оборудования (по видам оборудования)Основное общее образованиеОчно-заочная","11Д57008201000109004100","15.01.13 Монтажник технологического оборудования (по видам оборудования)","Основное общее образование","Очно-заочная"]
[null,null,null,null,null,null,"15.01.13 Монтажник технологического оборудования (по видам оборудования)Среднее общее образованиеОчная","11Д57008201000201001100","15.01.13 Монтажник технологического оборудования (по видам оборудования)","Среднее общее образование","Очная"]
[null,null,null,null,null,null,"15.01.13 Монтажник технологического оборудования (по видам оборудования)Среднее общее образованиеОчно-заочная","11Д57008201000209003100","15.01.13 Монтажник технологического оборудования (по видам оборудования)","Среднее общее образование","Очно-заочная"]
[null,null,null,null,null,null,"15.01.14 Наладчик оборудования в бумажном производствеОсновное общее образованиеОчная","11Д57008301000101001100","15.01.14 Наладчик оборудования в бумажном производстве","Основное общее образование","Очная"]
[null,null,null,null,null,null,"15.01.14 Наладчик оборудования в бумажном производствеОсновное общее образованиеОчно-заочная","11Д57008301000109003100","15.01.14 Наладчик оборудования в бумажном производстве","Основное общее образование","Очно-заочная"]
[null,null,null,null,null,null,"15.01.14 Наладчик оборудования в бумажном производствеСреднее общее образованиеОчная","11Д57008301000201000100","15.01.14 Наладчик оборудования в бумажном производстве","Среднее общее образование","Очная"]
[null,null,null,null,null,null,"15.01.14 Наладчик оборудования в бумажном производствеСреднее общее образованиеОчно-заочная","11Д57008301000209002100","15.01.14 Наладчик оборудования в бумажном производстве","Среднее общее образование","Очно-заочная"]
[null,null,null,null,null,null,"15.01.15 Наладчик деревообрабатывающего оборудованияОсновное общее образованиеОчная","11Д57008401000101000100","15.01.15 Наладчик деревообрабатывающего оборудования","Основное общее образование","Очная"]
[null,null,null,null,null,null,"15.01.15 Наладчик деревообрабатывающего оборудованияОсновное общее образованиеОчно-заочная","11Д57008401000109002100","15.01.15 Наладчик деревообрабатывающего оборудования","Основное общее образование","Очно-заочная"]
[null,null,null,null,null,null,"15.01.15 Наладчик деревообрабатывающего оборудованияСреднее общее образованиеОчная","11Д57008401000201009100","15.01.15 Наладчик деревообрабатывающего оборудования","Среднее общее образование","Очная"]
[null,null,null,null,null,null,"15.01.15 Наладчик деревообрабатывающего оборудованияСреднее общее образованиеОчно-заочная","11Д57008401000209001100","15.01.15 Наладчик деревообрабатывающего оборудования","Среднее общее образование","Очно-заочная"]
[null,null,null,null,null,null,"15.01.16 Наладчик технологического оборудования в производстве строительных материаловОсновное общее образованиеОчная","11Д57008501000101009100","15.01.16 Наладчик технологического оборудования в производстве строительных материалов","Основное общее образование","Очная"]
[null,null,null,null,null,null,"15.01.16 Наладчик технологического оборудования в производстве строительных материаловОсновное общее образованиеОчно-заочная","11Д57008501000109001100","15.01.16 Наладчик технологического оборудования в производстве строительных материалов","Основное общее образование","Очно-заочная"]
[null,null,null,null,null,null,"15.01.16 Наладчик технологического оборудования в производстве строительных материаловСреднее общее образованиеОчная","11Д57008501000201008100","15.01.16 Наладчик технологического оборудования в производстве строительных материалов","Среднее общее образование","Очная"]
[null,null,null,null,null,null,"15.01.16 Наладчик технологического оборудования в производстве строительных материаловСреднее общее образованиеОчно-заочная","11Д57008501000209000100","15.01.16 Наладчик технологического оборудования в производстве строительных материалов","Среднее общее образование","Очно-заочная"]
[null,null,null,null,null,null,"15.01.17 Электромеханик по торговому и холодильному оборудованиюОсновное общее образованиеОчная","11Д57008601000101008100","15.01.17 Электромеханик по торговому и холодильному оборудованию","Основное общее образование","Очная"]
[null,null,null,null,null,null,"15.01.17 Электромеханик по торговому и холодильному оборудованиюОсновное общее образованиеОчно-заочная","11Д57008601000109000100","15.01.17 Электромеханик по торговому и холодильному оборудованию","Основное общее образование","Очно-заочная"]
[null,null,null,null,null,null,"15.01.17 Электромеханик по торговому и холодильному оборудованиюСреднее общее образованиеОчная","11Д57008601000201007100","15.01.17 Электромеханик по торговому и холодильному оборудованию","Среднее общее образование","Очная"]
[null,null,null,null,null,null,"15.01.17 Электромеханик по торговому и холодильному оборудованиюСреднее общее образованиеОчно-заочная","11Д57008601000209009100","15.01.17 Электромеханик по торговому и холодильному оборудованию","Среднее общее образование","Очно-заочная"]
[null,null,null,null,null,null,"15.01.18 Машинист холодильных установокОсновное общее образованиеОчная","11Д57008701000101007100","15.01.18 Машинист холодильных установок","Основное общее образование","Очная"]
[null,null,null,null,null,null,"15.01.18 Машинист холодильных установокОсновное общее образованиеОчно-заочная","11Д57008701000109009100","15.01.18 Машинист холодильных установок","Основное общее образование","Очно-заочная"]
[null,null,null,null,null,null,"15.01.18 Машинист холодильных установокСреднее общее образованиеОчная","11Д57008701000201006100","15.01.18 Машинист холодильных установок","Среднее общее образование","Очная"]
[null,null,null,null,null,null,"15.01.18 Машинист холодильных установокСреднее общее образованиеОчно-заочная","11Д57008701000209008100","15.01.18 Машинист холодильных установок","Среднее общее образование","Очно-заочная"]
[null,null,null,null,null,null,"15.01.19 Наладчик контрольно-измерительных приборов и автоматикиОсновное общее образованиеОчная","11Д57008801000101006100","15.01.19 Наладчик контрольно-измерительных приборов и автоматики","Основное общее образование","Очная"]
[null,null,null,null,null,null,{"$f":"I323&J323&K323","v":"15.01.19 Наладчик контрольно-измерительных приборов и автоматикиОсновное общее образованиеОчно-заочная"},"11Д57008801000109008100","15.01.19 Наладчик контрольно-измерительных приборов и автоматики","Основное общее образование","Очно-заочная"]
[null,null,null,null,null,null,"15.01.19 Наладчик контрольно-измерительных приборов и автоматикиСреднее общее образованиеОчная","11Д57008801000201005100","15.01.19 Наладчик контрольно-измерительных приборов и автоматики","Среднее общее образование","Очная"]
[null,null,null,null,null,null,"15.01.19 Наладчик контрольно-измерительных приборов и автоматикиСреднее общее образованиеОчно-заочная","11Д57008801000209007100","15.01.19 Наладчик контрольно-измерительных приборов и автоматики","Среднее общее образование","Очно-заочная"]
[null,null,null,null,null,null,"15.01.20 Слесарь по контрольно-измерительным приборам и автоматикеОсновное общее образованиеОчная","11Д57008901000101005100","15.01.20 Слесарь по контрольно-измерительным приборам и автоматике","Основное общее образование","Очная"]
[null,null,null,null,null,null,"15.01.20 Слесарь по контрольно-измерительным приборам и автоматикеОсновное общее образованиеОчно-заочная","11Д57008901000109007100","15.01.20 Слесарь по контрольно-измерительным приборам и автоматике","Основное общее образование","Очно-заочная"]
[null,null,null,null,null,null,"15.01.20 Слесарь по контрольно-измерительным приборам и автоматикеСреднее общее образованиеОчная","11Д57008901000201004100","15.01.20 Слесарь по контрольно-измерительным приборам и автоматике","Среднее общее образование","Очная"]
[null,null,null,null,null,null,"15.01.20 Слесарь по контрольно-измерительным приборам и автоматикеСреднее общее образованиеОчно-заочная","11Д57008901000209006100","15.01.20 Слесарь по контрольно-измерительным приборам и автоматике","Среднее общее образование","Очно-заочная"]
[null,null,null,null,null,null,"15.01.21 Электромонтер охранно-пожарной сигнализацииОсновное общее образованиеОчная","11Д57009001000101002100","15.01.21 Электромонтер охранно-пожарной сигнализации","Основное общее образование","Очная"]
[null,null,null,null,null,null,"15.01.21 Электромонтер охранно-пожарной сигнализацииОсновное общее образованиеОчно-заочная","11Д57009001000109004100","15.01.21 Электромонтер охранно-пожарной сигнализации","Основное общее образование","Очно-заочная"]
[null,null,null,null,null,null,"15.01.21 Электромонтер охранно-пожарной сигнализацииСреднее общее образованиеОчная","11Д57009001000201001100","15.01.21 Электромонтер охранно-пожарной сигнализации","Среднее общее образование","Очная"]
[null,null,null,null,null,null,"15.01.21 Электромонтер охранно-пожарной сигнализацииСреднее общее образованиеОчно-заочная","11Д57009001000209003100","15.01.21 Электромонтер охранно-пожарной сигнализации","Среднее общее образование","Очно-заочная"]
[null,null,null,null,null,null,"15.01.22 Чертежник-конструкторОсновное общее образованиеОчная","11Д57009101000101001100","15.01.22 Чертежник-конструктор","Основное общее образование","Очная"]
[null,null,null,null,null,null,"15.01.22 Чертежник-конструкторОсновное общее образованиеОчно-заочная","11Д57009101000109003100","15.01.22 Чертежник-конструктор","Основное общее образование","Очно-заочная"]
[null,null,null,null,null,null,"15.01.22 Чертежник-конструкторСреднее общее образованиеОчная","11Д57009101000201000100","15.01.22 Чертежник-конструктор","Среднее общее образование","Очная"]
[null,null,null,null,null,null,"15.01.22 Чертежник-конструкторСреднее общее образованиеОчно-заочная","11Д57009101000209002100","15.01.22 Чертежник-конструктор","Среднее общее образование","Очно-заочная"]
[null,null,null,null,null,null,"15.01.23 Наладчик станков и оборудования в механообработкеОсновное общее образованиеОчная","11Д57009201000101000100","15.01.23 Наладчик станков и оборудования в механообработке","Основное общее образование","Очная"]
[null,null,null,null,null,null,"15.01.23 Наладчик станков и оборудования в механообработкеОсновное общее образованиеОчно-заочная","11Д57009201000109002100","15.01.23 Наладчик станков и оборудования в механообработке","Основное общее образование","Очно-заочная"]
[null,null,null,null,null,null,"15.01.23 Наладчик станков и оборудования в механообработкеСреднее общее образованиеОчная","11Д57009201000201009100","15.01.23 Наладчик станков и оборудования в механообработке","Среднее общее образование","Очная"]
[null,null,null,null,null,null,"15.01.23 Наладчик станков и оборудования в механообработкеСреднее общее образованиеОчно-заочная","11Д57009201000209001100","15.01.23 Наладчик станков и оборудования в механообработке","Среднее общее образование","Очно-заочная"]
[null,null,null,null,null,null,"15.01.24 Наладчик шлифовальных станковОсновное общее образованиеОчная","11Д57009301000101009100","15.01.24 Наладчик шлифовальных станков","Основное общее образование","Очная"]
[null,null,null,null,null,null,"15.01.24 Наладчик шлифовальных станковОсновное общее образованиеОчно-заочная","11Д57009301000109001100","15.01.24 Наладчик шлифовальных станков","Основное общее образование","Очно-заочная"]
[null,null,null,null,null,null,"15.01.24 Наладчик шлифовальных станковСреднее общее образованиеОчная","11Д57009301000201008100","15.01.24 Наладчик шлифовальных станков","Среднее общее образование","Очная"]
[null,null,null,null,null,null,"15.01.24 Наладчик шлифовальных станковСреднее общее образованиеОчно-заочная","11Д57009301000209000100","15.01.24 Наладчик шлифовальных станков","Среднее общее образование","Очно-заочная"]
[null,null,null,null,null,null,"15.01.25 Станочник (металлообработка)Основное общее образованиеОчная","11Д57009401000101008100","15.01.25 Станочник (металлообработка)","Основное общее образование","Очная"]
[null,null,null,null,null,null,"15.01.25 Станочник (металлообработка)Основное общее образованиеОчно-заочная","11Д57009401000109000100","15.01.25 Станочник (металлообработка)","Основное общее образование","Очно-заочная"]
[null,null,null,null,null,null,"15.01.25 Станочник (металлообработка)Среднее общее образованиеОчная","11Д57009401000201007100","15.01.25 Станочник (металлообработка)","Среднее общее образование","Очная"]
[null,null,null,null,null,null,"15.01.25 Станочник (металлообработка)Среднее общее образованиеОчно-заочная","11Д57009401000209009100","15.01.25 Станочник (металлообработка)","Среднее общее образование","Очно-заочная"]
[null,null,null,null,null,null,"15.01.26 Токарь-универсалОсновное общее образованиеОчная","11Д57009501000101007100","15.01.26 Токарь-универсал","Основное общее образование","Очная"]
[null,null,null,null,null,null,"15.01.26 Токарь-универсалОсновное общее образованиеОчно-заочная","11Д57009501000109009100","15.01.26 Токарь-универсал","Основное общее образование","Очно-заочная"]
[null,null,null,null,null,null,"15.01.26 Токарь-универсалСреднее общее образованиеОчная","11Д57009501000201006100","15.01.26 Токарь-универсал","Среднее общее образование","Очная"]
[null,null,null,null,null,null,"15.01.26 Токарь-универсалСреднее общее образованиеОчно-заочная","11Д57009501000209008100","15.01.26 Токарь-универсал","Среднее общее образование","Очно-заочная"]
[null,null,null,null,null,null,"15.01.27 Фрезеровщик-универсалОсновное общее образованиеОчная","11Д57009601000101006100","15.01.27 Фрезеровщик-универсал","Основное общее образование","Очная"]
[null,null,null,null,null,null,"15.01.27 Фрезеровщик-универсалОсновное общее образованиеОчно-заочная","11Д57009601000109008100","15.01.27 Фрезеровщик-универсал","Основное общее образование","Очно-заочная"]
[null,null,null,null,null,null,"15.01.27 Фрезеровщик-универсалСреднее общее образованиеОчная","11Д57009601000201005100","15.01.27 Фрезеровщик-универсал","Среднее общее образование","Очная"]
[null,null,null,null,null,null,"15.01.27 Фрезеровщик-универсалСреднее общее образованиеОчно-заочная","11Д57009601000209007100","15.01.27 Фрезеровщик-универсал","Среднее общее образование","Очно-заочная"]
[null,null,null,null,null,null,"15.01.28 Шлифовщик-универсалОсновное общее образованиеОчная","11Д57009701000101005100","15.01.28 Шлифовщик-универсал","Основное общее образование","Очная"]
[null,null,null,null,null,null,"15.01.28 Шлифовщик-универсалОсновное общее образованиеОчно-заочная","11Д57009701000109007100","15.01.28 Шлифовщик-универсал","Основное общее образование","Очно-заочная"]
[null,null,null,null,null,null,"15.01.28 Шлифовщик-универсалСреднее общее образованиеОчная","11Д57009701000201004100","15.01.28 Шлифовщик-универсал","Среднее общее образование","Очная"]
[null,null,null,null,null,null,"15.01.28 Шлифовщик-универсалСреднее общее образованиеОчно-заочная","11Д57009701000209006100","15.01.28 Шлифовщик-универсал","Среднее общее образование","Очно-заочная"]
[null,null,null,null,null,null,"15.01.29 Контролер станочных и слесарных работОсновное общее образованиеОчная","11Д57009801000101004100","15.01.29 Контролер станочных и слесарных работ","Основное общее образование","Очная"]
[null,null,null,null,null,null,"15.01.29 Контролер станочных и слесарных работОсновное общее образованиеОчно-заочная","11Д57009801000109006100","15.01.29 Контролер станочных и слесарных работ","Основное общее образование","Очно-заочная"]
[null,null,null,null,null,null,"15.01.29 Контролер станочных и слесарных работСреднее общее образованиеОчная","11Д57009801000201003100","15.01.29 Контролер станочных и слесарных работ","Среднее общее образование","Очная"]
[null,null,null,null,null,null,"15.01.29 Контролер станочных и слесарных работСреднее общее образованиеОчно-заочная","11Д57009801000209005100","15.01.29 Контролер станочных и слесарных работ","Среднее общее образование","Очно-заочная"]
[null,null,null,null,null,null,"15.01.30 СлесарьОсновное общее образованиеОчная","11Д57009901000101003100","15.01.30 Слесарь","Основное общее образование","Очная"]
[null,null,null,null,null,null,"15.01.30 СлесарьОсновное общее образованиеОчно-заочная","11Д57009901000109005100","15.01.30 Слесарь","Основное общее образование","Очно-заочная"]
[null,null,null,null,null,null,"15.01.30 СлесарьСреднее общее образованиеОчная","11Д57009901000201002100","15.01.30 Слесарь","Среднее общее образование","Очная"]
[null,null,null,null,null,null,"15.01.30 СлесарьСреднее общее образованиеОчно-заочная","11Д57009901000209004100","15.01.30 Слесарь","Среднее общее образование","Очно-заочная"]
[null,null,null,null,null,null,"18.01.01 Лаборант по физико-механическим испытаниямОсновное общее образованиеОчная","11Д57010101000101009100","18.01.01 Лаборант по физико-механическим испытаниям","Основное общее образование","Очная"]
[null,null,null,null,null,null,"18.01.01 Лаборант по физико-механическим испытаниямОсновное общее образованиеОчно-заочная","11Д57010101000109001100","18.01.01 Лаборант по физико-механическим испытаниям","Основное общее образование","Очно-заочная"]
[null,null,null,null,null,null,"18.01.01 Лаборант по физико-механическим испытаниямСреднее общее образованиеОчная","11Д57010101000201008100","18.01.01 Лаборант по физико-механическим испытаниям","Среднее общее образование","Очная"]
[null,null,null,null,null,null,"18.01.01 Лаборант по физико-механическим испытаниямСреднее общее образованиеОчно-заочная","11Д57010101000209000100","18.01.01 Лаборант по физико-механическим испытаниям","Среднее общее образование","Очно-заочная"]
[null,null,null,null,null,null,"18.01.02 Лаборант-экологОсновное общее образованиеОчная","11Д57010201000101008100","18.01.02 Лаборант-эколог","Основное общее образование","Очная"]
[null,null,null,null,null,null,"18.01.02 Лаборант-экологОсновное общее образованиеОчно-заочная","11Д57010201000109000100","18.01.02 Лаборант-эколог","Основное общее образование","Очно-заочная"]
[null,null,null,null,null,null,"18.01.02 Лаборант-экологСреднее общее образованиеОчная","11Д57010201000201007100","18.01.02 Лаборант-эколог","Среднее общее образование","Очная"]
[null,null,null,null,null,null,"18.01.02 Лаборант-экологСреднее общее образованиеОчно-заочная","11Д57010201000209009100","18.01.02 Лаборант-эколог","Среднее общее образование","Очно-заочная"]
[null,null,null,null,null,null,"18.01.03 Аппаратчик-оператор экологических установокОсновное общее образованиеОчная","11Д57010301000101007100","18.01.03 Аппаратчик-оператор экологических установок","Основное общее образование","Очная"]
[null,null,null,null,null,null,"18.01.03 Аппаратчик-оператор экологических установокОсновное общее образованиеОчно-заочная","11Д57010301000109009100","18.01.03 Аппаратчик-оператор экологических установок","Основное общее образование","Очно-заочная"]
[null,null,null,null,null,null,"18.01.03 Аппаратчик-оператор экологических установокСреднее общее образованиеОчная","11Д57010301000201006100","18.01.03 Аппаратчик-оператор экологических установок","Среднее общее образование","Очная"]
[null,null,null,null,null,null,"18.01.03 Аппаратчик-оператор экологических установокСреднее общее образованиеОчно-заочная","11Д57010301000209008100","18.01.03 Аппаратчик-оператор экологических установок","Среднее общее образование","Очно-заочная"]
[null,null,null,null,null,null,"18.01.04 Изготовитель изделий строительной керамикиОсновное общее образованиеОчная","11Д57010401000101006100","18.01.04 Изготовитель изделий строительной керамики","Основное общее образование","Очная"]
[null,null,null,null,null,null,"18.01.04 Изготовитель изделий строительной керамикиОсновное общее образованиеОчно-заочная","11Д57010401000109008100","18.01.04 Изготовитель изделий строительной керамики","Основное общее образование","Очно-заочная"]
[null,null,null,null,null,null,"18.01.04 Изготовитель изделий строительной керамикиСреднее общее образованиеОчная","11Д57010401000201005100","18.01.04 Изготовитель изделий строительной керамики","Среднее общее образование","Очная"]
[null,null,null,null,null,null,"18.01.04 Изготовитель изделий строительной керамикиСреднее общее образованиеОчно-заочная","11Д57010401000209007100","18.01.04 Изготовитель изделий строительной керамики","Среднее общее образование","Очно-заочная"]
[null,null,null,null,null,null,"18.01.05 Аппаратчик-оператор производства неорганических веществОсновное общее образованиеОчная","11Д57010501000101005100","18.01.05 Аппаратчик-оператор производства неорганических веществ","Основное общее образование","Очная"]
[null,null,null,null,null,null,{"$f":"I387&J387&K387","v":"18.01.05 Аппаратчик-оператор производства неорганических веществОсновное общее образованиеОчно-заочная"},"11Д57010501000109007100","18.01.05 Аппаратчик-оператор производства неорганических веществ","Основное общее образование","Очно-заочная"]
[null,null,null,null,null,null,"18.01.05 Аппаратчик-оператор производства неорганических веществСреднее общее образованиеОчная","11Д57010501000201004100","18.01.05 Аппаратчик-оператор производства неорганических веществ","Среднее общее образование","Очная"]
[null,null,null,null,null,null,"18.01.05 Аппаратчик-оператор производства неорганических веществСреднее общее образованиеОчно-заочная","11Д57010501000209006100","18.01.05 Аппаратчик-оператор производства неорганических веществ","Среднее общее образование","Очно-заочная"]
[null,null,null,null,null,null,"18.01.06 Оператор производства стекловолокна, стекловолокнистых материалов и изделий стеклопластиковОсновное общее образованиеОчная","11Д57010601000101004100","18.01.06 Оператор производства стекловолокна, стекловолокнистых материалов и изделий стеклопластиков","Основное общее образование","Очная"]
[null,null,null,null,null,null,"18.01.06 Оператор производства стекловолокна, стекловолокнистых материалов и изделий стеклопластиковОсновное общее образованиеОчно-заочная","11Д57010601000109006100","18.01.06 Оператор производства стекловолокна, стекловолокнистых материалов и изделий стеклопластиков","Основное общее образование","Очно-заочная"]
[null,null,null,null,null,null,"18.01.06 Оператор производства стекловолокна, стекловолокнистых материалов и изделий стеклопластиковСреднее общее образованиеОчная","11Д57010601000201003100","18.01.06 Оператор производства стекловолокна, стекловолокнистых материалов и изделий стеклопластиков","Среднее общее образование","Очная"]
[null,null,null,null,null,null,"18.01.06 Оператор производства стекловолокна, стекловолокнистых материалов и изделий стеклопластиковСреднее общее образованиеОчно-заочная","11Д57010601000209005100","18.01.06 Оператор производства стекловолокна, стекловолокнистых материалов и изделий стеклопластиков","Среднее общее образование","Очно-заочная"]
[null,null,null,null,null,null,"18.01.07 Аппаратчик производства стекловолокнистых материалов и стеклопластиковОсновное общее образованиеОчная","11Д57010701000101003100","18.01.07 Аппаратчик производства стекловолокнистых материалов и стеклопластиков","Основное общее образование","Очная"]
[null,null,null,null,null,null,"18.01.07 Аппаратчик производства стекловолокнистых материалов и стеклопластиковОсновное общее образованиеОчно-заочная","11Д57010701000109005100","18.01.07 Аппаратчик производства стекловолокнистых материалов и стеклопластиков","Основное общее образование","Очно-заочная"]
[null,null,null,null,null,null,"18.01.07 Аппаратчик производства стекловолокнистых материалов и стеклопластиковСреднее общее образованиеОчная","11Д57010701000201002100","18.01.07 Аппаратчик производства стекловолокнистых материалов и стеклопластиков","Среднее общее образование","Очная"]
[null,null,null,null,null,null,"18.01.07 Аппаратчик производства стекловолокнистых материалов и стеклопластиковСреднее общее образованиеОчно-заочная","11Д57010701000209004100","18.01.07 Аппаратчик производства стекловолокнистых материалов и стеклопластиков","Среднее общее образование","Очно-заочная"]
[null,null,null,null,null,null,"18.01.08 Мастер-изготовитель деталей и изделий из стеклаОсновное общее образованиеОчная","11Д57010801000101002100","18.01.08 Мастер-изготовитель деталей и изделий из стекла","Основное общее образование","Очная"]
[null,null,null,null,null,null,"18.01.08 Мастер-изготовитель деталей и изделий из стеклаОсновное общее образованиеОчно-заочная","11Д57010801000109004100","18.01.08 Мастер-изготовитель деталей и изделий из стекла","Основное общее образование","Очно-заочная"]
[null,null,null,null,null,null,"18.01.08 Мастер-изготовитель деталей и изделий из стеклаСреднее общее образованиеОчная","11Д57010801000201001100","18.01.08 Мастер-изготовитель деталей и изделий из стекла","Среднее общее образование","Очная"]
[null,null,null,null,null,null,"18.01.08 Мастер-изготовитель деталей и изделий из стеклаСреднее общее образованиеОчно-заочная","11Д57010801000209003100","18.01.08 Мастер-изготовитель деталей и изделий из стекла","Среднее общее образование","Очно-заочная"]
[null,null,null,null,null,null,"18.01.09 Мастер-обработчик стекла и стеклоизделийОсновное общее образованиеОчная","11Д57010901000101001100","18.01.09 Мастер-обработчик стекла и стеклоизделий","Основное общее образование","Очная"]
[null,null,null,null,null,null,"18.01.09 Мастер-обработчик стекла и стеклоизделийОсновное общее образованиеОчно-заочная","11Д57010901000109003100","18.01.09 Мастер-обработчик стекла и стеклоизделий","Основное общее образование","Очно-заочная"]
[null,null,null,null,null,null,"18.01.09 Мастер-обработчик стекла и стеклоизделийСреднее общее образованиеОчная","11Д57010901000201000100","18.01.09 Мастер-обработчик стекла и стеклоизделий","Среднее общее образование","Очная"]
[null,null,null,null,null,null,"18.01.09 Мастер-обработчик стекла и стеклоизделийСреднее общее образованиеОчно-заочная","11Д57010901000209002100","18.01.09 Мастер-обработчик стекла и стеклоизделий","Среднее общее образование","Очно-заочная"]
[null,null,null,null,null,null,"18.01.10 Отдельщик и резчик стеклаОсновное общее образованиеОчная","11Д57011001000101008100","18.01.10 Отдельщик и резчик стекла","Основное общее образование","Очная"]
[null,null,null,null,null,null,"18.01.10 Отдельщик и резчик стеклаОсновное общее образованиеОчно-заочная","11Д57011001000109000100","18.01.10 Отдельщик и резчик стекла","Основное общее образование","Очно-заочная"]
[null,null,null,null,null,null,"18.01.10 Отдельщик и резчик стеклаСреднее общее образованиеОчная","11Д57011001000201007100","18.01.10 Отдельщик и резчик стекла","Среднее общее образование","Очная"]
[null,null,null,null,null,null,"18.01.10 Отдельщик и резчик стеклаСреднее общее образованиеОчно-заочная","11Д57011001000209009100","18.01.10 Отдельщик и резчик стекла","Среднее общее образование","Очно-заочная"]
[null,null,null,null,null,null,"18.01.11 Контролер стекольного производстваОсновное общее образованиеОчная","11Д57011101000101007100","18.01.11 Контролер стекольного производства","Основное общее образование","Очная"]
[null,null,null,null,null,null,"18.01.11 Контролер стекольного производстваОсновное общее образованиеОчно-заочная","11Д57011101000109009100","18.01.11 Контролер стекольного производства","Основное общее образование","Очно-заочная"]
[null,null,null,null,null,null,"18.01.11 Контролер стекольного производстваСреднее общее образованиеОчная","11Д57011101000201006100","18.01.11 Контролер стекольного производства","Среднее общее образование","Очная"]
[null,null,null,null,null,null,"18.01.11 Контролер стекольного производстваСреднее общее образованиеОчно-заочная","11Д57011101000209008100","18.01.11 Контролер стекольного производства","Среднее общее образование","Очно-заочная"]
[null,null,null,null,null,null,"18.01.12 Изготовитель фарфоровых и фаянсовых изделийОсновное общее образованиеОчная","11Д57011201000101006100","18.01.12 Изготовитель фарфоровых и фаянсовых изделий","Основное общее образование","Очная"]
[null,null,null,null,null,null,"18.01.12 Изготовитель фарфоровых и фаянсовых изделийОсновное общее образованиеОчно-заочная","11Д57011201000109008100","18.01.12 Изготовитель фарфоровых и фаянсовых изделий","Основное общее образование","Очно-заочная"]
[null,null,null,null,null,null,"18.01.12 Изготовитель фарфоровых и фаянсовых изделийСреднее общее образованиеОчная","11Д57011201000201005100","18.01.12 Изготовитель фарфоровых и фаянсовых изделий","Среднее общее образование","Очная"]
[null,null,null,null,null,null,"18.01.12 Изготовитель фарфоровых и фаянсовых изделийСреднее общее образованиеОчно-заочная","11Д57011201000209007100","18.01.12 Изготовитель фарфоровых и фаянсовых изделий","Среднее общее образование","Очно-заочная"]
[null,null,null,null,null,null,"18.01.13 Отделочник и комплектовщик фарфоровых и фаянсовых изделийОсновное общее образованиеОчная","11Д57011301000101005100","18.01.13 Отделочник и комплектовщик фарфоровых и фаянсовых изделий","Основное общее образование","Очная"]
[null,null,null,null,null,null,"18.01.13 Отделочник и комплектовщик фарфоровых и фаянсовых изделийОсновное общее образованиеОчно-заочная","11Д57011301000109007100","18.01.13 Отделочник и комплектовщик фарфоровых и фаянсовых изделий","Основное общее образование","Очно-заочная"]
[null,null,null,null,null,null,"18.01.13 Отделочник и комплектовщик фарфоровых и фаянсовых изделийСреднее общее образованиеОчная","11Д57011301000201004100","18.01.13 Отделочник и комплектовщик фарфоровых и фаянсовых изделий","Среднее общее образование","Очная"]
[null,null,null,null,null,null,"18.01.13 Отделочник и комплектовщик фарфоровых и фаянсовых изделийСреднее общее образованиеОчно-заочная","11Д57011301000209006100","18.01.13 Отделочник и комплектовщик фарфоровых и фаянсовых изделий","Среднее общее образование","Очно-заочная"]
[null,null,null,null,null,null,"18.01.14 Контролер-приемщик фарфоровых, фаянсовых и керамических изделийОсновное общее образованиеОчная","11Д57011401000101004100","18.01.14 Контролер-приемщик фарфоровых, фаянсовых и керамических изделий","Основное общее образование","Очная"]
[null,null,null,null,null,null,"18.01.14 Контролер-приемщик фарфоровых, фаянсовых и керамических изделийОсновное общее образованиеОчно-заочная","11Д57011401000109006100","18.01.14 Контролер-приемщик фарфоровых, фаянсовых и керамических изделий","Основное общее образование","Очно-заочная"]
[null,null,null,null,null,null,"18.01.14 Контролер-приемщик фарфоровых, фаянсовых и керамических изделийСреднее общее образованиеОчная","11Д57011401000201003100","18.01.14 Контролер-приемщик фарфоровых, фаянсовых и керамических изделий","Среднее общее образование","Очная"]
[null,null,null,null,null,null,"18.01.14 Контролер-приемщик фарфоровых, фаянсовых и керамических изделийСреднее общее образованиеОчно-заочная","11Д57011401000209005100","18.01.14 Контролер-приемщик фарфоровых, фаянсовых и керамических изделий","Среднее общее образование","Очно-заочная"]
[null,null,null,null,null,null,"18.01.15 Изготовитель эмалированной посудыОсновное общее образованиеОчная","11Д57011501000101003100","18.01.15 Изготовитель эмалированной посуды","Основное общее образование","Очная"]
[null,null,null,null,null,null,"18.01.15 Изготовитель эмалированной посудыОсновное общее образованиеОчно-заочная","11Д57011501000109005100","18.01.15 Изготовитель эмалированной посуды","Основное общее образование","Очно-заочная"]
[null,null,null,null,null,null,"18.01.15 Изготовитель эмалированной посудыСреднее общее образованиеОчная","11Д57011501000201002100","18.01.15 Изготовитель эмалированной посуды","Среднее общее образование","Очная"]
[null,null,null,null,null,null,"18.01.15 Изготовитель эмалированной посудыСреднее общее образованиеОчно-заочная","11Д57011501000209004100","18.01.15 Изготовитель эмалированной посуды","Среднее общее образование","Очно-заочная"]
[null,null,null,null,null,null,"18.01.16 Аппаратчик в производстве химических волоконОсновное общее образованиеОчная","11Д57011601000101002100","18.01.16 Аппаратчик в производстве химических волокон","Основное общее образование","Очная"]
[null,null,null,null,null,null,"18.01.16 Аппаратчик в производстве химических волоконОсновное общее образованиеОчно-заочная","11Д57011601000109004100","18.01.16 Аппаратчик в производстве химических волокон","Основное общее образование","Очно-заочная"]
[null,null,null,null,null,null,"18.01.16 Аппаратчик в производстве химических волоконСреднее общее образованиеОчная","11Д57011601000201001100","18.01.16 Аппаратчик в производстве химических волокон","Среднее общее образование","Очная"]
[null,null,null,null,null,null,"18.01.16 Аппаратчик в производстве химических волоконСреднее общее образованиеОчно-заочная","11Д57011601000209003100","18.01.16 Аппаратчик в производстве химических волокон","Среднее общее образование","Очно-заочная"]
[null,null,null,null,null,null,"18.01.17 Оператор в производстве химических волоконОсновное общее образованиеОчная","11Д57011701000101001100","18.01.17 Оператор в производстве химических волокон","Основное общее образование","Очная"]
[null,null,null,null,null,null,"18.01.17 Оператор в производстве химических волоконОсновное общее образованиеОчно-заочная","11Д57011701000109003100","18.01.17 Оператор в производстве химических волокон","Основное общее образование","Очно-заочная"]
[null,null,null,null,null,null,"18.01.17 Оператор в производстве химических волоконСреднее общее образованиеОчная","11Д57011701000201000100","18.01.17 Оператор в производстве химических волокон","Среднее общее образование","Очная"]
[null,null,null,null,null,null,"18.01.17 Оператор в производстве химических волоконСреднее общее образованиеОчно-заочная","11Д57011701000209002100","18.01.17 Оператор в производстве химических волокон","Среднее общее образование","Очно-заочная"]
[null,null,null,null,null,null,"18.01.18 Аппаратчик производства синтетических смол и пластических массОсновное общее образованиеОчная","11Д57011801000101000100","18.01.18 Аппаратчик производства синтетических смол и пластических масс","Основное общее образование","Очная"]
[null,null,null,null,null,null,"18.01.18 Аппаратчик производства синтетических смол и пластических массОсновное общее образованиеОчно-заочная","11Д57011801000109002100","18.01.18 Аппаратчик производства синтетических смол и пластических масс","Основное общее образование","Очно-заочная"]
[null,null,null,null,null,null,"18.01.18 Аппаратчик производства синтетических смол и пластических массСреднее общее образованиеОчная","11Д57011801000201009100","18.01.18 Аппаратчик производства синтетических смол и пластических масс","Среднее общее образование","Очная"]
[null,null,null,null,null,null,"18.01.18 Аппаратчик производства синтетических смол и пластических массСреднее общее образованиеОчно-заочная","11Д57011801000209001100","18.01.18 Аппаратчик производства синтетических смол и пластических масс","Среднее общее образование","Очно-заочная"]
[null,null,null,null,null,null,"18.01.19 Машинист-оператор в производстве изделий из пластмассОсновное общее образованиеОчная","11Д57011901000101009100","18.01.19 Машинист-оператор в производстве изделий из пластмасс","Основное общее образование","Очная"]
[null,null,null,null,null,null,"18.01.19 Машинист-оператор в производстве изделий из пластмассОсновное общее образованиеОчно-заочная","11Д57011901000109001100","18.01.19 Машинист-оператор в производстве изделий из пластмасс","Основное общее образование","Очно-заочная"]
[null,null,null,null,null,null,"18.01.19 Машинист-оператор в производстве изделий из пластмассСреднее общее образованиеОчная","11Д57011901000201008100","18.01.19 Машинист-оператор в производстве изделий из пластмасс","Среднее общее образование","Очная"]
[null,null,null,null,null,null,"18.01.19 Машинист-оператор в производстве изделий из пластмассСреднее общее образованиеОчно-заочная","11Д57011901000209000100","18.01.19 Машинист-оператор в производстве изделий из пластмасс","Среднее общее образование","Очно-заочная"]
[null,null,null,null,null,null,"18.01.20 Прессовщик изделий из пластмассОсновное общее образованиеОчная","11Д57012001000101006100","18.01.20 Прессовщик изделий из пластмасс","Основное общее образование","Очная"]
[null,null,null,null,null,null,"18.01.20 Прессовщик изделий из пластмассОсновное общее образованиеОчно-заочная","11Д57012001000109008100","18.01.20 Прессовщик изделий из пластмасс","Основное общее образование","Очно-заочная"]
[null,null,null,null,null,null,"18.01.20 Прессовщик изделий из пластмассСреднее общее образованиеОчная","11Д57012001000201005100","18.01.20 Прессовщик изделий из пластмасс","Среднее общее образование","Очная"]
[null,null,null,null,null,null,"18.01.20 Прессовщик изделий из пластмассСреднее общее образованиеОчно-заочная","11Д57012001000209007100","18.01.20 Прессовщик изделий из пластмасс","Среднее общее образование","Очно-заочная"]
[null,null,null,null,null,null,"18.01.21 Машинист-аппаратчик подготовительных процессов в производстве резиновых смесей, резиновых технических изделий и шинОсновное общее образованиеОчная","11Д57012101000101005100","18.01.21 Машинист-аппаратчик подготовительных процессов в производстве резиновых смесей, резиновых технических изделий и шин","Основное общее образование","Очная"]
[null,null,null,null,null,null,{"$f":"I451&J451&K451","v":"18.01.21 Машинист-аппаратчик подготовительных процессов в производстве резиновых смесей, резиновых технических изделий и шинОсновное общее образованиеОчно-заочная"},"11Д57012101000109007100","18.01.21 Машинист-аппаратчик подготовительных процессов в производстве резиновых смесей, резиновых технических изделий и шин","Основное общее образование","Очно-заочная"]
[null,null,null,null,null,null,"18.01.21 Машинист-аппаратчик подготовительных процессов в производстве резиновых смесей, резиновых технических изделий и шинСреднее общее образованиеОчная","11Д57012101000201004100","18.01.21 Машинист-аппаратчик подготовительных процессов в производстве резиновых смесей, резиновых технических изделий и шин","Среднее общее образование","Очная"]
[null,null,null,null,null,null,"18.01.21 Машинист-аппаратчик подготовительных процессов в производстве резиновых смесей, резиновых технических изделий и шинСреднее общее образованиеОчно-заочная","11Д57012101000209006100","18.01.21 Машинист-аппаратчик подготовительных процессов в производстве резиновых смесей, резиновых технических изделий и шин","Среднее общее образование","Очно-заочная"]
[null,null,null,null,null,null,"18.01.22 Оператор в производстве шинОсновное общее образованиеОчная","11Д57012201000101004100","18.01.22 Оператор в производстве шин","Основное общее образование","Очная"]
[null,null,null,null,null,null,"18.01.22 Оператор в производстве шинОсновное общее образованиеОчно-заочная","11Д57012201000109006100","18.01.22 Оператор в производстве шин","Основное общее образование","Очно-заочная"]
[null,null,null,null,null,null,"18.01.22 Оператор в производстве шинСреднее общее образованиеОчная","11Д57012201000201003100","18.01.22 Оператор в производстве шин","Среднее общее образование","Очная"]
[null,null,null,null,null,null,"18.01.22 Оператор в производстве шинСреднее общее образованиеОчно-заочная","11Д57012201000209005100","18.01.22 Оператор в производстве шин","Среднее общее образование","Очно-заочная"]
[null,null,null,null,null,null,"18.01.23 Оператор процессов вулканизацииОсновное общее образованиеОчная","11Д57012301000101003100","18.01.23 Оператор процессов вулканизации","Основное общее образование","Очная"]
[null,null,null,null,null,null,"18.01.23 Оператор процессов вулканизацииОсновное общее образованиеОчно-заочная","11Д57012301000109005100","18.01.23 Оператор процессов вулканизации","Основное общее образование","Очно-заочная"]
[null,null,null,null,null,null,"18.01.23 Оператор процессов вулканизацииСреднее общее образованиеОчная","11Д57012301000201002100","18.01.23 Оператор процессов вулканизации","Среднее общее образование","Очная"]
[null,null,null,null,null,null,"18.01.23 Оператор процессов вулканизацииСреднее общее образованиеОчно-заочная","11Д57012301000209004100","18.01.23 Оператор процессов вулканизации","Среднее общее образование","Очно-заочная"]
[null,null,null,null,null,null,"18.01.24 Мастер шиномонтажной мастерскойОсновное общее образованиеОчная","11Д57012401000101002100","18.01.24 Мастер шиномонтажной мастерской","Основное общее образование","Очная"]
[null,null,null,null,null,null,"18.01.24 Мастер шиномонтажной мастерскойОсновное общее образованиеОчно-заочная","11Д57012401000109004100","18.01.24 Мастер шиномонтажной мастерской","Основное общее образование","Очно-заочная"]
[null,null,null,null,null,null,"18.01.24 Мастер шиномонтажной мастерскойСреднее общее образованиеОчная","11Д57012401000201001100","18.01.24 Мастер шиномонтажной мастерской","Среднее общее образование","Очная"]
[null,null,null,null,null,null,"18.01.24 Мастер шиномонтажной мастерскойСреднее общее образованиеОчно-заочная","11Д57012401000209003100","18.01.24 Мастер шиномонтажной мастерской","Среднее общее образование","Очно-заочная"]
[null,null,null,null,null,null,"18.01.25 Оператор в производстве резиновых технических изделий и обувиОсновное общее образованиеОчная","11Д57012501000101001100","18.01.25 Оператор в производстве резиновых технических изделий и обуви","Основное общее образование","Очная"]
[null,null,null,null,null,null,"18.01.25 Оператор в производстве резиновых технических изделий и обувиОсновное общее образованиеОчно-заочная","11Д57012501000109003100","18.01.25 Оператор в производстве резиновых технических изделий и обуви","Основное общее образование","Очно-заочная"]
[null,null,null,null,null,null,"18.01.25 Оператор в производстве резиновых технических изделий и обувиСреднее общее образованиеОчная","11Д57012501000201000100","18.01.25 Оператор в производстве резиновых технических изделий и обуви","Среднее общее образование","Очная"]
[null,null,null,null,null,null,"18.01.25 Оператор в производстве резиновых технических изделий и обувиСреднее общее образованиеОчно-заочная","11Д57012501000209002100","18.01.25 Оператор в производстве резиновых технических изделий и обуви","Среднее общее образование","Очно-заочная"]
[null,null,null,null,null,null,"18.01.26 Аппаратчик-оператор нефтехимического производстваОсновное общее образованиеОчная","11Д57012601000101000100","18.01.26 Аппаратчик-оператор нефтехимического производства","Основное общее образование","Очная"]
[null,null,null,null,null,null,"18.01.26 Аппаратчик-оператор нефтехимического производстваОсновное общее образованиеОчно-заочная","11Д57012601000109002100","18.01.26 Аппаратчик-оператор нефтехимического производства","Основное общее образование","Очно-заочная"]
[null,null,null,null,null,null,"18.01.26 Аппаратчик-оператор нефтехимического производстваСреднее общее образованиеОчная","11Д57012601000201009100","18.01.26 Аппаратчик-оператор нефтехимического производства","Среднее общее образование","Очная"]
[null,null,null,null,null,null,"18.01.26 Аппаратчик-оператор нефтехимического производстваСреднее общее образованиеОчно-заочная","11Д57012601000209001100","18.01.26 Аппаратчик-оператор нефтехимического производства","Среднее общее образование","Очно-заочная"]
[null,null,null,null,null,null,"18.01.27 Машинист технологических насосов и компрессоровОсновное общее образованиеОчная","11Д57012701000101009100","18.01.27 Машинист технологических насосов и компрессоров","Основное общее образование","Очная"]
[null,null,null,null,null,null,"18.01.27 Машинист технологических насосов и компрессоровОсновное общее образованиеОчно-заочная","11Д57012701000109001100","18.01.27 Машинист технологических насосов и компрессоров","Основное общее образование","Очно-заочная"]
[null,null,null,null,null,null,"18.01.27 Машинист технологических насосов и компрессоровСреднее общее образованиеОчная","11Д57012701000201008100","18.01.27 Машинист технологических насосов и компрессоров","Среднее общее образование","Очная"]
[null,null,null,null,null,null,"18.01.27 Машинист технологических насосов и компрессоровСреднее общее образованиеОчно-заочная","11Д57012701000209000100","18.01.27 Машинист технологических насосов и компрессоров","Среднее общее образование","Очно-заочная"]
[null,null,null,null,null,null,"18.01.28 Оператор нефтепереработкиОсновное общее образованиеОчная","11Д57012801000101008100","18.01.28 Оператор нефтепереработки","Основное общее образование","Очная"]
[null,null,null,null,null,null,"18.01.28 Оператор нефтепереработкиОсновное общее образованиеОчно-заочная","11Д57012801000109000100","18.01.28 Оператор нефтепереработки","Основное общее образование","Очно-заочная"]
[null,null,null,null,null,null,"18.01.28 Оператор нефтепереработкиСреднее общее образованиеОчная","11Д57012801000201007100","18.01.28 Оператор нефтепереработки","Среднее общее образование","Очная"]
[null,null,null,null,null,null,"18.01.28 Оператор нефтепереработкиСреднее общее образованиеОчно-заочная","11Д57012801000209009100","18.01.28 Оператор нефтепереработки","Среднее общее образование","Очно-заочная"]
[null,null,null,null,null,null,"18.01.29 Мастер по обслуживанию магистральных трубопроводовОсновное общее образованиеОчная","11Д57012901000101007100","18.01.29 Мастер по обслуживанию магистральных трубопроводов","Основное общее образование","Очная"]
[null,null,null,null,null,null,"18.01.29 Мастер по обслуживанию магистральных трубопроводовОсновное общее образованиеОчно-заочная","11Д57012901000109009100","18.01.29 Мастер по обслуживанию магистральных трубопроводов","Основное общее образование","Очно-заочная"]
[null,null,null,null,null,null,"18.01.29 Мастер по обслуживанию магистральных трубопроводовСреднее общее образованиеОчная","11Д57012901000201006100","18.01.29 Мастер по обслуживанию магистральных трубопроводов","Среднее общее образование","Очная"]
[null,null,null,null,null,null,"18.01.29 Мастер по обслуживанию магистральных трубопроводовСреднее общее образованиеОчно-заочная","11Д57012901000209008100","18.01.29 Мастер по обслуживанию магистральных трубопроводов","Среднее общее образование","Очно-заочная"]
[null,null,null,null,null,null,"18.01.30 Аппаратчик-оператор коксохимического производстваОсновное общее образованиеОчная","11Д57013001000101004100","18.01.30 Аппаратчик-оператор коксохимического производства","Основное общее образование","Очная"]
[null,null,null,null,null,null,"18.01.30 Аппаратчик-оператор коксохимического производстваОсновное общее образованиеОчно-заочная","11Д57013001000109006100","18.01.30 Аппаратчик-оператор коксохимического производства","Основное общее образование","Очно-заочная"]
[null,null,null,null,null,null,"18.01.30 Аппаратчик-оператор коксохимического производстваСреднее общее образованиеОчная","11Д57013001000201003100","18.01.30 Аппаратчик-оператор коксохимического производства","Среднее общее образование","Очная"]
[null,null,null,null,null,null,"18.01.30 Аппаратчик-оператор коксохимического производстваСреднее общее образованиеОчно-заочная","11Д57013001000209005100","18.01.30 Аппаратчик-оператор коксохимического производства","Среднее общее образование","Очно-заочная"]
[null,null,null,null,null,null,"18.01.31 Машинист машин коксохимического производстваОсновное общее образованиеОчная","11Д57013101000101003100","18.01.31 Машинист машин коксохимического производства","Основное общее образование","Очная"]
[null,null,null,null,null,null,"18.01.31 Машинист машин коксохимического производстваОсновное общее образованиеОчно-заочная","11Д57013101000109005100","18.01.31 Машинист машин коксохимического производства","Основное общее образование","Очно-заочная"]
[null,null,null,null,null,null,"18.01.31 Машинист машин коксохимического производстваСреднее общее образованиеОчная","11Д57013101000201002100","18.01.31 Машинист машин коксохимического производства","Среднее общее образование","Очная"]
[null,null,null,null,null,null,"18.01.31 Машинист машин коксохимического производстваСреднее общее образованиеОчно-заочная","11Д57013101000209004100","18.01.31 Машинист машин коксохимического производства","Среднее общее образование","Очно-заочная"]
[null,null,null,null,null,null,"18.01.32 Аппаратчик-оператор азотных производств и продуктов органического синтезаОсновное общее образованиеОчная","11Д57013201000101002100","18.01.32 Аппаратчик-оператор азотных производств и продуктов органического синтеза","Основное общее образование","Очная"]
[null,null,null,null,null,null,"18.01.32 Аппаратчик-оператор азотных производств и продуктов органического синтезаОсновное общее образованиеОчно-заочная","11Д57013201000109004100","18.01.32 Аппаратчик-оператор азотных производств и продуктов органического синтеза","Основное общее образование","Очно-заочная"]
[null,null,null,null,null,null,"18.01.32 Аппаратчик-оператор азотных производств и продуктов органического синтезаСреднее общее образованиеОчная","11Д57013201000201001100","18.01.32 Аппаратчик-оператор азотных производств и продуктов органического синтеза","Среднее общее образование","Очная"]
[null,null,null,null,null,null,"18.01.32 Аппаратчик-оператор азотных производств и продуктов органического синтезаСреднее общее образованиеОчно-заочная","11Д57013201000209003100","18.01.32 Аппаратчик-оператор азотных производств и продуктов органического синтеза","Среднее общее образование","Очно-заочная"]
[null,null,null,null,null,null,"19.01.01 Аппаратчик-оператор в биотехнологииОсновное общее образованиеОчная","11Д57013401000101000100","19.01.01 Аппаратчик-оператор в биотехнологии","Основное общее образование","Очная"]
[null,null,null,null,null,null,"19.01.01 Аппаратчик-оператор в биотехнологииОсновное общее образованиеОчно-заочная","11Д57013401000109002100","19.01.01 Аппаратчик-оператор в биотехнологии","Основное общее образование","Очно-заочная"]
[null,null,null,null,null,null,"19.01.01 Аппаратчик-оператор в биотехнологииСреднее общее образованиеОчная","11Д57013401000201009100","19.01.01 Аппаратчик-оператор в биотехнологии","Среднее общее образование","Очная"]
[null,null,null,null,null,null,"19.01.01 Аппаратчик-оператор в биотехнологииСреднее общее образованиеОчно-заочная","11Д57013401000209001100","19.01.01 Аппаратчик-оператор в биотехнологии","Среднее общее образование","Очно-заочная"]
[null,null,null,null,null,null,"19.01.02 Лаборант-аналитикОсновное общее образованиеОчная","11Д57013501000101009100","19.01.02 Лаборант-аналитик","Основное общее образование","Очная"]
[null,null,null,null,null,null,"19.01.02 Лаборант-аналитикОсновное общее образованиеОчно-заочная","11Д57013501000109001100","19.01.02 Лаборант-аналитик","Основное общее образование","Очно-заочная"]
[null,null,null,null,null,null,"19.01.02 Лаборант-аналитикСреднее общее образованиеОчная","11Д57013501000201008100","19.01.02 Лаборант-аналитик","Среднее общее образование","Очная"]
[null,null,null,null,null,null,"19.01.02 Лаборант-аналитикСреднее общее образованиеОчно-заочная","11Д57013501000209000100","19.01.02 Лаборант-аналитик","Среднее общее образование","Очно-заочная"]
[null,null,null,null,null,null,"19.01.03 Аппаратчик элеваторного, мукомольного, крупяного и комбикормового производстваОсновное общее образованиеОчная","11Д57013601000101008100","19.01.03 Аппаратчик элеваторного, мукомольного, крупяного и комбикормового производства","Основное общее образование","Очная"]
[null,null,null,null,null,null,"19.01.03 Аппаратчик элеваторного, мукомольного, крупяного и комбикормового производстваОсновное общее образованиеОчно-заочная","11Д57013601000109000100","19.01.03 Аппаратчик элеваторного, мукомольного, крупяного и комбикормового производства","Основное общее образование","Очно-заочная"]
[null,null,null,null,null,null,"19.01.03 Аппаратчик элеваторного, мукомольного, крупяного и комбикормового производстваСреднее общее образованиеОчная","11Д57013601000201007100","19.01.03 Аппаратчик элеваторного, мукомольного, крупяного и комбикормового производства","Среднее общее образование","Очная"]
[null,null,null,null,null,null,"19.01.03 Аппаратчик элеваторного, мукомольного, крупяного и комбикормового производстваСреднее общее образованиеОчно-заочная","11Д57013601000209009100","19.01.03 Аппаратчик элеваторного, мукомольного, крупяного и комбикормового производства","Среднее общее образование","Очно-заочная"]
[null,null,null,null,null,null,"19.01.04 ПекарьОсновное общее образованиеОчная","11Д57013701000101007100","19.01.04 Пекарь","Основное общее образование","Очная"]
[null,null,null,null,null,null,"19.01.04 ПекарьОсновное общее образованиеОчно-заочная","11Д57013701000109009100","19.01.04 Пекарь","Основное общее образование","Очно-заочная"]
[null,null,null,null,null,null,"19.01.04 ПекарьСреднее общее образованиеОчная","11Д57013701000201006100","19.01.04 Пекарь","Среднее общее образование","Очная"]
[null,null,null,null,null,null,"19.01.04 ПекарьСреднее общее образованиеОчно-заочная","11Д57013701000209008100","19.01.04 Пекарь","Среднее общее образование","Очно-заочная"]
[null,null,null,null,null,null,"19.01.05 Оператор поточно-автоматической линии (макаронное производство)Основное общее образованиеОчная","11Д57013801000101006100","19.01.05 Оператор поточно-автоматической линии (макаронное производство)","Основное общее образование","Очная"]
[null,null,null,null,null,null,{"$f":"I515&J515&K515","v":"19.01.05 Оператор поточно-автоматической линии (макаронное производство)Основное общее образованиеОчно-заочная"},"11Д57013801000109008100","19.01.05 Оператор поточно-автоматической линии (макаронное производство)","Основное общее образование","Очно-заочная"]
[null,null,null,null,null,null,"19.01.05 Оператор поточно-автоматической линии (макаронное производство)Среднее общее образованиеОчная","11Д57013801000201005100","19.01.05 Оператор поточно-автоматической линии (макаронное производство)","Среднее общее образование","Очная"]
[null,null,null,null,null,null,"19.01.05 Оператор поточно-автоматической линии (макаронное производство)Среднее общее образованиеОчно-заочная","11Д57013801000209007100","19.01.05 Оператор поточно-автоматической линии (макаронное производство)","Среднее общее образование","Очно-заочная"]
[null,null,null,null,null,null,"19.01.06 Аппаратчик производства сахараОсновное общее образованиеОчная","11Д57013901000101005100","19.01.06 Аппаратчик производства сахара","Основное общее образование","Очная"]
[null,null,null,null,null,null,"19.01.06 Аппаратчик производства сахараОсновное общее образованиеОчно-заочная","11Д57013901000109007100","19.01.06 Аппаратчик производства сахара","Основное общее образование","Очно-заочная"]
[null,null,null,null,null,null,"19.01.06 Аппаратчик производства сахараСреднее общее образованиеОчная","11Д57013901000201004100","19.01.06 Аппаратчик производства сахара","Среднее общее образование","Очная"]
[null,null,null,null,null,null,"19.01.06 Аппаратчик производства сахараСреднее общее образованиеОчно-заочная","11Д57013901000209006100","19.01.06 Аппаратчик производства сахара","Среднее общее образование","Очно-заочная"]
[null,null,null,null,null,null,"19.01.07 Кондитер сахаристых изделийОсновное общее образованиеОчная","11Д57014001000101002100","19.01.07 Кондитер сахаристых изделий","Основное общее образование","Очная"]
[null,null,null,null,null,null,"19.01.07 Кондитер сахаристых изделийОсновное общее образованиеОчно-заочная","11Д57014001000109004100","19.01.07 Кондитер сахаристых изделий","Основное общее образование","Очно-заочная"]
[null,null,null,null,null,null,"19.01.07 Кондитер сахаристых изделийСреднее общее образованиеОчная","11Д57014001000201001100","19.01.07 Кондитер сахаристых изделий","Среднее общее образование","Очная"]
[null,null,null,null,null,null,"19.01.07 Кондитер сахаристых изделийСреднее общее образованиеОчно-заочная","11Д57014001000209003100","19.01.07 Кондитер сахаристых изделий","Среднее общее образование","Очно-заочная"]
[null,null,null,null,null,null,"19.01.08 ПивоварОсновное общее образованиеОчная","11Д57014101000101001100","19.01.08 Пивовар","Основное общее образование","Очная"]
[null,null,null,null,null,null,"19.01.08 ПивоварОсновное общее образованиеОчно-заочная","11Д57014101000109003100","19.01.08 Пивовар","Основное общее образование","Очно-заочная"]
[null,null,null,null,null,null,"19.01.08 ПивоварСреднее общее образованиеОчная","11Д57014101000201000100","19.01.08 Пивовар","Среднее общее образование","Очная"]
[null,null,null,null,null,null,"19.01.08 ПивоварСреднее общее образованиеОчно-заочная","11Д57014101000209002100","19.01.08 Пивовар","Среднее общее образование","Очно-заочная"]
[null,null,null,null,null,null,"19.01.09 Наладчик оборудования в производстве пищевой продукции (по отраслям производства)Основное общее образованиеОчная","11Д57014201000101000100","19.01.09 Наладчик оборудования в производстве пищевой продукции (по отраслям производства)","Основное общее образование","Очная"]
[null,null,null,null,null,null,"19.01.09 Наладчик оборудования в производстве пищевой продукции (по отраслям производства)Основное общее образованиеОчно-заочная","11Д57014201000109002100","19.01.09 Наладчик оборудования в производстве пищевой продукции (по отраслям производства)","Основное общее образование","Очно-заочная"]
[null,null,null,null,null,null,"19.01.09 Наладчик оборудования в производстве пищевой продукции (по отраслям производства)Среднее общее образованиеОчная","11Д57014201000201009100","19.01.09 Наладчик оборудования в производстве пищевой продукции (по отраслям производства)","Среднее общее образование","Очная"]
[null,null,null,null,null,null,"19.01.09 Наладчик оборудования в производстве пищевой продукции (по отраслям производства)Среднее общее образованиеОчно-заочная","11Д57014201000209001100","19.01.09 Наладчик оборудования в производстве пищевой продукции (по отраслям производства)","Среднее общее образование","Очно-заочная"]
[null,null,null,null,null,null,"19.01.10 Мастер производства молочной продукцииОсновное общее образованиеОчная","11Д57014301000101009100","19.01.10 Мастер производства молочной продукции","Основное общее образование","Очная"]
[null,null,null,null,null,null,"19.01.10 Мастер производства молочной продукцииОсновное общее образованиеОчно-заочная","11Д57014301000109001100","19.01.10 Мастер производства молочной продукции","Основное общее образование","Очно-заочная"]
[null,null,null,null,null,null,"19.01.10 Мастер производства молочной продукцииСреднее общее образованиеОчная","11Д57014301000201008100","19.01.10 Мастер производства молочной продукции","Среднее общее образование","Очная"]
[null,null,null,null,null,null,"19.01.10 Мастер производства молочной продукцииСреднее общее образованиеОчно-заочная","11Д57014301000209000100","19.01.10 Мастер производства молочной продукции","Среднее общее образование","Очно-заочная"]
[null,null,null,null,null,null,"19.01.11 Изготовитель мороженогоОсновное общее образованиеОчная","11Д57014401000101008100","19.01.11 Изготовитель мороженого","Основное общее образование","Очная"]
[null,null,null,null,null,null,"19.01.11 Изготовитель мороженогоОсновное общее образованиеОчно-заочная","11Д57014401000109000100","19.01.11 Изготовитель мороженого","Основное общее образование","Очно-заочная"]
[null,null,null,null,null,null,"19.01.11 Изготовитель мороженогоСреднее общее образованиеОчная","11Д57014401000201007100","19.01.11 Изготовитель мороженого","Среднее общее образование","Очная"]
[null,null,null,null,null,null,"19.01.11 Изготовитель мороженогоСреднее общее образованиеОчно-заочная","11Д57014401000209009100","19.01.11 Изготовитель мороженого","Среднее общее образование","Очно-заочная"]
[null,null,null,null,null,null,"19.01.12 Переработчик скота и мясаОсновное общее образованиеОчная","11Д57014501000101007100","19.01.12 Переработчик скота и мяса","Основное общее образование","Очная"]
[null,null,null,null,null,null,"19.01.12 Переработчик скота и мясаОсновное общее образованиеОчно-заочная","11Д57014501000109009100","19.01.12 Переработчик скота и мяса","Основное общее образование","Очно-заочная"]
[null,null,null,null,null,null,"19.01.12 Переработчик скота и мясаСреднее общее образованиеОчная","11Д57014501000201006100","19.01.12 Переработчик скота и мяса","Среднее общее образование","Очная"]
[null,null,null,null,null,null,"19.01.12 Переработчик скота и мясаСреднее общее образованиеОчно-заочная","11Д57014501000209008100","19.01.12 Переработчик скота и мяса","Среднее общее образование","Очно-заочная"]
[null,null,null,null,null,null,"19.01.13 Обработчик птицы и кроликовОсновное общее образованиеОчная","11Д57014601000101006100","19.01.13 Обработчик птицы и кроликов","Основное общее образование","Очная"]
[null,null,null,null,null,null,"19.01.13 Обработчик птицы и кроликовОсновное общее образованиеОчно-заочная","11Д57014601000109008100","19.01.13 Обработчик птицы и кроликов","Основное общее образование","Очно-заочная"]
[null,null,null,null,null,null,"19.01.13 Обработчик птицы и кроликовСреднее общее образованиеОчная","11Д57014601000201005100","19.01.13 Обработчик птицы и кроликов","Среднее общее образование","Очная"]
[null,null,null,null,null,null,"19.01.13 Обработчик птицы и кроликовСреднее общее образованиеОчно-заочная","11Д57014601000209007100","19.01.13 Обработчик птицы и кроликов","Среднее общее образование","Очно-заочная"]
[null,null,null,null,null,null,"19.01.14 Оператор процессов колбасного производстваОсновное общее образованиеОчная","11Д57014701000101005100","19.01.14 Оператор процессов колбасного производства","Основное общее образование","Очная"]
[null,null,null,null,null,null,"19.01.14 Оператор процессов колбасного производстваОсновное общее образованиеОчно-заочная","11Д57014701000109007100","19.01.14 Оператор процессов колбасного производства","Основное общее образование","Очно-заочная"]
[null,null,null,null,null,null,"19.01.14 Оператор процессов колбасного производстваСреднее общее образованиеОчная","11Д57014701000201004100","19.01.14 Оператор процессов колбасного производства","Среднее общее образование","Очная"]
[null,null,null,null,null,null,"19.01.14 Оператор процессов колбасного производстваСреднее общее образованиеОчно-заочная","11Д57014701000209006100","19.01.14 Оператор процессов колбасного производства","Среднее общее образование","Очно-заочная"]
[null,null,null,null,null,null,"19.01.15 Аппаратчик получения растительного маслаОсновное общее образованиеОчная","11Д57014801000101004100","19.01.15 Аппаратчик получения растительного масла","Основное общее образование","Очная"]
[null,null,null,null,null,null,"19.01.15 Аппаратчик получения растительного маслаОсновное общее образованиеОчно-заочная","11Д57014801000109006100","19.01.15 Аппаратчик получения растительного масла","Основное общее образование","Очно-заочная"]
[null,null,null,null,null,null,"19.01.15 Аппаратчик получения растительного маслаСреднее общее образованиеОчная","11Д57014801000201003100","19.01.15 Аппаратчик получения растительного масла","Среднее общее образование","Очная"]
[null,null,null,null,null,null,"19.01.15 Аппаратчик получения растительного маслаСреднее общее образованиеОчно-заочная","11Д57014801000209005100","19.01.15 Аппаратчик получения растительного масла","Среднее общее образование","Очно-заочная"]
[null,null,null,null,null,null,"19.01.16 Оператор линии производства маргаринаОсновное общее образованиеОчная","11Д57014901000101003100","19.01.16 Оператор линии производства маргарина","Основное общее образование","Очная"]
[null,null,null,null,null,null,"19.01.16 Оператор линии производства маргаринаОсновное общее образованиеОчно-заочная","11Д57014901000109005100","19.01.16 Оператор линии производства маргарина","Основное общее образование","Очно-заочная"]
[null,null,null,null,null,null,"19.01.16 Оператор линии производства маргаринаСреднее общее образованиеОчная","11Д57014901000201002100","19.01.16 Оператор линии производства маргарина","Среднее общее образование","Очная"]
[null,null,null,null,null,null,"19.01.16 Оператор линии производства маргаринаСреднее общее образованиеОчно-заочная","11Д57014901000209004100","19.01.16 Оператор линии производства маргарина","Среднее общее образование","Очно-заочная"]
[null,null,null,null,null,null,"19.01.17 Повар, кондитерОсновное общее образованиеОчная","11Д57015001000101009100","19.01.17 Повар, кондитер","Основное общее образование","Очная"]
[null,null,null,null,null,null,"19.01.17 Повар, кондитерОсновное общее образованиеОчно-заочная","11Д57015001000109001100","19.01.17 Повар, кондитер","Основное общее образование","Очно-заочная"]
[null,null,null,null,null,null,"19.01.17 Повар, кондитерСреднее общее образованиеОчная","11Д57015001000201008100","19.01.17 Повар, кондитер","Среднее общее образование","Очная"]
[null,null,null,null,null,null,"19.01.17 Повар, кондитерСреднее общее образованиеОчно-заочная","11Д57015001000209000100","19.01.17 Повар, кондитер","Среднее общее образование","Очно-заочная"]
[null,null,null,null,null,null,"20.01.01 ПожарныйОсновное общее образованиеОчная","11Д57015201000101007100","20.01.01 Пожарный","Основное общее образование","Очная"]
[null,null,null,null,null,null,"20.01.01 ПожарныйОсновное общее образованиеОчно-заочная","11Д57015201000109009100","20.01.01 Пожарный","Основное общее образование","Очно-заочная"]
[null,null,null,null,null,null,"20.01.01 ПожарныйСреднее общее образованиеОчная","11Д57015201000201006100","20.01.01 Пожарный","Среднее общее образование","Очная"]
[null,null,null,null,null,null,"20.01.01 ПожарныйСреднее общее образованиеОчно-заочная","11Д57015201000209008100","20.01.01 Пожарный","Среднее общее образование","Очно-заочная"]
[null,null,null,null,null,null,"21.01.01 Оператор нефтяных и газовых скважинОсновное общее образованиеОчная","11Д57015401000101005100","21.01.01 Оператор нефтяных и газовых скважин","Основное общее образование","Очная"]
[null,null,null,null,null,null,"21.01.01 Оператор нефтяных и газовых скважинОсновное общее образованиеОчно-заочная","11Д57015401000109007100","21.01.01 Оператор нефтяных и газовых скважин","Основное общее образование","Очно-заочная"]
[null,null,null,null,null,null,"21.01.01 Оператор нефтяных и газовых скважинСреднее общее образованиеОчная","11Д57015401000201004100","21.01.01 Оператор нефтяных и газовых скважин","Среднее общее образование","Очная"]
[null,null,null,null,null,null,"21.01.01 Оператор нефтяных и газовых скважинСреднее общее образованиеОчно-заочная","11Д57015401000209006100","21.01.01 Оператор нефтяных и газовых скважин","Среднее общее образование","Очно-заочная"]
[null,null,null,null,null,null,"21.01.02 Оператор по ремонту скважинОсновное общее образованиеОчная","11Д57015501000101004100","21.01.02 Оператор по ремонту скважин","Основное общее образование","Очная"]
[null,null,null,null,null,null,"21.01.02 Оператор по ремонту скважинОсновное общее образованиеОчно-заочная","11Д57015501000109006100","21.01.02 Оператор по ремонту скважин","Основное общее образование","Очно-заочная"]
[null,null,null,null,null,null,"21.01.02 Оператор по ремонту скважинСреднее общее образованиеОчная","11Д57015501000201003100","21.01.02 Оператор по ремонту скважин","Среднее общее образование","Очная"]
[null,null,null,null,null,null,"21.01.02 Оператор по ремонту скважинСреднее общее образованиеОчно-заочная","11Д57015501000209005100","21.01.02 Оператор по ремонту скважин","Среднее общее образование","Очно-заочная"]
[null,null,null,null,null,null,"21.01.03 Бурильщик эксплуатационных и разведочных скважинОсновное общее образованиеОчная","11Д57015601000101003100","21.01.03 Бурильщик эксплуатационных и разведочных скважин","Основное общее образование","Очная"]
[null,null,null,null,null,null,{"$f":"I579&J579&K579","v":"21.01.03 Бурильщик эксплуатационных и разведочных скважинОсновное общее образованиеОчно-заочная"},"11Д57015601000109005100","21.01.03 Бурильщик эксплуатационных и разведочных скважин","Основное общее образование","Очно-заочная"]
[null,null,null,null,null,null,"21.01.03 Бурильщик эксплуатационных и разведочных скважинСреднее общее образованиеОчная","11Д57015601000201002100","21.01.03 Бурильщик эксплуатационных и разведочных скважин","Среднее общее образование","Очная"]
[null,null,null,null,null,null,"21.01.03 Бурильщик эксплуатационных и разведочных скважинСреднее общее образованиеОчно-заочная","11Д57015601000209004100","21.01.03 Бурильщик эксплуатационных и разведочных скважин","Среднее общее образование","Очно-заочная"]
[null,null,null,null,null,null,"21.01.04 Машинист на буровых установкахОсновное общее образованиеОчная","11Д57015701000101002100","21.01.04 Машинист на буровых установках","Основное общее образование","Очная"]
[null,null,null,null,null,null,"21.01.04 Машинист на буровых установкахОсновное общее образованиеОчно-заочная","11Д57015701000109004100","21.01.04 Машинист на буровых установках","Основное общее образование","Очно-заочная"]
[null,null,null,null,null,null,"21.01.04 Машинист на буровых установкахСреднее общее образованиеОчная","11Д57015701000201001100","21.01.04 Машинист на буровых установках","Среднее общее образование","Очная"]
[null,null,null,null,null,null,"21.01.04 Машинист на буровых установкахСреднее общее образованиеОчно-заочная","11Д57015701000209003100","21.01.04 Машинист на буровых установках","Среднее общее образование","Очно-заочная"]
[null,null,null,null,null,null,"21.01.05 Оператор (моторист) по цементажу скважинОсновное общее образованиеОчная","11Д57015801000101001100","21.01.05 Оператор (моторист) по цементажу скважин","Основное общее образование","Очная"]
[null,null,null,null,null,null,"21.01.05 Оператор (моторист) по цементажу скважинОсновное общее образованиеОчно-заочная","11Д57015801000109003100","21.01.05 Оператор (моторист) по цементажу скважин","Основное общее образование","Очно-заочная"]
[null,null,null,null,null,null,"21.01.05 Оператор (моторист) по цементажу скважинСреднее общее образованиеОчная","11Д57015801000201000100","21.01.05 Оператор (моторист) по цементажу скважин","Среднее общее образование","Очная"]
[null,null,null,null,null,null,"21.01.05 Оператор (моторист) по цементажу скважинСреднее общее образованиеОчно-заочная","11Д57015801000209002100","21.01.05 Оператор (моторист) по цементажу скважин","Среднее общее образование","Очно-заочная"]
[null,null,null,null,null,null,"21.01.06 Вышкомонтажник (широкого профиля)Основное общее образованиеОчная","11Д57015901000101000100","21.01.06 Вышкомонтажник (широкого профиля)","Основное общее образование","Очная"]
[null,null,null,null,null,null,"21.01.06 Вышкомонтажник (широкого профиля)Основное общее образованиеОчно-заочная","11Д57015901000109002100","21.01.06 Вышкомонтажник (широкого профиля)","Основное общее образование","Очно-заочная"]
[null,null,null,null,null,null,"21.01.06 Вышкомонтажник (широкого профиля)Среднее общее образованиеОчная","11Д57015901000201009100","21.01.06 Вышкомонтажник (широкого профиля)","Среднее общее образование","Очная"]
[null,null,null,null,null,null,"21.01.06 Вышкомонтажник (широкого профиля)Среднее общее образованиеОчно-заочная","11Д57015901000209001100","21.01.06 Вышкомонтажник (широкого профиля)","Среднее общее образование","Очно-заочная"]
[null,null,null,null,null,null,"21.01.07 Бурильщик морского бурения скважинОсновное общее образованиеОчная","11Д57016001000101007100","21.01.07 Бурильщик морского бурения скважин","Основное общее образование","Очная"]
[null,null,null,null,null,null,"21.01.07 Бурильщик морского бурения скважинОсновное общее образованиеОчно-заочная","11Д57016001000109009100","21.01.07 Бурильщик морского бурения скважин","Основное общее образование","Очно-заочная"]
[null,null,null,null,null,null,"21.01.07 Бурильщик морского бурения скважинСреднее общее образованиеОчная","11Д57016001000201006100","21.01.07 Бурильщик морского бурения скважин","Среднее общее образование","Очная"]
[null,null,null,null,null,null,"21.01.07 Бурильщик морского бурения скважинСреднее общее образованиеОчно-заочная","11Д57016001000209008100","21.01.07 Бурильщик морского бурения скважин","Среднее общее образование","Очно-заочная"]
[null,null,null,null,null,null,"21.01.08 Машинист на открытых горных работахОсновное общее образованиеОчная","11Д57016101000101006100","21.01.08 Машинист на открытых горных работах","Основное общее образование","Очная"]
[null,null,null,null,null,null,"21.01.08 Машинист на открытых горных работахОсновное общее образованиеОчно-заочная","11Д57016101000109008100","21.01.08 Машинист на открытых горных работах","Основное общее образование","Очно-заочная"]
[null,null,null,null,null,null,"21.01.08 Машинист на открытых горных работахСреднее общее образованиеОчная","11Д57016101000201005100","21.01.08 Машинист на открытых горных работах","Среднее общее образование","Очная"]
[null,null,null,null,null,null,"21.01.08 Машинист на открытых горных работахСреднее общее образованиеОчно-заочная","11Д57016101000209007100","21.01.08 Машинист на открытых горных работах","Среднее общее образование","Очно-заочная"]
[null,null,null,null,null,null,"21.01.09 Машинист машин по добыче и переработке торфаОсновное общее образованиеОчная","11Д57016201000101005100","21.01.09 Машинист машин по добыче и переработке торфа","Основное общее образование","Очная"]
[null,null,null,null,null,null,"21.01.09 Машинист машин по добыче и переработке торфаОсновное общее образованиеОчно-заочная","11Д57016201000109007100","21.01.09 Машинист машин по добыче и переработке торфа","Основное общее образование","Очно-заочная"]
[null,null,null,null,null,null,"21.01.09 Машинист машин по добыче и переработке торфаСреднее общее образованиеОчная","11Д57016201000201004100","21.01.09 Машинист машин по добыче и переработке торфа","Среднее общее образование","Очная"]
[null,null,null,null,null,null,"21.01.09 Машинист машин по добыче и переработке торфаСреднее общее образованиеОчно-заочная","11Д57016201000209006100","21.01.09 Машинист машин по добыче и переработке торфа","Среднее общее образование","Очно-заочная"]
[null,null,null,null,null,null,"21.01.10 Ремонтник горного оборудованияОсновное общее образованиеОчная","11Д57016301000101004100","21.01.10 Ремонтник горного оборудования","Основное общее образование","Очная"]
[null,null,null,null,null,null,"21.01.10 Ремонтник горного оборудованияОсновное общее образованиеОчно-заочная","11Д57016301000109006100","21.01.10 Ремонтник горного оборудования","Основное общее образование","Очно-заочная"]
[null,null,null,null,null,null,"21.01.10 Ремонтник горного оборудованияСреднее общее образованиеОчная","11Д57016301000201003100","21.01.10 Ремонтник горного оборудования","Среднее общее образование","Очная"]
[null,null,null,null,null,null,"21.01.10 Ремонтник горного оборудованияСреднее общее образованиеОчно-заочная","11Д57016301000209005100","21.01.10 Ремонтник горного оборудования","Среднее общее образование","Очно-заочная"]
[null,null,null,null,null,null,"21.01.11 Горнорабочий на подземных работахОсновное общее образованиеОчная","11Д57016401000101003100","21.01.11 Горнорабочий на подземных работах","Основное общее образование","Очная"]
[null,null,null,null,null,null,"21.01.11 Горнорабочий на подземных работахОсновное общее образованиеОчно-заочная","11Д57016401000109005100","21.01.11 Горнорабочий на подземных работах","Основное общее образование","Очно-заочная"]
[null,null,null,null,null,null,"21.01.11 Горнорабочий на подземных работахСреднее общее образованиеОчная","11Д57016401000201002100","21.01.11 Горнорабочий на подземных работах","Среднее общее образование","Очная"]
[null,null,null,null,null,null,"21.01.11 Горнорабочий на подземных работахСреднее общее образованиеОчно-заочная","11Д57016401000209004100","21.01.11 Горнорабочий на подземных работах","Среднее общее образование","Очно-заочная"]
[null,null,null,null,null,null,"21.01.12 Машинист электровоза (на горных выработках)Основное общее образованиеОчная","11Д57016501000101002100","21.01.12 Машинист электровоза (на горных выработках)","Основное общее образование","Очная"]
[null,null,null,null,null,null,"21.01.12 Машинист электровоза (на горных выработках)Основное общее образованиеОчно-заочная","11Д57016501000109004100","21.01.12 Машинист электровоза (на горных выработках)","Основное общее образование","Очно-заочная"]
[null,null,null,null,null,null,"21.01.12 Машинист электровоза (на горных выработках)Среднее общее образованиеОчная","11Д57016501000201001100","21.01.12 Машинист электровоза (на горных выработках)","Среднее общее образование","Очная"]
[null,null,null,null,null,null,"21.01.12 Машинист электровоза (на горных выработках)Среднее общее образованиеОчно-заочная","11Д57016501000209003100","21.01.12 Машинист электровоза (на горных выработках)","Среднее общее образование","Очно-заочная"]
[null,null,null,null,null,null,"21.01.13 ПроходчикОсновное общее образованиеОчная","11Д57016601000101001100","21.01.13 Проходчик","Основное общее образование","Очная"]
[null,null,null,null,null,null,"21.01.13 ПроходчикОсновное общее образованиеОчно-заочная","11Д57016601000109003100","21.01.13 Проходчик","Основное общее образование","Очно-заочная"]
[null,null,null,null,null,null,"21.01.13 ПроходчикСреднее общее образованиеОчная","11Д57016601000201000100","21.01.13 Проходчик","Среднее общее образование","Очная"]
[null,null,null,null,null,null,"21.01.13 ПроходчикСреднее общее образованиеОчно-заочная","11Д57016601000209002100","21.01.13 Проходчик","Среднее общее образование","Очно-заочная"]
[null,null,null,null,null,null,"21.01.14 Горномонтажник подземныйОсновное общее образованиеОчная","11Д57016701000101000100","21.01.14 Горномонтажник подземный","Основное общее образование","Очная"]
[null,null,null,null,null,null,"21.01.14 Горномонтажник подземныйОсновное общее образованиеОчно-заочная","11Д57016701000109002100","21.01.14 Горномонтажник подземный","Основное общее образование","Очно-заочная"]
[null,null,null,null,null,null,"21.01.14 Горномонтажник подземныйСреднее общее образованиеОчная","11Д57016701000201009100","21.01.14 Горномонтажник подземный","Среднее общее образование","Очная"]
[null,null,null,null,null,null,"21.01.14 Горномонтажник подземныйСреднее общее образованиеОчно-заочная","11Д57016701000209001100","21.01.14 Горномонтажник подземный","Среднее общее образование","Очно-заочная"]
[null,null,null,null,null,null,"21.01.15 Электрослесарь подземныйОсновное общее образованиеОчная","11Д57016801000101009100","21.01.15 Электрослесарь подземный","Основное общее образование","Очная"]
[null,null,null,null,null,null,"21.01.15 Электрослесарь подземныйОсновное общее образованиеОчно-заочная","11Д57016801000109001100","21.01.15 Электрослесарь подземный","Основное общее образование","Очно-заочная"]
[null,null,null,null,null,null,"21.01.15 Электрослесарь подземныйСреднее общее образованиеОчная","11Д57016801000201008100","21.01.15 Электрослесарь подземный","Среднее общее образование","Очная"]
[null,null,null,null,null,null,"21.01.15 Электрослесарь подземныйСреднее общее образованиеОчно-заочная","11Д57016801000209000100","21.01.15 Электрослесарь подземный","Среднее общее образование","Очно-заочная"]
[null,null,null,null,null,null,"21.01.16 Обогатитель полезных ископаемыхОсновное общее образованиеОчная","11Д57016901000101008100","21.01.16 Обогатитель полезных ископаемых","Основное общее образование","Очная"]
[null,null,null,null,null,null,"21.01.16 Обогатитель полезных ископаемыхОсновное общее образованиеОчно-заочная","11Д57016901000109000100","21.01.16 Обогатитель полезных ископаемых","Основное общее образование","Очно-заочная"]
[null,null,null,null,null,null,"21.01.16 Обогатитель полезных ископаемыхСреднее общее образованиеОчная","11Д57016901000201007100","21.01.16 Обогатитель полезных ископаемых","Среднее общее образование","Очная"]
[null,null,null,null,null,null,"21.01.16 Обогатитель полезных ископаемыхСреднее общее образованиеОчно-заочная","11Д57016901000209009100","21.01.16 Обогатитель полезных ископаемых","Среднее общее образование","Очно-заочная"]
[null,null,null,null,null,null,"22.01.01 ДоменщикОсновное общее образованиеОчная","11Д57017101000101004100","22.01.01 Доменщик","Основное общее образование","Очная"]
[null,null,null,null,null,null,"22.01.01 ДоменщикОсновное общее образованиеОчно-заочная","11Д57017101000109006100","22.01.01 Доменщик","Основное общее образование","Очно-заочная"]
[null,null,null,null,null,null,"22.01.01 ДоменщикСреднее общее образованиеОчная","11Д57017101000201003100","22.01.01 Доменщик","Среднее общее образование","Очная"]
[null,null,null,null,null,null,"22.01.01 ДоменщикСреднее общее образованиеОчно-заочная","11Д57017101000209005100","22.01.01 Доменщик","Среднее общее образование","Очно-заочная"]
[null,null,null,null,null,null,"22.01.02 Сталеплавильщик (по типам производства)Основное общее образованиеОчная","11Д57017201000101003100","22.01.02 Сталеплавильщик (по типам производства)","Основное общее образование","Очная"]
[null,null,null,null,null,null,"22.01.02 Сталеплавильщик (по типам производства)Основное общее образованиеОчно-заочная","11Д57017201000109005100","22.01.02 Сталеплавильщик (по типам производства)","Основное общее образование","Очно-заочная"]
[null,null,null,null,null,null,"22.01.02 Сталеплавильщик (по типам производства)Среднее общее образованиеОчная","11Д57017201000201002100","22.01.02 Сталеплавильщик (по типам производства)","Среднее общее образование","Очная"]
[null,null,null,null,null,null,"22.01.02 Сталеплавильщик (по типам производства)Среднее общее образованиеОчно-заочная","11Д57017201000209004100","22.01.02 Сталеплавильщик (по типам производства)","Среднее общее образование","Очно-заочная"]
[null,null,null,null,null,null,"22.01.03 Машинист крана металлургического производстваОсновное общее образованиеОчная","11Д57017301000101002100","22.01.03 Машинист крана металлургического производства","Основное общее образование","Очная"]
[null,null,null,null,null,null,{"$f":"I643&J643&K643","v":"22.01.03 Машинист крана металлургического производстваОсновное общее образованиеОчно-заочная"},"11Д57017301000109004100","22.01.03 Машинист крана металлургического производства","Основное общее образование","Очно-заочная"]
[null,null,null,null,null,null,"22.01.03 Машинист крана металлургического производстваСреднее общее образованиеОчная","11Д57017301000201001100","22.01.03 Машинист крана металлургического производства","Среднее общее образование","Очная"]
[null,null,null,null,null,null,"22.01.03 Машинист крана металлургического производстваСреднее общее образованиеОчно-заочная","11Д57017301000209003100","22.01.03 Машинист крана металлургического производства","Среднее общее образование","Очно-заочная"]
[null,null,null,null,null,null,"22.01.04 Контролер металлургического производстваОсновное общее образованиеОчная","11Д57017401000101001100","22.01.04 Контролер металлургического производства","Основное общее образование","Очная"]
[null,null,null,null,null,null,"22.01.04 Контролер металлургического производстваОсновное общее образованиеОчно-заочная","11Д57017401000109003100","22.01.04 Контролер металлургического производства","Основное общее образование","Очно-заочная"]
[null,null,null,null,null,null,"22.01.04 Контролер металлургического производстваСреднее общее образованиеОчная","11Д57017401000201000100","22.01.04 Контролер металлургического производства","Среднее общее образование","Очная"]
[null,null,null,null,null,null,"22.01.04 Контролер металлургического производстваСреднее общее образованиеОчно-заочная","11Д57017401000209002100","22.01.04 Контролер металлургического производства","Среднее общее образование","Очно-заочная"]
[null,null,null,null,null,null,"22.01.05 Аппаратчик-оператор в производстве цветных металловОсновное общее образованиеОчная","11Д57017501000101000100","22.01.05 Аппаратчик-оператор в производстве цветных металлов","Основное общее образование","Очная"]
[null,null,null,null,null,null,"22.01.05 Аппаратчик-оператор в производстве цветных металловОсновное общее образованиеОчно-заочная","11Д57017501000109002100","22.01.05 Аппаратчик-оператор в производстве цветных металлов","Основное общее образование","Очно-заочная"]
[null,null,null,null,null,null,"22.01.05 Аппаратчик-оператор в производстве цветных металловСреднее общее образованиеОчная","11Д57017501000201009100","22.01.05 Аппаратчик-оператор в производстве цветных металлов","Среднее общее образование","Очная"]
[null,null,null,null,null,null,"22.01.05 Аппаратчик-оператор в производстве цветных металловСреднее общее образованиеОчно-заочная","11Д57017501000209001100","22.01.05 Аппаратчик-оператор в производстве цветных металлов","Среднее общее образование","Очно-заочная"]
[null,null,null,null,null,null,"22.01.06 Оператор-обработчик цветных металловОсновное общее образованиеОчная","11Д57017601000101009100","22.01.06 Оператор-обработчик цветных металлов","Основное общее образование","Очная"]
[null,null,null,null,null,null,"22.01.06 Оператор-обработчик цветных металловОсновное общее образованиеОчно-заочная","11Д57017601000109001100","22.01.06 Оператор-обработчик цветных металлов","Основное общее образование","Очно-заочная"]
[null,null,null,null,null,null,"22.01.06 Оператор-обработчик цветных металловСреднее общее образованиеОчная","11Д57017601000201008100","22.01.06 Оператор-обработчик цветных металлов","Среднее общее образование","Очная"]
[null,null,null,null,null,null,"22.01.06 Оператор-обработчик цветных металловСреднее общее образованиеОчно-заочная","11Д57017601000209000100","22.01.06 Оператор-обработчик цветных металлов","Среднее общее образование","Очно-заочная"]
[null,null,null,null,null,null,"22.01.07 МодельщикОсновное общее образованиеОчная","11Д57017701000101008100","22.01.07 Модельщик","Основное общее образование","Очная"]
[null,null,null,null,null,null,"22.01.07 МодельщикОсновное общее образованиеОчно-заочная","11Д57017701000109000100","22.01.07 Модельщик","Основное общее образование","Очно-заочная"]
[null,null,null,null,null,null,"22.01.07 МодельщикСреднее общее образованиеОчная","11Д57017701000201007100","22.01.07 Модельщик","Среднее общее образование","Очная"]
[null,null,null,null,null,null,"22.01.07 МодельщикСреднее общее образованиеОчно-заочная","11Д57017701000209009100","22.01.07 Модельщик","Среднее общее образование","Очно-заочная"]
[null,null,null,null,null,null,"22.01.08 Оператор прокатного производстваОсновное общее образованиеОчная","11Д57017801000101007100","22.01.08 Оператор прокатного производства","Основное общее образование","Очная"]
[null,null,null,null,null,null,"22.01.08 Оператор прокатного производстваОсновное общее образованиеОчно-заочная","11Д57017801000109009100","22.01.08 Оператор прокатного производства","Основное общее образование","Очно-заочная"]
[null,null,null,null,null,null,"22.01.08 Оператор прокатного производстваСреднее общее образованиеОчная","11Д57017801000201006100","22.01.08 Оператор прокатного производства","Среднее общее образование","Очная"]
[null,null,null,null,null,null,"22.01.08 Оператор прокатного производстваСреднее общее образованиеОчно-заочная","11Д57017801000209008100","22.01.08 Оператор прокатного производства","Среднее общее образование","Очно-заочная"]
[null,null,null,null,null,null,"22.01.09 Оператор трубного производстваОсновное общее образованиеОчная","11Д57017901000101006100","22.01.09 Оператор трубного производства","Основное общее образование","Очная"]
[null,null,null,null,null,null,"22.01.09 Оператор трубного производстваОсновное общее образованиеОчно-заочная","11Д57017901000109008100","22.01.09 Оператор трубного производства","Основное общее образование","Очно-заочная"]
[null,null,null,null,null,null,"22.01.09 Оператор трубного производстваСреднее общее образованиеОчная","11Д57017901000201005100","22.01.09 Оператор трубного производства","Среднее общее образование","Очная"]
[null,null,null,null,null,null,"22.01.09 Оператор трубного производстваСреднее общее образованиеОчно-заочная","11Д57017901000209007100","22.01.09 Оператор трубного производства","Среднее общее образование","Очно-заочная"]
[null,null,null,null,null,null,"22.01.10 Оператор в производстве огнеупоровОсновное общее образованиеОчная","11Д57018001000101003100","22.01.10 Оператор в производстве огнеупоров","Основное общее образование","Очная"]
[null,null,null,null,null,null,"22.01.10 Оператор в производстве огнеупоровОсновное общее образованиеОчно-заочная","11Д57018001000109005100","22.01.10 Оператор в производстве огнеупоров","Основное общее образование","Очно-заочная"]
[null,null,null,null,null,null,"22.01.10 Оператор в производстве огнеупоровСреднее общее образованиеОчная","11Д57018001000201002100","22.01.10 Оператор в производстве огнеупоров","Среднее общее образование","Очная"]
[null,null,null,null,null,null,"22.01.10 Оператор в производстве огнеупоровСреднее общее образованиеОчно-заочная","11Д57018001000209004100","22.01.10 Оператор в производстве огнеупоров","Среднее общее образование","Очно-заочная"]
[null,null,null,null,null,null,"23.01.01 Оператор транспортного терминалаОсновное общее образованиеОчная","11Д57018201000101001100","23.01.01 Оператор транспортного терминала","Основное общее образование","Очная"]
[null,null,null,null,null,null,"23.01.01 Оператор транспортного терминалаОсновное общее образованиеОчно-заочная","11Д57018201000109003100","23.01.01 Оператор транспортного терминала","Основное общее образование","Очно-заочная"]
[null,null,null,null,null,null,"23.01.01 Оператор транспортного терминалаСреднее общее образованиеОчная","11Д57018201000201000100","23.01.01 Оператор транспортного терминала","Среднее общее образование","Очная"]
[null,null,null,null,null,null,"23.01.01 Оператор транспортного терминалаСреднее общее образованиеОчно-заочная","11Д57018201000209002100","23.01.01 Оператор транспортного терминала","Среднее общее образование","Очно-заочная"]
[null,null,null,null,null,null,"23.01.02 Докер-механизаторОсновное общее образованиеОчная","11Д57018301000101000100","23.01.02 Докер-механизатор","Основное общее образование","Очная"]
[null,null,null,null,null,null,"23.01.02 Докер-механизаторОсновное общее образованиеОчно-заочная","11Д57018301000109002100","23.01.02 Докер-механизатор","Основное общее образование","Очно-заочная"]
[null,null,null,null,null,null,"23.01.02 Докер-механизаторСреднее общее образованиеОчная","11Д57018301000201009100","23.01.02 Докер-механизатор","Среднее общее образование","Очная"]
[null,null,null,null,null,null,"23.01.02 Докер-механизаторСреднее общее образованиеОчно-заочная","11Д57018301000209001100","23.01.02 Докер-механизатор","Среднее общее образование","Очно-заочная"]
[null,null,null,null,null,null,"23.01.03 АвтомеханикОсновное общее образованиеОчная","11Д57018401000101009100","23.01.03 Автомеханик","Основное общее образование","Очная"]
[null,null,null,null,null,null,"23.01.03 АвтомеханикОсновное общее образованиеОчно-заочная","11Д57018401000109001100","23.01.03 Автомеханик","Основное общее образование","Очно-заочная"]
[null,null,null,null,null,null,"23.01.03 АвтомеханикСреднее общее образованиеОчная","11Д57018401000201008100","23.01.03 Автомеханик","Среднее общее образование","Очная"]
[null,null,null,null,null,null,"23.01.03 АвтомеханикСреднее общее образованиеОчно-заочная","11Д57018401000209000100","23.01.03 Автомеханик","Среднее общее образование","Очно-заочная"]
[null,null,null,null,null,null,"23.01.04 Водитель городского электротранспортаОсновное общее образованиеОчная","11Д57018501000101008100","23.01.04 Водитель городского электротранспорта","Основное общее образование","Очная"]
[null,null,null,null,null,null,"23.01.04 Водитель городского электротранспортаОсновное общее образованиеОчно-заочная","11Д57018501000109000100","23.01.04 Водитель городского электротранспорта","Основное общее образование","Очно-заочная"]
[null,null,null,null,null,null,"23.01.04 Водитель городского электротранспортаСреднее общее образованиеОчная","11Д57018501000201007100","23.01.04 Водитель городского электротранспорта","Среднее общее образование","Очная"]
[null,null,null,null,null,null,"23.01.04 Водитель городского электротранспортаСреднее общее образованиеОчно-заочная","11Д57018501000209009100","23.01.04 Водитель городского электротранспорта","Среднее общее образование","Очно-заочная"]
[null,null,null,null,null,null,"23.01.05 Слесарь по ремонту городского электротранспортаОсновное общее образованиеОчная","11Д57018601000101007100","23.01.05 Слесарь по ремонту городского электротранспорта","Основное общее образование","Очная"]
[null,null,null,null,null,null,"23.01.05 Слесарь по ремонту городского электротранспортаОсновное общее образованиеОчно-заочная","11Д57018601000109009100","23.01.05 Слесарь по ремонту городского электротранспорта","Основное общее образование","Очно-заочная"]
[null,null,null,null,null,null,"23.01.05 Слесарь по ремонту городского электротранспортаСреднее общее образованиеОчная","11Д57018601000201006100","23.01.05 Слесарь по ремонту городского электротранспорта","Среднее общее образование","Очная"]
[null,null,null,null,null,null,"23.01.05 Слесарь по ремонту городского электротранспортаСреднее общее образованиеОчно-заочная","11Д57018601000209008100","23.01.05 Слесарь по ремонту городского электротранспорта","Среднее общее образование","Очно-заочная"]
[null,null,null,null,null,null,"23.01.06 Машинист дорожных и строительных машинОсновное общее образованиеОчная","11Д57018701000101006100","23.01.06 Машинист дорожных и строительных машин","Основное общее образование","Очная"]
[null,null,null,null,null,null,"23.01.06 Машинист дорожных и строительных машинОсновное общее образованиеОчно-заочная","11Д57018701000109008100","23.01.06 Машинист дорожных и строительных машин","Основное общее образование","Очно-заочная"]
[null,null,null,null,null,null,"23.01.06 Машинист дорожных и строительных машинСреднее общее образованиеОчная","11Д57018701000201005100","23.01.06 Машинист дорожных и строительных машин","Среднее общее образование","Очная"]
[null,null,null,null,null,null,"23.01.06 Машинист дорожных и строительных машинСреднее общее образованиеОчно-заочная","11Д57018701000209007100","23.01.06 Машинист дорожных и строительных машин","Среднее общее образование","Очно-заочная"]
[null,null,null,null,null,null,"23.01.07 Машинист крана (крановщик)Основное общее образованиеОчная","11Д57018801000101005100","23.01.07 Машинист крана (крановщик)","Основное общее образование","Очная"]
[null,null,null,null,null,null,"23.01.07 Машинист крана (крановщик)Основное общее образованиеОчно-заочная","11Д57018801000109007100","23.01.07 Машинист крана (крановщик)","Основное общее образование","Очно-заочная"]
[null,null,null,null,null,null,"23.01.07 Машинист крана (крановщик)Среднее общее образованиеОчная","11Д57018801000201004100","23.01.07 Машинист крана (крановщик)","Среднее общее образование","Очная"]
[null,null,null,null,null,null,"23.01.07 Машинист крана (крановщик)Среднее общее образованиеОчно-заочная","11Д57018801000209006100","23.01.07 Машинист крана (крановщик)","Среднее общее образование","Очно-заочная"]
[null,null,null,null,null,null,"23.01.08 Слесарь по ремонту строительных машинОсновное общее образованиеОчная","11Д57018901000101004100","23.01.08 Слесарь по ремонту строительных машин","Основное общее образование","Очная"]
[null,null,null,null,null,null,"23.01.08 Слесарь по ремонту строительных машинОсновное общее образованиеОчно-заочная","11Д57018901000109006100","23.01.08 Слесарь по ремонту строительных машин","Основное общее образование","Очно-заочная"]
[null,null,null,null,null,null,"23.01.08 Слесарь по ремонту строительных машинСреднее общее образованиеОчная","11Д57018901000201003100","23.01.08 Слесарь по ремонту строительных машин","Среднее общее образование","Очная"]
[null,null,null,null,null,null,"23.01.08 Слесарь по ремонту строительных машинСреднее общее образованиеОчно-заочная","11Д57018901000209005100","23.01.08 Слесарь по ремонту строительных машин","Среднее общее образование","Очно-заочная"]
[null,null,null,null,null,null,"23.01.09 Машинист локомотиваОсновное общее образованиеОчная","11Д57019001000101001100","23.01.09 Машинист локомотива","Основное общее образование","Очная"]
[null,null,null,null,null,null,{"$f":"I707&J707&K707","v":"23.01.09 Машинист локомотиваОсновное общее образованиеОчно-заочная"},"11Д57019001000109003100","23.01.09 Машинист локомотива","Основное общее образование","Очно-заочная"]
[null,null,null,null,null,null,"23.01.09 Машинист локомотиваСреднее общее образованиеОчная","11Д57019001000201000100","23.01.09 Машинист локомотива","Среднее общее образование","Очная"]
[null,null,null,null,null,null,"23.01.09 Машинист локомотиваСреднее общее образованиеОчно-заочная","11Д57019001000209002100","23.01.09 Машинист локомотива","Среднее общее образование","Очно-заочная"]
[null,null,null,null,null,null,"23.01.10 Слесарь по обслуживанию и ремонту подвижного составаОсновное общее образованиеОчная","11Д57019101000101000100","23.01.10 Слесарь по обслуживанию и ремонту подвижного состава","Основное общее образование","Очная"]
[null,null,null,null,null,null,"23.01.10 Слесарь по обслуживанию и ремонту подвижного составаОсновное общее образованиеОчно-заочная","11Д57019101000109002100","23.01.10 Слесарь по обслуживанию и ремонту подвижного состава","Основное общее образование","Очно-заочная"]
[null,null,null,null,null,null,"23.01.10 Слесарь по обслуживанию и ремонту подвижного составаСреднее общее образованиеОчная","11Д57019101000201009100","23.01.10 Слесарь по обслуживанию и ремонту подвижного состава","Среднее общее образование","Очная"]
[null,null,null,null,null,null,"23.01.10 Слесарь по обслуживанию и ремонту подвижного составаСреднее общее образованиеОчно-заочная","11Д57019101000209001100","23.01.10 Слесарь по обслуживанию и ремонту подвижного состава","Среднее общее образование","Очно-заочная"]
[null,null,null,null,null,null,"23.01.11 Слесарь-электрик по ремонту электрооборудования подвижного состава (электровозов, электропоездов)Основное общее образованиеОчная","11Д57019201000101009100","23.01.11 Слесарь-электрик по ремонту электрооборудования подвижного состава (электровозов, электропоездов)","Основное общее образование","Очная"]
[null,null,null,null,null,null,"23.01.11 Слесарь-электрик по ремонту электрооборудования подвижного состава (электровозов, электропоездов)Основное общее образованиеОчно-заочная","11Д57019201000109001100","23.01.11 Слесарь-электрик по ремонту электрооборудования подвижного состава (электровозов, электропоездов)","Основное общее образование","Очно-заочная"]
[null,null,null,null,null,null,"23.01.11 Слесарь-электрик по ремонту электрооборудования подвижного состава (электровозов, электропоездов)Среднее общее образованиеОчная","11Д57019201000201008100","23.01.11 Слесарь-электрик по ремонту электрооборудования подвижного состава (электровозов, электропоездов)","Среднее общее образование","Очная"]
[null,null,null,null,null,null,"23.01.11 Слесарь-электрик по ремонту электрооборудования подвижного состава (электровозов, электропоездов)Среднее общее образованиеОчно-заочная","11Д57019201000209000100","23.01.11 Слесарь-электрик по ремонту электрооборудования подвижного состава (электровозов, электропоездов)","Среднее общее образование","Очно-заочная"]
[null,null,null,null,null,null,"23.01.12 Слесарь-электрик метрополитенаОсновное общее образованиеОчная","11Д57019301000101008100","23.01.12 Слесарь-электрик метрополитена","Основное общее образование","Очная"]
[null,null,null,null,null,null,"23.01.12 Слесарь-электрик метрополитенаОсновное общее образованиеОчно-заочная","11Д57019301000109000100","23.01.12 Слесарь-электрик метрополитена","Основное общее образование","Очно-заочная"]
[null,null,null,null,null,null,"23.01.12 Слесарь-электрик метрополитенаСреднее общее образованиеОчная","11Д57019301000201007100","23.01.12 Слесарь-электрик метрополитена","Среднее общее образование","Очная"]
[null,null,null,null,null,null,"23.01.12 Слесарь-электрик метрополитенаСреднее общее образованиеОчно-заочная","11Д57019301000209009100","23.01.12 Слесарь-электрик метрополитена","Среднее общее образование","Очно-заочная"]
[null,null,null,null,null,null,"23.01.13 Электромонтер тяговой подстанцииОсновное общее образованиеОчная","11Д57019401000101007100","23.01.13 Электромонтер тяговой подстанции","Основное общее образование","Очная"]
[null,null,null,null,null,null,"23.01.13 Электромонтер тяговой подстанцииОсновное общее образованиеОчно-заочная","11Д57019401000109009100","23.01.13 Электромонтер тяговой подстанции","Основное общее образование","Очно-заочная"]
[null,null,null,null,null,null,"23.01.13 Электромонтер тяговой подстанцииСреднее общее образованиеОчная","11Д57019401000201006100","23.01.13 Электромонтер тяговой подстанции","Среднее общее образование","Очная"]
[null,null,null,null,null,null,"23.01.13 Электромонтер тяговой подстанцииСреднее общее образованиеОчно-заочная","11Д57019401000209008100","23.01.13 Электромонтер тяговой подстанции","Среднее общее образование","Очно-заочная"]
[null,null,null,null,null,null,"23.01.14 Электромонтер устройств сигнализации, централизации, блокировки (сцб)Основное общее образованиеОчная","11Д57019501000101006100","23.01.14 Электромонтер устройств сигнализации, централизации, блокировки (сцб)","Основное общее образование","Очная"]
[null,null,null,null,null,null,"23.01.14 Электромонтер устройств сигнализации, централизации, блокировки (сцб)Основное общее образованиеОчно-заочная","11Д57019501000109008100","23.01.14 Электромонтер устройств сигнализации, централизации, блокировки (сцб)","Основное общее образование","Очно-заочная"]
[null,null,null,null,null,null,"23.01.14 Электромонтер устройств сигнализации, централизации, блокировки (сцб)Среднее общее образованиеОчная","11Д57019501000201005100","23.01.14 Электромонтер устройств сигнализации, централизации, блокировки (сцб)","Среднее общее образование","Очная"]
[null,null,null,null,null,null,"23.01.14 Электромонтер устройств сигнализации, централизации, блокировки (сцб)Среднее общее образованиеОчно-заочная","11Д57019501000209007100","23.01.14 Электромонтер устройств сигнализации, централизации, блокировки (сцб)","Среднее общее образование","Очно-заочная"]
[null,null,null,null,null,null,"23.01.15 Оператор поста централизацииОсновное общее образованиеОчная","11Д57019601000101005100","23.01.15 Оператор поста централизации","Основное общее образование","Очная"]
[null,null,null,null,null,null,"23.01.15 Оператор поста централизацииОсновное общее образованиеОчно-заочная","11Д57019601000109007100","23.01.15 Оператор поста централизации","Основное общее образование","Очно-заочная"]
[null,null,null,null,null,null,"23.01.15 Оператор поста централизацииСреднее общее образованиеОчная","11Д57019601000201004100","23.01.15 Оператор поста централизации","Среднее общее образование","Очная"]
[null,null,null,null,null,null,"23.01.15 Оператор поста централизацииСреднее общее образованиеОчно-заочная","11Д57019601000209006100","23.01.15 Оператор поста централизации","Среднее общее образование","Очно-заочная"]
[null,null,null,null,null,null,"23.01.16 Составитель поездовОсновное общее образованиеОчная","11Д57019701000101004100","23.01.16 Составитель поездов","Основное общее образование","Очная"]
[null,null,null,null,null,null,"23.01.16 Составитель поездовОсновное общее образованиеОчно-заочная","11Д57019701000109006100","23.01.16 Составитель поездов","Основное общее образование","Очно-заочная"]
[null,null,null,null,null,null,"23.01.16 Составитель поездовСреднее общее образованиеОчная","11Д57019701000201003100","23.01.16 Составитель поездов","Среднее общее образование","Очная"]
[null,null,null,null,null,null,"23.01.16 Составитель поездовСреднее общее образованиеОчно-заочная","11Д57019701000209005100","23.01.16 Составитель поездов","Среднее общее образование","Очно-заочная"]
[null,null,null,null,null,null,"24.01.01 Слесарь-сборщик авиационной техникиОсновное общее образованиеОчная","11Д57019901000101002100","24.01.01 Слесарь-сборщик авиационной техники","Основное общее образование","Очная"]
[null,null,null,null,null,null,"24.01.01 Слесарь-сборщик авиационной техникиОсновное общее образованиеОчно-заочная","11Д57019901000109004100","24.01.01 Слесарь-сборщик авиационной техники","Основное общее образование","Очно-заочная"]
[null,null,null,null,null,null,"24.01.01 Слесарь-сборщик авиационной техникиСреднее общее образованиеОчная","11Д57019901000201001100","24.01.01 Слесарь-сборщик авиационной техники","Среднее общее образование","Очная"]
[null,null,null,null,null,null,"24.01.01 Слесарь-сборщик авиационной техникиСреднее общее образованиеОчно-заочная","11Д57019901000209003100","24.01.01 Слесарь-сборщик авиационной техники","Среднее общее образование","Очно-заочная"]
[null,null,null,null,null,null,"24.01.02 Электромонтажник авиационной техникиОсновное общее образованиеОчная","11Д57020001000101009100","24.01.02 Электромонтажник авиационной техники","Основное общее образование","Очная"]
[null,null,null,null,null,null,"24.01.02 Электромонтажник авиационной техникиОсновное общее образованиеОчно-заочная","11Д57020001000109001100","24.01.02 Электромонтажник авиационной техники","Основное общее образование","Очно-заочная"]
[null,null,null,null,null,null,"24.01.02 Электромонтажник авиационной техникиСреднее общее образованиеОчная","11Д57020001000201008100","24.01.02 Электромонтажник авиационной техники","Среднее общее образование","Очная"]
[null,null,null,null,null,null,"24.01.02 Электромонтажник авиационной техникиСреднее общее образованиеОчно-заочная","11Д57020001000209000100","24.01.02 Электромонтажник авиационной техники","Среднее общее образование","Очно-заочная"]
[null,null,null,null,null,null,"24.01.03 Слесарь-механик авиационных приборовОсновное общее образованиеОчная","11Д57020101000101008100","24.01.03 Слесарь-механик авиационных приборов","Основное общее образование","Очная"]
[null,null,null,null,null,null,"24.01.03 Слесарь-механик авиационных приборовОсновное общее образованиеОчно-заочная","11Д57020101000109000100","24.01.03 Слесарь-механик авиационных приборов","Основное общее образование","Очно-заочная"]
[null,null,null,null,null,null,"24.01.03 Слесарь-механик авиационных приборовСреднее общее образованиеОчная","11Д57020101000201007100","24.01.03 Слесарь-механик авиационных приборов","Среднее общее образование","Очная"]
[null,null,null,null,null,null,"24.01.03 Слесарь-механик авиационных приборовСреднее общее образованиеОчно-заочная","11Д57020101000209009100","24.01.03 Слесарь-механик авиационных приборов","Среднее общее образование","Очно-заочная"]
[null,null,null,null,null,null,"24.01.04 Слесарь по ремонту авиационной техникиОсновное общее образованиеОчная","11Д57020201000101007100","24.01.04 Слесарь по ремонту авиационной техники","Основное общее образование","Очная"]
[null,null,null,null,null,null,"24.01.04 Слесарь по ремонту авиационной техникиОсновное общее образованиеОчно-заочная","11Д57020201000109009100","24.01.04 Слесарь по ремонту авиационной техники","Основное общее образование","Очно-заочная"]
[null,null,null,null,null,null,"24.01.04 Слесарь по ремонту авиационной техникиСреднее общее образованиеОчная","11Д57020201000201006100","24.01.04 Слесарь по ремонту авиационной техники","Среднее общее образование","Очная"]
[null,null,null,null,null,null,"24.01.04 Слесарь по ремонту авиационной техникиСреднее общее образованиеОчно-заочная","11Д57020201000209008100","24.01.04 Слесарь по ремонту авиационной техники","Среднее общее образование","Очно-заочная"]
[null,null,null,null,null,null,"26.01.01 Судостроитель-судоремонтник металлических судовОсновное общее образованиеОчная","11Д57020401000101005100","26.01.01 Судостроитель-судоремонтник металлических судов","Основное общее образование","Очная"]
[null,null,null,null,null,null,"26.01.01 Судостроитель-судоремонтник металлических судовОсновное общее образованиеОчно-заочная","11Д57020401000109007100","26.01.01 Судостроитель-судоремонтник металлических судов","Основное общее образование","Очно-заочная"]
[null,null,null,null,null,null,"26.01.01 Судостроитель-судоремонтник металлических судовСреднее общее образованиеОчная","11Д57020401000201004100","26.01.01 Судостроитель-судоремонтник металлических судов","Среднее общее образование","Очная"]
[null,null,null,null,null,null,"26.01.01 Судостроитель-судоремонтник металлических судовСреднее общее образованиеОчно-заочная","11Д57020401000209006100","26.01.01 Судостроитель-судоремонтник металлических судов","Среднее общее образование","Очно-заочная"]
[null,null,null,null,null,null,"26.01.02 Судостроитель-судоремонтник неметаллических судовОсновное общее образованиеОчная","11Д57020501000101004100","26.01.02 Судостроитель-судоремонтник неметаллических судов","Основное общее образование","Очная"]
[null,null,null,null,null,null,"26.01.02 Судостроитель-судоремонтник неметаллических судовОсновное общее образованиеОчно-заочная","11Д57020501000109006100","26.01.02 Судостроитель-судоремонтник неметаллических судов","Основное общее образование","Очно-заочная"]
[null,null,null,null,null,null,"26.01.02 Судостроитель-судоремонтник неметаллических судовСреднее общее образованиеОчная","11Д57020501000201003100","26.01.02 Судостроитель-судоремонтник неметаллических судов","Среднее общее образование","Очная"]
[null,null,null,null,null,null,"26.01.02 Судостроитель-судоремонтник неметаллических судовСреднее общее образованиеОчно-заочная","11Д57020501000209005100","26.01.02 Судостроитель-судоремонтник неметаллических судов","Среднее общее образование","Очно-заочная"]
[null,null,null,null,null,null,"26.01.03 Слесарь-монтажник судовойОсновное общее образованиеОчная","11Д57020601000101003100","26.01.03 Слесарь-монтажник судовой","Основное общее образование","Очная"]
[null,null,null,null,null,null,"26.01.03 Слесарь-монтажник судовойОсновное общее образованиеОчно-заочная","11Д57020601000109005100","26.01.03 Слесарь-монтажник судовой","Основное общее образование","Очно-заочная"]
[null,null,null,null,null,null,"26.01.03 Слесарь-монтажник судовойСреднее общее образованиеОчная","11Д57020601000201002100","26.01.03 Слесарь-монтажник судовой","Среднее общее образование","Очная"]
[null,null,null,null,null,null,"26.01.03 Слесарь-монтажник судовойСреднее общее образованиеОчно-заочная","11Д57020601000209004100","26.01.03 Слесарь-монтажник судовой","Среднее общее образование","Очно-заочная"]
[null,null,null,null,null,null,"26.01.04 Слесарь-механик судовойОсновное общее образованиеОчная","11Д57020701000101002100","26.01.04 Слесарь-механик судовой","Основное общее образование","Очная"]
[null,null,null,null,null,null,"26.01.04 Слесарь-механик судовойОсновное общее образованиеОчно-заочная","11Д57020701000109004100","26.01.04 Слесарь-механик судовой","Основное общее образование","Очно-заочная"]
[null,null,null,null,null,null,"26.01.04 Слесарь-механик судовойСреднее общее образованиеОчная","11Д57020701000201001100","26.01.04 Слесарь-механик судовой","Среднее общее образование","Очная"]
[null,null,null,null,null,null,"26.01.04 Слесарь-механик судовойСреднее общее образованиеОчно-заочная","11Д57020701000209003100","26.01.04 Слесарь-механик судовой","Среднее общее образование","Очно-заочная"]
[null,null,null,null,null,null,"26.01.05 Электрорадиомонтажник судовойОсновное общее образованиеОчная","11Д57020801000101001100","26.01.05 Электрорадиомонтажник судовой","Основное общее образование","Очная"]
[null,null,null,null,null,null,{"$f":"I771&J771&K771","v":"26.01.05 Электрорадиомонтажник судовойОсновное общее образованиеОчно-заочная"},"11Д57020801000109003100","26.01.05 Электрорадиомонтажник судовой","Основное общее образование","Очно-заочная"]
[null,null,null,null,null,null,"26.01.05 Электрорадиомонтажник судовойСреднее общее образованиеОчная","11Д57020801000201000100","26.01.05 Электрорадиомонтажник судовой","Среднее общее образование","Очная"]
[null,null,null,null,null,null,"26.01.05 Электрорадиомонтажник судовойСреднее общее образованиеОчно-заочная","11Д57020801000209002100","26.01.05 Электрорадиомонтажник судовой","Среднее общее образование","Очно-заочная"]
[null,null,null,null,null,null,"26.01.06 Судоводитель-помощник механика маломерного суднаОсновное общее образованиеОчная","11Д57020901000101000100","26.01.06 Судоводитель-помощник механика маломерного судна","Основное общее образование","Очная"]
[null,null,null,null,null,null,"26.01.06 Судоводитель-помощник механика маломерного суднаОсновное общее образованиеОчно-заочная","11Д57020901000109002100","26.01.06 Судоводитель-помощник механика маломерного судна","Основное общее образование","Очно-заочная"]
[null,null,null,null,null,null,"26.01.06 Судоводитель-помощник механика маломерного суднаСреднее общее образованиеОчная","11Д57020901000201009100","26.01.06 Судоводитель-помощник механика маломерного судна","Среднее общее образование","Очная"]
[null,null,null,null,null,null,"26.01.06 Судоводитель-помощник механика маломерного суднаСреднее общее образованиеОчно-заочная","11Д57020901000209001100","26.01.06 Судоводитель-помощник механика маломерного судна","Среднее общее образование","Очно-заочная"]
[null,null,null,null,null,null,"26.01.07 МатросОсновное общее образованиеОчная","11Д57021001000101007100","26.01.07 Матрос","Основное общее образование","Очная"]
[null,null,null,null,null,null,"26.01.07 МатросОсновное общее образованиеОчно-заочная","11Д57021001000109009100","26.01.07 Матрос","Основное общее образование","Очно-заочная"]
[null,null,null,null,null,null,"26.01.07 МатросСреднее общее образованиеОчная","11Д57021001000201006100","26.01.07 Матрос","Среднее общее образование","Очная"]
[null,null,null,null,null,null,"26.01.07 МатросСреднее общее образованиеОчно-заочная","11Д57021001000209008100","26.01.07 Матрос","Среднее общее образование","Очно-заочная"]
[null,null,null,null,null,null,"26.01.08 Моторист (машинист)Основное общее образованиеОчная","11Д57021101000101006100","26.01.08 Моторист (машинист)","Основное общее образование","Очная"]
[null,null,null,null,null,null,"26.01.08 Моторист (машинист)Основное общее образованиеОчно-заочная","11Д57021101000109008100","26.01.08 Моторист (машинист)","Основное общее образование","Очно-заочная"]
[null,null,null,null,null,null,"26.01.08 Моторист (машинист)Среднее общее образованиеОчная","11Д57021101000201005100","26.01.08 Моторист (машинист)","Среднее общее образование","Очная"]
[null,null,null,null,null,null,"26.01.08 Моторист (машинист)Среднее общее образованиеОчно-заочная","11Д57021101000209007100","26.01.08 Моторист (машинист)","Среднее общее образование","Очно-заочная"]
[null,null,null,null,null,null,"26.01.09 Моторист судовойОсновное общее образованиеОчная","11Д57021201000101005100","26.01.09 Моторист судовой","Основное общее образование","Очная"]
[null,null,null,null,null,null,"26.01.09 Моторист судовойОсновное общее образованиеОчно-заочная","11Д57021201000109007100","26.01.09 Моторист судовой","Основное общее образование","Очно-заочная"]
[null,null,null,null,null,null,"26.01.09 Моторист судовойСреднее общее образованиеОчная","11Д57021201000201004100","26.01.09 Моторист судовой","Среднее общее образование","Очная"]
[null,null,null,null,null,null,"26.01.09 Моторист судовойСреднее общее образованиеОчно-заочная","11Д57021201000209006100","26.01.09 Моторист судовой","Среднее общее образование","Очно-заочная"]
[null,null,null,null,null,null,"26.01.10 Механик маломерного суднаОсновное общее образованиеОчная","11Д57021301000101004100","26.01.10 Механик маломерного судна","Основное общее образование","Очная"]
[null,null,null,null,null,null,"26.01.10 Механик маломерного суднаОсновное общее образованиеОчно-заочная","11Д57021301000109006100","26.01.10 Механик маломерного судна","Основное общее образование","Очно-заочная"]
[null,null,null,null,null,null,"26.01.10 Механик маломерного суднаСреднее общее образованиеОчная","11Д57021301000201003100","26.01.10 Механик маломерного судна","Среднее общее образование","Очная"]
[null,null,null,null,null,null,"26.01.10 Механик маломерного суднаСреднее общее образованиеОчно-заочная","11Д57021301000209005100","26.01.10 Механик маломерного судна","Среднее общее образование","Очно-заочная"]
[null,null,null,null,null,null,"26.01.11 Машинист-котельный судовойОсновное общее образованиеОчная","11Д57021401000101003100","26.01.11 Машинист-котельный судовой","Основное общее образование","Очная"]
[null,null,null,null,null,null,"26.01.11 Машинист-котельный судовойОсновное общее образованиеОчно-заочная","11Д57021401000109005100","26.01.11 Машинист-котельный судовой","Основное общее образование","Очно-заочная"]
[null,null,null,null,null,null,"26.01.11 Машинист-котельный судовойСреднее общее образованиеОчная","11Д57021401000201002100","26.01.11 Машинист-котельный судовой","Среднее общее образование","Очная"]
[null,null,null,null,null,null,"26.01.11 Машинист-котельный судовойСреднее общее образованиеОчно-заочная","11Д57021401000209004100","26.01.11 Машинист-котельный судовой","Среднее общее образование","Очно-заочная"]
[null,null,null,null,null,null,"26.01.12 Электрик судовойОсновное общее образованиеОчная","11Д57021501000101002100","26.01.12 Электрик судовой","Основное общее образование","Очная"]
[null,null,null,null,null,null,"26.01.12 Электрик судовойОсновное общее образованиеОчно-заочная","11Д57021501000109004100","26.01.12 Электрик судовой","Основное общее образование","Очно-заочная"]
[null,null,null,null,null,null,"26.01.12 Электрик судовойСреднее общее образованиеОчная","11Д57021501000201001100","26.01.12 Электрик судовой","Среднее общее образование","Очная"]
[null,null,null,null,null,null,"26.01.12 Электрик судовойСреднее общее образованиеОчно-заочная","11Д57021501000209003100","26.01.12 Электрик судовой","Среднее общее образование","Очно-заочная"]
[null,null,null,null,null,null,"26.01.13 ВодолазОсновное общее образованиеОчная","11Д57021601000101001100","26.01.13 Водолаз","Основное общее образование","Очная"]
[null,null,null,null,null,null,"26.01.13 ВодолазОсновное общее образованиеОчно-заочная","11Д57021601000109003100","26.01.13 Водолаз","Основное общее образование","Очно-заочная"]
[null,null,null,null,null,null,"26.01.13 ВодолазСреднее общее образованиеОчная","11Д57021601000201000100","26.01.13 Водолаз","Среднее общее образование","Очная"]
[null,null,null,null,null,null,"26.01.13 ВодолазСреднее общее образованиеОчно-заочная","11Д57021601000209002100","26.01.13 Водолаз","Среднее общее образование","Очно-заочная"]
[null,null,null,null,null,null,"29.01.01 СкорнякОсновное общее образованиеОчная","11Д57021801000101009100","29.01.01 Скорняк","Основное общее образование","Очная"]
[null,null,null,null,null,null,"29.01.01 СкорнякОсновное общее образованиеОчно-заочная","11Д57021801000109001100","29.01.01 Скорняк","Основное общее образование","Очно-заочная"]
[null,null,null,null,null,null,"29.01.01 СкорнякСреднее общее образованиеОчная","11Д57021801000201008100","29.01.01 Скорняк","Среднее общее образование","Очная"]
[null,null,null,null,null,null,"29.01.01 СкорнякСреднее общее образованиеОчно-заочная","11Д57021801000209000100","29.01.01 Скорняк","Среднее общее образование","Очно-заочная"]
[null,null,null,null,null,null,"29.01.02 Обувщик (широкого профиля)Основное общее образованиеОчная","11Д57021901000101008100","29.01.02 Обувщик (широкого профиля)","Основное общее образование","Очная"]
[null,null,null,null,null,null,"29.01.02 Обувщик (широкого профиля)Основное общее образованиеОчно-заочная","11Д57021901000109000100","29.01.02 Обувщик (широкого профиля)","Основное общее образование","Очно-заочная"]
[null,null,null,null,null,null,"29.01.02 Обувщик (широкого профиля)Среднее общее образованиеОчная","11Д57021901000201007100","29.01.02 Обувщик (широкого профиля)","Среднее общее образование","Очная"]
[null,null,null,null,null,null,"29.01.02 Обувщик (широкого профиля)Среднее общее образованиеОчно-заочная","11Д57021901000209009100","29.01.02 Обувщик (широкого профиля)","Среднее общее образование","Очно-заочная"]
[null,null,null,null,null,null,"29.01.03 Сборщик обувиОсновное общее образованиеОчная","11Д57022001000101005100","29.01.03 Сборщик обуви","Основное общее образование","Очная"]
[null,null,null,null,null,null,"29.01.03 Сборщик обувиОсновное общее образованиеОчно-заочная","11Д57022001000109007100","29.01.03 Сборщик обуви","Основное общее образование","Очно-заочная"]
[null,null,null,null,null,null,"29.01.03 Сборщик обувиСреднее общее образованиеОчная","11Д57022001000201004100","29.01.03 Сборщик обуви","Среднее общее образование","Очная"]
[null,null,null,null,null,null,"29.01.03 Сборщик обувиСреднее общее образованиеОчно-заочная","11Д57022001000209006100","29.01.03 Сборщик обуви","Среднее общее образование","Очно-заочная"]
[null,null,null,null,null,null,"29.01.04 Художник по костюмуОсновное общее образованиеОчная","11Д57022101000101004100","29.01.04 Художник по костюму","Основное общее образование","Очная"]
[null,null,null,null,null,null,"29.01.04 Художник по костюмуОсновное общее образованиеОчно-заочная","11Д57022101000109006100","29.01.04 Художник по костюму","Основное общее образование","Очно-заочная"]
[null,null,null,null,null,null,"29.01.04 Художник по костюмуСреднее общее образованиеОчная","11Д57022101000201003100","29.01.04 Художник по костюму","Среднее общее образование","Очная"]
[null,null,null,null,null,null,"29.01.04 Художник по костюмуСреднее общее образованиеОчно-заочная","11Д57022101000209005100","29.01.04 Художник по костюму","Среднее общее образование","Очно-заочная"]
[null,null,null,null,null,null,"29.01.05 ЗакройщикОсновное общее образованиеОчная","11Д57022201000101003100","29.01.05 Закройщик","Основное общее образование","Очная"]
[null,null,null,null,null,null,"29.01.05 ЗакройщикОсновное общее образованиеОчно-заочная","11Д57022201000109005100","29.01.05 Закройщик","Основное общее образование","Очно-заочная"]
[null,null,null,null,null,null,"29.01.05 ЗакройщикСреднее общее образованиеОчная","11Д57022201000201002100","29.01.05 Закройщик","Среднее общее образование","Очная"]
[null,null,null,null,null,null,"29.01.05 ЗакройщикСреднее общее образованиеОчно-заочная","11Д57022201000209004100","29.01.05 Закройщик","Среднее общее образование","Очно-заочная"]
[null,null,null,null,null,null,"29.01.06 Раскройщик материаловОсновное общее образованиеОчная","11Д57022301000101002100","29.01.06 Раскройщик материалов","Основное общее образование","Очная"]
[null,null,null,null,null,null,"29.01.06 Раскройщик материаловОсновное общее образованиеОчно-заочная","11Д57022301000109004100","29.01.06 Раскройщик материалов","Основное общее образование","Очно-заочная"]
[null,null,null,null,null,null,"29.01.06 Раскройщик материаловСреднее общее образованиеОчная","11Д57022301000201001100","29.01.06 Раскройщик материалов","Среднее общее образование","Очная"]
[null,null,null,null,null,null,"29.01.06 Раскройщик материаловСреднее общее образованиеОчно-заочная","11Д57022301000209003100","29.01.06 Раскройщик материалов","Среднее общее образование","Очно-заочная"]
[null,null,null,null,null,null,"29.01.07 ПортнойОсновное общее образованиеОчная","11Д57022401000101001100","29.01.07 Портной","Основное общее образование","Очная"]
[null,null,null,null,null,null,"29.01.07 ПортнойОсновное общее образованиеОчно-заочная","11Д57022401000109003100","29.01.07 Портной","Основное общее образование","Очно-заочная"]
[null,null,null,null,null,null,"29.01.07 ПортнойСреднее общее образованиеОчная","11Д57022401000201000100","29.01.07 Портной","Среднее общее образование","Очная"]
[null,null,null,null,null,null,"29.01.07 ПортнойСреднее общее образованиеОчно-заочная","11Д57022401000209002100","29.01.07 Портной","Среднее общее образование","Очно-заочная"]
[null,null,null,null,null,null,"29.01.08 Оператор швейного оборудованияОсновное общее образованиеОчная","11Д57022501000101000100","29.01.08 Оператор швейного оборудования","Основное общее образование","Очная"]
[null,null,null,null,null,null,{"$f":"I835&J835&K835","v":"29.01.08 Оператор швейного оборудованияОсновное общее образованиеОчно-заочная"},"11Д57022501000109002100","29.01.08 Оператор швейного оборудования","Основное общее образование","Очно-заочная"]
[null,null,null,null,null,null,"29.01.08 Оператор швейного оборудованияСреднее общее образованиеОчная","11Д57022501000201009100","29.01.08 Оператор швейного оборудования","Среднее общее образование","Очная"]
[null,null,null,null,null,null,"29.01.08 Оператор швейного оборудованияСреднее общее образованиеОчно-заочная","11Д57022501000209001100","29.01.08 Оператор швейного оборудования","Среднее общее образование","Очно-заочная"]
[null,null,null,null,null,null,"29.01.09 ВышивальщицаОсновное общее образованиеОчная","11Д57022601000101009100","29.01.09 Вышивальщица","Основное общее образование","Очная"]
[null,null,null,null,null,null,"29.01.09 ВышивальщицаОсновное общее образованиеОчно-заочная","11Д57022601000109001100","29.01.09 Вышивальщица","Основное общее образование","Очно-заочная"]
[null,null,null,null,null,null,"29.01.09 ВышивальщицаСреднее общее образованиеОчная","11Д57022601000201008100","29.01.09 Вышивальщица","Среднее общее образование","Очная"]
[null,null,null,null,null,null,"29.01.09 ВышивальщицаСреднее общее образованиеОчно-заочная","11Д57022601000209000100","29.01.09 Вышивальщица","Среднее общее образование","Очно-заочная"]
[null,null,null,null,null,null,"29.01.10 Модистка головных уборовОсновное общее образованиеОчная","11Д57022701000101008100","29.01.10 Модистка головных уборов","Основное общее образование","Очная"]
[null,null,null,null,null,null,"29.01.10 Модистка головных уборовОсновное общее образованиеОчно-заочная","11Д57022701000109000100","29.01.10 Модистка головных уборов","Основное общее образование","Очно-заочная"]
[null,null,null,null,null,null,"29.01.10 Модистка головных уборовСреднее общее образованиеОчная","11Д57022701000201007100","29.01.10 Модистка головных уборов","Среднее общее образование","Очная"]
[null,null,null,null,null,null,"29.01.10 Модистка головных уборовСреднее общее образованиеОчно-заочная","11Д57022701000209009100","29.01.10 Модистка головных уборов","Среднее общее образование","Очно-заочная"]
[null,null,null,null,null,null,"29.01.11 Контролер качества текстильных изделийОсновное общее образованиеОчная","11Д57022801000101007100","29.01.11 Контролер качества текстильных изделий","Основное общее образование","Очная"]
[null,null,null,null,null,null,"29.01.11 Контролер качества текстильных изделийОсновное общее образованиеОчно-заочная","11Д57022801000109009100","29.01.11 Контролер качества текстильных изделий","Основное общее образование","Очно-заочная"]
[null,null,null,null,null,null,"29.01.11 Контролер качества текстильных изделийСреднее общее образованиеОчная","11Д57022801000201006100","29.01.11 Контролер качества текстильных изделий","Среднее общее образование","Очная"]
[null,null,null,null,null,null,"29.01.11 Контролер качества текстильных изделийСреднее общее образованиеОчно-заочная","11Д57022801000209008100","29.01.11 Контролер качества текстильных изделий","Среднее общее образование","Очно-заочная"]
[null,null,null,null,null,null,"29.01.12 Оператор крутильного оборудования (для всех видов производств)Основное общее образованиеОчная","11Д57022901000101006100","29.01.12 Оператор крутильного оборудования (для всех видов производств)","Основное общее образование","Очная"]
[null,null,null,null,null,null,"29.01.12 Оператор крутильного оборудования (для всех видов производств)Основное общее образованиеОчно-заочная","11Д57022901000109008100","29.01.12 Оператор крутильного оборудования (для всех видов производств)","Основное общее образование","Очно-заочная"]
[null,null,null,null,null,null,"29.01.12 Оператор крутильного оборудования (для всех видов производств)Среднее общее образованиеОчная","11Д57022901000201005100","29.01.12 Оператор крутильного оборудования (для всех видов производств)","Среднее общее образование","Очная"]
[null,null,null,null,null,null,"29.01.12 Оператор крутильного оборудования (для всех видов производств)Среднее общее образованиеОчно-заочная","11Д57022901000209007100","29.01.12 Оператор крутильного оборудования (для всех видов производств)","Среднее общее образование","Очно-заочная"]
[null,null,null,null,null,null,"29.01.13 Оператор оборудования чесального производства (для всех видов производств)Основное общее образованиеОчная","11Д57023001000101003100","29.01.13 Оператор оборудования чесального производства (для всех видов производств)","Основное общее образование","Очная"]
[null,null,null,null,null,null,"29.01.13 Оператор оборудования чесального производства (для всех видов производств)Основное общее образованиеОчно-заочная","11Д57023001000109005100","29.01.13 Оператор оборудования чесального производства (для всех видов производств)","Основное общее образование","Очно-заочная"]
[null,null,null,null,null,null,"29.01.13 Оператор оборудования чесального производства (для всех видов производств)Среднее общее образованиеОчная","11Д57023001000201002100","29.01.13 Оператор оборудования чесального производства (для всех видов производств)","Среднее общее образование","Очная"]
[null,null,null,null,null,null,"29.01.13 Оператор оборудования чесального производства (для всех видов производств)Среднее общее образованиеОчно-заочная","11Д57023001000209004100","29.01.13 Оператор оборудования чесального производства (для всех видов производств)","Среднее общее образование","Очно-заочная"]
[null,null,null,null,null,null,"29.01.14 Оператор прядильного производстваОсновное общее образованиеОчная","11Д57023101000101002100","29.01.14 Оператор прядильного производства","Основное общее образование","Очная"]
[null,null,null,null,null,null,"29.01.14 Оператор прядильного производстваОсновное общее образованиеОчно-заочная","11Д57023101000109004100","29.01.14 Оператор прядильного производства","Основное общее образование","Очно-заочная"]
[null,null,null,null,null,null,"29.01.14 Оператор прядильного производстваСреднее общее образованиеОчная","11Д57023101000201001100","29.01.14 Оператор прядильного производства","Среднее общее образование","Очная"]
[null,null,null,null,null,null,"29.01.14 Оператор прядильного производстваСреднее общее образованиеОчно-заочная","11Д57023101000209003100","29.01.14 Оператор прядильного производства","Среднее общее образование","Очно-заочная"]
[null,null,null,null,null,null,"29.01.15 РаклистОсновное общее образованиеОчная","11Д57023201000101001100","29.01.15 Раклист","Основное общее образование","Очная"]
[null,null,null,null,null,null,"29.01.15 РаклистОсновное общее образованиеОчно-заочная","11Д57023201000109003100","29.01.15 Раклист","Основное общее образование","Очно-заочная"]
[null,null,null,null,null,null,"29.01.15 РаклистСреднее общее образованиеОчная","11Д57023201000201000100","29.01.15 Раклист","Среднее общее образование","Очная"]
[null,null,null,null,null,null,"29.01.15 РаклистСреднее общее образованиеОчно-заочная","11Д57023201000209002100","29.01.15 Раклист","Среднее общее образование","Очно-заочная"]
[null,null,null,null,null,null,"29.01.16 ТкачОсновное общее образованиеОчная","11Д57023301000101000100","29.01.16 Ткач","Основное общее образование","Очная"]
[null,null,null,null,null,null,"29.01.16 ТкачОсновное общее образованиеОчно-заочная","11Д57023301000109002100","29.01.16 Ткач","Основное общее образование","Очно-заочная"]
[null,null,null,null,null,null,"29.01.16 ТкачСреднее общее образованиеОчная","11Д57023301000201009100","29.01.16 Ткач","Среднее общее образование","Очная"]
[null,null,null,null,null,null,"29.01.16 ТкачСреднее общее образованиеОчно-заочная","11Д57023301000209001100","29.01.16 Ткач","Среднее общее образование","Очно-заочная"]
[null,null,null,null,null,null,"29.01.17 Оператор вязально-швейного оборудованияОсновное общее образованиеОчная","11Д57023401000101009100","29.01.17 Оператор вязально-швейного оборудования","Основное общее образование","Очная"]
[null,null,null,null,null,null,"29.01.17 Оператор вязально-швейного оборудованияОсновное общее образованиеОчно-заочная","11Д57023401000109001100","29.01.17 Оператор вязально-швейного оборудования","Основное общее образование","Очно-заочная"]
[null,null,null,null,null,null,"29.01.17 Оператор вязально-швейного оборудованияСреднее общее образованиеОчная","11Д57023401000201008100","29.01.17 Оператор вязально-швейного оборудования","Среднее общее образование","Очная"]
[null,null,null,null,null,null,"29.01.17 Оператор вязально-швейного оборудованияСреднее общее образованиеОчно-заочная","11Д57023401000209000100","29.01.17 Оператор вязально-швейного оборудования","Среднее общее образование","Очно-заочная"]
[null,null,null,null,null,null,"29.01.18 Вязальщица текстильно-галантерейных изделийОсновное общее образованиеОчная","11Д57023501000101008100","29.01.18 Вязальщица текстильно-галантерейных изделий","Основное общее образование","Очная"]
[null,null,null,null,null,null,"29.01.18 Вязальщица текстильно-галантерейных изделийОсновное общее образованиеОчно-заочная","11Д57023501000109000100","29.01.18 Вязальщица текстильно-галантерейных изделий","Основное общее образование","Очно-заочная"]
[null,null,null,null,null,null,"29.01.18 Вязальщица текстильно-галантерейных изделийСреднее общее образованиеОчная","11Д57023501000201007100","29.01.18 Вязальщица текстильно-галантерейных изделий","Среднее общее образование","Очная"]
[null,null,null,null,null,null,"29.01.18 Вязальщица текстильно-галантерейных изделийСреднее общее образованиеОчно-заочная","11Д57023501000209009100","29.01.18 Вязальщица текстильно-галантерейных изделий","Среднее общее образование","Очно-заочная"]
[null,null,null,null,null,null,"29.01.19 Оператор производства нетканых материаловОсновное общее образованиеОчная","11Д57023601000101007100","29.01.19 Оператор производства нетканых материалов","Основное общее образование","Очная"]
[null,null,null,null,null,null,"29.01.19 Оператор производства нетканых материаловОсновное общее образованиеОчно-заочная","11Д57023601000109009100","29.01.19 Оператор производства нетканых материалов","Основное общее образование","Очно-заочная"]
[null,null,null,null,null,null,"29.01.19 Оператор производства нетканых материаловСреднее общее образованиеОчная","11Д57023601000201006100","29.01.19 Оператор производства нетканых материалов","Среднее общее образование","Очная"]
[null,null,null,null,null,null,"29.01.19 Оператор производства нетканых материаловСреднее общее образованиеОчно-заочная","11Д57023601000209008100","29.01.19 Оператор производства нетканых материалов","Среднее общее образование","Очно-заочная"]
[null,null,null,null,null,null,"29.01.20 Красильщик (общие профессии производства текстиля)Основное общее образованиеОчная","11Д57023701000101006100","29.01.20 Красильщик (общие профессии производства текстиля)","Основное общее образование","Очная"]
[null,null,null,null,null,null,"29.01.20 Красильщик (общие профессии производства текстиля)Основное общее образованиеОчно-заочная","11Д57023701000109008100","29.01.20 Красильщик (общие профессии производства текстиля)","Основное общее образование","Очно-заочная"]
[null,null,null,null,null,null,"29.01.20 Красильщик (общие профессии производства текстиля)Среднее общее образованиеОчная","11Д57023701000201005100","29.01.20 Красильщик (общие профессии производства текстиля)","Среднее общее образование","Очная"]
[null,null,null,null,null,null,"29.01.20 Красильщик (общие профессии производства текстиля)Среднее общее образованиеОчно-заочная","11Д57023701000209007100","29.01.20 Красильщик (общие профессии производства текстиля)","Среднее общее образование","Очно-заочная"]
[null,null,null,null,null,null,"29.01.21 Оператор оборудования отделочного производства (общие профессии производства текстиля)Основное общее образованиеОчная","11Д57023801000101005100","29.01.21 Оператор оборудования отделочного производства (общие профессии производства текстиля)","Основное общее образование","Очная"]
[null,null,null,null,null,null,"29.01.21 Оператор оборудования отделочного производства (общие профессии производства текстиля)Основное общее образованиеОчно-заочная","11Д57023801000109007100","29.01.21 Оператор оборудования отделочного производства (общие профессии производства текстиля)","Основное общее образование","Очно-заочная"]
[null,null,null,null,null,null,"29.01.21 Оператор оборудования отделочного производства (общие профессии производства текстиля)Среднее общее образованиеОчная","11Д57023801000201004100","29.01.21 Оператор оборудования отделочного производства (общие профессии производства текстиля)","Среднее общее образование","Очная"]
[null,null,null,null,null,null,"29.01.21 Оператор оборудования отделочного производства (общие профессии производства текстиля)Среднее общее образованиеОчно-заочная","11Д57023801000209006100","29.01.21 Оператор оборудования отделочного производства (общие профессии производства текстиля)","Среднее общее образование","Очно-заочная"]
[null,null,null,null,null,null,"29.01.22 Аппаратчик отделочного производства (общие профессии производства текстиля)Основное общее образованиеОчная","11Д57023901000101004100","29.01.22 Аппаратчик отделочного производства (общие профессии производства текстиля)","Основное общее образование","Очная"]
[null,null,null,null,null,null,"29.01.22 Аппаратчик отделочного производства (общие профессии производства текстиля)Основное общее образованиеОчно-заочная","11Д57023901000109006100","29.01.22 Аппаратчик отделочного производства (общие профессии производства текстиля)","Основное общее образование","Очно-заочная"]
[null,null,null,null,null,null,"29.01.22 Аппаратчик отделочного производства (общие профессии производства текстиля)Среднее общее образованиеОчная","11Д57023901000201003100","29.01.22 Аппаратчик отделочного производства (общие профессии производства текстиля)","Среднее общее образование","Очная"]
[null,null,null,null,null,null,"29.01.22 Аппаратчик отделочного производства (общие профессии производства текстиля)Среднее общее образованиеОчно-заочная","11Д57023901000209005100","29.01.22 Аппаратчик отделочного производства (общие профессии производства текстиля)","Среднее общее образование","Очно-заочная"]
[null,null,null,null,null,null,"29.01.23 Наладчик полиграфического оборудованияОсновное общее образованиеОчная","11Д57024001000101001100","29.01.23 Наладчик полиграфического оборудования","Основное общее образование","Очная"]
[null,null,null,null,null,null,"29.01.23 Наладчик полиграфического оборудованияОсновное общее образованиеОчно-заочная","11Д57024001000109003100","29.01.23 Наладчик полиграфического оборудования","Основное общее образование","Очно-заочная"]
[null,null,null,null,null,null,"29.01.23 Наладчик полиграфического оборудованияСреднее общее образованиеОчная","11Д57024001000201000100","29.01.23 Наладчик полиграфического оборудования","Среднее общее образование","Очная"]
[null,null,null,null,null,null,"29.01.23 Наладчик полиграфического оборудованияСреднее общее образованиеОчно-заочная","11Д57024001000209002100","29.01.23 Наладчик полиграфического оборудования","Среднее общее образование","Очно-заочная"]
[null,null,null,null,null,null,"29.01.24 Оператор электронного набора и версткиОсновное общее образованиеОчная","11Д57024101000101000100","29.01.24 Оператор электронного набора и верстки","Основное общее образование","Очная"]
[null,null,null,null,null,null,{"$f":"I899&J899&K899","v":"29.01.24 Оператор электронного набора и версткиОсновное общее образованиеОчно-заочная"},"11Д57024101000109002100","29.01.24 Оператор электронного набора и верстки","Основное общее образование","Очно-заочная"]
[null,null,null,null,null,null,"29.01.24 Оператор электронного набора и версткиСреднее общее образованиеОчная","11Д57024101000201009100","29.01.24 Оператор электронного набора и верстки","Среднее общее образование","Очная"]
[null,null,null,null,null,null,"29.01.24 Оператор электронного набора и версткиСреднее общее образованиеОчно-заочная","11Д57024101000209001100","29.01.24 Оператор электронного набора и верстки","Среднее общее образование","Очно-заочная"]
[null,null,null,null,null,null,"29.01.25 ПереплетчикОсновное общее образованиеОчная","11Д57024201000101009100","29.01.25 Переплетчик","Основное общее образование","Очная"]
[null,null,null,null,null,null,"29.01.25 ПереплетчикОсновное общее образованиеОчно-заочная","11Д57024201000109001100","29.01.25 Переплетчик","Основное общее образование","Очно-заочная"]
[null,null,null,null,null,null,"29.01.25 ПереплетчикСреднее общее образованиеОчная","11Д57024201000201008100","29.01.25 Переплетчик","Среднее общее образование","Очная"]
[null,null,null,null,null,null,"29.01.25 ПереплетчикСреднее общее образованиеОчно-заочная","11Д57024201000209000100","29.01.25 Переплетчик","Среднее общее образование","Очно-заочная"]
[null,null,null,null,null,null,"29.01.26 Печатник плоской печатиОсновное общее образованиеОчная","11Д57024301000101008100","29.01.26 Печатник плоской печати","Основное общее образование","Очная"]
[null,null,null,null,null,null,"29.01.26 Печатник плоской печатиОсновное общее образованиеОчно-заочная","11Д57024301000109000100","29.01.26 Печатник плоской печати","Основное общее образование","Очно-заочная"]
[null,null,null,null,null,null,"29.01.26 Печатник плоской печатиСреднее общее образованиеОчная","11Д57024301000201007100","29.01.26 Печатник плоской печати","Среднее общее образование","Очная"]
[null,null,null,null,null,null,"29.01.26 Печатник плоской печатиСреднее общее образованиеОчно-заочная","11Д57024301000209009100","29.01.26 Печатник плоской печати","Среднее общее образование","Очно-заочная"]
[null,null,null,null,null,null,"29.01.27 Мастер печатного делаОсновное общее образованиеОчная","11Д57024401000101007100","29.01.27 Мастер печатного дела","Основное общее образование","Очная"]
[null,null,null,null,null,null,"29.01.27 Мастер печатного делаОсновное общее образованиеОчно-заочная","11Д57024401000109009100","29.01.27 Мастер печатного дела","Основное общее образование","Очно-заочная"]
[null,null,null,null,null,null,"29.01.27 Мастер печатного делаСреднее общее образованиеОчная","11Д57024401000201006100","29.01.27 Мастер печатного дела","Среднее общее образование","Очная"]
[null,null,null,null,null,null,"29.01.27 Мастер печатного делаСреднее общее образованиеОчно-заочная","11Д57024401000209008100","29.01.27 Мастер печатного дела","Среднее общее образование","Очно-заочная"]
[null,null,null,null,null,null,"29.01.28 Огранщик алмазов в бриллиантыОсновное общее образованиеОчная","11Д57024501000101006100","29.01.28 Огранщик алмазов в бриллианты","Основное общее образование","Очная"]
[null,null,null,null,null,null,"29.01.28 Огранщик алмазов в бриллиантыОсновное общее образованиеОчно-заочная","11Д57024501000109008100","29.01.28 Огранщик алмазов в бриллианты","Основное общее образование","Очно-заочная"]
[null,null,null,null,null,null,"29.01.28 Огранщик алмазов в бриллиантыСреднее общее образованиеОчная","11Д57024501000201005100","29.01.28 Огранщик алмазов в бриллианты","Среднее общее образование","Очная"]
[null,null,null,null,null,null,"29.01.28 Огранщик алмазов в бриллиантыСреднее общее образованиеОчно-заочная","11Д57024501000209007100","29.01.28 Огранщик алмазов в бриллианты","Среднее общее образование","Очно-заочная"]
[null,null,null,null,null,null,"29.01.29 Мастер столярного и мебельного производстваОсновное общее образованиеОчная","11Д57024601000101005100","29.01.29 Мастер столярного и мебельного производства","Основное общее образование","Очная"]
[null,null,null,null,null,null,"29.01.29 Мастер столярного и мебельного производстваОсновное общее образованиеОчно-заочная","11Д57024601000109007100","29.01.29 Мастер столярного и мебельного производства","Основное общее образование","Очно-заочная"]
[null,null,null,null,null,null,"29.01.29 Мастер столярного и мебельного производстваСреднее общее образованиеОчная","11Д57024601000201004100","29.01.29 Мастер столярного и мебельного производства","Среднее общее образование","Очная"]
[null,null,null,null,null,null,"29.01.29 Мастер столярного и мебельного производстваСреднее общее образованиеОчно-заочная","11Д57024601000209006100","29.01.29 Мастер столярного и мебельного производства","Среднее общее образование","Очно-заочная"]
[null,null,null,null,null,null,"29.01.30 Обойщик мебелиОсновное общее образованиеОчная","11Д57024701000101004100","29.01.30 Обойщик мебели","Основное общее образование","Очная"]
[null,null,null,null,null,null,"29.01.30 Обойщик мебелиОсновное общее образованиеОчно-заочная","11Д57024701000109006100","29.01.30 Обойщик мебели","Основное общее образование","Очно-заочная"]
[null,null,null,null,null,null,"29.01.30 Обойщик мебелиСреднее общее образованиеОчная","11Д57024701000201003100","29.01.30 Обойщик мебели","Среднее общее образование","Очная"]
[null,null,null,null,null,null,"29.01.30 Обойщик мебелиСреднее общее образованиеОчно-заочная","11Д57024701000209005100","29.01.30 Обойщик мебели","Среднее общее образование","Очно-заочная"]
[null,null,null,null,null,null,"34.01.01 Младшая медицинская сестра по уходу за больнымиОсновное общее образованиеОчная","11Д57024901000101002100","34.01.01 Младшая медицинская сестра по уходу за больными","Основное общее образование","Очная"]
[null,null,null,null,null,null,"34.01.01 Младшая медицинская сестра по уходу за больнымиОсновное общее образованиеОчно-заочная","11Д57024901000109004100","34.01.01 Младшая медицинская сестра по уходу за больными","Основное общее образование","Очно-заочная"]
[null,null,null,null,null,null,"34.01.01 Младшая медицинская сестра по уходу за больнымиСреднее общее образованиеОчная","11Д57024901000201001100","34.01.01 Младшая медицинская сестра по уходу за больными","Среднее общее образование","Очная"]
[null,null,null,null,null,null,"34.01.01 Младшая медицинская сестра по уходу за больнымиСреднее общее образованиеОчно-заочная","11Д57024901000209003100","34.01.01 Младшая медицинская сестра по уходу за больными","Среднее общее образование","Очно-заочная"]
[null,null,null,null,null,null,"35.01.01 Мастер по лесному хозяйствуОсновное общее образованиеОчная","11Д57025101000101007100","35.01.01 Мастер по лесному хозяйству","Основное общее образование","Очная"]
[null,null,null,null,null,null,"35.01.01 Мастер по лесному хозяйствуОсновное общее образованиеОчно-заочная","11Д57025101000109009100","35.01.01 Мастер по лесному хозяйству","Основное общее образование","Очно-заочная"]
[null,null,null,null,null,null,"35.01.01 Мастер по лесному хозяйствуСреднее общее образованиеОчная","11Д57025101000201006100","35.01.01 Мастер по лесному хозяйству","Среднее общее образование","Очная"]
[null,null,null,null,null,null,"35.01.01 Мастер по лесному хозяйствуСреднее общее образованиеОчно-заочная","11Д57025101000209008100","35.01.01 Мастер по лесному хозяйству","Среднее общее образование","Очно-заочная"]
[null,null,null,null,null,null,"35.01.02 Станочник деревообрабатывающих станковОсновное общее образованиеОчная","11Д57025201000101006100","35.01.02 Станочник деревообрабатывающих станков","Основное общее образование","Очная"]
[null,null,null,null,null,null,"35.01.02 Станочник деревообрабатывающих станковОсновное общее образованиеОчно-заочная","11Д57025201000109008100","35.01.02 Станочник деревообрабатывающих станков","Основное общее образование","Очно-заочная"]
[null,null,null,null,null,null,"35.01.02 Станочник деревообрабатывающих станковСреднее общее образованиеОчная","11Д57025201000201005100","35.01.02 Станочник деревообрабатывающих станков","Среднее общее образование","Очная"]
[null,null,null,null,null,null,"35.01.02 Станочник деревообрабатывающих станковСреднее общее образованиеОчно-заочная","11Д57025201000209007100","35.01.02 Станочник деревообрабатывающих станков","Среднее общее образование","Очно-заочная"]
[null,null,null,null,null,null,"35.01.03 Станочник-обработчикОсновное общее образованиеОчная","11Д57025301000101005100","35.01.03 Станочник-обработчик","Основное общее образование","Очная"]
[null,null,null,null,null,null,"35.01.03 Станочник-обработчикОсновное общее образованиеОчно-заочная","11Д57025301000109007100","35.01.03 Станочник-обработчик","Основное общее образование","Очно-заочная"]
[null,null,null,null,null,null,"35.01.03 Станочник-обработчикСреднее общее образованиеОчная","11Д57025301000201004100","35.01.03 Станочник-обработчик","Среднее общее образование","Очная"]
[null,null,null,null,null,null,"35.01.03 Станочник-обработчикСреднее общее образованиеОчно-заочная","11Д57025301000209006100","35.01.03 Станочник-обработчик","Среднее общее образование","Очно-заочная"]
[null,null,null,null,null,null,"35.01.04 Оператор линии и установок в деревообработкеОсновное общее образованиеОчная","11Д57025401000101004100","35.01.04 Оператор линии и установок в деревообработке","Основное общее образование","Очная"]
[null,null,null,null,null,null,"35.01.04 Оператор линии и установок в деревообработкеОсновное общее образованиеОчно-заочная","11Д57025401000109006100","35.01.04 Оператор линии и установок в деревообработке","Основное общее образование","Очно-заочная"]
[null,null,null,null,null,null,"35.01.04 Оператор линии и установок в деревообработкеСреднее общее образованиеОчная","11Д57025401000201003100","35.01.04 Оператор линии и установок в деревообработке","Среднее общее образование","Очная"]
[null,null,null,null,null,null,"35.01.04 Оператор линии и установок в деревообработкеСреднее общее образованиеОчно-заочная","11Д57025401000209005100","35.01.04 Оператор линии и установок в деревообработке","Среднее общее образование","Очно-заочная"]
[null,null,null,null,null,null,"35.01.05 Контролер полуфабрикатов и изделий из древесиныОсновное общее образованиеОчная","11Д57025501000101003100","35.01.05 Контролер полуфабрикатов и изделий из древесины","Основное общее образование","Очная"]
[null,null,null,null,null,null,"35.01.05 Контролер полуфабрикатов и изделий из древесиныОсновное общее образованиеОчно-заочная","11Д57025501000109005100","35.01.05 Контролер полуфабрикатов и изделий из древесины","Основное общее образование","Очно-заочная"]
[null,null,null,null,null,null,"35.01.05 Контролер полуфабрикатов и изделий из древесиныСреднее общее образованиеОчная","11Д57025501000201002100","35.01.05 Контролер полуфабрикатов и изделий из древесины","Среднее общее образование","Очная"]
[null,null,null,null,null,null,"35.01.05 Контролер полуфабрикатов и изделий из древесиныСреднее общее образованиеОчно-заочная","11Д57025501000209004100","35.01.05 Контролер полуфабрикатов и изделий из древесины","Среднее общее образование","Очно-заочная"]
[null,null,null,null,null,null,"35.01.06 Машинист машин по производству бумаги и картонаОсновное общее образованиеОчная","11Д57025601000101002100","35.01.06 Машинист машин по производству бумаги и картона","Основное общее образование","Очная"]
[null,null,null,null,null,null,"35.01.06 Машинист машин по производству бумаги и картонаОсновное общее образованиеОчно-заочная","11Д57025601000109004100","35.01.06 Машинист машин по производству бумаги и картона","Основное общее образование","Очно-заочная"]
[null,null,null,null,null,null,"35.01.06 Машинист машин по производству бумаги и картонаСреднее общее образованиеОчная","11Д57025601000201001100","35.01.06 Машинист машин по производству бумаги и картона","Среднее общее образование","Очная"]
[null,null,null,null,null,null,"35.01.06 Машинист машин по производству бумаги и картонаСреднее общее образованиеОчно-заочная","11Д57025601000209003100","35.01.06 Машинист машин по производству бумаги и картона","Среднее общее образование","Очно-заочная"]
[null,null,null,null,null,null,"35.01.07 Сушильщик в бумажном производствеОсновное общее образованиеОчная","11Д57025701000101001100","35.01.07 Сушильщик в бумажном производстве","Основное общее образование","Очная"]
[null,null,null,null,null,null,"35.01.07 Сушильщик в бумажном производствеОсновное общее образованиеОчно-заочная","11Д57025701000109003100","35.01.07 Сушильщик в бумажном производстве","Основное общее образование","Очно-заочная"]
[null,null,null,null,null,null,"35.01.07 Сушильщик в бумажном производствеСреднее общее образованиеОчная","11Д57025701000201000100","35.01.07 Сушильщик в бумажном производстве","Среднее общее образование","Очная"]
[null,null,null,null,null,null,"35.01.07 Сушильщик в бумажном производствеСреднее общее образованиеОчно-заочная","11Д57025701000209002100","35.01.07 Сушильщик в бумажном производстве","Среднее общее образование","Очно-заочная"]
[null,null,null,null,null,null,"35.01.08 Контролер целлюлозно-бумажного производстваОсновное общее образованиеОчная","11Д57025801000101000100","35.01.08 Контролер целлюлозно-бумажного производства","Основное общее образование","Очная"]
[null,null,null,null,null,null,"35.01.08 Контролер целлюлозно-бумажного производстваОсновное общее образованиеОчно-заочная","11Д57025801000109002100","35.01.08 Контролер целлюлозно-бумажного производства","Основное общее образование","Очно-заочная"]
[null,null,null,null,null,null,"35.01.08 Контролер целлюлозно-бумажного производстваСреднее общее образованиеОчная","11Д57025801000201009100","35.01.08 Контролер целлюлозно-бумажного производства","Среднее общее образование","Очная"]
[null,null,null,null,null,null,"35.01.08 Контролер целлюлозно-бумажного производстваСреднее общее образованиеОчно-заочная","11Д57025801000209001100","35.01.08 Контролер целлюлозно-бумажного производства","Среднее общее образование","Очно-заочная"]
[null,null,null,null,null,null,"35.01.09 Мастер растениеводстваОсновное общее образованиеОчная","11Д57025901000101009100","35.01.09 Мастер растениеводства","Основное общее образование","Очная"]
[null,null,null,null,null,null,{"$f":"I963&J963&K963","v":"35.01.09 Мастер растениеводстваОсновное общее образованиеОчно-заочная"},"11Д57025901000109001100","35.01.09 Мастер растениеводства","Основное общее образование","Очно-заочная"]
[null,null,null,null,null,null,"35.01.09 Мастер растениеводстваСреднее общее образованиеОчная","11Д57025901000201008100","35.01.09 Мастер растениеводства","Среднее общее образование","Очная"]
[null,null,null,null,null,null,"35.01.09 Мастер растениеводстваСреднее общее образованиеОчно-заочная","11Д57025901000209000100","35.01.09 Мастер растениеводства","Среднее общее образование","Очно-заочная"]
[null,null,null,null,null,null,"35.01.10 Овощевод защищенного грунтаОсновное общее образованиеОчная","11Д57026001000101006100","35.01.10 Овощевод защищенного грунта","Основное общее образование","Очная"]
[null,null,null,null,null,null,"35.01.10 Овощевод защищенного грунтаОсновное общее образованиеОчно-заочная","11Д57026001000109008100","35.01.10 Овощевод защищенного грунта","Основное общее образование","Очно-заочная"]
[null,null,null,null,null,null,"35.01.10 Овощевод защищенного грунтаСреднее общее образованиеОчная","11Д57026001000201005100","35.01.10 Овощевод защищенного грунта","Среднее общее образование","Очная"]
[null,null,null,null,null,null,"35.01.10 Овощевод защищенного грунтаСреднее общее образованиеОчно-заочная","11Д57026001000209007100","35.01.10 Овощевод защищенного грунта","Среднее общее образование","Очно-заочная"]
[null,null,null,null,null,null,"35.01.11 Мастер сельскохозяйственного производстваОсновное общее образованиеОчная","11Д57026101000101005100","35.01.11 Мастер сельскохозяйственного производства","Основное общее образование","Очная"]
[null,null,null,null,null,null,"35.01.11 Мастер сельскохозяйственного производстваОсновное общее образованиеОчно-заочная","11Д57026101000109007100","35.01.11 Мастер сельскохозяйственного производства","Основное общее образование","Очно-заочная"]
[null,null,null,null,null,null,"35.01.11 Мастер сельскохозяйственного производстваСреднее общее образованиеОчная","11Д57026101000201004100","35.01.11 Мастер сельскохозяйственного производства","Среднее общее образование","Очная"]
[null,null,null,null,null,null,"35.01.11 Мастер сельскохозяйственного производстваСреднее общее образованиеОчно-заочная","11Д57026101000209006100","35.01.11 Мастер сельскохозяйственного производства","Среднее общее образование","Очно-заочная"]
[null,null,null,null,null,null,"35.01.12 Заготовитель продуктов и сырьяОсновное общее образованиеОчная","11Д57026201000101004100","35.01.12 Заготовитель продуктов и сырья","Основное общее образование","Очная"]
[null,null,null,null,null,null,"35.01.12 Заготовитель продуктов и сырьяОсновное общее образованиеОчно-заочная","11Д57026201000109006100","35.01.12 Заготовитель продуктов и сырья","Основное общее образование","Очно-заочная"]
[null,null,null,null,null,null,"35.01.12 Заготовитель продуктов и сырьяСреднее общее образованиеОчная","11Д57026201000201003100","35.01.12 Заготовитель продуктов и сырья","Среднее общее образование","Очная"]
[null,null,null,null,null,null,"35.01.12 Заготовитель продуктов и сырьяСреднее общее образованиеОчно-заочная","11Д57026201000209005100","35.01.12 Заготовитель продуктов и сырья","Среднее общее образование","Очно-заочная"]
[null,null,null,null,null,null,"35.01.13 Тракторист-машинист сельскохозяйственного производстваОсновное общее образованиеОчная","11Д57026301000101003100","35.01.13 Тракторист-машинист сельскохозяйственного производства","Основное общее образование","Очная"]
[null,null,null,null,null,null,"35.01.13 Тракторист-машинист сельскохозяйственного производстваОсновное общее образованиеОчно-заочная","11Д57026301000109005100","35.01.13 Тракторист-машинист сельскохозяйственного производства","Основное общее образование","Очно-заочная"]
[null,null,null,null,null,null,"35.01.13 Тракторист-машинист сельскохозяйственного производстваСреднее общее образованиеОчная","11Д57026301000201002100","35.01.13 Тракторист-машинист сельскохозяйственного производства","Среднее общее образование","Очная"]
[null,null,null,null,null,null,"35.01.13 Тракторист-машинист сельскохозяйственного производстваСреднее общее образованиеОчно-заочная","11Д57026301000209004100","35.01.13 Тракторист-машинист сельскохозяйственного производства","Среднее общее образование","Очно-заочная"]
[null,null,null,null,null,null,"35.01.14 Мастер по техническому обслуживанию и ремонту машинно-тракторного паркаОсновное общее образованиеОчная","11Д57026401000101002100","35.01.14 Мастер по техническому обслуживанию и ремонту машинно-тракторного парка","Основное общее образование","Очная"]
[null,null,null,null,null,null,"35.01.14 Мастер по техническому обслуживанию и ремонту машинно-тракторного паркаОсновное общее образованиеОчно-заочная","11Д57026401000109004100","35.01.14 Мастер по техническому обслуживанию и ремонту машинно-тракторного парка","Основное общее образование","Очно-заочная"]
[null,null,null,null,null,null,"35.01.14 Мастер по техническому обслуживанию и ремонту машинно-тракторного паркаСреднее общее образованиеОчная","11Д57026401000201001100","35.01.14 Мастер по техническому обслуживанию и ремонту машинно-тракторного парка","Среднее общее образование","Очная"]
[null,null,null,null,null,null,"35.01.14 Мастер по техническому обслуживанию и ремонту машинно-тракторного паркаСреднее общее образованиеОчно-заочная","11Д57026401000209003100","35.01.14 Мастер по техническому обслуживанию и ремонту машинно-тракторного парка","Среднее общее образование","Очно-заочная"]
[null,null,null,null,null,null,"35.01.15 Электромонтер по ремонту и обслуживанию электрооборудования в сельскохозяйственном производствеОсновное общее образованиеОчная","11Д57026501000101001100","35.01.15 Электромонтер по ремонту и обслуживанию электрооборудования в сельскохозяйственном производстве","Основное общее образование","Очная"]
[null,null,null,null,null,null,"35.01.15 Электромонтер по ремонту и обслуживанию электрооборудования в сельскохозяйственном производствеОсновное общее образованиеОчно-заочная","11Д57026501000109003100","35.01.15 Электромонтер по ремонту и обслуживанию электрооборудования в сельскохозяйственном производстве","Основное общее образование","Очно-заочная"]
[null,null,null,null,null,null,"35.01.15 Электромонтер по ремонту и обслуживанию электрооборудования в сельскохозяйственном производствеСреднее общее образованиеОчная","11Д57026501000201000100","35.01.15 Электромонтер по ремонту и обслуживанию электрооборудования в сельскохозяйственном производстве","Среднее общее образование","Очная"]
[null,null,null,null,null,null,"35.01.15 Электромонтер по ремонту и обслуживанию электрооборудования в сельскохозяйственном производствеСреднее общее образованиеОчно-заочная","11Д57026501000209002100","35.01.15 Электромонтер по ремонту и обслуживанию электрооборудования в сельскохозяйственном производстве","Среднее общее образование","Очно-заочная"]
[null,null,null,null,null,null,"35.01.16 РыбоводОсновное общее образованиеОчная","11Д57026601000101000100","35.01.16 Рыбовод","Основное общее образование","Очная"]
[null,null,null,null,null,null,"35.01.16 РыбоводОсновное общее образованиеОчно-заочная","11Д57026601000109002100","35.01.16 Рыбовод","Основное общее образование","Очно-заочная"]
[null,null,null,null,null,null,"35.01.16 РыбоводСреднее общее образованиеОчная","11Д57026601000201009100","35.01.16 Рыбовод","Среднее общее образование","Очная"]
[null,null,null,null,null,null,"35.01.16 РыбоводСреднее общее образованиеОчно-заочная","11Д57026601000209001100","35.01.16 Рыбовод","Среднее общее образование","Очно-заочная"]
[null,null,null,null,null,null,"35.01.17 Обработчик рыбы и морепродуктовОсновное общее образованиеОчная","11Д57026701000101009100","35.01.17 Обработчик рыбы и морепродуктов","Основное общее образование","Очная"]
[null,null,null,null,null,null,"35.01.17 Обработчик рыбы и морепродуктовОсновное общее образованиеОчно-заочная","11Д57026701000109001100","35.01.17 Обработчик рыбы и морепродуктов","Основное общее образование","Очно-заочная"]
[null,null,null,null,null,null,"35.01.17 Обработчик рыбы и морепродуктовСреднее общее образованиеОчная","11Д57026701000201008100","35.01.17 Обработчик рыбы и морепродуктов","Среднее общее образование","Очная"]
[null,null,null,null,null,null,"35.01.17 Обработчик рыбы и морепродуктовСреднее общее образованиеОчно-заочная","11Д57026701000209000100","35.01.17 Обработчик рыбы и морепродуктов","Среднее общее образование","Очно-заочная"]
[null,null,null,null,null,null,"35.01.18 Рыбак прибрежного ловаОсновное общее образованиеОчная","11Д57026801000101008100","35.01.18 Рыбак прибрежного лова","Основное общее образование","Очная"]
[null,null,null,null,null,null,"35.01.18 Рыбак прибрежного ловаОсновное общее образованиеОчно-заочная","11Д57026801000109000100","35.01.18 Рыбак прибрежного лова","Основное общее образование","Очно-заочная"]
[null,null,null,null,null,null,"35.01.18 Рыбак прибрежного ловаСреднее общее образованиеОчная","11Д57026801000201007100","35.01.18 Рыбак прибрежного лова","Среднее общее образование","Очная"]
[null,null,null,null,null,null,"35.01.18 Рыбак прибрежного ловаСреднее общее образованиеОчно-заочная","11Д57026801000209009100","35.01.18 Рыбак прибрежного лова","Среднее общее образование","Очно-заочная"]
[null,null,null,null,null,null,"35.01.19 Мастер садово-паркового и ландшафтного строительстваОсновное общее образованиеОчная","11Д57026901000101007100","35.01.19 Мастер садово-паркового и ландшафтного строительства","Основное общее образование","Очная"]
[null,null,null,null,null,null,"35.01.19 Мастер садово-паркового и ландшафтного строительстваОсновное общее образованиеОчно-заочная","11Д57026901000109009100","35.01.19 Мастер садово-паркового и ландшафтного строительства","Основное общее образование","Очно-заочная"]
[null,null,null,null,null,null,"35.01.19 Мастер садово-паркового и ландшафтного строительстваСреднее общее образованиеОчная","11Д57026901000201006100","35.01.19 Мастер садово-паркового и ландшафтного строительства","Среднее общее образование","Очная"]
[null,null,null,null,null,null,"35.01.19 Мастер садово-паркового и ландшафтного строительстваСреднее общее образованиеОчно-заочная","11Д57026901000209008100","35.01.19 Мастер садово-паркового и ландшафтного строительства","Среднее общее образование","Очно-заочная"]
[null,null,null,null,null,null,"35.01.20 ПчеловодОсновное общее образованиеОчная","11Д57027001000101004100","35.01.20 Пчеловод","Основное общее образование","Очная"]
[null,null,null,null,null,null,"35.01.20 ПчеловодОсновное общее образованиеОчно-заочная","11Д57027001000109006100","35.01.20 Пчеловод","Основное общее образование","Очно-заочная"]
[null,null,null,null,null,null,"35.01.20 ПчеловодСреднее общее образованиеОчная","11Д57027001000201003100","35.01.20 Пчеловод","Среднее общее образование","Очная"]
[null,null,null,null,null,null,"35.01.20 ПчеловодСреднее общее образованиеОчно-заочная","11Д57027001000209005100","35.01.20 Пчеловод","Среднее общее образование","Очно-заочная"]
[null,null,null,null,null,null,"35.01.21 Оленевод-механизаторОсновное общее образованиеОчная","11Д57027101000101003100","35.01.21 Оленевод-механизатор","Основное общее образование","Очная"]
[null,null,null,null,null,null,"35.01.21 Оленевод-механизаторОсновное общее образованиеОчно-заочная","11Д57027101000109005100","35.01.21 Оленевод-механизатор","Основное общее образование","Очно-заочная"]
[null,null,null,null,null,null,"35.01.21 Оленевод-механизаторСреднее общее образованиеОчная","11Д57027101000201002100","35.01.21 Оленевод-механизатор","Среднее общее образование","Очная"]
[null,null,null,null,null,null,"35.01.21 Оленевод-механизаторСреднее общее образованиеОчно-заочная","11Д57027101000209004100","35.01.21 Оленевод-механизатор","Среднее общее образование","Очно-заочная"]
[null,null,null,null,null,null,"35.01.22 Охотник промысловыйОсновное общее образованиеОчная","11Д57027201000101002100","35.01.22 Охотник промысловый","Основное общее образование","Очная"]
[null,null,null,null,null,null,"35.01.22 Охотник промысловыйОсновное общее образованиеОчно-заочная","11Д57027201000109004100","35.01.22 Охотник промысловый","Основное общее образование","Очно-заочная"]
[null,null,null,null,null,null,"35.01.22 Охотник промысловыйСреднее общее образованиеОчная","11Д57027201000201001100","35.01.22 Охотник промысловый","Среднее общее образование","Очная"]
[null,null,null,null,null,null,"35.01.22 Охотник промысловыйСреднее общее образованиеОчно-заочная","11Д57027201000209003100","35.01.22 Охотник промысловый","Среднее общее образование","Очно-заочная"]
[null,null,null,null,null,null,"35.01.23 Хозяйка(ин) усадьбыОсновное общее образованиеОчная","11Д57027301000101001100","35.01.23 Хозяйка(ин) усадьбы","Основное общее образование","Очная"]
[null,null,null,null,null,null,"35.01.23 Хозяйка(ин) усадьбыОсновное общее образованиеОчно-заочная","11Д57027301000109003100","35.01.23 Хозяйка(ин) усадьбы","Основное общее образование","Очно-заочная"]
[null,null,null,null,null,null,"35.01.23 Хозяйка(ин) усадьбыСреднее общее образованиеОчная","11Д57027301000201000100","35.01.23 Хозяйка(ин) усадьбы","Среднее общее образование","Очная"]
[null,null,null,null,null,null,"35.01.23 Хозяйка(ин) усадьбыСреднее общее образованиеОчно-заочная","11Д57027301000209002100","35.01.23 Хозяйка(ин) усадьбы","Среднее общее образование","Очно-заочная"]
[null,null,null,null,null,null,"35.01.24 Управляющий сельской усадьбойОсновное общее образованиеОчная","11Д57027401000101000100","35.01.24 Управляющий сельской усадьбой","Основное общее образование","Очная"]
[null,null,null,null,null,null,"35.01.24 Управляющий сельской усадьбойОсновное общее образованиеОчно-заочная","11Д57027401000109002100","35.01.24 Управляющий сельской усадьбой","Основное общее образование","Очно-заочная"]
[null,null,null,null,null,null,"35.01.24 Управляющий сельской усадьбойСреднее общее образованиеОчная","11Д57027401000201009100","35.01.24 Управляющий сельской усадьбой","Среднее общее образование","Очная"]
[null,null,null,null,null,null,"35.01.24 Управляющий сельской усадьбойСреднее общее образованиеОчно-заочная","11Д57027401000209001100","35.01.24 Управляющий сельской усадьбой","Среднее общее образование","Очно-заочная"]
[null,null,null,null,null,null,"36.01.01 Младший ветеринарный фельдшерОсновное общее образованиеОчная","11Д57027601000101008100","36.01.01 Младший ветеринарный фельдшер","Основное общее образование","Очная"]
[null,null,null,null,null,null,{"$f":"I1027&J1027&K1027","v":"36.01.01 Младший ветеринарный фельдшерОсновное общее образованиеОчно-заочная"},"11Д57027601000109000100","36.01.01 Младший ветеринарный фельдшер","Основное общее образование","Очно-заочная"]
[null,null,null,null,null,null,"36.01.01 Младший ветеринарный фельдшерСреднее общее образованиеОчная","11Д57027601000201007100","36.01.01 Младший ветеринарный фельдшер","Среднее общее образование","Очная"]
[null,null,null,null,null,null,"36.01.01 Младший ветеринарный фельдшерСреднее общее образованиеОчно-заочная","11Д57027601000209009100","36.01.01 Младший ветеринарный фельдшер","Среднее общее образование","Очно-заочная"]
[null,null,null,null,null,null,"36.01.02 Мастер животноводстваОсновное общее образованиеОчная","11Д57027701000101007100","36.01.02 Мастер животноводства","Основное общее образование","Очная"]
[null,null,null,null,null,null,"36.01.02 Мастер животноводстваОсновное общее образованиеОчно-заочная","11Д57027701000109009100","36.01.02 Мастер животноводства","Основное общее образование","Очно-заочная"]
[null,null,null,null,null,null,"36.01.02 Мастер животноводстваСреднее общее образованиеОчная","11Д57027701000201006100","36.01.02 Мастер животноводства","Среднее общее образование","Очная"]
[null,null,null,null,null,null,"36.01.02 Мастер животноводстваСреднее общее образованиеОчно-заочная","11Д57027701000209008100","36.01.02 Мастер животноводства","Среднее общее образование","Очно-заочная"]
[null,null,null,null,null,null,"36.01.03 Тренер-наездник лошадейОсновное общее образованиеОчная","11Д57027801000101006100","36.01.03 Тренер-наездник лошадей","Основное общее образование","Очная"]
[null,null,null,null,null,null,"36.01.03 Тренер-наездник лошадейОсновное общее образованиеОчно-заочная","11Д57027801000109008100","36.01.03 Тренер-наездник лошадей","Основное общее образование","Очно-заочная"]
[null,null,null,null,null,null,"36.01.03 Тренер-наездник лошадейСреднее общее образованиеОчная","11Д57027801000201005100","36.01.03 Тренер-наездник лошадей","Среднее общее образование","Очная"]
[null,null,null,null,null,null,"36.01.03 Тренер-наездник лошадейСреднее общее образованиеОчно-заочная","11Д57027801000209007100","36.01.03 Тренер-наездник лошадей","Среднее общее образование","Очно-заочная"]
[null,null,null,null,null,null,"38.01.01 Оператор диспетчерской (производственно-диспетчерской) службыОсновное общее образованиеОчная","11Д57028001000101002100","38.01.01 Оператор диспетчерской (производственно-диспетчерской) службы","Основное общее образование","Очная"]
[null,null,null,null,null,null,"38.01.01 Оператор диспетчерской (производственно-диспетчерской) службыОсновное общее образованиеОчно-заочная","11Д57028001000109004100","38.01.01 Оператор диспетчерской (производственно-диспетчерской) службы","Основное общее образование","Очно-заочная"]
[null,null,null,null,null,null,"38.01.01 Оператор диспетчерской (производственно-диспетчерской) службыСреднее общее образованиеОчная","11Д57028001000201001100","38.01.01 Оператор диспетчерской (производственно-диспетчерской) службы","Среднее общее образование","Очная"]
[null,null,null,null,null,null,"38.01.01 Оператор диспетчерской (производственно-диспетчерской) службыСреднее общее образованиеОчно-заочная","11Д57028001000209003100","38.01.01 Оператор диспетчерской (производственно-диспетчерской) службы","Среднее общее образование","Очно-заочная"]
[null,null,null,null,null,null,"38.01.02 Продавец, контролер-кассирОсновное общее образованиеОчная","11Д57028101000101001100","38.01.02 Продавец, контролер-кассир","Основное общее образование","Очная"]
[null,null,null,null,null,null,"38.01.02 Продавец, контролер-кассирОсновное общее образованиеОчно-заочная","11Д57028101000109003100","38.01.02 Продавец, контролер-кассир","Основное общее образование","Очно-заочная"]
[null,null,null,null,null,null,"38.01.02 Продавец, контролер-кассирСреднее общее образованиеОчная","11Д57028101000201000100","38.01.02 Продавец, контролер-кассир","Среднее общее образование","Очная"]
[null,null,null,null,null,null,"38.01.02 Продавец, контролер-кассирСреднее общее образованиеОчно-заочная","11Д57028101000209002100","38.01.02 Продавец, контролер-кассир","Среднее общее образование","Очно-заочная"]
[null,null,null,null,null,null,"38.01.03 Контролер банкаОсновное общее образованиеОчная","11Д57028201000101000100","38.01.03 Контролер банка","Основное общее образование","Очная"]
[null,null,null,null,null,null,"38.01.03 Контролер банкаОсновное общее образованиеОчно-заочная","11Д57028201000109002100","38.01.03 Контролер банка","Основное общее образование","Очно-заочная"]
[null,null,null,null,null,null,"38.01.03 Контролер банкаСреднее общее образованиеОчная","11Д57028201000201009100","38.01.03 Контролер банка","Среднее общее образование","Очная"]
[null,null,null,null,null,null,"38.01.03 Контролер банкаСреднее общее образованиеОчно-заочная","11Д57028201000209001100","38.01.03 Контролер банка","Среднее общее образование","Очно-заочная"]
[null,null,null,null,null,null,"39.01.01 Социальный работникОсновное общее образованиеОчная","11Д57028401000101008100","39.01.01 Социальный работник","Основное общее образование","Очная"]
[null,null,null,null,null,null,"39.01.01 Социальный работникОсновное общее образованиеОчно-заочная","11Д57028401000109000100","39.01.01 Социальный работник","Основное общее образование","Очно-заочная"]
[null,null,null,null,null,null,"39.01.01 Социальный работникСреднее общее образованиеОчная","11Д57028401000201007100","39.01.01 Социальный работник","Среднее общее образование","Очная"]
[null,null,null,null,null,null,"39.01.01 Социальный работникСреднее общее образованиеОчно-заочная","11Д57028401000209009100","39.01.01 Социальный работник","Среднее общее образование","Очно-заочная"]
[null,null,null,null,null,null,"42.01.01 Агент рекламныйОсновное общее образованиеОчная","11Д57028601000101006100","42.01.01 Агент рекламный","Основное общее образование","Очная"]
[null,null,null,null,null,null,"42.01.01 Агент рекламныйОсновное общее образованиеОчно-заочная","11Д57028601000109008100","42.01.01 Агент рекламный","Основное общее образование","Очно-заочная"]
[null,null,null,null,null,null,"42.01.01 Агент рекламныйСреднее общее образованиеОчная","11Д57028601000201005100","42.01.01 Агент рекламный","Среднее общее образование","Очная"]
[null,null,null,null,null,null,"42.01.01 Агент рекламныйСреднее общее образованиеОчно-заочная","11Д57028601000209007100","42.01.01 Агент рекламный","Среднее общее образование","Очно-заочная"]
[null,null,null,null,null,null,"43.01.01 Официант, барменОсновное общее образованиеОчная","11Д57028801000101004100","43.01.01 Официант, бармен","Основное общее образование","Очная"]
[null,null,null,null,null,null,"43.01.01 Официант, барменОсновное общее образованиеОчно-заочная","11Д57028801000109006100","43.01.01 Официант, бармен","Основное общее образование","Очно-заочная"]
[null,null,null,null,null,null,"43.01.01 Официант, барменСреднее общее образованиеОчная","11Д57028801000201003100","43.01.01 Официант, бармен","Среднее общее образование","Очная"]
[null,null,null,null,null,null,"43.01.01 Официант, барменСреднее общее образованиеОчно-заочная","11Д57028801000209005100","43.01.01 Официант, бармен","Среднее общее образование","Очно-заочная"]
[null,null,null,null,null,null,"43.01.02 ПарикмахерОсновное общее образованиеОчная","11Д57028901000101003100","43.01.02 Парикмахер","Основное общее образование","Очная"]
[null,null,null,null,null,null,"43.01.02 ПарикмахерОсновное общее образованиеОчно-заочная","11Д57028901000109005100","43.01.02 Парикмахер","Основное общее образование","Очно-заочная"]
[null,null,null,null,null,null,"43.01.02 ПарикмахерСреднее общее образованиеОчная","11Д57028901000201002100","43.01.02 Парикмахер","Среднее общее образование","Очная"]
[null,null,null,null,null,null,"43.01.02 ПарикмахерСреднее общее образованиеОчно-заочная","11Д57028901000209004100","43.01.02 Парикмахер","Среднее общее образование","Очно-заочная"]
[null,null,null,null,null,null,"43.01.03 Бортпроводник судовойОсновное общее образованиеОчная","11Д57029001000101000100","43.01.03 Бортпроводник судовой","Основное общее образование","Очная"]
[null,null,null,null,null,null,"43.01.03 Бортпроводник судовойОсновное общее образованиеОчно-заочная","11Д57029001000109002100","43.01.03 Бортпроводник судовой","Основное общее образование","Очно-заочная"]
[null,null,null,null,null,null,"43.01.03 Бортпроводник судовойСреднее общее образованиеОчная","11Д57029001000201009100","43.01.03 Бортпроводник судовой","Среднее общее образование","Очная"]
[null,null,null,null,null,null,"43.01.03 Бортпроводник судовойСреднее общее образованиеОчно-заочная","11Д57029001000209001100","43.01.03 Бортпроводник судовой","Среднее общее образование","Очно-заочная"]
[null,null,null,null,null,null,"43.01.04 Повар судовойОсновное общее образованиеОчная","11Д57029101000101009100","43.01.04 Повар судовой","Основное общее образование","Очная"]
[null,null,null,null,null,null,"43.01.04 Повар судовойОсновное общее образованиеОчно-заочная","11Д57029101000109001100","43.01.04 Повар судовой","Основное общее образование","Очно-заочная"]
[null,null,null,null,null,null,"43.01.04 Повар судовойСреднее общее образованиеОчная","11Д57029101000201008100","43.01.04 Повар судовой","Среднее общее образование","Очная"]
[null,null,null,null,null,null,"43.01.04 Повар судовойСреднее общее образованиеОчно-заочная","11Д57029101000209000100","43.01.04 Повар судовой","Среднее общее образование","Очно-заочная"]
[null,null,null,null,null,null,"43.01.05 Оператор по обработке перевозочных документов на железнодорожном транспортеОсновное общее образованиеОчная","11Д57029201000101008100","43.01.05 Оператор по обработке перевозочных документов на железнодорожном транспорте","Основное общее образование","Очная"]
[null,null,null,null,null,null,"43.01.05 Оператор по обработке перевозочных документов на железнодорожном транспортеОсновное общее образованиеОчно-заочная","11Д57029201000109000100","43.01.05 Оператор по обработке перевозочных документов на железнодорожном транспорте","Основное общее образование","Очно-заочная"]
[null,null,null,null,null,null,"43.01.05 Оператор по обработке перевозочных документов на железнодорожном транспортеСреднее общее образованиеОчная","11Д57029201000201007100","43.01.05 Оператор по обработке перевозочных документов на железнодорожном транспорте","Среднее общее образование","Очная"]
[null,null,null,null,null,null,"43.01.05 Оператор по обработке перевозочных документов на железнодорожном транспортеСреднее общее образованиеОчно-заочная","11Д57029201000209009100","43.01.05 Оператор по обработке перевозочных документов на железнодорожном транспорте","Среднее общее образование","Очно-заочная"]
[null,null,null,null,null,null,"43.01.06 Проводник на железнодорожном транспортеОсновное общее образованиеОчная","11Д57029301000101007100","43.01.06 Проводник на железнодорожном транспорте","Основное общее образование","Очная"]
[null,null,null,null,null,null,"43.01.06 Проводник на железнодорожном транспортеОсновное общее образованиеОчно-заочная","11Д57029301000109009100","43.01.06 Проводник на железнодорожном транспорте","Основное общее образование","Очно-заочная"]
[null,null,null,null,null,null,"43.01.06 Проводник на железнодорожном транспортеСреднее общее образованиеОчная","11Д57029301000201006100","43.01.06 Проводник на железнодорожном транспорте","Среднее общее образование","Очная"]
[null,null,null,null,null,null,"43.01.06 Проводник на железнодорожном транспортеСреднее общее образованиеОчно-заочная","11Д57029301000209008100","43.01.06 Проводник на железнодорожном транспорте","Среднее общее образование","Очно-заочная"]
[null,null,null,null,null,null,"43.01.07 Слесарь по эксплуатации и ремонту газового оборудованияОсновное общее образованиеОчная","11Д57029401000101006100","43.01.07 Слесарь по эксплуатации и ремонту газового оборудования","Основное общее образование","Очная"]
[null,null,null,null,null,null,"43.01.07 Слесарь по эксплуатации и ремонту газового оборудованияОсновное общее образованиеОчно-заочная","11Д57029401000109008100","43.01.07 Слесарь по эксплуатации и ремонту газового оборудования","Основное общее образование","Очно-заочная"]
[null,null,null,null,null,null,"43.01.07 Слесарь по эксплуатации и ремонту газового оборудованияСреднее общее образованиеОчная","11Д57029401000201005100","43.01.07 Слесарь по эксплуатации и ремонту газового оборудования","Среднее общее образование","Очная"]
[null,null,null,null,null,null,"43.01.07 Слесарь по эксплуатации и ремонту газового оборудованияСреднее общее образованиеОчно-заочная","11Д57029401000209007100","43.01.07 Слесарь по эксплуатации и ремонту газового оборудования","Среднее общее образование","Очно-заочная"]
[null,null,null,null,null,null,"43.01.08 Аппаратчик химической чисткиОсновное общее образованиеОчная","11Д57029501000101005100","43.01.08 Аппаратчик химической чистки","Основное общее образование","Очная"]
[null,null,null,null,null,null,"43.01.08 Аппаратчик химической чисткиОсновное общее образованиеОчно-заочная","11Д57029501000109007100","43.01.08 Аппаратчик химической чистки","Основное общее образование","Очно-заочная"]
[null,null,null,null,null,null,"43.01.08 Аппаратчик химической чисткиСреднее общее образованиеОчная","11Д57029501000201004100","43.01.08 Аппаратчик химической чистки","Среднее общее образование","Очная"]
[null,null,null,null,null,null,"43.01.08 Аппаратчик химической чисткиСреднее общее образованиеОчно-заочная","11Д57029501000209006100","43.01.08 Аппаратчик химической чистки","Среднее общее образование","Очно-заочная"]
[null,null,null,null,null,null,"46.01.01 СекретарьОсновное общее образованиеОчная","11Д57029701000101003100","46.01.01 Секретарь","Основное общее образование","Очная"]
[null,null,null,null,null,null,{"$f":"I1091&J1091&K1091","v":"46.01.01 СекретарьОсновное общее образованиеОчно-заочная"},"11Д57029701000109005100","46.01.01 Секретарь","Основное общее образование","Очно-заочная"]
[null,null,null,null,null,null,"46.01.01 СекретарьСреднее общее образованиеОчная","11Д57029701000201002100","46.01.01 Секретарь","Среднее общее образование","Очная"]
[null,null,null,null,null,null,"46.01.01 СекретарьСреднее общее образованиеОчно-заочная","11Д57029701000209004100","46.01.01 Секретарь","Среднее общее образование","Очно-заочная"]
[null,null,null,null,null,null,"46.01.02 АрхивариусОсновное общее образованиеОчная","11Д57029801000101002100","46.01.02 Архивариус","Основное общее образование","Очная"]
[null,null,null,null,null,null,"46.01.02 АрхивариусОсновное общее образованиеОчно-заочная","11Д57029801000109004100","46.01.02 Архивариус","Основное общее образование","Очно-заочная"]
[null,null,null,null,null,null,"46.01.02 АрхивариусСреднее общее образованиеОчная","11Д57029801000201001100","46.01.02 Архивариус","Среднее общее образование","Очная"]
[null,null,null,null,null,null,"46.01.02 АрхивариусСреднее общее образованиеОчно-заочная","11Д57029801000209003100","46.01.02 Архивариус","Среднее общее образование","Очно-заочная"]
[null,null,null,null,null,null,"46.01.03 ДелопроизводительОсновное общее образованиеОчная","11Д57029901000101001100","46.01.03 Делопроизводитель","Основное общее образование","Очная"]
[null,null,null,null,null,null,"46.01.03 ДелопроизводительОсновное общее образованиеОчно-заочная","11Д57029901000109003100","46.01.03 Делопроизводитель","Основное общее образование","Очно-заочная"]
[null,null,null,null,null,null,"46.01.03 ДелопроизводительСреднее общее образованиеОчная","11Д57029901000201000100","46.01.03 Делопроизводитель","Среднее общее образование","Очная"]
[null,null,null,null,null,null,"46.01.03 ДелопроизводительСреднее общее образованиеОчно-заочная","11Д57029901000209002100","46.01.03 Делопроизводитель","Среднее общее образование","Очно-заочная"]
[null,null,null,null,null,null,"54.01.01 Исполнитель художественно-оформительских работОсновное общее образованиеОчная","11Д57030101000101007100","54.01.01 Исполнитель художественно-оформительских работ","Основное общее образование","Очная"]
[null,null,null,null,null,null,"54.01.01 Исполнитель художественно-оформительских работОсновное общее образованиеОчно-заочная","11Д57030101000109009100","54.01.01 Исполнитель художественно-оформительских работ","Основное общее образование","Очно-заочная"]
[null,null,null,null,null,null,"54.01.01 Исполнитель художественно-оформительских работСреднее общее образованиеОчная","11Д57030101000201006100","54.01.01 Исполнитель художественно-оформительских работ","Среднее общее образование","Очная"]
[null,null,null,null,null,null,"54.01.01 Исполнитель художественно-оформительских работСреднее общее образованиеОчно-заочная","11Д57030101000209008100","54.01.01 Исполнитель художественно-оформительских работ","Среднее общее образование","Очно-заочная"]
[null,null,null,null,null,null,"54.01.02 ЮвелирОсновное общее образованиеОчная","11Д57030201000101006100","54.01.02 Ювелир","Основное общее образование","Очная"]
[null,null,null,null,null,null,"54.01.02 ЮвелирОсновное общее образованиеОчно-заочная","11Д57030201000109008100","54.01.02 Ювелир","Основное общее образование","Очно-заочная"]
[null,null,null,null,null,null,"54.01.02 ЮвелирСреднее общее образованиеОчная","11Д57030201000201005100","54.01.02 Ювелир","Среднее общее образование","Очная"]
[null,null,null,null,null,null,"54.01.02 ЮвелирСреднее общее образованиеОчно-заочная","11Д57030201000209007100","54.01.02 Ювелир","Среднее общее образование","Очно-заочная"]
[null,null,null,null,null,null,"54.01.03 ФотографОсновное общее образованиеОчная","11Д57030301000101005100","54.01.03 Фотограф","Основное общее образование","Очная"]
[null,null,null,null,null,null,"54.01.03 ФотографОсновное общее образованиеОчно-заочная","11Д57030301000109007100","54.01.03 Фотограф","Основное общее образование","Очно-заочная"]
[null,null,null,null,null,null,"54.01.03 ФотографСреднее общее образованиеОчная","11Д57030301000201004100","54.01.03 Фотограф","Среднее общее образование","Очная"]
[null,null,null,null,null,null,"54.01.03 ФотографСреднее общее образованиеОчно-заочная","11Д57030301000209006100","54.01.03 Фотограф","Среднее общее образование","Очно-заочная"]
[null,null,null,null,null,null,"54.01.04 Мастер народных художественных промысловОсновное общее образованиеОчная","11Д57030401000101004100","54.01.04 Мастер народных художественных промыслов","Основное общее образование","Очная"]
[null,null,null,null,null,null,"54.01.04 Мастер народных художественных промысловОсновное общее образованиеОчно-заочная","11Д57030401000109006100","54.01.04 Мастер народных художественных промыслов","Основное общее образование","Очно-заочная"]
[null,null,null,null,null,null,"54.01.04 Мастер народных художественных промысловСреднее общее образованиеОчная","11Д57030401000201003100","54.01.04 Мастер народных художественных промыслов","Среднее общее образование","Очная"]
[null,null,null,null,null,null,"54.01.04 Мастер народных художественных промысловСреднее общее образованиеОчно-заочная","11Д57030401000209005100","54.01.04 Мастер народных художественных промыслов","Среднее общее образование","Очно-заочная"]
[null,null,null,null,null,null,"54.01.05 Изготовитель художественных изделий из тканей с художественной росписьюОсновное общее образованиеОчная","11Д57030501000101003100","54.01.05 Изготовитель художественных изделий из тканей с художественной росписью","Основное общее образование","Очная"]
[null,null,null,null,null,null,"54.01.05 Изготовитель художественных изделий из тканей с художественной росписьюОсновное общее образованиеОчно-заочная","11Д57030501000109005100","54.01.05 Изготовитель художественных изделий из тканей с художественной росписью","Основное общее образование","Очно-заочная"]
[null,null,null,null,null,null,"54.01.05 Изготовитель художественных изделий из тканей с художественной росписьюСреднее общее образованиеОчная","11Д57030501000201002100","54.01.05 Изготовитель художественных изделий из тканей с художественной росписью","Среднее общее образование","Очная"]
[null,null,null,null,null,null,"54.01.05 Изготовитель художественных изделий из тканей с художественной росписьюСреднее общее образованиеОчно-заочная","11Д57030501000209004100","54.01.05 Изготовитель художественных изделий из тканей с художественной росписью","Среднее общее образование","Очно-заочная"]
[null,null,null,null,null,null,"54.01.06 Изготовитель художественных изделий из металлаОсновное общее образованиеОчная","11Д57030601000101002100","54.01.06 Изготовитель художественных изделий из металла","Основное общее образование","Очная"]
[null,null,null,null,null,null,"54.01.06 Изготовитель художественных изделий из металлаОсновное общее образованиеОчно-заочная","11Д57030601000109004100","54.01.06 Изготовитель художественных изделий из металла","Основное общее образование","Очно-заочная"]
[null,null,null,null,null,null,"54.01.06 Изготовитель художественных изделий из металлаСреднее общее образованиеОчная","11Д57030601000201001100","54.01.06 Изготовитель художественных изделий из металла","Среднее общее образование","Очная"]
[null,null,null,null,null,null,"54.01.06 Изготовитель художественных изделий из металлаСреднее общее образованиеОчно-заочная","11Д57030601000209003100","54.01.06 Изготовитель художественных изделий из металла","Среднее общее образование","Очно-заочная"]
[null,null,null,null,null,null,"54.01.07 Изготовитель художественных изделий из керамикиОсновное общее образованиеОчная","11Д57030701000101001100","54.01.07 Изготовитель художественных изделий из керамики","Основное общее образование","Очная"]
[null,null,null,null,null,null,"54.01.07 Изготовитель художественных изделий из керамикиОсновное общее образованиеОчно-заочная","11Д57030701000109003100","54.01.07 Изготовитель художественных изделий из керамики","Основное общее образование","Очно-заочная"]
[null,null,null,null,null,null,"54.01.07 Изготовитель художественных изделий из керамикиСреднее общее образованиеОчная","11Д57030701000201000100","54.01.07 Изготовитель художественных изделий из керамики","Среднее общее образование","Очная"]
[null,null,null,null,null,null,"54.01.07 Изготовитель художественных изделий из керамикиСреднее общее образованиеОчно-заочная","11Д57030701000209002100","54.01.07 Изготовитель художественных изделий из керамики","Среднее общее образование","Очно-заочная"]
[null,null,null,null,null,null,"54.01.08 Художник декоративной росписи по металлуОсновное общее образованиеОчная","11Д57030801000101000100","54.01.08 Художник декоративной росписи по металлу","Основное общее образование","Очная"]
[null,null,null,null,null,null,"54.01.08 Художник декоративной росписи по металлуОсновное общее образованиеОчно-заочная","11Д57030801000109002100","54.01.08 Художник декоративной росписи по металлу","Основное общее образование","Очно-заочная"]
[null,null,null,null,null,null,"54.01.08 Художник декоративной росписи по металлуСреднее общее образованиеОчная","11Д57030801000201009100","54.01.08 Художник декоративной росписи по металлу","Среднее общее образование","Очная"]
[null,null,null,null,null,null,"54.01.08 Художник декоративной росписи по металлуСреднее общее образованиеОчно-заочная","11Д57030801000209001100","54.01.08 Художник декоративной росписи по металлу","Среднее общее образование","Очно-заочная"]
[null,null,null,null,null,null,"54.01.09 Художник росписи по эмалиОсновное общее образованиеОчная","11Д57030901000101009100","54.01.09 Художник росписи по эмали","Основное общее образование","Очная"]
[null,null,null,null,null,null,"54.01.09 Художник росписи по эмалиОсновное общее образованиеОчно-заочная","11Д57030901000109001100","54.01.09 Художник росписи по эмали","Основное общее образование","Очно-заочная"]
[null,null,null,null,null,null,"54.01.09 Художник росписи по эмалиСреднее общее образованиеОчная","11Д57030901000201008100","54.01.09 Художник росписи по эмали","Среднее общее образование","Очная"]
[null,null,null,null,null,null,"54.01.09 Художник росписи по эмалиСреднее общее образованиеОчно-заочная","11Д57030901000209000100","54.01.09 Художник росписи по эмали","Среднее общее образование","Очно-заочная"]
[null,null,null,null,null,null,"54.01.10 Художник росписи по деревуОсновное общее образованиеОчная","11Д57031001000101006100","54.01.10 Художник росписи по дереву","Основное общее образование","Очная"]
[null,null,null,null,null,null,"54.01.10 Художник росписи по деревуОсновное общее образованиеОчно-заочная","11Д57031001000109008100","54.01.10 Художник росписи по дереву","Основное общее образование","Очно-заочная"]
[null,null,null,null,null,null,"54.01.10 Художник росписи по деревуСреднее общее образованиеОчная","11Д57031001000201005100","54.01.10 Художник росписи по дереву","Среднее общее образование","Очная"]
[null,null,null,null,null,null,"54.01.10 Художник росписи по деревуСреднее общее образованиеОчно-заочная","11Д57031001000209007100","54.01.10 Художник росписи по дереву","Среднее общее образование","Очно-заочная"]
[null,null,null,null,null,null,"54.01.11 Художник росписи по тканиОсновное общее образованиеОчная","11Д57031101000101005100","54.01.11 Художник росписи по ткани","Основное общее образование","Очная"]
[null,null,null,null,null,null,"54.01.11 Художник росписи по тканиОсновное общее образованиеОчно-заочная","11Д57031101000109007100","54.01.11 Художник росписи по ткани","Основное общее образование","Очно-заочная"]
[null,null,null,null,null,null,"54.01.11 Художник росписи по тканиСреднее общее образованиеОчная","11Д57031101000201004100","54.01.11 Художник росписи по ткани","Среднее общее образование","Очная"]
[null,null,null,null,null,null,"54.01.11 Художник росписи по тканиСреднее общее образованиеОчно-заочная","11Д57031101000209006100","54.01.11 Художник росписи по ткани","Среднее общее образование","Очно-заочная"]
[null,null,null,null,null,null,"54.01.12 Художник миниатюрной живописиОсновное общее образованиеОчная","11Д57031201000101004100","54.01.12 Художник миниатюрной живописи","Основное общее образование","Очная"]
[null,null,null,null,null,null,"54.01.12 Художник миниатюрной живописиОсновное общее образованиеОчно-заочная","11Д57031201000109006100","54.01.12 Художник миниатюрной живописи","Основное общее образование","Очно-заочная"]
[null,null,null,null,null,null,"54.01.12 Художник миниатюрной живописиСреднее общее образованиеОчная","11Д57031201000201003100","54.01.12 Художник миниатюрной живописи","Среднее общее образование","Очная"]
[null,null,null,null,null,null,"54.01.12 Художник миниатюрной живописиСреднее общее образованиеОчно-заочная","11Д57031201000209005100","54.01.12 Художник миниатюрной живописи","Среднее общее образование","Очно-заочная"]
[null,null,null,null,null,null,"54.01.13 Изготовитель художественных изделий из дереваОсновное общее образованиеОчная","11Д57031301000101003100","54.01.13 Изготовитель художественных изделий из дерева","Основное общее образование","Очная"]
[null,null,null,null,null,null,"54.01.13 Изготовитель художественных изделий из дереваОсновное общее образованиеОчно-заочная","11Д57031301000109005100","54.01.13 Изготовитель художественных изделий из дерева","Основное общее образование","Очно-заочная"]
[null,null,null,null,null,null,"54.01.13 Изготовитель художественных изделий из дереваСреднее общее образованиеОчная","11Д57031301000201002100","54.01.13 Изготовитель художественных изделий из дерева","Среднее общее образование","Очная"]
[null,null,null,null,null,null,"54.01.13 Изготовитель художественных изделий из дереваСреднее общее образованиеОчно-заочная","11Д57031301000209004100","54.01.13 Изготовитель художественных изделий из дерева","Среднее общее образование","Очно-заочная"]
[null,null,null,null,null,null,"54.01.14 РезчикОсновное общее образованиеОчная","11Д57031401000101002100","54.01.14 Резчик","Основное общее образование","Очная"]
[null,null,null,null,null,null,{"$f":"I1155&J1155&K1155","v":"54.01.14 РезчикОсновное общее образованиеОчно-заочная"},"11Д57031401000109004100","54.01.14 Резчик","Основное общее образование","Очно-заочная"]
[null,null,null,null,null,null,"54.01.14 РезчикСреднее общее образованиеОчная","11Д57031401000201001100","54.01.14 Резчик","Среднее общее образование","Очная"]
[null,null,null,null,null,null,"54.01.14 РезчикСреднее общее образованиеОчно-заочная","11Д57031401000209003100","54.01.14 Резчик","Среднее общее образование","Очно-заочная"]
[null,null,null,null,null,null,"54.01.15 ИнкрустаторОсновное общее образованиеОчная","11Д57031501000101001100","54.01.15 Инкрустатор","Основное общее образование","Очная"]
[null,null,null,null,null,null,"54.01.15 ИнкрустаторОсновное общее образованиеОчно-заочная","11Д57031501000109003100","54.01.15 Инкрустатор","Основное общее образование","Очно-заочная"]
[null,null,null,null,null,null,"54.01.15 ИнкрустаторСреднее общее образованиеОчная","11Д57031501000201000100","54.01.15 Инкрустатор","Среднее общее образование","Очная"]
[null,null,null,null,null,null,"54.01.15 ИнкрустаторСреднее общее образованиеОчно-заочная","11Д57031501000209002100","54.01.15 Инкрустатор","Среднее общее образование","Очно-заочная"]
[null,null,null,null,null,null,"54.01.16 Лепщик-модельщик архитектурных деталейОсновное общее образованиеОчная","11Д57031601000101000100","54.01.16 Лепщик-модельщик архитектурных деталей","Основное общее образование","Очная"]
[null,null,null,null,null,null,"54.01.16 Лепщик-модельщик архитектурных деталейОсновное общее образованиеОчно-заочная","11Д57031601000109002100","54.01.16 Лепщик-модельщик архитектурных деталей","Основное общее образование","Очно-заочная"]
[null,null,null,null,null,null,"54.01.16 Лепщик-модельщик архитектурных деталейСреднее общее образованиеОчная","11Д57031601000201009100","54.01.16 Лепщик-модельщик архитектурных деталей","Среднее общее образование","Очная"]
[null,null,null,null,null,null,"54.01.16 Лепщик-модельщик архитектурных деталейСреднее общее образованиеОчно-заочная","11Д57031601000209001100","54.01.16 Лепщик-модельщик архитектурных деталей","Среднее общее образование","Очно-заочная"]
[null,null,null,null,null,null,"54.01.17 Реставратор строительныйОсновное общее образованиеОчная","11Д57031701000101009100","54.01.17 Реставратор строительный","Основное общее образование","Очная"]
[null,null,null,null,null,null,"54.01.17 Реставратор строительныйОсновное общее образованиеОчно-заочная","11Д57031701000109001100","54.01.17 Реставратор строительный","Основное общее образование","Очно-заочная"]
[null,null,null,null,null,null,"54.01.17 Реставратор строительныйСреднее общее образованиеОчная","11Д57031701000201008100","54.01.17 Реставратор строительный","Среднее общее образование","Очная"]
[null,null,null,null,null,null,"54.01.17 Реставратор строительныйСреднее общее образованиеОчно-заочная","11Д57031701000209000100","54.01.17 Реставратор строительный","Среднее общее образование","Очно-заочная"]
[null,null,null,null,null,null,"54.01.18 Реставратор тканей, гобеленов и ковровОсновное общее образованиеОчная","11Д57031801000101008100","54.01.18 Реставратор тканей, гобеленов и ковров","Основное общее образование","Очная"]
[null,null,null,null,null,null,"54.01.18 Реставратор тканей, гобеленов и ковровОсновное общее образованиеОчно-заочная","11Д57031801000109000100","54.01.18 Реставратор тканей, гобеленов и ковров","Основное общее образование","Очно-заочная"]
[null,null,null,null,null,null,"54.01.18 Реставратор тканей, гобеленов и ковровСреднее общее образованиеОчная","11Д57031801000201007100","54.01.18 Реставратор тканей, гобеленов и ковров","Среднее общее образование","Очная"]
[null,null,null,null,null,null,"54.01.18 Реставратор тканей, гобеленов и ковровСреднее общее образованиеОчно-заочная","11Д57031801000209009100","54.01.18 Реставратор тканей, гобеленов и ковров","Среднее общее образование","Очно-заочная"]
[null,null,null,null,null,null,"54.01.19 Реставратор памятников каменного и деревянного зодчестваОсновное общее образованиеОчная","11Д57031901000101007100","54.01.19 Реставратор памятников каменного и деревянного зодчества","Основное общее образование","Очная"]
[null,null,null,null,null,null,"54.01.19 Реставратор памятников каменного и деревянного зодчестваОсновное общее образованиеОчно-заочная","11Д57031901000109009100","54.01.19 Реставратор памятников каменного и деревянного зодчества","Основное общее образование","Очно-заочная"]
[null,null,null,null,null,null,"54.01.19 Реставратор памятников каменного и деревянного зодчестваСреднее общее образованиеОчная","11Д57031901000201006100","54.01.19 Реставратор памятников каменного и деревянного зодчества","Среднее общее образование","Очная"]
[null,null,null,null,null,null,"54.01.19 Реставратор памятников каменного и деревянного зодчестваСреднее общее образованиеОчно-заочная","11Д57031901000209008100","54.01.19 Реставратор памятников каменного и деревянного зодчества","Среднее общее образование","Очно-заочная"]
[null,null,null,null,null,null,"55.01.01 КиномеханикОсновное общее образованиеОчная","11Д57032101000101003100","55.01.01 Киномеханик","Основное общее образование","Очная"]
[null,null,null,null,null,null,"55.01.01 КиномеханикОсновное общее образованиеОчно-заочная","11Д57032101000109005100","55.01.01 Киномеханик","Основное общее образование","Очно-заочная"]
[null,null,null,null,null,null,"55.01.01 КиномеханикСреднее общее образованиеОчная","11Д57032101000201002100","55.01.01 Киномеханик","Среднее общее образование","Очная"]
[null,null,null,null,null,null,"55.01.01 КиномеханикСреднее общее образованиеОчно-заочная","11Д57032101000209004100","55.01.01 Киномеханик","Среднее общее образование","Очно-заочная"]
[null,null,null,null,null,null,"15.01.32 Оператор станков с программным управлениемОсновное общее образованиеОчная",null,"15.01.32 Оператор станков с программным управлением","Основное общее образование","Очная"]
[null,null,null,null,null,null,"43.01.09 Повар, кондитерОсновное общее образованиеОчная",null,"43.01.09 Повар, кондитер","Основное общее образование","Очная"]
[null,null,null,null,null,null,"08.01.25 Мастер отделочных строительных и декоративных работОсновное общее образованиеОчная",null,"08.01.25 Мастер отделочных строительных и декоративных работ","Основное общее образование","Очная"]
[null,null,null,null,null,null,"08.01.25 Мастер отделочных строительных и декоративных работСреднее общее образованиеОчная",null,"08.01.25 Мастер отделочных строительных и декоративных работ","Среднее общее образование","Очная"]

{"sheet":"Служ_ССЗ","index":7,"n_rows":1481,"n_cols":10,"rows_kept":1481,"cut":false,"hidden":true,"merged":[]}
["05.02.01 Картография",null,null,"Очная",null,{"$f":"H1&I1&J1","v":"05.02.01 КартографияСреднее общее образованиеОчная"},"11Д56000201000201009100","05.02.01 Картография","Среднее общее образование","Очная"]
["05.02.02 Гидрология",null,null,"Очно-заочная",null,{"$f":"H2&I2&J2","v":"05.02.02 ГидрологияОсновное общее образованиеОчная"},"11Д56000301000101009100","05.02.02 Гидрология","Основное общее образование","Очная"]
["05.02.03 Метеорология",null,null,"Заочная",null,"05.02.02 ГидрологияСреднее общее образованиеЗаочная","11Д56000301000217000100","05.02.02 Гидрология","Среднее общее образование","Заочная"]
["07.02.01 Архитектура",null,null,null,null,"05.02.03 МетеорологияОсновное общее образованиеОчная","11Д56000401000101008100","05.02.03 Метеорология","Основное общее образование","Очная"]
["08.02.01 Строительство и эксплуатация зданий и сооружений",null,null,null,null,"05.02.03 МетеорологияОсновное общее образованиеОчно-заочная","11Д56000401000109000100","05.02.03 Метеорология","Основное общее образование","Очно-заочная"]
["08.02.02 Строительство и эксплуатация инженерных сооружений",null,null,null,null,"07.02.01 АрхитектураОсновное общее образованиеОчная","11Д56000601000101006100","07.02.01 Архитектура","Основное общее образование","Очная"]
["08.02.03 Производство неметаллических строительных изделий и конструкций",null,null,null,null,"07.02.01 АрхитектураСреднее общее образованиеОчно-заочная","11Д56000601000209007100","07.02.01 Архитектура","Среднее общее образование","Очно-заочная"]
["08.02.04 Водоснабжение и водоотведение",null,null,null,null,"08.02.01 Строительство и эксплуатация зданий и сооруженийОсновное общее образованиеОчно-заочная","11Д56000801000109006100","08.02.01 Строительство и эксплуатация зданий и сооружений","Основное общее образование","Очно-заочная"]
["08.02.05 Строительство и эксплуатация автомобильных дорог и аэродромов",null,null,null,null,"08.02.01 Строительство и эксплуатация зданий и сооруженийСреднее общее образованиеОчно-заочная","11Д56000801000209005100","08.02.01 Строительство и эксплуатация зданий и сооружений","Среднее общее образование","Очно-заочная"]
["08.02.06 Строительство и эксплуатация городских путей сообщения",null,null,null,null,"08.02.02 Строительство и эксплуатация инженерных сооруженийОсновное общее образованиеЗаочная","11Д56000901000117005100","08.02.02 Строительство и эксплуатация инженерных сооружений","Основное общее образование","Заочная"]
["08.02.07 Монтаж и эксплуатация внутренних сантехнических устройств, кондиционирования воздуха и вентиляции",null,null,null,null,"08.02.02 Строительство и эксплуатация инженерных сооруженийСреднее общее образованиеЗаочная","11Д56000901000217004100","08.02.02 Строительство и эксплуатация инженерных сооружений","Среднее общее образование","Заочная"]
["08.02.08 Монтаж и эксплуатация оборудования и систем газоснабжения",null,null,null,null,"08.02.04 Водоснабжение и водоотведениеОсновное общее образованиеЗаочная","11Д56001101000117001100","08.02.04 Водоснабжение и водоотведение","Основное общее образование","Заочная"]
["08.02.09 Монтаж, наладка и эксплуатация электрооборудования промышленных и гражданских зданий",null,null,null,null,"08.02.05 Строительство и эксплуатация автомобильных дорог и аэродромовОсновное общее образованиеОчная","11Д56001201000101008100","08.02.05 Строительство и эксплуатация автомобильных дорог и аэродромов","Основное общее образование","Очная"]
["08.02.10 Строительство железных дорог, путь и путевое хозяйство",null,null,null,null,"08.02.05 Строительство и эксплуатация автомобильных дорог и аэродромовСреднее общее образованиеОчная","11Д56001201000201007100","08.02.05 Строительство и эксплуатация автомобильных дорог и аэродромов","Среднее общее образование","Очная"]
["09.02.01 Компьютерные системы и комплексы",null,null,null,null,"08.02.06 Строительство и эксплуатация городских путей сообщенияОсновное общее образованиеЗаочная","11Д56001301000117009100","08.02.06 Строительство и эксплуатация городских путей сообщения","Основное общее образование","Заочная"]
["09.02.02 Компьютерные сети",null,null,null,null,"08.02.07 Монтаж и эксплуатация внутренних сантехнических устройств, кондиционирования воздуха и вентиляцииОсновное общее образованиеЗаочная","11Д56001401000117008100","08.02.07 Монтаж и эксплуатация внутренних сантехнических устройств, кондиционирования воздуха и вентиляции","Основное общее образование","Заочная"]
["09.02.03 Программирование в компьютерных системах",null,null,null,null,"08.02.07 Монтаж и эксплуатация внутренних сантехнических устройств, кондиционирования воздуха и вентиляцииСреднее общее образованиеОчно-заочная","11Д56001401000209007100","08.02.07 Монтаж и эксплуатация внутренних сантехнических устройств, кондиционирования воздуха и вентиляции","Среднее общее образование","Очно-заочная"]
["09.02.04 Информационные системы (по отраслям)",null,null,null,null,"08.02.08 Монтаж и эксплуатация оборудования и систем газоснабженияОсновное общее образованиеЗаочная","11Д56001501000117007100","08.02.08 Монтаж и эксплуатация оборудования и систем газоснабжения","Основное общее образование","Заочная"]
["09.02.05 Прикладная информатика (по отраслям)",null,null,null,null,"08.02.08 Монтаж и эксплуатация оборудования и систем газоснабженияСреднее общее образованиеЗаочная","11Д56001501000217006100","08.02.08 Монтаж и эксплуатация оборудования и систем газоснабжения","Среднее общее образование","Заочная"]
["09.02.06 Сетевое и системное администрирование",null,null,null,null,"08.02.10 Строительство железных дорог, путь и путевое хозяйствоОсновное общее образованиеЗаочная","11Д56001701000117005100","08.02.10 Строительство железных дорог, путь и путевое хозяйство","Основное общее образование","Заочная"]
["09.02.07 Информационные системы и программирование",null,null,null,null,"08.02.11 Управление, эксплуатация и обслуживание многоквартирного домаОсновное общее образованиеОчно-заочная","11Д56001801000109004100","08.02.11 Управление, эксплуатация и обслуживание многоквартирного дома","Основное общее образование","Очно-заочная"]
["10.02.01 Организация и технология защиты информации",null,null,null,null,"08.02.11 Управление, эксплуатация и обслуживание многоквартирного домаОсновное общее образованиеЗаочная","11Д56001801000117004100","08.02.11 Управление, эксплуатация и обслуживание многоквартирного дома","Основное общее образование","Заочная"]
["10.02.02 Информационная безопасность телекоммуникационных систем",null,null,null,null,"09.02.01 Компьютерные системы и комплексыОсновное общее образованиеОчная","11Д56002001000101008100","09.02.01 Компьютерные системы и комплексы","Основное общее образование","Очная"]
["10.02.03 Информационная безопасность автоматизированных систем",null,null,null,null,"09.02.01 Компьютерные системы и комплексыОсновное общее образованиеЗаочная","11Д56002001000117000100","09.02.01 Компьютерные системы и комплексы","Основное общее образование","Заочная"]
["11.02.01 Радиоаппаратостроение",null,null,null,null,"09.02.01 Компьютерные системы и комплексыСреднее общее образованиеОчная","11Д56002001000201007100","09.02.01 Компьютерные системы и комплексы","Среднее общее образование","Очная"]
["11.02.02 Техническое обслуживание и ремонт радиоэлектронной техники (по отраслям)",null,null,null,null,"09.02.02 Компьютерные сетиОсновное общее образованиеЗаочная","11Д56002101000117009100","09.02.02 Компьютерные сети","Основное общее образование","Заочная"]
["11.02.03 Эксплуатация оборудования радиосвязи и электрорадионавигации судов",null,null,null,null,"09.02.04 Информационные системы (по отраслям)Основное общее образованиеЗаочная","11Д56002301000117007100","09.02.04 Информационные системы (по отраслям)","Основное общее образование","Заочная"]
["11.02.04 Радиотехнические комплексы и системы управления космических летательных аппаратов",null,null,null,null,"10.02.01 Организация и технология защиты информацииОсновное общее образованиеОчная","11Д56002601000101002100","10.02.01 Организация и технология защиты информации","Основное общее образование","Очная"]
["11.02.05 Аудиовизуальная техника",null,null,null,null,"10.02.01 Организация и технология защиты информацииОсновное общее образованиеЗаочная","11Д56002601000117004100","10.02.01 Организация и технология защиты информации","Основное общее образование","Заочная"]
["11.02.06 Техническая эксплуатация транспортного радиоэлектронного оборудования (по видам транспорта)",null,null,null,null,"10.02.01 Организация и технология защиты информацииСреднее общее образованиеОчная","11Д56002601000201001100","10.02.01 Организация и технология защиты информации","Среднее общее образование","Очная"]
["11.02.07 Радиотехнические информационные системы",null,null,null,null,"10.02.01 Организация и технология защиты информацииСреднее общее образованиеОчно-заочная","11Д56002601000209003100","10.02.01 Организация и технология защиты информации","Среднее общее образование","Очно-заочная"]
["11.02.08 Средства связи с подвижными объектами",null,null,null,null,"10.02.02 Информационная безопасность телекоммуникационных системОсновное общее образованиеОчно-заочная","11Д56002701000109003100","10.02.02 Информационная безопасность телекоммуникационных систем","Основное общее образование","Очно-заочная"]
["11.02.09 Многоканальные телекоммуникационные системы",null,null,null,null,"10.02.02 Информационная безопасность телекоммуникационных системСреднее общее образованиеОчная","11Д56002701000201000100","10.02.02 Информационная безопасность телекоммуникационных систем","Среднее общее образование","Очная"]
["11.02.10 Радиосвязь, радиовещание и телевидение",null,null,null,null,"10.02.03 Информационная безопасность автоматизированных системОсновное общее образованиеЗаочная","11Д56002801000117002100","10.02.03 Информационная безопасность автоматизированных систем","Основное общее образование","Заочная"]
["11.02.11 Сети связи и системы коммутации",null,null,null,null,"10.02.03 Информационная безопасность автоматизированных системСреднее общее образованиеОчно-заочная","11Д56002801000209001100","10.02.03 Информационная безопасность автоматизированных систем","Среднее общее образование","Очно-заочная"]
["11.02.12 Почтовая связь",null,null,null,null,"11.02.01 РадиоаппаратостроениеСреднее общее образованиеОчно-заочная","11Д56003001000209007100","11.02.01 Радиоаппаратостроение","Среднее общее образование","Очно-заочная"]
["11.02.13 Твердотельная электроника",null,null,null,null,"11.02.01 РадиоаппаратостроениеСреднее общее образованиеЗаочная","11Д56003001000217007100","11.02.01 Радиоаппаратостроение","Среднее общее образование","Заочная"]
["11.02.14 Электронные приборы и устройства",null,null,null,null,"11.02.02 Техническое обслуживание и ремонт радиоэлектронной техники (по отраслям)Основное общее образованиеОчно-заочная","11Д56003101000109007100","11.02.02 Техническое обслуживание и ремонт радиоэлектронной техники (по отраслям)","Основное общее образование","Очно-заочная"]
["11.02.15 Инфокоммуникационные сети и системы связи",null,null,null,null,"11.02.02 Техническое обслуживание и ремонт радиоэлектронной техники (по отраслям)Основное общее образованиеЗаочная","11Д56003101000117007100","11.02.02 Техническое обслуживание и ремонт радиоэлектронной техники (по отраслям)","Основное общее образование","Заочная"]
["11.02.16 Монтаж, техническое обслуживание и ремонт электронных приборов и устройств",null,null,null,null,"11.02.02 Техническое обслуживание и ремонт радиоэлектронной техники (по отраслям)Среднее общее образованиеОчная","11Д56003101000201004100","11.02.02 Техническое обслуживание и ремонт радиоэлектронной техники (по отраслям)","Среднее общее образование","Очная"]
["12.02.01 Авиационные приборы и комплексы",null,null,null,null,"11.02.03 Эксплуатация оборудования радиосвязи и электрорадионавигации судовОсновное общее образованиеОчно-заочная","11Д56003201000109006100","11.02.03 Эксплуатация оборудования радиосвязи и электрорадионавигации судов","Основное общее образование","Очно-заочная"]
["12.02.02 Акустические приборы и системы",null,null,null,null,"11.02.03 Эксплуатация оборудования радиосвязи и электрорадионавигации судовСреднее общее образованиеОчная","11Д56003201000201003100","11.02.03 Эксплуатация оборудования радиосвязи и электрорадионавигации судов","Среднее общее образование","Очная"]
["12.02.03 Радиоэлектронные приборные устройства",null,null,null,null,"11.02.04 Радиотехнические комплексы и системы управления космических летательных аппаратовСреднее общее образованиеОчная","11Д56003301000201002100","11.02.04 Радиотехнические комплексы и системы управления космических летательных аппаратов","Среднее общее образование","Очная"]
["12.02.04 Электромеханические приборные устройства",null,null,null,null,"11.02.04 Радиотехнические комплексы и системы управления космических летательных аппаратовСреднее общее образованиеОчно-заочная","11Д56003301000209004100","11.02.04 Радиотехнические комплексы и системы управления космических летательных аппаратов","Среднее общее образование","Очно-заочная"]
["12.02.05 Оптические и оптико-электронные приборы и системы",null,null,null,null,"11.02.04 Радиотехнические комплексы и системы управления космических летательных аппаратовСреднее общее образованиеЗаочная","11Д56003301000217004100","11.02.04 Радиотехнические комплексы и системы управления космических летательных аппаратов","Среднее общее образование","Заочная"]
["12.02.06 Биотехнические и медицинские аппараты и системы",null,null,null,null,"11.02.06 Техническая эксплуатация транспортного радиоэлектронного оборудования (по видам транспорта)Основное общее образованиеОчная","11Д56003501000101001100","11.02.06 Техническая эксплуатация транспортного радиоэлектронного оборудования (по видам транспорта)","Основное общее образование","Очная"]
["12.02.07 Монтаж, техническое обслуживание и ремонт медицинской техники",null,null,null,null,"11.02.06 Техническая эксплуатация транспортного радиоэлектронного оборудования (по видам транспорта)Среднее общее образованиеЗаочная","11Д56003501000217002100","11.02.06 Техническая эксплуатация транспортного радиоэлектронного оборудования (по видам транспорта)","Среднее общее образование","Заочная"]
["12.02.08 Протезно-ортопедическая и реабилитационная техника",null,null,null,null,"11.02.07 Радиотехнические информационные системыОсновное общее образованиеЗаочная","11Д56003601000117002100","11.02.07 Радиотехнические информационные системы","Основное общее образование","Заочная"]
["13.02.01 Тепловые электрические станции",null,null,null,null,"11.02.07 Радиотехнические информационные системыСреднее общее образованиеЗаочная","11Д56003601000217001100","11.02.07 Радиотехнические информационные системы","Среднее общее образование","Заочная"]
["13.02.02 Теплоснабжение и теплотехническое оборудование",null,null,null,null,"11.02.08 Средства связи с подвижными объектамиОсновное общее образованиеЗаочная","11Д56003701000117001100","11.02.08 Средства связи с подвижными объектами","Основное общее образование","Заочная"]
["13.02.03 Электрические станции, сети и системы",null,null,null,null,"11.02.10 Радиосвязь, радиовещание и телевидениеОсновное общее образованиеОчная","11Д56003901000101007100","11.02.10 Радиосвязь, радиовещание и телевидение","Основное общее образование","Очная"]
["13.02.04 Гидроэлектроэнергетические установки",null,null,null,null,"11.02.12 Почтовая связьСреднее общее образованиеОчно-заочная","11Д56004101000209004100","11.02.12 Почтовая связь","Среднее общее образование","Очно-заочная"]
["13.02.05 Технология воды, топлива и смазочных материалов на электрических станциях",null,null,null,null,"11.02.13 Твердотельная электроникаОсновное общее образованиеЗаочная","11Д56004201000117004100","11.02.13 Твердотельная электроника","Основное общее образование","Заочная"]
["13.02.06 Релейная защита и автоматизация электроэнергетических систем",null,null,null,null,"11.02.13 Твердотельная электроникаСреднее общее образованиеЗаочная","11Д56004201000217003100","11.02.13 Твердотельная электроника","Среднее общее образование","Заочная"]
["13.02.07 Электроснабжение (по отраслям)",null,null,null,null,"11.02.14 Электронные приборы и устройстваОсновное общее образованиеЗаочная","11Д56004301000117003100","11.02.14 Электронные приборы и устройства","Основное общее образование","Заочная"]
["13.02.08 Электроизоляционная, кабельная и конденсаторная техника",null,null,null,null,"12.02.01 Авиационные приборы и комплексыОсновное общее образованиеОчная","11Д56004501000101009100","12.02.01 Авиационные приборы и комплексы","Основное общее образование","Очная"]
["13.02.09 Монтаж и эксплуатация линий электропередачи",null,null,null,null,"12.02.01 Авиационные приборы и комплексыОсновное общее образованиеЗаочная","11Д56004501000117001100","12.02.01 Авиационные приборы и комплексы","Основное общее образование","Заочная"]
["13.02.10 Электрические машины и аппараты",null,null,null,null,"12.02.01 Авиационные приборы и комплексыСреднее общее образованиеОчная","11Д56004501000201008100","12.02.01 Авиационные приборы и комплексы","Среднее общее образование","Очная"]
["13.02.11 Техническая эксплуатация и обслуживание электрического и электромеханического оборудования (по отраслям)",null,null,null,null,"12.02.02 Акустические приборы и системыОсновное общее образованиеОчная","11Д56004601000101008100","12.02.02 Акустические приборы и системы","Основное общее образование","Очная"]
["14.02.01 Атомные электрические станции и установки",null,null,null,null,"12.02.02 Акустические приборы и системыОсновное общее образованиеОчно-заочная","11Д56004601000109000100","12.02.02 Акустические приборы и системы","Основное общее образование","Очно-заочная"]
["14.02.02 Радиационная безопасность",null,null,null,null,"12.02.02 Акустические приборы и системыСреднее общее образованиеОчно-заочная","11Д56004601000209009100","12.02.02 Акустические приборы и системы","Среднее общее образование","Очно-заочная"]
["14.02.03 Технология разделения изотопов",null,null,null,null,"12.02.03 Радиоэлектронные приборные устройстваОсновное общее образованиеОчная","11Д56004701000101007100","12.02.03 Радиоэлектронные приборные устройства","Основное общее образование","Очная"]
["15.02.01 Монтаж и техническая эксплуатация промышленного оборудования (по отраслям)",null,null,null,null,"12.02.03 Радиоэлектронные приборные устройстваСреднее общее образованиеОчная","11Д56004701000201006100","12.02.03 Радиоэлектронные приборные устройства","Среднее общее образование","Очная"]
["15.02.02 Техническая эксплуатация оборудования для производства электронной техники",null,null,null,null,"12.02.04 Электромеханические приборные устройстваОсновное общее образованиеЗаочная","11Д56004801000117008100","12.02.04 Электромеханические приборные устройства","Основное общее образование","Заочная"]
["15.02.03 Техническая эксплуатация гидравлических машин, гидроприводов и гидропневмоавтоматики",null,null,null,null,"12.02.04 Электромеханические приборные устройстваСреднее общее образованиеЗаочная","11Д56004801000217007100","12.02.04 Электромеханические приборные устройства","Среднее общее образование","Заочная"]
["15.02.04 Специальные машины и устройства",null,null,null,null,{"$f":"H66&I66&J66","v":"12.02.05 Оптические и оптико-электронные приборы и системыОсновное общее образованиеОчная"},"11Д56004901000101005100","12.02.05 Оптические и оптико-электронные приборы и системы","Основное общее образование","Очная"]
["15.02.05 Техническая эксплуатация оборудования в торговле и общественном питании",null,null,null,null,"12.02.05 Оптические и оптико-электронные приборы и системыОсновное общее образованиеОчно-заочная","11Д56004901000109007100","12.02.05 Оптические и оптико-электронные приборы и системы","Основное общее образование","Очно-заочная"]
["15.02.06 Монтаж и техническая эксплуатация холодильно-компрессорных машин и установок (по отраслям)",null,null,null,null,"12.02.05 Оптические и оптико-электронные приборы и системыСреднее общее образованиеОчно-заочная","11Д56004901000209006100","12.02.05 Оптические и оптико-электронные приборы и системы","Среднее общее образование","Очно-заочная"]
["15.02.07 Автоматизация технологических процессов и производств (по отраслям)",null,null,null,null,"12.02.07 Монтаж, техническое обслуживание и ремонт медицинской техникиОсновное общее образованиеЗаочная","11Д56005101000117002100","12.02.07 Монтаж, техническое обслуживание и ремонт медицинской техники","Основное общее образование","Заочная"]
["15.02.08 Технология машиностроения",null,null,null,null,"12.02.07 Монтаж, техническое обслуживание и ремонт медицинской техникиСреднее общее образованиеЗаочная","11Д56005101000217001100","12.02.07 Монтаж, техническое обслуживание и ремонт медицинской техники","Среднее общее образование","Заочная"]
["15.02.09 Аддитивные технологии",null,null,null,null,"15.02.09 Аддитивные технологии",null,"15.02.09 Аддитивные технологии","Основное общее образование","Очная"]
["15.02.12 Монтаж, техническое обслуживание и ремонт промышленного оборудования (по отраслям)",null,null,null,null,"12.02.08 Протезно-ортопедическая и реабилитационная техникаСреднее общее образованиеЗаочная","11Д56005201000217000100","12.02.08 Протезно-ортопедическая и реабилитационная техника","Среднее общее образование","Заочная"]
["15.02.15 Технология металлообрабатывающего производства",null,null,null,null,"13.02.01 Тепловые электрические станцииОсновное общее образованиеЗаочная","11Д56005401000117009100","13.02.01 Тепловые электрические станции","Основное общее образование","Заочная"]
["18.02.01 Аналитический контроль качества химических соединений",null,null,null,null,"13.02.01 Тепловые электрические станцииСреднее общее образованиеОчно-заочная","11Д56005401000209008100","13.02.01 Тепловые электрические станции","Среднее общее образование","Очно-заочная"]
["18.02.02 Химическая технология отделочного производства и обработки изделий",null,null,null,null,"13.02.01 Тепловые электрические станцииСреднее общее образованиеЗаочная","11Д56005401000217008100","13.02.01 Тепловые электрические станции","Среднее общее образование","Заочная"]
["18.02.03 Химическая технология неорганических веществ",null,null,null,null,"13.02.02 Теплоснабжение и теплотехническое оборудованиеОсновное общее образованиеЗаочная","11Д56005501000117008100","13.02.02 Теплоснабжение и теплотехническое оборудование","Основное общее образование","Заочная"]
["18.02.04 Электрохимическое производство",null,null,null,null,"13.02.03 Электрические станции, сети и системыСреднее общее образованиеОчно-заочная","11Д56005601000209006100","13.02.03 Электрические станции, сети и системы","Среднее общее образование","Очно-заочная"]
["18.02.05 Производство тугоплавких неметаллических и силикатных материалов и изделий",null,null,null,null,"13.02.04 Гидроэлектроэнергетические установкиСреднее общее образованиеОчная","11Д56005701000201003100","13.02.04 Гидроэлектроэнергетические установки","Среднее общее образование","Очная"]
["18.02.06 Химическая технология органических веществ",null,null,null,null,"13.02.06 Релейная защита и автоматизация электроэнергетических системОсновное общее образованиеЗаочная","11Д56005901000117004100","13.02.06 Релейная защита и автоматизация электроэнергетических систем","Основное общее образование","Заочная"]
["18.02.07 Технология производства и переработки пластических масс и эластомеров",null,null,null,null,"13.02.06 Релейная защита и автоматизация электроэнергетических системСреднее общее образованиеЗаочная","11Д56005901000217003100","13.02.06 Релейная защита и автоматизация электроэнергетических систем","Среднее общее образование","Заочная"]
["18.02.08 Технология кинофотоматериалов и магнитных носителей",null,null,null,null,"13.02.07 Электроснабжение (по отраслям)Основное общее образованиеОчно-заочная","11Д56006001000109001100","13.02.07 Электроснабжение (по отраслям)","Основное общее образование","Очно-заочная"]
["18.02.09 Переработка нефти и газа",null,null,null,null,"13.02.09 Монтаж и эксплуатация линий электропередачиОсновное общее образованиеОчная","11Д56006201000101007100","13.02.09 Монтаж и эксплуатация линий электропередачи","Основное общее образование","Очная"]
["18.02.10 Коксохимическое производство",null,null,null,null,"13.02.09 Монтаж и эксплуатация линий электропередачиОсновное общее образованиеЗаочная","11Д56006201000117009100","13.02.09 Монтаж и эксплуатация линий электропередачи","Основное общее образование","Заочная"]
["18.02.11 Технология пиротехнических составов и изделий",null,null,null,null,"13.02.09 Монтаж и эксплуатация линий электропередачиСреднее общее образованиеЗаочная","11Д56006201000217008100","13.02.09 Монтаж и эксплуатация линий электропередачи","Среднее общее образование","Заочная"]
["19.02.01 Биохимическое производство",null,null,null,null,"14.02.01 Атомные электрические станции и установкиОсновное общее образованиеОчно-заочная","11Д56006601000109005100","14.02.01 Атомные электрические станции и установки","Основное общее образование","Очно-заочная"]
["19.02.02 Технология хранения и переработки зерна",null,null,null,null,"14.02.02 Радиационная безопасностьОсновное общее образованиеЗаочная","11Д56006701000117004100","14.02.02 Радиационная безопасность","Основное общее образование","Заочная"]
["19.02.03 Технология хлеба, кондитерских и макаронных изделий",null,null,null,null,"14.02.02 Радиационная безопасностьСреднее общее образованиеОчная","11Д56006701000201001100","14.02.02 Радиационная безопасность","Среднее общее образование","Очная"]
["19.02.04 Технология сахаристых продуктов",null,null,null,null,"14.02.03 Технология разделения изотоповОсновное общее образованиеЗаочная","11Д56006801000117003100","14.02.03 Технология разделения изотопов","Основное общее образование","Заочная"]
["19.02.05 Технология бродильных производств и виноделие",null,null,null,null,"14.02.03 Технология разделения изотоповСреднее общее образованиеОчная","11Д56006801000201000100","14.02.03 Технология разделения изотопов","Среднее общее образование","Очная"]
["19.02.06 Технология консервов и пищеконцентратов",null,null,null,null,"15.02.03 Техническая эксплуатация гидравлических машин, гидроприводов и гидропневмоавтоматикиСреднее общее образованиеОчно-заочная","11Д56007201000209006100","15.02.03 Техническая эксплуатация гидравлических машин, гидроприводов и гидропневмоавтоматики","Среднее общее образование","Очно-заочная"]
["19.02.07 Технология молока и молочных продуктов",null,null,null,null,"15.02.04 Специальные машины и устройстваСреднее общее образованиеОчная","11Д56007301000201003100","15.02.04 Специальные машины и устройства","Среднее общее образование","Очная"]
["19.02.08 Технология мяса и мясных продуктов",null,null,null,null,"15.02.05 Техническая эксплуатация оборудования в торговле и общественном питанииОсновное общее образованиеЗаочная","11Д56007401000117005100","15.02.05 Техническая эксплуатация оборудования в торговле и общественном питании","Основное общее образование","Заочная"]
["19.02.09 Технология жиров и жирозаменителей",null,null,null,null,"15.02.07 Автоматизация технологических процессов и производств (по отраслям)Среднее общее образованиеОчно-заочная","11Д56007601000209002100","15.02.07 Автоматизация технологических процессов и производств (по отраслям)","Среднее общее образование","Очно-заочная"]
["19.02.10 Технология продукции общественного питания",null,null,null,null,"15.02.08 Технология машиностроенияОсновное общее образованиеОчно-заочная","11Д56007701000109002100","15.02.08 Технология машиностроения","Основное общее образование","Очно-заочная"]
["20.02.01 Рациональное использование природохозяйственных комплексов",null,null,null,null,"15.02.08 Технология машиностроенияСреднее общее образованиеЗаочная","11Д56007701000217001100","15.02.08 Технология машиностроения","Среднее общее образование","Заочная"]
["20.02.02 Защита в чрезвычайных ситуациях",null,null,null,null,"15.02.09 Аддитивные технологииОсновное общее образованиеОчно-заочная","11Д56007801000109001100","15.02.09 Аддитивные технологии","Основное общее образование","Очно-заочная"]
["20.02.03 Природоохранное обустройство территорий",null,null,null,null,"15.02.09 Аддитивные технологииСреднее общее образованиеОчно-заочная","11Д56007801000209000100","15.02.09 Аддитивные технологии","Среднее общее образование","Очно-заочная"]
["20.02.04 Пожарная безопасность",null,null,null,null,"18.02.03 Химическая технология неорганических веществОсновное общее образованиеОчная","11Д56008201000101003100","18.02.03 Химическая технология неорганических веществ","Основное общее образование","Очная"]
["21.02.01 Разработка и эксплуатация нефтяных и газовых месторождений",null,null,null,null,"18.02.03 Химическая технология неорганических веществСреднее общее образованиеОчная","11Д56008201000201002100","18.02.03 Химическая технология неорганических веществ","Среднее общее образование","Очная"]
["21.02.02 Бурение нефтяных и газовых скважин",null,null,null,null,"18.02.04 Электрохимическое производствоОсновное общее образованиеЗаочная","11Д56008301000117004100","18.02.04 Электрохимическое производство","Основное общее образование","Заочная"]
["21.02.03 Сооружение и эксплуатация газонефтепроводов и газонефтехранилищ",null,null,null,null,"18.02.04 Электрохимическое производствоСреднее общее образованиеОчная","11Д56008301000201001100","18.02.04 Электрохимическое производство","Среднее общее образование","Очная"]
["21.02.04 Землеустройство",null,null,null,null,"18.02.04 Электрохимическое производствоСреднее общее образованиеОчно-заочная","11Д56008301000209003100","18.02.04 Электрохимическое производство","Среднее общее образование","Очно-заочная"]
["21.02.05 Земельно-имущественные отношения",null,null,null,null,"18.02.04 Электрохимическое производствоСреднее общее образованиеЗаочная","11Д56008301000217003100","18.02.04 Электрохимическое производство","Среднее общее образование","Заочная"]
["21.02.06 Информационные системы обеспечения градостроительной деятельности",null,null,null,null,"18.02.05 Производство тугоплавких неметаллических и силикатных материалов и изделийОсновное общее образованиеОчная","11Д56008401000101001100","18.02.05 Производство тугоплавких неметаллических и силикатных материалов и изделий","Основное общее образование","Очная"]
["21.02.07 Аэрофотогеодезия",null,null,null,null,"18.02.05 Производство тугоплавких неметаллических и силикатных материалов и изделийОсновное общее образованиеЗаочная","11Д56008401000117003100","18.02.05 Производство тугоплавких неметаллических и силикатных материалов и изделий","Основное общее образование","Заочная"]
["21.02.08 Прикладная геодезия",null,null,null,null,"18.02.05 Производство тугоплавких неметаллических и силикатных материалов и изделийСреднее общее образованиеОчно-заочная","11Д56008401000209002100","18.02.05 Производство тугоплавких неметаллических и силикатных материалов и изделий","Среднее общее образование","Очно-заочная"]
["21.02.09 Гидрогеология и инженерная геология",null,null,null,null,"18.02.06 Химическая технология органических веществОсновное общее образованиеОчная","11Д56008501000101000100","18.02.06 Химическая технология органических веществ","Основное общее образование","Очная"]
["21.02.10 Геология и разведка нефтяных и газовых месторождений",null,null,null,null,"18.02.06 Химическая технология органических веществОсновное общее образованиеОчно-заочная","11Д56008501000109002100","18.02.06 Химическая технология органических веществ","Основное общее образование","Очно-заочная"]
["21.02.11 Геофизические методы поисков и разведки месторождений полезных ископаемых",null,null,null,null,"18.02.06 Химическая технология органических веществОсновное общее образованиеЗаочная","11Д56008501000117002100","18.02.06 Химическая технология органических веществ","Основное общее образование","Заочная"]
["21.02.12 Технология и техника разведки месторождений полезных ископаемых",null,null,null,null,"18.02.06 Химическая технология органических веществСреднее общее образованиеОчная","11Д56008501000201009100","18.02.06 Химическая технология органических веществ","Среднее общее образование","Очная"]
["21.02.13 Геологическая съемка, поиски и разведка месторождений полезных ископаемых",null,null,null,null,"18.02.06 Химическая технология органических веществСреднее общее образованиеОчно-заочная","11Д56008501000209001100","18.02.06 Химическая технология органических веществ","Среднее общее образование","Очно-заочная"]
["21.02.14 Маркшейдерское дело",null,null,null,null,"18.02.06 Химическая технология органических веществСреднее общее образованиеЗаочная","11Д56008501000217001100","18.02.06 Химическая технология органических веществ","Среднее общее образование","Заочная"]
["21.02.15 Открытые горные работы",null,null,null,null,"18.02.08 Технология кинофотоматериалов и магнитных носителейОсновное общее образованиеОчно-заочная","11Д56008701000109000100","18.02.08 Технология кинофотоматериалов и магнитных носителей","Основное общее образование","Очно-заочная"]
["21.02.16 Шахтное строительство",null,null,null,null,"18.02.08 Технология кинофотоматериалов и магнитных носителейСреднее общее образованиеОчно-заочная","11Д56008701000209009100","18.02.08 Технология кинофотоматериалов и магнитных носителей","Среднее общее образование","Очно-заочная"]
["21.02.17 Подземная разработка месторождений полезных ископаемых",null,null,null,null,"18.02.08 Технология кинофотоматериалов и магнитных носителейСреднее общее образованиеЗаочная","11Д56008701000217009100","18.02.08 Технология кинофотоматериалов и магнитных носителей","Среднее общее образование","Заочная"]
["21.02.18 Обогащение полезных ископаемых",null,null,null,null,"18.02.09 Переработка нефти и газаОсновное общее образованиеОчная","11Д56008801000101007100","18.02.09 Переработка нефти и газа","Основное общее образование","Очная"]
["22.02.01 Металлургия черных металлов",null,null,null,null,"18.02.09 Переработка нефти и газаОсновное общее образованиеОчно-заочная","11Д56008801000109009100","18.02.09 Переработка нефти и газа","Основное общее образование","Очно-заочная"]
["22.02.02 Металлургия цветных металлов",null,null,null,null,"18.02.09 Переработка нефти и газаОсновное общее образованиеЗаочная","11Д56008801000117009100","18.02.09 Переработка нефти и газа","Основное общее образование","Заочная"]
["22.02.03 Литейное производство черных и цветных металлов",null,null,null,null,"18.02.09 Переработка нефти и газаСреднее общее образованиеОчная","11Д56008801000201006100","18.02.09 Переработка нефти и газа","Среднее общее образование","Очная"]
["22.02.04 Металловедение и термическая обработка металлов",null,null,null,null,"18.02.09 Переработка нефти и газаСреднее общее образованиеОчно-заочная","11Д56008801000209008100","18.02.09 Переработка нефти и газа","Среднее общее образование","Очно-заочная"]
["22.02.05 Обработка металлов давлением",null,null,null,null,"18.02.09 Переработка нефти и газаСреднее общее образованиеЗаочная","11Д56008801000217008100","18.02.09 Переработка нефти и газа","Среднее общее образование","Заочная"]
["22.02.06 Сварочное производство",null,null,null,null,"18.02.10 Коксохимическое производствоОсновное общее образованиеОчная","11Д56008901000101006100","18.02.10 Коксохимическое производство","Основное общее образование","Очная"]
["22.02.07 Порошковая металлургия, композиционные материалы, покрытия",null,null,null,null,"18.02.10 Коксохимическое производствоОсновное общее образованиеОчно-заочная","11Д56008901000109008100","18.02.10 Коксохимическое производство","Основное общее образование","Очно-заочная"]
["23.02.01 Организация перевозок и управление на транспорте (по видам)",null,null,null,null,"18.02.10 Коксохимическое производствоОсновное общее образованиеЗаочная","11Д56008901000117008100","18.02.10 Коксохимическое производство","Основное общее образование","Заочная"]
["23.02.02 Автомобиле- и тракторостроение",null,null,null,null,"18.02.10 Коксохимическое производствоСреднее общее образованиеОчная","11Д56008901000201005100","18.02.10 Коксохимическое производство","Среднее общее образование","Очная"]
["23.02.03 Техническое обслуживание и ремонт автомобильного транспорта",null,null,null,null,"18.02.10 Коксохимическое производствоСреднее общее образованиеОчно-заочная","11Д56008901000209007100","18.02.10 Коксохимическое производство","Среднее общее образование","Очно-заочная"]
["23.02.04 Техническая эксплуатация подъемно-транспортных, строительных, дорожных машин и оборудования (по отраслям)",null,null,null,null,"18.02.10 Коксохимическое производствоСреднее общее образованиеЗаочная","11Д56008901000217007100","18.02.10 Коксохимическое производство","Среднее общее образование","Заочная"]
["23.02.05 Эксплуатация транспортного электрооборудования и автоматики (по видам транспорта, за исключением водного)",null,null,null,null,"18.02.11 Технология пиротехнических составов и изделийОсновное общее образованиеОчная","11Д56009001000101003100","18.02.11 Технология пиротехнических составов и изделий","Основное общее образование","Очная"]
["23.02.06 Техническая эксплуатация подвижного состава железных дорог",null,null,null,null,"18.02.11 Технология пиротехнических составов и изделийОсновное общее образованиеОчно-заочная","11Д56009001000109005100","18.02.11 Технология пиротехнических составов и изделий","Основное общее образование","Очно-заочная"]
["23.02.07 Техническое обслуживание и ремонт двигателей, систем и агрегатов автомобилей",null,null,null,null,"18.02.11 Технология пиротехнических составов и изделийСреднее общее образованиеОчно-заочная","11Д56009001000209004100","18.02.11 Технология пиротехнических составов и изделий","Среднее общее образование","Очно-заочная"]
["24.02.01 Производство летательных аппаратов",null,null,null,null,{"$f":"H131&I131&J131","v":"19.02.01 Биохимическое производствоОсновное общее образованиеЗаочная"},"11Д56009201000117003100","19.02.01 Биохимическое производство","Основное общее образование","Заочная"]
["24.02.02 Производство авиационных двигателей",null,null,null,null,"19.02.01 Биохимическое производствоСреднее общее образованиеОчная","11Д56009201000201000100","19.02.01 Биохимическое производство","Среднее общее образование","Очная"]
["24.02.03 Испытание летательных аппаратов",null,null,null,null,"19.02.01 Биохимическое производствоСреднее общее образованиеОчно-заочная","11Д56009201000209002100","19.02.01 Биохимическое производство","Среднее общее образование","Очно-заочная"]
["25.02.01 Техническая эксплуатация летательных аппаратов и двигателей",null,null,null,null,"19.02.01 Биохимическое производствоСреднее общее образованиеЗаочная","11Д56009201000217002100","19.02.01 Биохимическое производство","Среднее общее образование","Заочная"]
["25.02.02 Обслуживание летательных аппаратов горюче-смазочными материалами",null,null,null,null,"19.02.02 Технология хранения и переработки зернаОсновное общее образованиеОчная","11Д56009301000101000100","19.02.02 Технология хранения и переработки зерна","Основное общее образование","Очная"]
["25.02.03 Техническая эксплуатация электрифицированных и пилотажно-навигационных комплексов",null,null,null,null,"19.02.02 Технология хранения и переработки зернаСреднее общее образованиеОчная","11Д56009301000201009100","19.02.02 Технология хранения и переработки зерна","Среднее общее образование","Очная"]
["25.02.04 Летная эксплуатация летательных аппаратов",null,null,null,null,"19.02.03 Технология хлеба, кондитерских и макаронных изделийОсновное общее образованиеЗаочная","11Д56009401000117001100","19.02.03 Технология хлеба, кондитерских и макаронных изделий","Основное общее образование","Заочная"]
["25.02.05 Управление движением воздушного транспорта",null,null,null,null,"19.02.03 Технология хлеба, кондитерских и макаронных изделийСреднее общее образованиеОчная","11Д56009401000201008100","19.02.03 Технология хлеба, кондитерских и макаронных изделий","Среднее общее образование","Очная"]
["26.02.01 Эксплуатация внутренних водных путей",null,null,null,null,"19.02.03 Технология хлеба, кондитерских и макаронных изделийСреднее общее образованиеОчно-заочная","11Д56009401000209000100","19.02.03 Технология хлеба, кондитерских и макаронных изделий","Среднее общее образование","Очно-заочная"]
["26.02.02 Судостроение",null,null,null,null,"19.02.03 Технология хлеба, кондитерских и макаронных изделийСреднее общее образованиеЗаочная","11Д56009401000217000100","19.02.03 Технология хлеба, кондитерских и макаронных изделий","Среднее общее образование","Заочная"]
["26.02.03 Судовождение",null,null,null,null,"19.02.04 Технология сахаристых продуктовОсновное общее образованиеОчно-заочная","11Д56009501000109000100","19.02.04 Технология сахаристых продуктов","Основное общее образование","Очно-заочная"]
["26.02.04 Монтаж и техническое обслуживание судовых машин и механизмов",null,null,null,null,"19.02.04 Технология сахаристых продуктовОсновное общее образованиеЗаочная","11Д56009501000117000100","19.02.04 Технология сахаристых продуктов","Основное общее образование","Заочная"]
["26.02.05 Эксплуатация судовых энергетических установок",null,null,null,null,"19.02.04 Технология сахаристых продуктовСреднее общее образованиеОчно-заочная","11Д56009501000209009100","19.02.04 Технология сахаристых продуктов","Среднее общее образование","Очно-заочная"]
["26.02.06 Эксплуатация судового электрооборудования и средств автоматики",null,null,null,null,"19.02.05 Технология бродильных производств и виноделиеОсновное общее образованиеЗаочная","11Д56009601000117009100","19.02.05 Технология бродильных производств и виноделие","Основное общее образование","Заочная"]
["27.02.01 Метрология",null,null,null,null,"19.02.05 Технология бродильных производств и виноделиеСреднее общее образованиеЗаочная","11Д56009601000217008100","19.02.05 Технология бродильных производств и виноделие","Среднее общее образование","Заочная"]
["27.02.02 Техническое регулирование и управление качеством",null,null,null,null,"19.02.06 Технология консервов и пищеконцентратовОсновное общее образованиеОчная","11Д56009701000101006100","19.02.06 Технология консервов и пищеконцентратов","Основное общее образование","Очная"]
["27.02.03 Автоматика и телемеханика на транспорте (железнодорожном транспорте)",null,null,null,null,"19.02.06 Технология консервов и пищеконцентратовСреднее общее образованиеОчная","11Д56009701000201005100","19.02.06 Технология консервов и пищеконцентратов","Среднее общее образование","Очная"]
["27.02.04 Автоматические системы управления",null,null,null,null,"19.02.06 Технология консервов и пищеконцентратовСреднее общее образованиеЗаочная","11Д56009701000217007100","19.02.06 Технология консервов и пищеконцентратов","Среднее общее образование","Заочная"]
["27.02.05 Системы и средства диспетчерского управления",null,null,null,null,"19.02.07 Технология молока и молочных продуктовОсновное общее образованиеОчная","11Д56009801000101005100","19.02.07 Технология молока и молочных продуктов","Основное общее образование","Очная"]
["29.02.01 Конструирование, моделирование и технология изделий из кожи",null,null,null,null,"19.02.07 Технология молока и молочных продуктовОсновное общее образованиеОчно-заочная","11Д56009801000109007100","19.02.07 Технология молока и молочных продуктов","Основное общее образование","Очно-заочная"]
["29.02.02 Технология кожи и меха",null,null,null,null,"19.02.07 Технология молока и молочных продуктовОсновное общее образованиеЗаочная","11Д56009801000117007100","19.02.07 Технология молока и молочных продуктов","Основное общее образование","Заочная"]
["29.02.03 Конструирование, моделирование и технология изделий из меха",null,null,null,null,"19.02.07 Технология молока и молочных продуктовСреднее общее образованиеОчная","11Д56009801000201004100","19.02.07 Технология молока и молочных продуктов","Среднее общее образование","Очная"]
["29.02.04 Конструирование, моделирование и технология швейных изделий",null,null,null,null,"19.02.08 Технология мяса и мясных продуктовОсновное общее образованиеОчная","11Д56009901000101004100","19.02.08 Технология мяса и мясных продуктов","Основное общее образование","Очная"]
["29.02.05 Технология текстильных изделий (по видам)",null,null,null,null,"19.02.08 Технология мяса и мясных продуктовОсновное общее образованиеОчно-заочная","11Д56009901000109006100","19.02.08 Технология мяса и мясных продуктов","Основное общее образование","Очно-заочная"]
["29.02.06 Полиграфическое производство",null,null,null,null,"19.02.08 Технология мяса и мясных продуктовОсновное общее образованиеЗаочная","11Д56009901000117006100","19.02.08 Технология мяса и мясных продуктов","Основное общее образование","Заочная"]
["29.02.07 Производство изделий из бумаги и картона",null,null,null,null,"19.02.08 Технология мяса и мясных продуктовСреднее общее образованиеОчная","11Д56009901000201003100","19.02.08 Технология мяса и мясных продуктов","Среднее общее образование","Очная"]
["29.02.08 Технология обработки алмазов",null,null,null,null,"19.02.08 Технология мяса и мясных продуктовСреднее общее образованиеОчно-заочная","11Д56009901000209005100","19.02.08 Технология мяса и мясных продуктов","Среднее общее образование","Очно-заочная"]
["31.02.01 Лечебное дело",null,null,null,null,"19.02.08 Технология мяса и мясных продуктовСреднее общее образованиеЗаочная","11Д56009901000217005100","19.02.08 Технология мяса и мясных продуктов","Среднее общее образование","Заочная"]
["31.02.02 Акушерское дело",null,null,null,null,"19.02.09 Технология жиров и жирозаменителейОсновное общее образованиеОчно-заочная","11Д56010001000109003100","19.02.09 Технология жиров и жирозаменителей","Основное общее образование","Очно-заочная"]
["31.02.03 Лабораторная диагностика",null,null,null,null,"19.02.09 Технология жиров и жирозаменителейОсновное общее образованиеЗаочная","11Д56010001000117003100","19.02.09 Технология жиров и жирозаменителей","Основное общее образование","Заочная"]
["31.02.04 Медицинская оптика",null,null,null,null,"19.02.09 Технология жиров и жирозаменителейСреднее общее образованиеОчная","11Д56010001000201000100","19.02.09 Технология жиров и жирозаменителей","Среднее общее образование","Очная"]
["31.02.05 Стоматология ортопедическая",null,null,null,null,"19.02.09 Технология жиров и жирозаменителейСреднее общее образованиеОчно-заочная","11Д56010001000209002100","19.02.09 Технология жиров и жирозаменителей","Среднее общее образование","Очно-заочная"]
["31.02.06 Стоматология профилактическая",null,null,null,null,"19.02.09 Технология жиров и жирозаменителейСреднее общее образованиеЗаочная","11Д56010001000217002100","19.02.09 Технология жиров и жирозаменителей","Среднее общее образование","Заочная"]
["32.02.01 Медико-профилактическое дело",null,null,null,null,"19.02.10 Технология продукции общественного питанияОсновное общее образованиеОчная","11Д56010101000101000100","19.02.10 Технология продукции общественного питания","Основное общее образование","Очная"]
["33.02.01 Фармация",null,null,null,null,"19.02.10 Технология продукции общественного питанияОсновное общее образованиеОчно-заочная","11Д56010101000109002100","19.02.10 Технология продукции общественного питания","Основное общее образование","Очно-заочная"]
["34.02.01 Сестринское дело",null,null,null,null,"19.02.10 Технология продукции общественного питанияОсновное общее образованиеЗаочная","11Д56010101000117002100","19.02.10 Технология продукции общественного питания","Основное общее образование","Заочная"]
["35.02.01 Лесное и лесопарковое хозяйство",null,null,null,null,"19.02.10 Технология продукции общественного питанияСреднее общее образованиеОчная","11Д56010101000201009100","19.02.10 Технология продукции общественного питания","Среднее общее образование","Очная"]
["35.02.02 Технология лесозаготовок",null,null,null,null,"19.02.10 Технология продукции общественного питанияСреднее общее образованиеОчно-заочная","11Д56010101000209001100","19.02.10 Технология продукции общественного питания","Среднее общее образование","Очно-заочная"]
["35.02.03 Технология деревообработки",null,null,null,null,"19.02.10 Технология продукции общественного питанияСреднее общее образованиеЗаочная","11Д56010101000217001100","19.02.10 Технология продукции общественного питания","Среднее общее образование","Заочная"]
["35.02.04 Технология комплексной переработки древесины",null,null,null,null,"20.02.01 Рациональное использование природохозяйственных комплексовОсновное общее образованиеОчная","11Д56010301000101008100","20.02.01 Рациональное использование природохозяйственных комплексов","Основное общее образование","Очная"]
["35.02.05 Агрономия",null,null,null,null,"20.02.01 Рациональное использование природохозяйственных комплексовОсновное общее образованиеОчно-заочная","11Д56010301000109000100","20.02.01 Рациональное использование природохозяйственных комплексов","Основное общее образование","Очно-заочная"]
["35.02.06 Технология производства и переработки сельскохозяйственной продукции",null,null,null,null,"20.02.01 Рациональное использование природохозяйственных комплексовОсновное общее образованиеЗаочная","11Д56010301000117000100","20.02.01 Рациональное использование природохозяйственных комплексов","Основное общее образование","Заочная"]
["35.02.07 Механизация сельского хозяйства",null,null,null,null,"20.02.01 Рациональное использование природохозяйственных комплексовСреднее общее образованиеЗаочная","11Д56010301000217009100","20.02.01 Рациональное использование природохозяйственных комплексов","Среднее общее образование","Заочная"]
["35.02.08 Электрификация и автоматизация сельского хозяйства",null,null,null,null,"20.02.02 Защита в чрезвычайных ситуацияхОсновное общее образованиеОчная","11Д56010401000101007100","20.02.02 Защита в чрезвычайных ситуациях","Основное общее образование","Очная"]
["35.02.09 Ихтиология и рыбоводство",null,null,null,null,"20.02.02 Защита в чрезвычайных ситуацияхОсновное общее образованиеОчно-заочная","11Д56010401000109009100","20.02.02 Защита в чрезвычайных ситуациях","Основное общее образование","Очно-заочная"]
["35.02.10 Обработка водных биоресурсов",null,null,null,null,"20.02.02 Защита в чрезвычайных ситуацияхОсновное общее образованиеЗаочная","11Д56010401000117009100","20.02.02 Защита в чрезвычайных ситуациях","Основное общее образование","Заочная"]
["35.02.11 Промышленное рыболовство",null,null,null,null,"20.02.02 Защита в чрезвычайных ситуацияхСреднее общее образованиеОчная","11Д56010401000201006100","20.02.02 Защита в чрезвычайных ситуациях","Среднее общее образование","Очная"]
["35.02.12 Садово-парковое и ландшафтное строительство",null,null,null,null,"20.02.03 Природоохранное обустройство территорийОсновное общее образованиеЗаочная","11Д56010501000117008100","20.02.03 Природоохранное обустройство территорий","Основное общее образование","Заочная"]
["35.02.13 Пчеловодство",null,null,null,null,"20.02.03 Природоохранное обустройство территорийСреднее общее образованиеЗаочная","11Д56010501000217007100","20.02.03 Природоохранное обустройство территорий","Среднее общее образование","Заочная"]
["35.02.14 Охотоведение и звероводство",null,null,null,null,"20.02.04 Пожарная безопасностьОсновное общее образованиеОчная","11Д56010601000101005100","20.02.04 Пожарная безопасность","Основное общее образование","Очная"]
["35.02.15 Кинология",null,null,null,null,"20.02.04 Пожарная безопасностьОсновное общее образованиеОчно-заочная","11Д56010601000109007100","20.02.04 Пожарная безопасность","Основное общее образование","Очно-заочная"]
["36.02.01 Ветеринария",null,null,null,null,"20.02.04 Пожарная безопасностьСреднее общее образованиеЗаочная","11Д56010601000217006100","20.02.04 Пожарная безопасность","Среднее общее образование","Заочная"]
["36.02.02 Зоотехния",null,null,null,null,"21.02.01 Разработка и эксплуатация нефтяных и газовых месторожденийОсновное общее образованиеЗаочная","11Д56010801000117005100","21.02.01 Разработка и эксплуатация нефтяных и газовых месторождений","Основное общее образование","Заочная"]
["38.02.01 Экономика и бухгалтерский учет (по отраслям)",null,null,null,null,"21.02.01 Разработка и эксплуатация нефтяных и газовых месторожденийСреднее общее образованиеЗаочная","11Д56010801000217004100","21.02.01 Разработка и эксплуатация нефтяных и газовых месторождений","Среднее общее образование","Заочная"]
["38.02.02 Страховое дело (по отраслям)",null,null,null,null,"21.02.02 Бурение нефтяных и газовых скважинОсновное общее образованиеОчно-заочная","11Д56010901000109004100","21.02.02 Бурение нефтяных и газовых скважин","Основное общее образование","Очно-заочная"]
["38.02.03 Операционная деятельность в логистике",null,null,null,null,"21.02.02 Бурение нефтяных и газовых скважинСреднее общее образованиеОчно-заочная","11Д56010901000209003100","21.02.02 Бурение нефтяных и газовых скважин","Среднее общее образование","Очно-заочная"]
["38.02.04 Коммерция (по отраслям)",null,null,null,null,"21.02.03 Сооружение и эксплуатация газонефтепроводов и газонефтехранилищОсновное общее образованиеОчно-заочная","11Д56011001000109001100","21.02.03 Сооружение и эксплуатация газонефтепроводов и газонефтехранилищ","Основное общее образование","Очно-заочная"]
["38.02.05 Товароведение и экспертиза качества потребительских товаров",null,null,null,null,"21.02.03 Сооружение и эксплуатация газонефтепроводов и газонефтехранилищОсновное общее образованиеЗаочная","11Д56011001000117001100","21.02.03 Сооружение и эксплуатация газонефтепроводов и газонефтехранилищ","Основное общее образование","Заочная"]
["38.02.06 Финансы",null,null,null,null,"21.02.03 Сооружение и эксплуатация газонефтепроводов и газонефтехранилищСреднее общее образованиеЗаочная","11Д56011001000217000100","21.02.03 Сооружение и эксплуатация газонефтепроводов и газонефтехранилищ","Среднее общее образование","Заочная"]
["38.02.07 Банковское дело",null,null,null,null,"21.02.04 ЗемлеустройствоСреднее общее образованиеОчная","11Д56011101000201007100","21.02.04 Землеустройство","Среднее общее образование","Очная"]
["39.02.01 Социальная работа",null,null,null,null,"21.02.05 Земельно-имущественные отношенияОсновное общее образованиеОчная","11Д56011201000101007100","21.02.05 Земельно-имущественные отношения","Основное общее образование","Очная"]
["39.02.02 Организация сурдокоммуникации",null,null,null,null,"21.02.05 Земельно-имущественные отношенияОсновное общее образованиеОчно-заочная","11Д56011201000109009100","21.02.05 Земельно-имущественные отношения","Основное общее образование","Очно-заочная"]
["40.02.01 Право и организация социального обеспечения",null,null,null,null,"21.02.05 Земельно-имущественные отношенияОсновное общее образованиеЗаочная","11Д56011201000117009100","21.02.05 Земельно-имущественные отношения","Основное общее образование","Заочная"]
["40.02.02 Правоохранительная деятельность",null,null,null,null,"21.02.05 Земельно-имущественные отношенияСреднее общее образованиеОчная","11Д56011201000201006100","21.02.05 Земельно-имущественные отношения","Среднее общее образование","Очная"]
["40.02.03 Право и судебное администрирование",null,null,null,null,{"$f":"H195&I195&J195","v":"21.02.05 Земельно-имущественные отношенияСреднее общее образованиеЗаочная"},"11Д56011201000217008100","21.02.05 Земельно-имущественные отношения","Среднее общее образование","Заочная"]
["42.02.01 Реклама",null,null,null,null,"21.02.06 Информационные системы обеспечения градостроительной деятельностиСреднее общее образованиеОчно-заочная","11Д56011301000209007100","21.02.06 Информационные системы обеспечения градостроительной деятельности","Среднее общее образование","Очно-заочная"]
["42.02.02 Издательское дело",null,null,null,null,"21.02.06 Информационные системы обеспечения градостроительной деятельностиСреднее общее образованиеЗаочная","11Д56011301000217007100","21.02.06 Информационные системы обеспечения градостроительной деятельности","Среднее общее образование","Заочная"]
["43.02.01 Организация обслуживания в общественном питании",null,null,null,null,"21.02.07 АэрофотогеодезияОсновное общее образованиеОчно-заочная","11Д56011401000109007100","21.02.07 Аэрофотогеодезия","Основное общее образование","Очно-заочная"]
["43.02.02 Парикмахерское искусство",null,null,null,null,"21.02.07 АэрофотогеодезияСреднее общее образованиеЗаочная","11Д56011401000217006100","21.02.07 Аэрофотогеодезия","Среднее общее образование","Заочная"]
["43.02.03 Стилистика и искусство визажа",null,null,null,null,"21.02.08 Прикладная геодезияОсновное общее образованиеЗаочная","11Д56011501000117006100","21.02.08 Прикладная геодезия","Основное общее образование","Заочная"]
["43.02.04 Прикладная эстетика",null,null,null,null,"21.02.08 Прикладная геодезияСреднее общее образованиеОчно-заочная","11Д56011501000209005100","21.02.08 Прикладная геодезия","Среднее общее образование","Очно-заочная"]
["43.02.05 Флористика",null,null,null,null,"21.02.08 Прикладная геодезияСреднее общее образованиеЗаочная","11Д56011501000217005100","21.02.08 Прикладная геодезия","Среднее общее образование","Заочная"]
["43.02.06 Сервис на транспорте (по видам транспорта)",null,null,null,null,"21.02.09 Гидрогеология и инженерная геологияОсновное общее образованиеОчно-заочная","11Д56011601000109005100","21.02.09 Гидрогеология и инженерная геология","Основное общее образование","Очно-заочная"]
["43.02.07 Сервис по химической обработке изделий",null,null,null,null,"21.02.09 Гидрогеология и инженерная геологияСреднее общее образованиеЗаочная","11Д56011601000217004100","21.02.09 Гидрогеология и инженерная геология","Среднее общее образование","Заочная"]
["43.02.08 Сервис домашнего и коммунального хозяйства",null,null,null,null,"21.02.10 Геология и разведка нефтяных и газовых месторожденийОсновное общее образованиеЗаочная","11Д56011701000117004100","21.02.10 Геология и разведка нефтяных и газовых месторождений","Основное общее образование","Заочная"]
["43.02.09 Ритуальный сервис",null,null,null,null,"21.02.10 Геология и разведка нефтяных и газовых месторожденийСреднее общее образованиеОчная","11Д56011701000201001100","21.02.10 Геология и разведка нефтяных и газовых месторождений","Среднее общее образование","Очная"]
["43.02.10 Туризм",null,null,null,null,"21.02.10 Геология и разведка нефтяных и газовых месторожденийСреднее общее образованиеЗаочная","11Д56011701000217003100","21.02.10 Геология и разведка нефтяных и газовых месторождений","Среднее общее образование","Заочная"]
["43.02.11 Гостиничный сервис",null,null,null,null,"21.02.11 Геофизические методы поисков и разведки месторождений полезных ископаемыхОсновное общее образованиеОчная","11Д56011801000101001100","21.02.11 Геофизические методы поисков и разведки месторождений полезных ископаемых","Основное общее образование","Очная"]
["43.02.12 Технология эстетических услуг",null,null,null,null,"21.02.11 Геофизические методы поисков и разведки месторождений полезных ископаемыхОсновное общее образованиеОчно-заочная","11Д56011801000109003100","21.02.11 Геофизические методы поисков и разведки месторождений полезных ископаемых","Основное общее образование","Очно-заочная"]
["43.02.13 Технология парикмахерского искусства",null,null,null,null,"21.02.11 Геофизические методы поисков и разведки месторождений полезных ископаемыхОсновное общее образованиеЗаочная","11Д56011801000117003100","21.02.11 Геофизические методы поисков и разведки месторождений полезных ископаемых","Основное общее образование","Заочная"]
["43.02.14 Гостиничное дело",null,null,null,null,"21.02.11 Геофизические методы поисков и разведки месторождений полезных ископаемыхСреднее общее образованиеОчная","11Д56011801000201000100","21.02.11 Геофизические методы поисков и разведки месторождений полезных ископаемых","Среднее общее образование","Очная"]
["43.02.15 Поварское и кондитерское дело",null,null,null,null,"21.02.11 Геофизические методы поисков и разведки месторождений полезных ископаемыхСреднее общее образованиеОчно-заочная","11Д56011801000209002100","21.02.11 Геофизические методы поисков и разведки месторождений полезных ископаемых","Среднее общее образование","Очно-заочная"]
["44.02.01 Дошкольное образование",null,null,null,null,"21.02.11 Геофизические методы поисков и разведки месторождений полезных ископаемыхСреднее общее образованиеЗаочная","11Д56011801000217002100","21.02.11 Геофизические методы поисков и разведки месторождений полезных ископаемых","Среднее общее образование","Заочная"]
["44.02.02 Преподавание в начальных классах",null,null,null,null,"21.02.12 Технология и техника разведки месторождений полезных ископаемыхОсновное общее образованиеОчная","11Д56011901000101000100","21.02.12 Технология и техника разведки месторождений полезных ископаемых","Основное общее образование","Очная"]
["44.02.03 Педагогика дополнительного образования",null,null,null,null,"21.02.12 Технология и техника разведки месторождений полезных ископаемыхОсновное общее образованиеОчно-заочная","11Д56011901000109002100","21.02.12 Технология и техника разведки месторождений полезных ископаемых","Основное общее образование","Очно-заочная"]
["44.02.04 Специальное дошкольное образование",null,null,null,null,"21.02.12 Технология и техника разведки месторождений полезных ископаемыхСреднее общее образованиеОчно-заочная","11Д56011901000209001100","21.02.12 Технология и техника разведки месторождений полезных ископаемых","Среднее общее образование","Очно-заочная"]
["44.02.05 Коррекционная педагогика в начальном образовании",null,null,null,null,"21.02.13 Геологическая съемка, поиски и разведка месторождений полезных ископаемыхОсновное общее образованиеОчно-заочная","11Д56012001000109009100","21.02.13 Геологическая съемка, поиски и разведка месторождений полезных ископаемых","Основное общее образование","Очно-заочная"]
["44.02.06 Профессиональное обучение (по отраслям)",null,null,null,null,"21.02.13 Геологическая съемка, поиски и разведка месторождений полезных ископаемыхОсновное общее образованиеЗаочная","11Д56012001000117009100","21.02.13 Геологическая съемка, поиски и разведка месторождений полезных ископаемых","Основное общее образование","Заочная"]
["46.02.01 Документационное обеспечение управления и архивоведение",null,null,null,null,"21.02.13 Геологическая съемка, поиски и разведка месторождений полезных ископаемыхСреднее общее образованиеОчная","11Д56012001000201006100","21.02.13 Геологическая съемка, поиски и разведка месторождений полезных ископаемых","Среднее общее образование","Очная"]
["49.02.01 Физическая культура",null,null,null,null,"21.02.13 Геологическая съемка, поиски и разведка месторождений полезных ископаемыхСреднее общее образованиеОчно-заочная","11Д56012001000209008100","21.02.13 Геологическая съемка, поиски и разведка месторождений полезных ископаемых","Среднее общее образование","Очно-заочная"]
["49.02.02 Адаптивная физическая культура",null,null,null,null,"21.02.13 Геологическая съемка, поиски и разведка месторождений полезных ископаемыхСреднее общее образованиеЗаочная","11Д56012001000217008100","21.02.13 Геологическая съемка, поиски и разведка месторождений полезных ископаемых","Среднее общее образование","Заочная"]
["50.02.01 Мировая художественная культура",null,null,null,null,"21.02.14 Маркшейдерское делоОсновное общее образованиеОчная","11Д56012101000101006100","21.02.14 Маркшейдерское дело","Основное общее образование","Очная"]
["51.02.01 Народное художественное творчество (по видам)",null,null,null,null,"21.02.14 Маркшейдерское делоОсновное общее образованиеОчно-заочная","11Д56012101000109008100","21.02.14 Маркшейдерское дело","Основное общее образование","Очно-заочная"]
["51.02.02 Социально-культурная деятельность (по видам)",null,null,null,null,"21.02.14 Маркшейдерское делоОсновное общее образованиеЗаочная","11Д56012101000117008100","21.02.14 Маркшейдерское дело","Основное общее образование","Заочная"]
["51.02.03 Библиотековедение",null,null,null,null,"21.02.14 Маркшейдерское делоСреднее общее образованиеОчная","11Д56012101000201005100","21.02.14 Маркшейдерское дело","Среднее общее образование","Очная"]
["52.02.01 Искусство балета",null,null,null,null,"21.02.14 Маркшейдерское делоСреднее общее образованиеОчно-заочная","11Д56012101000209007100","21.02.14 Маркшейдерское дело","Среднее общее образование","Очно-заочная"]
["52.02.02 Искусство танца (по видам)",null,null,null,null,"21.02.14 Маркшейдерское делоСреднее общее образованиеЗаочная","11Д56012101000217007100","21.02.14 Маркшейдерское дело","Среднее общее образование","Заочная"]
["52.02.03 Цирковое искусство",null,null,null,null,"21.02.15 Открытые горные работыОсновное общее образованиеОчная","11Д56012201000101005100","21.02.15 Открытые горные работы","Основное общее образование","Очная"]
["52.02.04 Актерское искусство",null,null,null,null,"21.02.15 Открытые горные работыСреднее общее образованиеОчная","11Д56012201000201004100","21.02.15 Открытые горные работы","Среднее общее образование","Очная"]
["52.02.05 Искусство эстрады",null,null,null,null,"21.02.16 Шахтное строительствоСреднее общее образованиеОчно-заочная","11Д56012301000209005100","21.02.16 Шахтное строительство","Среднее общее образование","Очно-заочная"]
["53.02.01 Музыкальное образование",null,null,null,null,"21.02.17 Подземная разработка месторождений полезных ископаемыхОсновное общее образованиеОчно-заочная","11Д56012401000109005100","21.02.17 Подземная разработка месторождений полезных ископаемых","Основное общее образование","Очно-заочная"]
["53.02.02 Музыкальное искусство эстрады (по видам)",null,null,null,null,"21.02.17 Подземная разработка месторождений полезных ископаемыхОсновное общее образованиеЗаочная","11Д56012401000117005100","21.02.17 Подземная разработка месторождений полезных ископаемых","Основное общее образование","Заочная"]
["53.02.03 Инструментальное исполнительство (по видам инструментов)",null,null,null,null,"21.02.17 Подземная разработка месторождений полезных ископаемыхСреднее общее образованиеОчная","11Д56012401000201002100","21.02.17 Подземная разработка месторождений полезных ископаемых","Среднее общее образование","Очная"]
["53.02.04 Вокальное искусство",null,null,null,null,"21.02.17 Подземная разработка месторождений полезных ископаемыхСреднее общее образованиеОчно-заочная","11Д56012401000209004100","21.02.17 Подземная разработка месторождений полезных ископаемых","Среднее общее образование","Очно-заочная"]
["53.02.05 Сольное и хоровое народное пение",null,null,null,null,"21.02.17 Подземная разработка месторождений полезных ископаемыхСреднее общее образованиеЗаочная","11Д56012401000217004100","21.02.17 Подземная разработка месторождений полезных ископаемых","Среднее общее образование","Заочная"]
["53.02.06 Хоровое дирижирование",null,null,null,null,"21.02.18 Обогащение полезных ископаемыхОсновное общее образованиеЗаочная","11Д56012501000117004100","21.02.18 Обогащение полезных ископаемых","Основное общее образование","Заочная"]
["53.02.07 Теория музыки",null,null,null,null,"21.02.18 Обогащение полезных ископаемыхСреднее общее образованиеЗаочная","11Д56012501000217003100","21.02.18 Обогащение полезных ископаемых","Среднее общее образование","Заочная"]
["53.02.08 Музыкальное звукооператорское мастерство",null,null,null,null,"22.02.01 Металлургия черных металловОсновное общее образованиеОчная","11Д56012701000101000100","22.02.01 Металлургия черных металлов","Основное общее образование","Очная"]
["53.02.09 Театрально-декорационное искусство (по видам)",null,null,null,null,"22.02.01 Металлургия черных металловОсновное общее образованиеЗаочная","11Д56012701000117002100","22.02.01 Металлургия черных металлов","Основное общее образование","Заочная"]
["54.02.01 Дизайн (по отраслям)",null,null,null,null,"22.02.01 Металлургия черных металловСреднее общее образованиеОчная","11Д56012701000201009100","22.02.01 Металлургия черных металлов","Среднее общее образование","Очная"]
["54.02.02 Декоративно-прикладное искусство и народные промыслы (по видам)",null,null,null,null,"22.02.01 Металлургия черных металловСреднее общее образованиеОчно-заочная","11Д56012701000209001100","22.02.01 Металлургия черных металлов","Среднее общее образование","Очно-заочная"]
["54.02.03 Художественное оформление изделий текстильной и легкой промышленности",null,null,null,null,"22.02.01 Металлургия черных металловСреднее общее образованиеЗаочная","11Д56012701000217001100","22.02.01 Металлургия черных металлов","Среднее общее образование","Заочная"]
["54.02.04 Реставрация",null,null,null,null,"22.02.02 Металлургия цветных металловОсновное общее образованиеОчная","11Д56012801000101009100","22.02.02 Металлургия цветных металлов","Основное общее образование","Очная"]
["54.02.05 Живопись (по видам)",null,null,null,null,"22.02.02 Металлургия цветных металловОсновное общее образованиеОчно-заочная","11Д56012801000109001100","22.02.02 Металлургия цветных металлов","Основное общее образование","Очно-заочная"]
["54.02.06 Изобразительное искусство и черчение",null,null,null,null,"22.02.02 Металлургия цветных металловОсновное общее образованиеЗаочная","11Д56012801000117001100","22.02.02 Металлургия цветных металлов","Основное общее образование","Заочная"]
["54.02.07 Скульптура",null,null,null,null,"22.02.02 Металлургия цветных металловСреднее общее образованиеОчная","11Д56012801000201008100","22.02.02 Металлургия цветных металлов","Среднее общее образование","Очная"]
["54.02.08 Техника и искусство фотографии",null,null,null,null,"22.02.02 Металлургия цветных металловСреднее общее образованиеОчно-заочная","11Д56012801000209000100","22.02.02 Металлургия цветных металлов","Среднее общее образование","Очно-заочная"]
["55.02.01 Театральная и аудиовизуальная техника (по видам)",null,null,null,null,"22.02.03 Литейное производство черных и цветных металловОсновное общее образованиеОчная","11Д56012901000101008100","22.02.03 Литейное производство черных и цветных металлов","Основное общее образование","Очная"]
["55.02.02 Анимация (по видам)",null,null,null,null,"22.02.03 Литейное производство черных и цветных металловОсновное общее образованиеОчно-заочная","11Д56012901000109000100","22.02.03 Литейное производство черных и цветных металлов","Основное общее образование","Очно-заочная"]
["57.02.01 Пограничная деятельность (по видам деятельности)",null,null,null,null,"22.02.03 Литейное производство черных и цветных металловОсновное общее образованиеЗаочная","11Д56012901000117000100","22.02.03 Литейное производство черных и цветных металлов","Основное общее образование","Заочная"]
["08.02.11 Управление, эксплуатация и обслуживание многоквартирного дома",null,null,null,null,"22.02.03 Литейное производство черных и цветных металловСреднее общее образованиеОчная","11Д56012901000201007100","22.02.03 Литейное производство черных и цветных металлов","Среднее общее образование","Очная"]
[null,null,null,null,null,"22.02.03 Литейное производство черных и цветных металловСреднее общее образованиеОчно-заочная","11Д56012901000209009100","22.02.03 Литейное производство черных и цветных металлов","Среднее общее образование","Очно-заочная"]
[null,null,null,null,null,"22.02.03 Литейное производство черных и цветных металловСреднее общее образованиеЗаочная","11Д56012901000217009100","22.02.03 Литейное производство черных и цветных металлов","Среднее общее образование","Заочная"]
[null,null,null,null,null,"22.02.04 Металловедение и термическая обработка металловОсновное общее образованиеОчная","11Д56013001000101005100","22.02.04 Металловедение и термическая обработка металлов","Основное общее образование","Очная"]
[null,null,null,null,null,"22.02.04 Металловедение и термическая обработка металловОсновное общее образованиеОчно-заочная","11Д56013001000109007100","22.02.04 Металловедение и термическая обработка металлов","Основное общее образование","Очно-заочная"]
[null,null,null,null,null,"22.02.04 Металловедение и термическая обработка металловОсновное общее образованиеЗаочная","11Д56013001000117007100","22.02.04 Металловедение и термическая обработка металлов","Основное общее образование","Заочная"]
[null,null,null,null,null,"22.02.04 Металловедение и термическая обработка металловСреднее общее образованиеОчная","11Д56013001000201004100","22.02.04 Металловедение и термическая обработка металлов","Среднее общее образование","Очная"]
[null,null,null,null,null,"22.02.04 Металловедение и термическая обработка металловСреднее общее образованиеОчно-заочная","11Д56013001000209006100","22.02.04 Металловедение и термическая обработка металлов","Среднее общее образование","Очно-заочная"]
[null,null,null,null,null,{"$f":"H259&I259&J259","v":"22.02.04 Металловедение и термическая обработка металловСреднее общее образованиеЗаочная"},"11Д56013001000217006100","22.02.04 Металловедение и термическая обработка металлов","Среднее общее образование","Заочная"]
[null,null,null,null,null,"22.02.05 Обработка металлов давлениемОсновное общее образованиеОчная","11Д56013101000101004100","22.02.05 Обработка металлов давлением","Основное общее образование","Очная"]
[null,null,null,null,null,"22.02.05 Обработка металлов давлениемОсновное общее образованиеОчно-заочная","11Д56013101000109006100","22.02.05 Обработка металлов давлением","Основное общее образование","Очно-заочная"]
[null,null,null,null,null,"22.02.05 Обработка металлов давлениемОсновное общее образованиеЗаочная","11Д56013101000117006100","22.02.05 Обработка металлов давлением","Основное общее образование","Заочная"]
[null,null,null,null,null,"22.02.05 Обработка металлов давлениемСреднее общее образованиеОчно-заочная","11Д56013101000209005100","22.02.05 Обработка металлов давлением","Среднее общее образование","Очно-заочная"]
[null,null,null,null,null,"22.02.06 Сварочное производствоОсновное общее образованиеОчная","11Д56013201000101003100","22.02.06 Сварочное производство","Основное общее образование","Очная"]
[null,null,null,null,null,"22.02.06 Сварочное производствоОсновное общее образованиеЗаочная","11Д56013201000117005100","22.02.06 Сварочное производство","Основное общее образование","Заочная"]
[null,null,null,null,null,"22.02.06 Сварочное производствоСреднее общее образованиеОчная","11Д56013201000201002100","22.02.06 Сварочное производство","Среднее общее образование","Очная"]
[null,null,null,null,null,"22.02.06 Сварочное производствоСреднее общее образованиеОчно-заочная","11Д56013201000209004100","22.02.06 Сварочное производство","Среднее общее образование","Очно-заочная"]
[null,null,null,null,null,"22.02.06 Сварочное производствоСреднее общее образованиеЗаочная","11Д56013201000217004100","22.02.06 Сварочное производство","Среднее общее образование","Заочная"]
[null,null,null,null,null,"22.02.07 Порошковая металлургия, композиционные материалы, покрытияОсновное общее образованиеОчная","11Д56013301000101002100","22.02.07 Порошковая металлургия, композиционные материалы, покрытия","Основное общее образование","Очная"]
[null,null,null,null,null,"22.02.07 Порошковая металлургия, композиционные материалы, покрытияОсновное общее образованиеОчно-заочная","11Д56013301000109004100","22.02.07 Порошковая металлургия, композиционные материалы, покрытия","Основное общее образование","Очно-заочная"]
[null,null,null,null,null,"22.02.07 Порошковая металлургия, композиционные материалы, покрытияОсновное общее образованиеЗаочная","11Д56013301000117004100","22.02.07 Порошковая металлургия, композиционные материалы, покрытия","Основное общее образование","Заочная"]
[null,null,null,null,null,"22.02.07 Порошковая металлургия, композиционные материалы, покрытияСреднее общее образованиеОчная","11Д56013301000201001100","22.02.07 Порошковая металлургия, композиционные материалы, покрытия","Среднее общее образование","Очная"]
[null,null,null,null,null,"22.02.07 Порошковая металлургия, композиционные материалы, покрытияСреднее общее образованиеОчно-заочная","11Д56013301000209003100","22.02.07 Порошковая металлургия, композиционные материалы, покрытия","Среднее общее образование","Очно-заочная"]
[null,null,null,null,null,"22.02.07 Порошковая металлургия, композиционные материалы, покрытияСреднее общее образованиеЗаочная","11Д56013301000217003100","22.02.07 Порошковая металлургия, композиционные материалы, покрытия","Среднее общее образование","Заочная"]
[null,null,null,null,null,"23.02.01 Организация перевозок и управление на транспорте (по видам)Основное общее образованиеОчная","11Д56013501000101000100","23.02.01 Организация перевозок и управление на транспорте (по видам)","Основное общее образование","Очная"]
[null,null,null,null,null,"23.02.01 Организация перевозок и управление на транспорте (по видам)Основное общее образованиеОчно-заочная","11Д56013501000109002100","23.02.01 Организация перевозок и управление на транспорте (по видам)","Основное общее образование","Очно-заочная"]
[null,null,null,null,null,"23.02.01 Организация перевозок и управление на транспорте (по видам)Основное общее образованиеЗаочная","11Д56013501000117002100","23.02.01 Организация перевозок и управление на транспорте (по видам)","Основное общее образование","Заочная"]
[null,null,null,null,null,"23.02.01 Организация перевозок и управление на транспорте (по видам)Среднее общее образованиеОчная","11Д56013501000201009100","23.02.01 Организация перевозок и управление на транспорте (по видам)","Среднее общее образование","Очная"]
[null,null,null,null,null,"23.02.01 Организация перевозок и управление на транспорте (по видам)Среднее общее образованиеОчно-заочная","11Д56013501000209001100","23.02.01 Организация перевозок и управление на транспорте (по видам)","Среднее общее образование","Очно-заочная"]
[null,null,null,null,null,"23.02.01 Организация перевозок и управление на транспорте (по видам)Среднее общее образованиеЗаочная","11Д56013501000217001100","23.02.01 Организация перевозок и управление на транспорте (по видам)","Среднее общее образование","Заочная"]
[null,null,null,null,null,"23.02.02 Автомобиле- и тракторостроениеОсновное общее образованиеОчная","11Д56013601000101009100","23.02.02 Автомобиле- и тракторостроение","Основное общее образование","Очная"]
[null,null,null,null,null,"23.02.02 Автомобиле- и тракторостроениеОсновное общее образованиеОчно-заочная","11Д56013601000109001100","23.02.02 Автомобиле- и тракторостроение","Основное общее образование","Очно-заочная"]
[null,null,null,null,null,"23.02.02 Автомобиле- и тракторостроениеОсновное общее образованиеЗаочная","11Д56013601000117001100","23.02.02 Автомобиле- и тракторостроение","Основное общее образование","Заочная"]
[null,null,null,null,null,"23.02.02 Автомобиле- и тракторостроениеСреднее общее образованиеОчная","11Д56013601000201008100","23.02.02 Автомобиле- и тракторостроение","Среднее общее образование","Очная"]
[null,null,null,null,null,"23.02.02 Автомобиле- и тракторостроениеСреднее общее образованиеЗаочная","11Д56013601000217000100","23.02.02 Автомобиле- и тракторостроение","Среднее общее образование","Заочная"]
[null,null,null,null,null,"23.02.03 Техническое обслуживание и ремонт автомобильного транспортаОсновное общее образованиеОчная","11Д56013701000101008100","23.02.03 Техническое обслуживание и ремонт автомобильного транспорта","Основное общее образование","Очная"]
[null,null,null,null,null,"23.02.03 Техническое обслуживание и ремонт автомобильного транспортаОсновное общее образованиеОчно-заочная","11Д56013701000109000100","23.02.03 Техническое обслуживание и ремонт автомобильного транспорта","Основное общее образование","Очно-заочная"]
[null,null,null,null,null,"23.02.03 Техническое обслуживание и ремонт автомобильного транспортаОсновное общее образованиеЗаочная","11Д56013701000117000100","23.02.03 Техническое обслуживание и ремонт автомобильного транспорта","Основное общее образование","Заочная"]
[null,null,null,null,null,"23.02.03 Техническое обслуживание и ремонт автомобильного транспортаСреднее общее образованиеОчно-заочная","11Д56013701000209009100","23.02.03 Техническое обслуживание и ремонт автомобильного транспорта","Среднее общее образование","Очно-заочная"]
[null,null,null,null,null,"23.02.03 Техническое обслуживание и ремонт автомобильного транспортаСреднее общее образованиеЗаочная","11Д56013701000217009100","23.02.03 Техническое обслуживание и ремонт автомобильного транспорта","Среднее общее образование","Заочная"]
[null,null,null,null,null,"23.02.04 Техническая эксплуатация подъемно-транспортных, строительных, дорожных машин и оборудования (по отраслям)Основное общее образованиеОчная","11Д56013801000101007100","23.02.04 Техническая эксплуатация подъемно-транспортных, строительных, дорожных машин и оборудования (по отраслям)","Основное общее образование","Очная"]
[null,null,null,null,null,"23.02.04 Техническая эксплуатация подъемно-транспортных, строительных, дорожных машин и оборудования (по отраслям)Основное общее образованиеОчно-заочная","11Д56013801000109009100","23.02.04 Техническая эксплуатация подъемно-транспортных, строительных, дорожных машин и оборудования (по отраслям)","Основное общее образование","Очно-заочная"]
[null,null,null,null,null,"23.02.04 Техническая эксплуатация подъемно-транспортных, строительных, дорожных машин и оборудования (по отраслям)Основное общее образованиеЗаочная","11Д56013801000117009100","23.02.04 Техническая эксплуатация подъемно-транспортных, строительных, дорожных машин и оборудования (по отраслям)","Основное общее образование","Заочная"]
[null,null,null,null,null,"23.02.04 Техническая эксплуатация подъемно-транспортных, строительных, дорожных машин и оборудования (по отраслям)Среднее общее образованиеОчная","11Д56013801000201006100","23.02.04 Техническая эксплуатация подъемно-транспортных, строительных, дорожных машин и оборудования (по отраслям)","Среднее общее образование","Очная"]
[null,null,null,null,null,"23.02.04 Техническая эксплуатация подъемно-транспортных, строительных, дорожных машин и оборудования (по отраслям)Среднее общее образованиеОчно-заочная","11Д56013801000209008100","23.02.04 Техническая эксплуатация подъемно-транспортных, строительных, дорожных машин и оборудования (по отраслям)","Среднее общее образование","Очно-заочная"]
[null,null,null,null,null,"23.02.04 Техническая эксплуатация подъемно-транспортных, строительных, дорожных машин и оборудования (по отраслям)Среднее общее образованиеЗаочная","11Д56013801000217008100","23.02.04 Техническая эксплуатация подъемно-транспортных, строительных, дорожных машин и оборудования (по отраслям)","Среднее общее образование","Заочная"]
[null,null,null,null,null,"23.02.05 Эксплуатация транспортного электрооборудования и автоматики (по видам транспорта, за исключением водного)Основное общее образованиеОчная","11Д56013901000101006100","23.02.05 Эксплуатация транспортного электрооборудования и автоматики (по видам транспорта, за исключением водного)","Основное общее образование","Очная"]
[null,null,null,null,null,"23.02.05 Эксплуатация транспортного электрооборудования и автоматики (по видам транспорта, за исключением водного)Основное общее образованиеОчно-заочная","11Д56013901000109008100","23.02.05 Эксплуатация транспортного электрооборудования и автоматики (по видам транспорта, за исключением водного)","Основное общее образование","Очно-заочная"]
[null,null,null,null,null,"23.02.05 Эксплуатация транспортного электрооборудования и автоматики (по видам транспорта, за исключением водного)Основное общее образованиеЗаочная","11Д56013901000117008100","23.02.05 Эксплуатация транспортного электрооборудования и автоматики (по видам транспорта, за исключением водного)","Основное общее образование","Заочная"]
[null,null,null,null,null,"23.02.05 Эксплуатация транспортного электрооборудования и автоматики (по видам транспорта, за исключением водного)Среднее общее образованиеОчная","11Д56013901000201005100","23.02.05 Эксплуатация транспортного электрооборудования и автоматики (по видам транспорта, за исключением водного)","Среднее общее образование","Очная"]
[null,null,null,null,null,"23.02.05 Эксплуатация транспортного электрооборудования и автоматики (по видам транспорта, за исключением водного)Среднее общее образованиеОчно-заочная","11Д56013901000209007100","23.02.05 Эксплуатация транспортного электрооборудования и автоматики (по видам транспорта, за исключением водного)","Среднее общее образование","Очно-заочная"]
[null,null,null,null,null,"23.02.05 Эксплуатация транспортного электрооборудования и автоматики (по видам транспорта, за исключением водного)Среднее общее образованиеЗаочная","11Д56013901000217007100","23.02.05 Эксплуатация транспортного электрооборудования и автоматики (по видам транспорта, за исключением водного)","Среднее общее образование","Заочная"]
[null,null,null,null,null,"23.02.06 Техническая эксплуатация подвижного состава железных дорогОсновное общее образованиеОчная","11Д56014001000101003100","23.02.06 Техническая эксплуатация подвижного состава железных дорог","Основное общее образование","Очная"]
[null,null,null,null,null,"23.02.06 Техническая эксплуатация подвижного состава железных дорогОсновное общее образованиеОчно-заочная","11Д56014001000109005100","23.02.06 Техническая эксплуатация подвижного состава железных дорог","Основное общее образование","Очно-заочная"]
[null,null,null,null,null,"23.02.06 Техническая эксплуатация подвижного состава железных дорогОсновное общее образованиеЗаочная","11Д56014001000117005100","23.02.06 Техническая эксплуатация подвижного состава железных дорог","Основное общее образование","Заочная"]
[null,null,null,null,null,"23.02.06 Техническая эксплуатация подвижного состава железных дорогСреднее общее образованиеОчно-заочная","11Д56014001000209004100","23.02.06 Техническая эксплуатация подвижного состава железных дорог","Среднее общее образование","Очно-заочная"]
[null,null,null,null,null,"23.02.06 Техническая эксплуатация подвижного состава железных дорогСреднее общее образованиеЗаочная","11Д56014001000217004100","23.02.06 Техническая эксплуатация подвижного состава железных дорог","Среднее общее образование","Заочная"]
[null,null,null,null,null,"24.02.01 Производство летательных аппаратовОсновное общее образованиеОчная","11Д56014201000101001100","24.02.01 Производство летательных аппаратов","Основное общее образование","Очная"]
[null,null,null,null,null,"24.02.01 Производство летательных аппаратовОсновное общее образованиеОчно-заочная","11Д56014201000109003100","24.02.01 Производство летательных аппаратов","Основное общее образование","Очно-заочная"]
[null,null,null,null,null,"24.02.01 Производство летательных аппаратовОсновное общее образованиеЗаочная","11Д56014201000117003100","24.02.01 Производство летательных аппаратов","Основное общее образование","Заочная"]
[null,null,null,null,null,"24.02.01 Производство летательных аппаратовСреднее общее образованиеОчная","11Д56014201000201000100","24.02.01 Производство летательных аппаратов","Среднее общее образование","Очная"]
[null,null,null,null,null,"24.02.01 Производство летательных аппаратовСреднее общее образованиеОчно-заочная","11Д56014201000209002100","24.02.01 Производство летательных аппаратов","Среднее общее образование","Очно-заочная"]
[null,null,null,null,null,"24.02.01 Производство летательных аппаратовСреднее общее образованиеЗаочная","11Д56014201000217002100","24.02.01 Производство летательных аппаратов","Среднее общее образование","Заочная"]
[null,null,null,null,null,"24.02.02 Производство авиационных двигателейОсновное общее образованиеОчная","11Д56014301000101000100","24.02.02 Производство авиационных двигателей","Основное общее образование","Очная"]
[null,null,null,null,null,"24.02.02 Производство авиационных двигателейОсновное общее образованиеОчно-заочная","11Д56014301000109002100","24.02.02 Производство авиационных двигателей","Основное общее образование","Очно-заочная"]
[null,null,null,null,null,"24.02.02 Производство авиационных двигателейОсновное общее образованиеЗаочная","11Д56014301000117002100","24.02.02 Производство авиационных двигателей","Основное общее образование","Заочная"]
[null,null,null,null,null,"24.02.02 Производство авиационных двигателейСреднее общее образованиеОчная","11Д56014301000201009100","24.02.02 Производство авиационных двигателей","Среднее общее образование","Очная"]
[null,null,null,null,null,"24.02.02 Производство авиационных двигателейСреднее общее образованиеЗаочная","11Д56014301000217001100","24.02.02 Производство авиационных двигателей","Среднее общее образование","Заочная"]
[null,null,null,null,null,"24.02.03 Испытание летательных аппаратовОсновное общее образованиеОчная","11Д56014401000101009100","24.02.03 Испытание летательных аппаратов","Основное общее образование","Очная"]
[null,null,null,null,null,"24.02.03 Испытание летательных аппаратовОсновное общее образованиеОчно-заочная","11Д56014401000109001100","24.02.03 Испытание летательных аппаратов","Основное общее образование","Очно-заочная"]
[null,null,null,null,null,"24.02.03 Испытание летательных аппаратовОсновное общее образованиеЗаочная","11Д56014401000117001100","24.02.03 Испытание летательных аппаратов","Основное общее образование","Заочная"]
[null,null,null,null,null,"24.02.03 Испытание летательных аппаратовСреднее общее образованиеОчно-заочная","11Д56014401000209000100","24.02.03 Испытание летательных аппаратов","Среднее общее образование","Очно-заочная"]
[null,null,null,null,null,{"$f":"H323&I323&J323","v":"25.02.01 Техническая эксплуатация летательных аппаратов и двигателейОсновное общее образованиеОчная"},"11Д56014601000101007100","25.02.01 Техническая эксплуатация летательных аппаратов и двигателей","Основное общее образование","Очная"]
[null,null,null,null,null,"25.02.01 Техническая эксплуатация летательных аппаратов и двигателейОсновное общее образованиеОчно-заочная","11Д56014601000109009100","25.02.01 Техническая эксплуатация летательных аппаратов и двигателей","Основное общее образование","Очно-заочная"]
[null,null,null,null,null,"25.02.01 Техническая эксплуатация летательных аппаратов и двигателейОсновное общее образованиеЗаочная","11Д56014601000117009100","25.02.01 Техническая эксплуатация летательных аппаратов и двигателей","Основное общее образование","Заочная"]
[null,null,null,null,null,"25.02.01 Техническая эксплуатация летательных аппаратов и двигателейСреднее общее образованиеОчная","11Д56014601000201006100","25.02.01 Техническая эксплуатация летательных аппаратов и двигателей","Среднее общее образование","Очная"]
[null,null,null,null,null,"25.02.01 Техническая эксплуатация летательных аппаратов и двигателейСреднее общее образованиеОчно-заочная","11Д56014601000209008100","25.02.01 Техническая эксплуатация летательных аппаратов и двигателей","Среднее общее образование","Очно-заочная"]
[null,null,null,null,null,"25.02.01 Техническая эксплуатация летательных аппаратов и двигателейСреднее общее образованиеЗаочная","11Д56014601000217008100","25.02.01 Техническая эксплуатация летательных аппаратов и двигателей","Среднее общее образование","Заочная"]
[null,null,null,null,null,"25.02.02 Обслуживание летательных аппаратов горюче-смазочными материаламиОсновное общее образованиеОчная","11Д56014701000101006100","25.02.02 Обслуживание летательных аппаратов горюче-смазочными материалами","Основное общее образование","Очная"]
[null,null,null,null,null,"25.02.02 Обслуживание летательных аппаратов горюче-смазочными материаламиОсновное общее образованиеОчно-заочная","11Д56014701000109008100","25.02.02 Обслуживание летательных аппаратов горюче-смазочными материалами","Основное общее образование","Очно-заочная"]
[null,null,null,null,null,"25.02.02 Обслуживание летательных аппаратов горюче-смазочными материаламиОсновное общее образованиеЗаочная","11Д56014701000117008100","25.02.02 Обслуживание летательных аппаратов горюче-смазочными материалами","Основное общее образование","Заочная"]
[null,null,null,null,null,"25.02.02 Обслуживание летательных аппаратов горюче-смазочными материаламиСреднее общее образованиеОчная","11Д56014701000201005100","25.02.02 Обслуживание летательных аппаратов горюче-смазочными материалами","Среднее общее образование","Очная"]
[null,null,null,null,null,"25.02.02 Обслуживание летательных аппаратов горюче-смазочными материаламиСреднее общее образованиеОчно-заочная","11Д56014701000209007100","25.02.02 Обслуживание летательных аппаратов горюче-смазочными материалами","Среднее общее образование","Очно-заочная"]
[null,null,null,null,null,"25.02.02 Обслуживание летательных аппаратов горюче-смазочными материаламиСреднее общее образованиеЗаочная","11Д56014701000217007100","25.02.02 Обслуживание летательных аппаратов горюче-смазочными материалами","Среднее общее образование","Заочная"]
[null,null,null,null,null,"25.02.03 Техническая эксплуатация электрифицированных и пилотажно-навигационных комплексовОсновное общее образованиеОчная","11Д56014801000101005100","25.02.03 Техническая эксплуатация электрифицированных и пилотажно-навигационных комплексов","Основное общее образование","Очная"]
[null,null,null,null,null,"25.02.03 Техническая эксплуатация электрифицированных и пилотажно-навигационных комплексовОсновное общее образованиеОчно-заочная","11Д56014801000109007100","25.02.03 Техническая эксплуатация электрифицированных и пилотажно-навигационных комплексов","Основное общее образование","Очно-заочная"]
[null,null,null,null,null,"25.02.03 Техническая эксплуатация электрифицированных и пилотажно-навигационных комплексовОсновное общее образованиеЗаочная","11Д56014801000117007100","25.02.03 Техническая эксплуатация электрифицированных и пилотажно-навигационных комплексов","Основное общее образование","Заочная"]
[null,null,null,null,null,"25.02.03 Техническая эксплуатация электрифицированных и пилотажно-навигационных комплексовСреднее общее образованиеОчная","11Д56014801000201004100","25.02.03 Техническая эксплуатация электрифицированных и пилотажно-навигационных комплексов","Среднее общее образование","Очная"]
[null,null,null,null,null,"25.02.03 Техническая эксплуатация электрифицированных и пилотажно-навигационных комплексовСреднее общее образованиеОчно-заочная","11Д56014801000209006100","25.02.03 Техническая эксплуатация электрифицированных и пилотажно-навигационных комплексов","Среднее общее образование","Очно-заочная"]
[null,null,null,null,null,"25.02.03 Техническая эксплуатация электрифицированных и пилотажно-навигационных комплексовСреднее общее образованиеЗаочная","11Д56014801000217006100","25.02.03 Техническая эксплуатация электрифицированных и пилотажно-навигационных комплексов","Среднее общее образование","Заочная"]
[null,null,null,null,null,"25.02.04 Летная эксплуатация летательных аппаратовОсновное общее образованиеОчная","11Д56014901000101004100","25.02.04 Летная эксплуатация летательных аппаратов","Основное общее образование","Очная"]
[null,null,null,null,null,"25.02.04 Летная эксплуатация летательных аппаратовОсновное общее образованиеОчно-заочная","11Д56014901000109006100","25.02.04 Летная эксплуатация летательных аппаратов","Основное общее образование","Очно-заочная"]
[null,null,null,null,null,"25.02.04 Летная эксплуатация летательных аппаратовОсновное общее образованиеЗаочная","11Д56014901000117006100","25.02.04 Летная эксплуатация летательных аппаратов","Основное общее образование","Заочная"]
[null,null,null,null,null,"25.02.04 Летная эксплуатация летательных аппаратовСреднее общее образованиеОчная","11Д56014901000201003100","25.02.04 Летная эксплуатация летательных аппаратов","Среднее общее образование","Очная"]
[null,null,null,null,null,"25.02.04 Летная эксплуатация летательных аппаратовСреднее общее образованиеОчно-заочная","11Д56014901000209005100","25.02.04 Летная эксплуатация летательных аппаратов","Среднее общее образование","Очно-заочная"]
[null,null,null,null,null,"25.02.04 Летная эксплуатация летательных аппаратовСреднее общее образованиеЗаочная","11Д56014901000217005100","25.02.04 Летная эксплуатация летательных аппаратов","Среднее общее образование","Заочная"]
[null,null,null,null,null,"25.02.05 Управление движением воздушного транспортаОсновное общее образованиеОчная","11Д56015001000101000100","25.02.05 Управление движением воздушного транспорта","Основное общее образование","Очная"]
[null,null,null,null,null,"25.02.05 Управление движением воздушного транспортаОсновное общее образованиеОчно-заочная","11Д56015001000109002100","25.02.05 Управление движением воздушного транспорта","Основное общее образование","Очно-заочная"]
[null,null,null,null,null,"25.02.05 Управление движением воздушного транспортаОсновное общее образованиеЗаочная","11Д56015001000117002100","25.02.05 Управление движением воздушного транспорта","Основное общее образование","Заочная"]
[null,null,null,null,null,"25.02.05 Управление движением воздушного транспортаСреднее общее образованиеОчная","11Д56015001000201009100","25.02.05 Управление движением воздушного транспорта","Среднее общее образование","Очная"]
[null,null,null,null,null,"25.02.05 Управление движением воздушного транспортаСреднее общее образованиеОчно-заочная","11Д56015001000209001100","25.02.05 Управление движением воздушного транспорта","Среднее общее образование","Очно-заочная"]
[null,null,null,null,null,"25.02.05 Управление движением воздушного транспортаСреднее общее образованиеЗаочная","11Д56015001000217001100","25.02.05 Управление движением воздушного транспорта","Среднее общее образование","Заочная"]
[null,null,null,null,null,"26.02.01 Эксплуатация внутренних водных путейСреднее общее образованиеОчная","11Д56015201000201007100","26.02.01 Эксплуатация внутренних водных путей","Среднее общее образование","Очная"]
[null,null,null,null,null,"26.02.01 Эксплуатация внутренних водных путейСреднее общее образованиеЗаочная","11Д56015201000217009100","26.02.01 Эксплуатация внутренних водных путей","Среднее общее образование","Заочная"]
[null,null,null,null,null,"26.02.02 СудостроениеОсновное общее образованиеОчная","11Д56015301000101007100","26.02.02 Судостроение","Основное общее образование","Очная"]
[null,null,null,null,null,"26.02.02 СудостроениеОсновное общее образованиеОчно-заочная","11Д56015301000109009100","26.02.02 Судостроение","Основное общее образование","Очно-заочная"]
[null,null,null,null,null,"26.02.02 СудостроениеОсновное общее образованиеЗаочная","11Д56015301000117009100","26.02.02 Судостроение","Основное общее образование","Заочная"]
[null,null,null,null,null,"26.02.02 СудостроениеСреднее общее образованиеОчно-заочная","11Д56015301000209008100","26.02.02 Судостроение","Среднее общее образование","Очно-заочная"]
[null,null,null,null,null,"26.02.02 СудостроениеСреднее общее образованиеЗаочная","11Д56015301000217008100","26.02.02 Судостроение","Среднее общее образование","Заочная"]
[null,null,null,null,null,"26.02.03 СудовождениеСреднее общее образованиеОчная","11Д56015401000201005100","26.02.03 Судовождение","Среднее общее образование","Очная"]
[null,null,null,null,null,"26.02.03 СудовождениеСреднее общее образованиеОчно-заочная","11Д56015401000209007100","26.02.03 Судовождение","Среднее общее образование","Очно-заочная"]
[null,null,null,null,null,"26.02.04 Монтаж и техническое обслуживание судовых машин и механизмовОсновное общее образованиеОчная","11Д56015501000101005100","26.02.04 Монтаж и техническое обслуживание судовых машин и механизмов","Основное общее образование","Очная"]
[null,null,null,null,null,"26.02.04 Монтаж и техническое обслуживание судовых машин и механизмовСреднее общее образованиеОчная","11Д56015501000201004100","26.02.04 Монтаж и техническое обслуживание судовых машин и механизмов","Среднее общее образование","Очная"]
[null,null,null,null,null,"26.02.05 Эксплуатация судовых энергетических установокОсновное общее образованиеЗаочная","11Д56015601000117006100","26.02.05 Эксплуатация судовых энергетических установок","Основное общее образование","Заочная"]
[null,null,null,null,null,"26.02.05 Эксплуатация судовых энергетических установокСреднее общее образованиеЗаочная","11Д56015601000217005100","26.02.05 Эксплуатация судовых энергетических установок","Среднее общее образование","Заочная"]
[null,null,null,null,null,"26.02.06 Эксплуатация судового электрооборудования и средств автоматикиОсновное общее образованиеЗаочная","11Д56015701000117005100","26.02.06 Эксплуатация судового электрооборудования и средств автоматики","Основное общее образование","Заочная"]
[null,null,null,null,null,"26.02.06 Эксплуатация судового электрооборудования и средств автоматикиСреднее общее образованиеОчная","11Д56015701000201002100","26.02.06 Эксплуатация судового электрооборудования и средств автоматики","Среднее общее образование","Очная"]
[null,null,null,null,null,"26.02.06 Эксплуатация судового электрооборудования и средств автоматикиСреднее общее образованиеОчно-заочная","11Д56015701000209004100","26.02.06 Эксплуатация судового электрооборудования и средств автоматики","Среднее общее образование","Очно-заочная"]
[null,null,null,null,null,"27.02.01 МетрологияОсновное общее образованиеОчная","11Д56015901000101001100","27.02.01 Метрология","Основное общее образование","Очная"]
[null,null,null,null,null,"27.02.01 МетрологияОсновное общее образованиеОчно-заочная","11Д56015901000109003100","27.02.01 Метрология","Основное общее образование","Очно-заочная"]
[null,null,null,null,null,"27.02.01 МетрологияОсновное общее образованиеЗаочная","11Д56015901000117003100","27.02.01 Метрология","Основное общее образование","Заочная"]
[null,null,null,null,null,"27.02.01 МетрологияСреднее общее образованиеОчная","11Д56015901000201000100","27.02.01 Метрология","Среднее общее образование","Очная"]
[null,null,null,null,null,"27.02.01 МетрологияСреднее общее образованиеОчно-заочная","11Д56015901000209002100","27.02.01 Метрология","Среднее общее образование","Очно-заочная"]
[null,null,null,null,null,"27.02.02 Техническое регулирование и управление качествомОсновное общее образованиеОчная","11Д56016001000101008100","27.02.02 Техническое регулирование и управление качеством","Основное общее образование","Очная"]
[null,null,null,null,null,"27.02.02 Техническое регулирование и управление качествомОсновное общее образованиеОчно-заочная","11Д56016001000109000100","27.02.02 Техническое регулирование и управление качеством","Основное общее образование","Очно-заочная"]
[null,null,null,null,null,"27.02.02 Техническое регулирование и управление качествомСреднее общее образованиеОчная","11Д56016001000201007100","27.02.02 Техническое регулирование и управление качеством","Среднее общее образование","Очная"]
[null,null,null,null,null,"27.02.02 Техническое регулирование и управление качествомСреднее общее образованиеОчно-заочная","11Д56016001000209009100","27.02.02 Техническое регулирование и управление качеством","Среднее общее образование","Очно-заочная"]
[null,null,null,null,null,"27.02.02 Техническое регулирование и управление качествомСреднее общее образованиеЗаочная","11Д56016001000217009100","27.02.02 Техническое регулирование и управление качеством","Среднее общее образование","Заочная"]
[null,null,null,null,null,"27.02.03 Автоматика и телемеханика на транспорте (железнодорожном транспорте)Основное общее образованиеОчная","11Д56016101000101007100","27.02.03 Автоматика и телемеханика на транспорте (железнодорожном транспорте)","Основное общее образование","Очная"]
[null,null,null,null,null,"27.02.03 Автоматика и телемеханика на транспорте (железнодорожном транспорте)Основное общее образованиеОчно-заочная","11Д56016101000109009100","27.02.03 Автоматика и телемеханика на транспорте (железнодорожном транспорте)","Основное общее образование","Очно-заочная"]
[null,null,null,null,null,"27.02.03 Автоматика и телемеханика на транспорте (железнодорожном транспорте)Основное общее образованиеЗаочная","11Д56016101000117009100","27.02.03 Автоматика и телемеханика на транспорте (железнодорожном транспорте)","Основное общее образование","Заочная"]
[null,null,null,null,null,"27.02.03 Автоматика и телемеханика на транспорте (железнодорожном транспорте)Среднее общее образованиеОчная","11Д56016101000201006100","27.02.03 Автоматика и телемеханика на транспорте (железнодорожном транспорте)","Среднее общее образование","Очная"]
[null,null,null,null,null,"27.02.03 Автоматика и телемеханика на транспорте (железнодорожном транспорте)Среднее общее образованиеОчно-заочная","11Д56016101000209008100","27.02.03 Автоматика и телемеханика на транспорте (железнодорожном транспорте)","Среднее общее образование","Очно-заочная"]
[null,null,null,null,null,"27.02.03 Автоматика и телемеханика на транспорте (железнодорожном транспорте)Среднее общее образованиеЗаочная","11Д56016101000217008100","27.02.03 Автоматика и телемеханика на транспорте (железнодорожном транспорте)","Среднее общее образование","Заочная"]
[null,null,null,null,null,"27.02.04 Автоматические системы управленияОсновное общее образованиеОчная","11Д56016201000101006100","27.02.04 Автоматические системы управления","Основное общее образование","Очная"]
[null,null,null,null,null,"27.02.04 Автоматические системы управленияОсновное общее образованиеОчно-заочная","11Д56016201000109008100","27.02.04 Автоматические системы управления","Основное общее образование","Очно-заочная"]
[null,null,null,null,null,{"$f":"H387&I387&J387","v":"27.02.04 Автоматические системы управленияОсновное общее образованиеЗаочная"},"11Д56016201000117008100","27.02.04 Автоматические системы управления","Основное общее образование","Заочная"]
[null,null,null,null,null,"27.02.04 Автоматические системы управленияСреднее общее образованиеОчная","11Д56016201000201005100","27.02.04 Автоматические системы управления","Среднее общее образование","Очная"]
[null,null,null,null,null,"27.02.04 Автоматические системы управленияСреднее общее образованиеОчно-заочная","11Д56016201000209007100","27.02.04 Автоматические системы управления","Среднее общее образование","Очно-заочная"]
[null,null,null,null,null,"27.02.04 Автоматические системы управленияСреднее общее образованиеЗаочная","11Д56016201000217007100","27.02.04 Автоматические системы управления","Среднее общее образование","Заочная"]
[null,null,null,null,null,"27.02.05 Системы и средства диспетчерского управленияОсновное общее образованиеОчная","11Д56016301000101005100","27.02.05 Системы и средства диспетчерского управления","Основное общее образование","Очная"]
[null,null,null,null,null,"27.02.05 Системы и средства диспетчерского управленияОсновное общее образованиеОчно-заочная","11Д56016301000109007100","27.02.05 Системы и средства диспетчерского управления","Основное общее образование","Очно-заочная"]
[null,null,null,null,null,"27.02.05 Системы и средства диспетчерского управленияОсновное общее образованиеЗаочная","11Д56016301000117007100","27.02.05 Системы и средства диспетчерского управления","Основное общее образование","Заочная"]
[null,null,null,null,null,"27.02.05 Системы и средства диспетчерского управленияСреднее общее образованиеОчная","11Д56016301000201004100","27.02.05 Системы и средства диспетчерского управления","Среднее общее образование","Очная"]
[null,null,null,null,null,"27.02.05 Системы и средства диспетчерского управленияСреднее общее образованиеОчно-заочная","11Д56016301000209006100","27.02.05 Системы и средства диспетчерского управления","Среднее общее образование","Очно-заочная"]
[null,null,null,null,null,"27.02.05 Системы и средства диспетчерского управленияСреднее общее образованиеЗаочная","11Д56016301000217006100","27.02.05 Системы и средства диспетчерского управления","Среднее общее образование","Заочная"]
[null,null,null,null,null,"29.02.01 Конструирование, моделирование и технология изделий из кожиОсновное общее образованиеОчная","11Д56016501000101003100","29.02.01 Конструирование, моделирование и технология изделий из кожи","Основное общее образование","Очная"]
[null,null,null,null,null,"29.02.01 Конструирование, моделирование и технология изделий из кожиОсновное общее образованиеЗаочная","11Д56016501000117005100","29.02.01 Конструирование, моделирование и технология изделий из кожи","Основное общее образование","Заочная"]
[null,null,null,null,null,"29.02.01 Конструирование, моделирование и технология изделий из кожиСреднее общее образованиеОчная","11Д56016501000201002100","29.02.01 Конструирование, моделирование и технология изделий из кожи","Среднее общее образование","Очная"]
[null,null,null,null,null,"29.02.01 Конструирование, моделирование и технология изделий из кожиСреднее общее образованиеОчно-заочная","11Д56016501000209004100","29.02.01 Конструирование, моделирование и технология изделий из кожи","Среднее общее образование","Очно-заочная"]
[null,null,null,null,null,"29.02.02 Технология кожи и мехаОсновное общее образованиеОчная","11Д56016601000101002100","29.02.02 Технология кожи и меха","Основное общее образование","Очная"]
[null,null,null,null,null,"29.02.02 Технология кожи и мехаОсновное общее образованиеОчно-заочная","11Д56016601000109004100","29.02.02 Технология кожи и меха","Основное общее образование","Очно-заочная"]
[null,null,null,null,null,"29.02.02 Технология кожи и мехаОсновное общее образованиеЗаочная","11Д56016601000117004100","29.02.02 Технология кожи и меха","Основное общее образование","Заочная"]
[null,null,null,null,null,"29.02.02 Технология кожи и мехаСреднее общее образованиеОчная","11Д56016601000201001100","29.02.02 Технология кожи и меха","Среднее общее образование","Очная"]
[null,null,null,null,null,"29.02.02 Технология кожи и мехаСреднее общее образованиеОчно-заочная","11Д56016601000209003100","29.02.02 Технология кожи и меха","Среднее общее образование","Очно-заочная"]
[null,null,null,null,null,"29.02.03 Конструирование, моделирование и технология изделий из мехаОсновное общее образованиеОчная","11Д56016701000101001100","29.02.03 Конструирование, моделирование и технология изделий из меха","Основное общее образование","Очная"]
[null,null,null,null,null,"29.02.03 Конструирование, моделирование и технология изделий из мехаОсновное общее образованиеОчно-заочная","11Д56016701000109003100","29.02.03 Конструирование, моделирование и технология изделий из меха","Основное общее образование","Очно-заочная"]
[null,null,null,null,null,"29.02.03 Конструирование, моделирование и технология изделий из мехаОсновное общее образованиеЗаочная","11Д56016701000117003100","29.02.03 Конструирование, моделирование и технология изделий из меха","Основное общее образование","Заочная"]
[null,null,null,null,null,"29.02.03 Конструирование, моделирование и технология изделий из мехаСреднее общее образованиеОчная","11Д56016701000201000100","29.02.03 Конструирование, моделирование и технология изделий из меха","Среднее общее образование","Очная"]
[null,null,null,null,null,"29.02.03 Конструирование, моделирование и технология изделий из мехаСреднее общее образованиеОчно-заочная","11Д56016701000209002100","29.02.03 Конструирование, моделирование и технология изделий из меха","Среднее общее образование","Очно-заочная"]
[null,null,null,null,null,"29.02.03 Конструирование, моделирование и технология изделий из мехаСреднее общее образованиеЗаочная","11Д56016701000217002100","29.02.03 Конструирование, моделирование и технология изделий из меха","Среднее общее образование","Заочная"]
[null,null,null,null,null,"29.02.04 Конструирование, моделирование и технология швейных изделийОсновное общее образованиеОчно-заочная","11Д56016801000109002100","29.02.04 Конструирование, моделирование и технология швейных изделий","Основное общее образование","Очно-заочная"]
[null,null,null,null,null,"29.02.04 Конструирование, моделирование и технология швейных изделийОсновное общее образованиеЗаочная","11Д56016801000117002100","29.02.04 Конструирование, моделирование и технология швейных изделий","Основное общее образование","Заочная"]
[null,null,null,null,null,"29.02.04 Конструирование, моделирование и технология швейных изделийСреднее общее образованиеОчная","11Д56016801000201009100","29.02.04 Конструирование, моделирование и технология швейных изделий","Среднее общее образование","Очная"]
[null,null,null,null,null,"29.02.04 Конструирование, моделирование и технология швейных изделийСреднее общее образованиеОчно-заочная","11Д56016801000209001100","29.02.04 Конструирование, моделирование и технология швейных изделий","Среднее общее образование","Очно-заочная"]
[null,null,null,null,null,"29.02.04 Конструирование, моделирование и технология швейных изделийСреднее общее образованиеЗаочная","11Д56016801000217001100","29.02.04 Конструирование, моделирование и технология швейных изделий","Среднее общее образование","Заочная"]
[null,null,null,null,null,"29.02.05 Технология текстильных изделий (по видам)Основное общее образованиеОчная","11Д56016901000101009100","29.02.05 Технология текстильных изделий (по видам)","Основное общее образование","Очная"]
[null,null,null,null,null,"29.02.05 Технология текстильных изделий (по видам)Среднее общее образованиеОчная","11Д56016901000201008100","29.02.05 Технология текстильных изделий (по видам)","Среднее общее образование","Очная"]
[null,null,null,null,null,"29.02.05 Технология текстильных изделий (по видам)Среднее общее образованиеЗаочная","11Д56016901000217000100","29.02.05 Технология текстильных изделий (по видам)","Среднее общее образование","Заочная"]
[null,null,null,null,null,"29.02.06 Полиграфическое производствоОсновное общее образованиеОчная","11Д56017001000101006100","29.02.06 Полиграфическое производство","Основное общее образование","Очная"]
[null,null,null,null,null,"29.02.06 Полиграфическое производствоОсновное общее образованиеОчно-заочная","11Д56017001000109008100","29.02.06 Полиграфическое производство","Основное общее образование","Очно-заочная"]
[null,null,null,null,null,"29.02.06 Полиграфическое производствоОсновное общее образованиеЗаочная","11Д56017001000117008100","29.02.06 Полиграфическое производство","Основное общее образование","Заочная"]
[null,null,null,null,null,"29.02.06 Полиграфическое производствоСреднее общее образованиеОчная","11Д56017001000201005100","29.02.06 Полиграфическое производство","Среднее общее образование","Очная"]
[null,null,null,null,null,"29.02.07 Производство изделий из бумаги и картонаСреднее общее образованиеОчная","11Д56017101000201004100","29.02.07 Производство изделий из бумаги и картона","Среднее общее образование","Очная"]
[null,null,null,null,null,"29.02.08 Технология обработки алмазовОсновное общее образованиеЗаочная","11Д56017201000117006100","29.02.08 Технология обработки алмазов","Основное общее образование","Заочная"]
[null,null,null,null,null,"29.02.08 Технология обработки алмазовСреднее общее образованиеОчно-заочная","11Д56017201000209005100","29.02.08 Технология обработки алмазов","Среднее общее образование","Очно-заочная"]
[null,null,null,null,null,"29.02.08 Технология обработки алмазовСреднее общее образованиеЗаочная","11Д56017201000217005100","29.02.08 Технология обработки алмазов","Среднее общее образование","Заочная"]
[null,null,null,null,null,"31.02.01 Лечебное делоОсновное общее образованиеОчная","11Д56017401000101002100","31.02.01 Лечебное дело","Основное общее образование","Очная"]
[null,null,null,null,null,"31.02.01 Лечебное делоОсновное общее образованиеОчно-заочная","11Д56017401000109004100","31.02.01 Лечебное дело","Основное общее образование","Очно-заочная"]
[null,null,null,null,null,"31.02.01 Лечебное делоОсновное общее образованиеЗаочная","11Д56017401000117004100","31.02.01 Лечебное дело","Основное общее образование","Заочная"]
[null,null,null,null,null,"31.02.01 Лечебное делоСреднее общее образованиеОчная","11Д56017401000201001100","31.02.01 Лечебное дело","Среднее общее образование","Очная"]
[null,null,null,null,null,"31.02.01 Лечебное делоСреднее общее образованиеОчно-заочная","11Д56017401000209003100","31.02.01 Лечебное дело","Среднее общее образование","Очно-заочная"]
[null,null,null,null,null,"31.02.01 Лечебное делоСреднее общее образованиеЗаочная","11Д56017401000217003100","31.02.01 Лечебное дело","Среднее общее образование","Заочная"]
[null,null,null,null,null,"31.02.02 Акушерское делоОсновное общее образованиеОчная","11Д56017501000101001100","31.02.02 Акушерское дело","Основное общее образование","Очная"]
[null,null,null,null,null,"31.02.02 Акушерское делоОсновное общее образованиеОчно-заочная","11Д56017501000109003100","31.02.02 Акушерское дело","Основное общее образование","Очно-заочная"]
[null,null,null,null,null,"31.02.02 Акушерское делоОсновное общее образованиеЗаочная","11Д56017501000117003100","31.02.02 Акушерское дело","Основное общее образование","Заочная"]
[null,null,null,null,null,"31.02.02 Акушерское делоСреднее общее образованиеОчная","11Д56017501000201000100","31.02.02 Акушерское дело","Среднее общее образование","Очная"]
[null,null,null,null,null,"31.02.02 Акушерское делоСреднее общее образованиеОчно-заочная","11Д56017501000209002100","31.02.02 Акушерское дело","Среднее общее образование","Очно-заочная"]
[null,null,null,null,null,"31.02.02 Акушерское делоСреднее общее образованиеЗаочная","11Д56017501000217002100","31.02.02 Акушерское дело","Среднее общее образование","Заочная"]
[null,null,null,null,null,"31.02.03 Лабораторная диагностикаСреднее общее образованиеОчная","11Д56017601000201009100","31.02.03 Лабораторная диагностика","Среднее общее образование","Очная"]
[null,null,null,null,null,"31.02.03 Лабораторная диагностикаСреднее общее образованиеОчно-заочная","11Д56017601000209001100","31.02.03 Лабораторная диагностика","Среднее общее образование","Очно-заочная"]
[null,null,null,null,null,"31.02.03 Лабораторная диагностикаСреднее общее образованиеЗаочная","11Д56017601000217001100","31.02.03 Лабораторная диагностика","Среднее общее образование","Заочная"]
[null,null,null,null,null,"31.02.04 Медицинская оптикаСреднее общее образованиеЗаочная","11Д56017701000217000100","31.02.04 Медицинская оптика","Среднее общее образование","Заочная"]
[null,null,null,null,null,"31.02.05 Стоматология ортопедическаяОсновное общее образованиеЗаочная","11Д56017801000117000100","31.02.05 Стоматология ортопедическая","Основное общее образование","Заочная"]
[null,null,null,null,null,"31.02.05 Стоматология ортопедическаяСреднее общее образованиеОчная","11Д56017801000201007100","31.02.05 Стоматология ортопедическая","Среднее общее образование","Очная"]
[null,null,null,null,null,"31.02.05 Стоматология ортопедическаяСреднее общее образованиеОчно-заочная","11Д56017801000209009100","31.02.05 Стоматология ортопедическая","Среднее общее образование","Очно-заочная"]
[null,null,null,null,null,"31.02.05 Стоматология ортопедическаяСреднее общее образованиеЗаочная","11Д56017801000217009100","31.02.05 Стоматология ортопедическая","Среднее общее образование","Заочная"]
[null,null,null,null,null,"31.02.06 Стоматология профилактическаяОсновное общее образованиеОчная","11Д56017901000101007100","31.02.06 Стоматология профилактическая","Основное общее образование","Очная"]
[null,null,null,null,null,"31.02.06 Стоматология профилактическаяОсновное общее образованиеЗаочная","11Д56017901000117009100","31.02.06 Стоматология профилактическая","Основное общее образование","Заочная"]
[null,null,null,null,null,"31.02.06 Стоматология профилактическаяСреднее общее образованиеОчная","11Д56017901000201006100","31.02.06 Стоматология профилактическая","Среднее общее образование","Очная"]
[null,null,null,null,null,{"$f":"H451&I451&J451","v":"31.02.06 Стоматология профилактическаяСреднее общее образованиеОчно-заочная"},"11Д56017901000209008100","31.02.06 Стоматология профилактическая","Среднее общее образование","Очно-заочная"]
[null,null,null,null,null,"31.02.06 Стоматология профилактическаяСреднее общее образованиеЗаочная","11Д56017901000217008100","31.02.06 Стоматология профилактическая","Среднее общее образование","Заочная"]
[null,null,null,null,null,"32.02.01 Медико-профилактическое делоОсновное общее образованиеОчно-заочная","11Д56018101000109005100","32.02.01 Медико-профилактическое дело","Основное общее образование","Очно-заочная"]
[null,null,null,null,null,"32.02.01 Медико-профилактическое делоСреднее общее образованиеЗаочная","11Д56018101000217004100","32.02.01 Медико-профилактическое дело","Среднее общее образование","Заочная"]
[null,null,null,null,null,"33.02.01 ФармацияСреднее общее образованиеОчная","11Д56018301000201000100","33.02.01 Фармация","Среднее общее образование","Очная"]
[null,null,null,null,null,"33.02.01 ФармацияСреднее общее образованиеОчно-заочная","11Д56018301000209002100","33.02.01 Фармация","Среднее общее образование","Очно-заочная"]
[null,null,null,null,null,"34.02.01 Сестринское делоОсновное общее образованиеОчная","11Д56018501000101009100","34.02.01 Сестринское дело","Основное общее образование","Очная"]
[null,null,null,null,null,"34.02.01 Сестринское делоОсновное общее образованиеЗаочная","11Д56018501000117001100","34.02.01 Сестринское дело","Основное общее образование","Заочная"]
[null,null,null,null,null,"34.02.02 Медицинский массаж (для обучения лиц с ограниченными возможностями здоровья по зрению)Основное общее образованиеОчно-заочная","11Д56018601000109000100","34.02.02 Медицинский массаж (для обучения лиц с ограниченными возможностями здоровья по зрению)","Основное общее образование","Очно-заочная"]
[null,null,null,null,null,"34.02.02 Медицинский массаж (для обучения лиц с ограниченными возможностями здоровья по зрению)Основное общее образованиеЗаочная","11Д56018601000117000100","34.02.02 Медицинский массаж (для обучения лиц с ограниченными возможностями здоровья по зрению)","Основное общее образование","Заочная"]
[null,null,null,null,null,"34.02.02 Медицинский массаж (для обучения лиц с ограниченными возможностями здоровья по зрению)Среднее общее образованиеОчная","11Д56018601000201007100","34.02.02 Медицинский массаж (для обучения лиц с ограниченными возможностями здоровья по зрению)","Среднее общее образование","Очная"]
[null,null,null,null,null,"34.02.02 Медицинский массаж (для обучения лиц с ограниченными возможностями здоровья по зрению)Среднее общее образованиеОчно-заочная","11Д56018601000209009100","34.02.02 Медицинский массаж (для обучения лиц с ограниченными возможностями здоровья по зрению)","Среднее общее образование","Очно-заочная"]
[null,null,null,null,null,"35.02.01 Лесное и лесопарковое хозяйствоОсновное общее образованиеОчная","11Д56018801000101006100","35.02.01 Лесное и лесопарковое хозяйство","Основное общее образование","Очная"]
[null,null,null,null,null,"35.02.01 Лесное и лесопарковое хозяйствоСреднее общее образованиеОчная","11Д56018801000201005100","35.02.01 Лесное и лесопарковое хозяйство","Среднее общее образование","Очная"]
[null,null,null,null,null,"35.02.01 Лесное и лесопарковое хозяйствоСреднее общее образованиеЗаочная","11Д56018801000217007100","35.02.01 Лесное и лесопарковое хозяйство","Среднее общее образование","Заочная"]
[null,null,null,null,null,"35.02.02 Технология лесозаготовокСреднее общее образованиеОчно-заочная","11Д56018901000209006100","35.02.02 Технология лесозаготовок","Среднее общее образование","Очно-заочная"]
[null,null,null,null,null,"35.02.02 Технология лесозаготовокСреднее общее образованиеЗаочная","11Д56018901000217006100","35.02.02 Технология лесозаготовок","Среднее общее образование","Заочная"]
[null,null,null,null,null,"35.02.03 Технология деревообработкиОсновное общее образованиеОчная","11Д56019001000101002100","35.02.03 Технология деревообработки","Основное общее образование","Очная"]
[null,null,null,null,null,"35.02.03 Технология деревообработкиОсновное общее образованиеОчно-заочная","11Д56019001000109004100","35.02.03 Технология деревообработки","Основное общее образование","Очно-заочная"]
[null,null,null,null,null,"35.02.03 Технология деревообработкиОсновное общее образованиеЗаочная","11Д56019001000117004100","35.02.03 Технология деревообработки","Основное общее образование","Заочная"]
[null,null,null,null,null,"35.02.03 Технология деревообработкиСреднее общее образованиеОчно-заочная","11Д56019001000209003100","35.02.03 Технология деревообработки","Среднее общее образование","Очно-заочная"]
[null,null,null,null,null,"35.02.04 Технология комплексной переработки древесиныОсновное общее образованиеОчная","11Д56019101000101001100","35.02.04 Технология комплексной переработки древесины","Основное общее образование","Очная"]
[null,null,null,null,null,"35.02.04 Технология комплексной переработки древесиныОсновное общее образованиеОчно-заочная","11Д56019101000109003100","35.02.04 Технология комплексной переработки древесины","Основное общее образование","Очно-заочная"]
[null,null,null,null,null,"35.02.04 Технология комплексной переработки древесиныОсновное общее образованиеЗаочная","11Д56019101000117003100","35.02.04 Технология комплексной переработки древесины","Основное общее образование","Заочная"]
[null,null,null,null,null,"35.02.04 Технология комплексной переработки древесиныСреднее общее образованиеОчная","11Д56019101000201000100","35.02.04 Технология комплексной переработки древесины","Среднее общее образование","Очная"]
[null,null,null,null,null,"35.02.04 Технология комплексной переработки древесиныСреднее общее образованиеОчно-заочная","11Д56019101000209002100","35.02.04 Технология комплексной переработки древесины","Среднее общее образование","Очно-заочная"]
[null,null,null,null,null,"35.02.04 Технология комплексной переработки древесиныСреднее общее образованиеЗаочная","11Д56019101000217002100","35.02.04 Технология комплексной переработки древесины","Среднее общее образование","Заочная"]
[null,null,null,null,null,"35.02.05 АгрономияОсновное общее образованиеОчная","11Д56019201000101000100","35.02.05 Агрономия","Основное общее образование","Очная"]
[null,null,null,null,null,"35.02.05 АгрономияОсновное общее образованиеОчно-заочная","11Д56019201000109002100","35.02.05 Агрономия","Основное общее образование","Очно-заочная"]
[null,null,null,null,null,"35.02.05 АгрономияОсновное общее образованиеЗаочная","11Д56019201000117002100","35.02.05 Агрономия","Основное общее образование","Заочная"]
[null,null,null,null,null,"35.02.05 АгрономияСреднее общее образованиеОчная","11Д56019201000201009100","35.02.05 Агрономия","Среднее общее образование","Очная"]
[null,null,null,null,null,"35.02.05 АгрономияСреднее общее образованиеОчно-заочная","11Д56019201000209001100","35.02.05 Агрономия","Среднее общее образование","Очно-заочная"]
[null,null,null,null,null,"35.02.05 АгрономияСреднее общее образованиеЗаочная","11Д56019201000217001100","35.02.05 Агрономия","Среднее общее образование","Заочная"]
[null,null,null,null,null,"35.02.06 Технология производства и переработки сельскохозяйственной продукцииОсновное общее образованиеОчная","11Д56019301000101009100","35.02.06 Технология производства и переработки сельскохозяйственной продукции","Основное общее образование","Очная"]
[null,null,null,null,null,"35.02.06 Технология производства и переработки сельскохозяйственной продукцииСреднее общее образованиеОчно-заочная","11Д56019301000209000100","35.02.06 Технология производства и переработки сельскохозяйственной продукции","Среднее общее образование","Очно-заочная"]
[null,null,null,null,null,"35.02.06 Технология производства и переработки сельскохозяйственной продукцииСреднее общее образованиеЗаочная","11Д56019301000217000100","35.02.06 Технология производства и переработки сельскохозяйственной продукции","Среднее общее образование","Заочная"]
[null,null,null,null,null,"35.02.07 Механизация сельского хозяйстваСреднее общее образованиеОчно-заочная","11Д56019401000209009100","35.02.07 Механизация сельского хозяйства","Среднее общее образование","Очно-заочная"]
[null,null,null,null,null,"35.02.08 Электрификация и автоматизация сельского хозяйстваОсновное общее образованиеЗаочная","11Д56019501000117009100","35.02.08 Электрификация и автоматизация сельского хозяйства","Основное общее образование","Заочная"]
[null,null,null,null,null,"35.02.08 Электрификация и автоматизация сельского хозяйстваСреднее общее образованиеОчная","11Д56019501000201006100","35.02.08 Электрификация и автоматизация сельского хозяйства","Среднее общее образование","Очная"]
[null,null,null,null,null,"35.02.08 Электрификация и автоматизация сельского хозяйстваСреднее общее образованиеОчно-заочная","11Д56019501000209008100","35.02.08 Электрификация и автоматизация сельского хозяйства","Среднее общее образование","Очно-заочная"]
[null,null,null,null,null,"35.02.08 Электрификация и автоматизация сельского хозяйстваСреднее общее образованиеЗаочная","11Д56019501000217008100","35.02.08 Электрификация и автоматизация сельского хозяйства","Среднее общее образование","Заочная"]
[null,null,null,null,null,"35.02.09 Ихтиология и рыбоводствоОсновное общее образованиеОчная","11Д56019601000101006100","35.02.09 Ихтиология и рыбоводство","Основное общее образование","Очная"]
[null,null,null,null,null,"35.02.09 Ихтиология и рыбоводствоОсновное общее образованиеОчно-заочная","11Д56019601000109008100","35.02.09 Ихтиология и рыбоводство","Основное общее образование","Очно-заочная"]
[null,null,null,null,null,"35.02.09 Ихтиология и рыбоводствоОсновное общее образованиеЗаочная","11Д56019601000117008100","35.02.09 Ихтиология и рыбоводство","Основное общее образование","Заочная"]
[null,null,null,null,null,"35.02.09 Ихтиология и рыбоводствоСреднее общее образованиеОчная","11Д56019601000201005100","35.02.09 Ихтиология и рыбоводство","Среднее общее образование","Очная"]
[null,null,null,null,null,"35.02.09 Ихтиология и рыбоводствоСреднее общее образованиеОчно-заочная","11Д56019601000209007100","35.02.09 Ихтиология и рыбоводство","Среднее общее образование","Очно-заочная"]
[null,null,null,null,null,"35.02.09 Ихтиология и рыбоводствоСреднее общее образованиеЗаочная","11Д56019601000217007100","35.02.09 Ихтиология и рыбоводство","Среднее общее образование","Заочная"]
[null,null,null,null,null,"35.02.10 Обработка водных биоресурсовОсновное общее образованиеОчная","11Д56019701000101005100","35.02.10 Обработка водных биоресурсов","Основное общее образование","Очная"]
[null,null,null,null,null,"35.02.10 Обработка водных биоресурсовОсновное общее образованиеОчно-заочная","11Д56019701000109007100","35.02.10 Обработка водных биоресурсов","Основное общее образование","Очно-заочная"]
[null,null,null,null,null,"35.02.10 Обработка водных биоресурсовОсновное общее образованиеЗаочная","11Д56019701000117007100","35.02.10 Обработка водных биоресурсов","Основное общее образование","Заочная"]
[null,null,null,null,null,"35.02.10 Обработка водных биоресурсовСреднее общее образованиеОчная","11Д56019701000201004100","35.02.10 Обработка водных биоресурсов","Среднее общее образование","Очная"]
[null,null,null,null,null,"35.02.10 Обработка водных биоресурсовСреднее общее образованиеОчно-заочная","11Д56019701000209006100","35.02.10 Обработка водных биоресурсов","Среднее общее образование","Очно-заочная"]
[null,null,null,null,null,"35.02.10 Обработка водных биоресурсовСреднее общее образованиеЗаочная","11Д56019701000217006100","35.02.10 Обработка водных биоресурсов","Среднее общее образование","Заочная"]
[null,null,null,null,null,"35.02.11 Промышленное рыболовствоОсновное общее образованиеОчно-заочная","11Д56019801000109006100","35.02.11 Промышленное рыболовство","Основное общее образование","Очно-заочная"]
[null,null,null,null,null,"35.02.11 Промышленное рыболовствоОсновное общее образованиеЗаочная","11Д56019801000117006100","35.02.11 Промышленное рыболовство","Основное общее образование","Заочная"]
[null,null,null,null,null,"35.02.11 Промышленное рыболовствоСреднее общее образованиеЗаочная","11Д56019801000217005100","35.02.11 Промышленное рыболовство","Среднее общее образование","Заочная"]
[null,null,null,null,null,"35.02.12 Садово-парковое и ландшафтное строительствоОсновное общее образованиеОчная","11Д56019901000101003100","35.02.12 Садово-парковое и ландшафтное строительство","Основное общее образование","Очная"]
[null,null,null,null,null,"35.02.12 Садово-парковое и ландшафтное строительствоОсновное общее образованиеОчно-заочная","11Д56019901000109005100","35.02.12 Садово-парковое и ландшафтное строительство","Основное общее образование","Очно-заочная"]
[null,null,null,null,null,"35.02.12 Садово-парковое и ландшафтное строительствоОсновное общее образованиеЗаочная","11Д56019901000117005100","35.02.12 Садово-парковое и ландшафтное строительство","Основное общее образование","Заочная"]
[null,null,null,null,null,"35.02.12 Садово-парковое и ландшафтное строительствоСреднее общее образованиеОчная","11Д56019901000201002100","35.02.12 Садово-парковое и ландшафтное строительство","Среднее общее образование","Очная"]
[null,null,null,null,null,"35.02.12 Садово-парковое и ландшафтное строительствоСреднее общее образованиеЗаочная","11Д56019901000217004100","35.02.12 Садово-парковое и ландшафтное строительство","Среднее общее образование","Заочная"]
[null,null,null,null,null,"35.02.13 ПчеловодствоОсновное общее образованиеОчная","11Д56020001000101000100","35.02.13 Пчеловодство","Основное общее образование","Очная"]
[null,null,null,null,null,"35.02.13 ПчеловодствоОсновное общее образованиеОчно-заочная","11Д56020001000109002100","35.02.13 Пчеловодство","Основное общее образование","Очно-заочная"]
[null,null,null,null,null,"35.02.13 ПчеловодствоОсновное общее образованиеЗаочная","11Д56020001000117002100","35.02.13 Пчеловодство","Основное общее образование","Заочная"]
[null,null,null,null,null,{"$f":"H515&I515&J515","v":"35.02.13 ПчеловодствоСреднее общее образованиеОчная"},"11Д56020001000201009100","35.02.13 Пчеловодство","Среднее общее образование","Очная"]
[null,null,null,null,null,"35.02.13 ПчеловодствоСреднее общее образованиеОчно-заочная","11Д56020001000209001100","35.02.13 Пчеловодство","Среднее общее образование","Очно-заочная"]
[null,null,null,null,null,"35.02.13 ПчеловодствоСреднее общее образованиеЗаочная","11Д56020001000217001100","35.02.13 Пчеловодство","Среднее общее образование","Заочная"]
[null,null,null,null,null,"35.02.14 Охотоведение и звероводствоОсновное общее образованиеОчная","11Д56020101000101009100","35.02.14 Охотоведение и звероводство","Основное общее образование","Очная"]
[null,null,null,null,null,"35.02.14 Охотоведение и звероводствоОсновное общее образованиеОчно-заочная","11Д56020101000109001100","35.02.14 Охотоведение и звероводство","Основное общее образование","Очно-заочная"]
[null,null,null,null,null,"35.02.14 Охотоведение и звероводствоСреднее общее образованиеОчно-заочная","11Д56020101000209000100","35.02.14 Охотоведение и звероводство","Среднее общее образование","Очно-заочная"]
[null,null,null,null,null,"35.02.15 КинологияОсновное общее образованиеОчная","11Д56020201000101008100","35.02.15 Кинология","Основное общее образование","Очная"]
[null,null,null,null,null,"35.02.15 КинологияОсновное общее образованиеОчно-заочная","11Д56020201000109000100","35.02.15 Кинология","Основное общее образование","Очно-заочная"]
[null,null,null,null,null,"35.02.15 КинологияОсновное общее образованиеЗаочная","11Д56020201000117000100","35.02.15 Кинология","Основное общее образование","Заочная"]
[null,null,null,null,null,"35.02.15 КинологияСреднее общее образованиеОчная","11Д56020201000201007100","35.02.15 Кинология","Среднее общее образование","Очная"]
[null,null,null,null,null,"35.02.15 КинологияСреднее общее образованиеОчно-заочная","11Д56020201000209009100","35.02.15 Кинология","Среднее общее образование","Очно-заочная"]
[null,null,null,null,null,"35.02.15 КинологияСреднее общее образованиеЗаочная","11Д56020201000217009100","35.02.15 Кинология","Среднее общее образование","Заочная"]
[null,null,null,null,null,"36.02.01 ВетеринарияОсновное общее образованиеОчная","11Д56020401000101006100","36.02.01 Ветеринария","Основное общее образование","Очная"]
[null,null,null,null,null,"36.02.01 ВетеринарияОсновное общее образованиеОчно-заочная","11Д56020401000109008100","36.02.01 Ветеринария","Основное общее образование","Очно-заочная"]
[null,null,null,null,null,"36.02.01 ВетеринарияОсновное общее образованиеЗаочная","11Д56020401000117008100","36.02.01 Ветеринария","Основное общее образование","Заочная"]
[null,null,null,null,null,"36.02.01 ВетеринарияСреднее общее образованиеЗаочная","11Д56020401000217007100","36.02.01 Ветеринария","Среднее общее образование","Заочная"]
[null,null,null,null,null,"36.02.02 ЗоотехнияОсновное общее образованиеОчная","11Д56020501000101005100","36.02.02 Зоотехния","Основное общее образование","Очная"]
[null,null,null,null,null,"36.02.02 ЗоотехнияОсновное общее образованиеОчно-заочная","11Д56020501000109007100","36.02.02 Зоотехния","Основное общее образование","Очно-заочная"]
[null,null,null,null,null,"38.02.01 Экономика и бухгалтерский учет (по отраслям)Основное общее образованиеОчная","11Д56020701000101003100","38.02.01 Экономика и бухгалтерский учет (по отраслям)","Основное общее образование","Очная"]
[null,null,null,null,null,"38.02.01 Экономика и бухгалтерский учет (по отраслям)Основное общее образованиеОчно-заочная","11Д56020701000109005100","38.02.01 Экономика и бухгалтерский учет (по отраслям)","Основное общее образование","Очно-заочная"]
[null,null,null,null,null,"38.02.01 Экономика и бухгалтерский учет (по отраслям)Среднее общее образованиеОчно-заочная","11Д56020701000209004100","38.02.01 Экономика и бухгалтерский учет (по отраслям)","Среднее общее образование","Очно-заочная"]
[null,null,null,null,null,"38.02.02 Страховое дело (по отраслям)Основное общее образованиеЗаочная","11Д56020801000117004100","38.02.02 Страховое дело (по отраслям)","Основное общее образование","Заочная"]
[null,null,null,null,null,"38.02.02 Страховое дело (по отраслям)Среднее общее образованиеОчно-заочная","11Д56020801000209003100","38.02.02 Страховое дело (по отраслям)","Среднее общее образование","Очно-заочная"]
[null,null,null,null,null,"38.02.02 Страховое дело (по отраслям)Среднее общее образованиеЗаочная","11Д56020801000217003100","38.02.02 Страховое дело (по отраслям)","Среднее общее образование","Заочная"]
[null,null,null,null,null,"38.02.03 Операционная деятельность в логистикеОсновное общее образованиеОчная","11Д56020901000101001100","38.02.03 Операционная деятельность в логистике","Основное общее образование","Очная"]
[null,null,null,null,null,"38.02.03 Операционная деятельность в логистикеОсновное общее образованиеОчно-заочная","11Д56020901000109003100","38.02.03 Операционная деятельность в логистике","Основное общее образование","Очно-заочная"]
[null,null,null,null,null,"38.02.03 Операционная деятельность в логистикеОсновное общее образованиеЗаочная","11Д56020901000117003100","38.02.03 Операционная деятельность в логистике","Основное общее образование","Заочная"]
[null,null,null,null,null,"38.02.03 Операционная деятельность в логистикеСреднее общее образованиеОчная","11Д56020901000201000100","38.02.03 Операционная деятельность в логистике","Среднее общее образование","Очная"]
[null,null,null,null,null,"38.02.03 Операционная деятельность в логистикеСреднее общее образованиеОчно-заочная","11Д56020901000209002100","38.02.03 Операционная деятельность в логистике","Среднее общее образование","Очно-заочная"]
[null,null,null,null,null,"38.02.03 Операционная деятельность в логистикеСреднее общее образованиеЗаочная","11Д56020901000217002100","38.02.03 Операционная деятельность в логистике","Среднее общее образование","Заочная"]
[null,null,null,null,null,"38.02.04 Коммерция (по отраслям)Основное общее образованиеОчно-заочная","11Д56021001000109000100","38.02.04 Коммерция (по отраслям)","Основное общее образование","Очно-заочная"]
[null,null,null,null,null,"38.02.04 Коммерция (по отраслям)Основное общее образованиеЗаочная","11Д56021001000117000100","38.02.04 Коммерция (по отраслям)","Основное общее образование","Заочная"]
[null,null,null,null,null,"38.02.04 Коммерция (по отраслям)Среднее общее образованиеОчная","11Д56021001000201007100","38.02.04 Коммерция (по отраслям)","Среднее общее образование","Очная"]
[null,null,null,null,null,"38.02.04 Коммерция (по отраслям)Среднее общее образованиеОчно-заочная","11Д56021001000209009100","38.02.04 Коммерция (по отраслям)","Среднее общее образование","Очно-заочная"]
[null,null,null,null,null,"38.02.05 Товароведение и экспертиза качества потребительских товаровОсновное общее образованиеЗаочная","11Д56021101000117009100","38.02.05 Товароведение и экспертиза качества потребительских товаров","Основное общее образование","Заочная"]
[null,null,null,null,null,"38.02.05 Товароведение и экспертиза качества потребительских товаровСреднее общее образованиеЗаочная","11Д56021101000217008100","38.02.05 Товароведение и экспертиза качества потребительских товаров","Среднее общее образование","Заочная"]
[null,null,null,null,null,"38.02.06 ФинансыОсновное общее образованиеОчная","11Д56021201000101006100","38.02.06 Финансы","Основное общее образование","Очная"]
[null,null,null,null,null,"38.02.06 ФинансыОсновное общее образованиеОчно-заочная","11Д56021201000109008100","38.02.06 Финансы","Основное общее образование","Очно-заочная"]
[null,null,null,null,null,"38.02.06 ФинансыОсновное общее образованиеЗаочная","11Д56021201000117008100","38.02.06 Финансы","Основное общее образование","Заочная"]
[null,null,null,null,null,"38.02.06 ФинансыСреднее общее образованиеОчная","11Д56021201000201005100","38.02.06 Финансы","Среднее общее образование","Очная"]
[null,null,null,null,null,"38.02.06 ФинансыСреднее общее образованиеЗаочная","11Д56021201000217007100","38.02.06 Финансы","Среднее общее образование","Заочная"]
[null,null,null,null,null,"38.02.07 Банковское делоОсновное общее образованиеОчно-заочная","11Д56021301000109007100","38.02.07 Банковское дело","Основное общее образование","Очно-заочная"]
[null,null,null,null,null,"38.02.07 Банковское делоОсновное общее образованиеЗаочная","11Д56021301000117007100","38.02.07 Банковское дело","Основное общее образование","Заочная"]
[null,null,null,null,null,"38.02.07 Банковское делоСреднее общее образованиеОчно-заочная","11Д56021301000209006100","38.02.07 Банковское дело","Среднее общее образование","Очно-заочная"]
[null,null,null,null,null,"38.02.07 Банковское делоСреднее общее образованиеЗаочная","11Д56021301000217006100","38.02.07 Банковское дело","Среднее общее образование","Заочная"]
[null,null,null,null,null,"39.02.01 Социальная работаОсновное общее образованиеОчная","11Д56021501000101003100","39.02.01 Социальная работа","Основное общее образование","Очная"]
[null,null,null,null,null,"39.02.01 Социальная работаОсновное общее образованиеОчно-заочная","11Д56021501000109005100","39.02.01 Социальная работа","Основное общее образование","Очно-заочная"]
[null,null,null,null,null,"39.02.01 Социальная работаОсновное общее образованиеЗаочная","11Д56021501000117005100","39.02.01 Социальная работа","Основное общее образование","Заочная"]
[null,null,null,null,null,"39.02.01 Социальная работаСреднее общее образованиеОчная","11Д56021501000201002100","39.02.01 Социальная работа","Среднее общее образование","Очная"]
[null,null,null,null,null,"39.02.01 Социальная работаСреднее общее образованиеОчно-заочная","11Д56021501000209004100","39.02.01 Социальная работа","Среднее общее образование","Очно-заочная"]
[null,null,null,null,null,"39.02.01 Социальная работаСреднее общее образованиеЗаочная","11Д56021501000217004100","39.02.01 Социальная работа","Среднее общее образование","Заочная"]
[null,null,null,null,null,"39.02.02 Организация сурдокоммуникацииОсновное общее образованиеОчная","11Д56021601000101002100","39.02.02 Организация сурдокоммуникации","Основное общее образование","Очная"]
[null,null,null,null,null,"39.02.02 Организация сурдокоммуникацииОсновное общее образованиеОчно-заочная","11Д56021601000109004100","39.02.02 Организация сурдокоммуникации","Основное общее образование","Очно-заочная"]
[null,null,null,null,null,"39.02.02 Организация сурдокоммуникацииСреднее общее образованиеОчная","11Д56021601000201001100","39.02.02 Организация сурдокоммуникации","Среднее общее образование","Очная"]
[null,null,null,null,null,"39.02.02 Организация сурдокоммуникацииСреднее общее образованиеОчно-заочная","11Д56021601000209003100","39.02.02 Организация сурдокоммуникации","Среднее общее образование","Очно-заочная"]
[null,null,null,null,null,"39.02.02 Организация сурдокоммуникацииСреднее общее образованиеЗаочная","11Д56021601000217003100","39.02.02 Организация сурдокоммуникации","Среднее общее образование","Заочная"]
[null,null,null,null,null,"40.02.01 Право и организация социального обеспеченияОсновное общее образованиеОчно-заочная","11Д56021801000109002100","40.02.01 Право и организация социального обеспечения","Основное общее образование","Очно-заочная"]
[null,null,null,null,null,"40.02.01 Право и организация социального обеспеченияСреднее общее образованиеОчно-заочная","11Д56021801000209001100","40.02.01 Право и организация социального обеспечения","Среднее общее образование","Очно-заочная"]
[null,null,null,null,null,"40.02.02 Правоохранительная деятельностьОсновное общее образованиеОчная","11Д56021901000101009100","40.02.02 Правоохранительная деятельность","Основное общее образование","Очная"]
[null,null,null,null,null,"40.02.02 Правоохранительная деятельностьОсновное общее образованиеОчно-заочная","11Д56021901000109001100","40.02.02 Правоохранительная деятельность","Основное общее образование","Очно-заочная"]
[null,null,null,null,null,"40.02.02 Правоохранительная деятельностьСреднее общее образованиеОчно-заочная","11Д56021901000209000100","40.02.02 Правоохранительная деятельность","Среднее общее образование","Очно-заочная"]
[null,null,null,null,null,"40.02.03 Право и судебное администрированиеОсновное общее образованиеОчная","11Д56022001000101006100","40.02.03 Право и судебное администрирование","Основное общее образование","Очная"]
[null,null,null,null,null,"40.02.03 Право и судебное администрированиеОсновное общее образованиеОчно-заочная","11Д56022001000109008100","40.02.03 Право и судебное администрирование","Основное общее образование","Очно-заочная"]
[null,null,null,null,null,"40.02.03 Право и судебное администрированиеОсновное общее образованиеЗаочная","11Д56022001000117008100","40.02.03 Право и судебное администрирование","Основное общее образование","Заочная"]
[null,null,null,null,null,{"$f":"H579&I579&J579","v":"42.02.01 РекламаОсновное общее образованиеОчная"},"11Д56022201000101004100","42.02.01 Реклама","Основное общее образование","Очная"]
[null,null,null,null,null,"42.02.01 РекламаСреднее общее образованиеОчная","11Д56022201000201003100","42.02.01 Реклама","Среднее общее образование","Очная"]
[null,null,null,null,null,"42.02.01 РекламаСреднее общее образованиеОчно-заочная","11Д56022201000209005100","42.02.01 Реклама","Среднее общее образование","Очно-заочная"]
[null,null,null,null,null,"42.02.02 Издательское делоОсновное общее образованиеЗаочная","11Д56022301000117005100","42.02.02 Издательское дело","Основное общее образование","Заочная"]
[null,null,null,null,null,"43.02.01 Организация обслуживания в общественном питанииОсновное общее образованиеЗаочная","11Д56022501000117003100","43.02.01 Организация обслуживания в общественном питании","Основное общее образование","Заочная"]
[null,null,null,null,null,"43.02.01 Организация обслуживания в общественном питанииСреднее общее образованиеЗаочная","11Д56022501000217002100","43.02.01 Организация обслуживания в общественном питании","Среднее общее образование","Заочная"]
[null,null,null,null,null,"43.02.02 Парикмахерское искусствоОсновное общее образованиеОчно-заочная","11Д56022601000109002100","43.02.02 Парикмахерское искусство","Основное общее образование","Очно-заочная"]
[null,null,null,null,null,"43.02.02 Парикмахерское искусствоСреднее общее образованиеЗаочная","11Д56022601000217001100","43.02.02 Парикмахерское искусство","Среднее общее образование","Заочная"]
[null,null,null,null,null,"43.02.03 Стилистика и искусство визажаОсновное общее образованиеОчная","11Д56022701000101009100","43.02.03 Стилистика и искусство визажа","Основное общее образование","Очная"]
[null,null,null,null,null,"43.02.03 Стилистика и искусство визажаОсновное общее образованиеЗаочная","11Д56022701000117001100","43.02.03 Стилистика и искусство визажа","Основное общее образование","Заочная"]
[null,null,null,null,null,"43.02.03 Стилистика и искусство визажаСреднее общее образованиеОчная","11Д56022701000201008100","43.02.03 Стилистика и искусство визажа","Среднее общее образование","Очная"]
[null,null,null,null,null,"43.02.05 ФлористикаОсновное общее образованиеОчно-заочная","11Д56022901000109009100","43.02.05 Флористика","Основное общее образование","Очно-заочная"]
[null,null,null,null,null,"43.02.05 ФлористикаОсновное общее образованиеЗаочная","11Д56022901000117009100","43.02.05 Флористика","Основное общее образование","Заочная"]
[null,null,null,null,null,"43.02.06 Сервис на транспорте (по видам транспорта)Основное общее образованиеОчная","11Д56023001000101004100","43.02.06 Сервис на транспорте (по видам транспорта)","Основное общее образование","Очная"]
[null,null,null,null,null,"43.02.06 Сервис на транспорте (по видам транспорта)Среднее общее образованиеОчно-заочная","11Д56023001000209005100","43.02.06 Сервис на транспорте (по видам транспорта)","Среднее общее образование","Очно-заочная"]
[null,null,null,null,null,"43.02.06 Сервис на транспорте (по видам транспорта)Среднее общее образованиеЗаочная","11Д56023001000217005100","43.02.06 Сервис на транспорте (по видам транспорта)","Среднее общее образование","Заочная"]
[null,null,null,null,null,"43.02.07 Сервис по химической обработке изделийОсновное общее образованиеОчная","11Д56023101000101003100","43.02.07 Сервис по химической обработке изделий","Основное общее образование","Очная"]
[null,null,null,null,null,"43.02.07 Сервис по химической обработке изделийСреднее общее образованиеОчная","11Д56023101000201002100","43.02.07 Сервис по химической обработке изделий","Среднее общее образование","Очная"]
[null,null,null,null,null,"43.02.08 Сервис домашнего и коммунального хозяйстваОсновное общее образованиеОчная","11Д56023201000101002100","43.02.08 Сервис домашнего и коммунального хозяйства","Основное общее образование","Очная"]
[null,null,null,null,null,"43.02.08 Сервис домашнего и коммунального хозяйстваОсновное общее образованиеОчно-заочная","11Д56023201000109004100","43.02.08 Сервис домашнего и коммунального хозяйства","Основное общее образование","Очно-заочная"]
[null,null,null,null,null,"43.02.08 Сервис домашнего и коммунального хозяйстваОсновное общее образованиеЗаочная","11Д56023201000117004100","43.02.08 Сервис домашнего и коммунального хозяйства","Основное общее образование","Заочная"]
[null,null,null,null,null,"43.02.08 Сервис домашнего и коммунального хозяйстваСреднее общее образованиеОчная","11Д56023201000201001100","43.02.08 Сервис домашнего и коммунального хозяйства","Среднее общее образование","Очная"]
[null,null,null,null,null,"43.02.08 Сервис домашнего и коммунального хозяйстваСреднее общее образованиеОчно-заочная","11Д56023201000209003100","43.02.08 Сервис домашнего и коммунального хозяйства","Среднее общее образование","Очно-заочная"]
[null,null,null,null,null,"43.02.09 Ритуальный сервисОсновное общее образованиеОчно-заочная","11Д56023301000109003100","43.02.09 Ритуальный сервис","Основное общее образование","Очно-заочная"]
[null,null,null,null,null,"43.02.09 Ритуальный сервисСреднее общее образованиеОчно-заочная","11Д56023301000209002100","43.02.09 Ритуальный сервис","Среднее общее образование","Очно-заочная"]
[null,null,null,null,null,"43.02.10 ТуризмОсновное общее образованиеОчная","11Д56023401000101000100","43.02.10 Туризм","Основное общее образование","Очная"]
[null,null,null,null,null,"43.02.10 ТуризмОсновное общее образованиеЗаочная","11Д56023401000117002100","43.02.10 Туризм","Основное общее образование","Заочная"]
[null,null,null,null,null,"43.02.10 ТуризмСреднее общее образованиеОчная","11Д56023401000201009100","43.02.10 Туризм","Среднее общее образование","Очная"]
[null,null,null,null,null,"43.02.11 Гостиничный сервисСреднее общее образованиеОчно-заочная","11Д56023501000209000100","43.02.11 Гостиничный сервис","Среднее общее образование","Очно-заочная"]
[null,null,null,null,null,"43.02.11 Гостиничный сервисСреднее общее образованиеЗаочная","11Д56023501000217000100","43.02.11 Гостиничный сервис","Среднее общее образование","Заочная"]
[null,null,null,null,null,"44.02.01 Дошкольное образованиеОсновное общее образованиеОчная","11Д56023701000101007100","44.02.01 Дошкольное образование","Основное общее образование","Очная"]
[null,null,null,null,null,"44.02.01 Дошкольное образованиеОсновное общее образованиеОчно-заочная","11Д56023701000109009100","44.02.01 Дошкольное образование","Основное общее образование","Очно-заочная"]
[null,null,null,null,null,"44.02.01 Дошкольное образованиеОсновное общее образованиеЗаочная","11Д56023701000117009100","44.02.01 Дошкольное образование","Основное общее образование","Заочная"]
[null,null,null,null,null,"44.02.01 Дошкольное образованиеСреднее общее образованиеОчная","11Д56023701000201006100","44.02.01 Дошкольное образование","Среднее общее образование","Очная"]
[null,null,null,null,null,"44.02.01 Дошкольное образованиеСреднее общее образованиеОчно-заочная","11Д56023701000209008100","44.02.01 Дошкольное образование","Среднее общее образование","Очно-заочная"]
[null,null,null,null,null,"44.02.01 Дошкольное образованиеСреднее общее образованиеЗаочная","11Д56023701000217008100","44.02.01 Дошкольное образование","Среднее общее образование","Заочная"]
[null,null,null,null,null,"44.02.02 Преподавание в начальных классахОсновное общее образованиеОчная","11Д56023801000101006100","44.02.02 Преподавание в начальных классах","Основное общее образование","Очная"]
[null,null,null,null,null,"44.02.03 Педагогика дополнительного образованияСреднее общее образованиеОчная","11Д56023901000201004100","44.02.03 Педагогика дополнительного образования","Среднее общее образование","Очная"]
[null,null,null,null,null,"44.02.04 Специальное дошкольное образованиеОсновное общее образованиеОчная","11Д56024001000101002100","44.02.04 Специальное дошкольное образование","Основное общее образование","Очная"]
[null,null,null,null,null,"44.02.05 Коррекционная педагогика в начальном образованииОсновное общее образованиеОчная","11Д56024101000101001100","44.02.05 Коррекционная педагогика в начальном образовании","Основное общее образование","Очная"]
[null,null,null,null,null,"44.02.05 Коррекционная педагогика в начальном образованииСреднее общее образованиеОчная","11Д56024101000201000100","44.02.05 Коррекционная педагогика в начальном образовании","Среднее общее образование","Очная"]
[null,null,null,null,null,"44.02.06 Профессиональное обучение (по отраслям)Основное общее образованиеЗаочная","11Д56024201000117002100","44.02.06 Профессиональное обучение (по отраслям)","Основное общее образование","Заочная"]
[null,null,null,null,null,"46.02.01 Документационное обеспечение управления и архивоведениеОсновное общее образованиеОчная","11Д56024401000101008100","46.02.01 Документационное обеспечение управления и архивоведение","Основное общее образование","Очная"]
[null,null,null,null,null,"46.02.01 Документационное обеспечение управления и архивоведениеОсновное общее образованиеОчно-заочная","11Д56024401000109000100","46.02.01 Документационное обеспечение управления и архивоведение","Основное общее образование","Очно-заочная"]
[null,null,null,null,null,"46.02.01 Документационное обеспечение управления и архивоведениеОсновное общее образованиеЗаочная","11Д56024401000117000100","46.02.01 Документационное обеспечение управления и архивоведение","Основное общее образование","Заочная"]
[null,null,null,null,null,"46.02.01 Документационное обеспечение управления и архивоведениеСреднее общее образованиеОчная","11Д56024401000201007100","46.02.01 Документационное обеспечение управления и архивоведение","Среднее общее образование","Очная"]
[null,null,null,null,null,"49.02.01 Физическая культураОсновное общее образованиеОчная","11Д56024601000101006100","49.02.01 Физическая культура","Основное общее образование","Очная"]
[null,null,null,null,null,"49.02.01 Физическая культураОсновное общее образованиеОчно-заочная","11Д56024601000109008100","49.02.01 Физическая культура","Основное общее образование","Очно-заочная"]
[null,null,null,null,null,"49.02.01 Физическая культураОсновное общее образованиеЗаочная","11Д56024601000117008100","49.02.01 Физическая культура","Основное общее образование","Заочная"]
[null,null,null,null,null,"49.02.02 Адаптивная физическая культураСреднее общее образованиеОчная","11Д56024701000201004100","49.02.02 Адаптивная физическая культура","Среднее общее образование","Очная"]
[null,null,null,null,null,"50.02.01 Мировая художественная культураОсновное общее образованиеОчная","11Д56024901000101003100","50.02.01 Мировая художественная культура","Основное общее образование","Очная"]
[null,null,null,null,null,"50.02.01 Мировая художественная культураСреднее общее образованиеОчная","11Д56024901000201002100","50.02.01 Мировая художественная культура","Среднее общее образование","Очная"]
[null,null,null,null,null,"50.02.01 Мировая художественная культураСреднее общее образованиеЗаочная","11Д56024901000217004100","50.02.01 Мировая художественная культура","Среднее общее образование","Заочная"]
[null,null,null,null,null,"51.02.01 Народное художественное творчество (по видам)Основное общее образованиеОчная","11Д56025101000101008100","51.02.01 Народное художественное творчество (по видам)","Основное общее образование","Очная"]
[null,null,null,null,null,"51.02.01 Народное художественное творчество (по видам)Основное общее образованиеОчно-заочная","11Д56025101000109000100","51.02.01 Народное художественное творчество (по видам)","Основное общее образование","Очно-заочная"]
[null,null,null,null,null,"51.02.01 Народное художественное творчество (по видам)Основное общее образованиеЗаочная","11Д56025101000117000100","51.02.01 Народное художественное творчество (по видам)","Основное общее образование","Заочная"]
[null,null,null,null,null,"51.02.01 Народное художественное творчество (по видам)Среднее общее образованиеОчная","11Д56025101000201007100","51.02.01 Народное художественное творчество (по видам)","Среднее общее образование","Очная"]
[null,null,null,null,null,"51.02.01 Народное художественное творчество (по видам)Среднее общее образованиеОчно-заочная","11Д56025101000209009100","51.02.01 Народное художественное творчество (по видам)","Среднее общее образование","Очно-заочная"]
[null,null,null,null,null,"51.02.01 Народное художественное творчество (по видам)Среднее общее образованиеЗаочная","11Д56025101000217009100","51.02.01 Народное художественное творчество (по видам)","Среднее общее образование","Заочная"]
[null,null,null,null,null,"51.02.02 Социально-культурная деятельность (по видам)Основное общее образованиеОчная","11Д56025201000101007100","51.02.02 Социально-культурная деятельность (по видам)","Основное общее образование","Очная"]
[null,null,null,null,null,"51.02.02 Социально-культурная деятельность (по видам)Основное общее образованиеОчно-заочная","11Д56025201000109009100","51.02.02 Социально-культурная деятельность (по видам)","Основное общее образование","Очно-заочная"]
[null,null,null,null,null,"51.02.02 Социально-культурная деятельность (по видам)Основное общее образованиеЗаочная","11Д56025201000117009100","51.02.02 Социально-культурная деятельность (по видам)","Основное общее образование","Заочная"]
[null,null,null,null,null,"51.02.02 Социально-культурная деятельность (по видам)Среднее общее образованиеОчная","11Д56025201000201006100","51.02.02 Социально-культурная деятельность (по видам)","Среднее общее образование","Очная"]
[null,null,null,null,null,"51.02.02 Социально-культурная деятельность (по видам)Среднее общее образованиеОчно-заочная","11Д56025201000209008100","51.02.02 Социально-культурная деятельность (по видам)","Среднее общее образование","Очно-заочная"]
[null,null,null,null,null,{"$f":"H643&I643&J643","v":"51.02.02 Социально-культурная деятельность (по видам)Среднее общее образованиеЗаочная"},"11Д56025201000217008100","51.02.02 Социально-культурная деятельность (по видам)","Среднее общее образование","Заочная"]
[null,null,null,null,null,"51.02.03 БиблиотековедениеОсновное общее образованиеОчная","11Д56025301000101006100","51.02.03 Библиотековедение","Основное общее образование","Очная"]
[null,null,null,null,null,"51.02.03 БиблиотековедениеОсновное общее образованиеОчно-заочная","11Д56025301000109008100","51.02.03 Библиотековедение","Основное общее образование","Очно-заочная"]
[null,null,null,null,null,"51.02.03 БиблиотековедениеОсновное общее образованиеЗаочная","11Д56025301000117008100","51.02.03 Библиотековедение","Основное общее образование","Заочная"]
[null,null,null,null,null,"51.02.03 БиблиотековедениеСреднее общее образованиеОчная","11Д56025301000201005100","51.02.03 Библиотековедение","Среднее общее образование","Очная"]
[null,null,null,null,null,"51.02.03 БиблиотековедениеСреднее общее образованиеОчно-заочная","11Д56025301000209007100","51.02.03 Библиотековедение","Среднее общее образование","Очно-заочная"]
[null,null,null,null,null,"51.02.03 БиблиотековедениеСреднее общее образованиеЗаочная","11Д56025301000217007100","51.02.03 Библиотековедение","Среднее общее образование","Заочная"]
[null,null,null,null,null,"52.02.01 Искусство балетаСреднее общее образованиеОчная","11Д56025501000201003100","52.02.01 Искусство балета","Среднее общее образование","Очная"]
[null,null,null,null,null,"52.02.01 Искусство балетаСреднее общее образованиеОчно-заочная","11Д56025501000209005100","52.02.01 Искусство балета","Среднее общее образование","Очно-заочная"]
[null,null,null,null,null,"52.02.01 Искусство балетаСреднее общее образованиеЗаочная","11Д56025501000217005100","52.02.01 Искусство балета","Среднее общее образование","Заочная"]
[null,null,null,null,null,"52.02.02 Искусство танца (по видам)Основное общее образованиеОчная","11Д56025601000101003100","52.02.02 Искусство танца (по видам)","Основное общее образование","Очная"]
[null,null,null,null,null,"52.02.02 Искусство танца (по видам)Основное общее образованиеОчно-заочная","11Д56025601000109005100","52.02.02 Искусство танца (по видам)","Основное общее образование","Очно-заочная"]
[null,null,null,null,null,"52.02.02 Искусство танца (по видам)Основное общее образованиеЗаочная","11Д56025601000117005100","52.02.02 Искусство танца (по видам)","Основное общее образование","Заочная"]
[null,null,null,null,null,"52.02.03 Цирковое искусствоОсновное общее образованиеОчно-заочная","11Д56025701000109004100","52.02.03 Цирковое искусство","Основное общее образование","Очно-заочная"]
[null,null,null,null,null,"52.02.03 Цирковое искусствоСреднее общее образованиеОчная","11Д56025701000201001100","52.02.03 Цирковое искусство","Среднее общее образование","Очная"]
[null,null,null,null,null,"52.02.03 Цирковое искусствоСреднее общее образованиеОчно-заочная","11Д56025701000209003100","52.02.03 Цирковое искусство","Среднее общее образование","Очно-заочная"]
[null,null,null,null,null,"52.02.03 Цирковое искусствоСреднее общее образованиеЗаочная","11Д56025701000217003100","52.02.03 Цирковое искусство","Среднее общее образование","Заочная"]
[null,null,null,null,null,"52.02.04 Актерское искусствоОсновное общее образованиеОчная","11Д56025801000101001100","52.02.04 Актерское искусство","Основное общее образование","Очная"]
[null,null,null,null,null,"52.02.04 Актерское искусствоОсновное общее образованиеОчно-заочная","11Д56025801000109003100","52.02.04 Актерское искусство","Основное общее образование","Очно-заочная"]
[null,null,null,null,null,"52.02.04 Актерское искусствоОсновное общее образованиеЗаочная","11Д56025801000117003100","52.02.04 Актерское искусство","Основное общее образование","Заочная"]
[null,null,null,null,null,"52.02.04 Актерское искусствоСреднее общее образованиеОчная","11Д56025801000201000100","52.02.04 Актерское искусство","Среднее общее образование","Очная"]
[null,null,null,null,null,"52.02.04 Актерское искусствоСреднее общее образованиеОчно-заочная","11Д56025801000209002100","52.02.04 Актерское искусство","Среднее общее образование","Очно-заочная"]
[null,null,null,null,null,"52.02.04 Актерское искусствоСреднее общее образованиеЗаочная","11Д56025801000217002100","52.02.04 Актерское искусство","Среднее общее образование","Заочная"]
[null,null,null,null,null,"52.02.05 Искусство эстрадыОсновное общее образованиеОчная","11Д56025901000101000100","52.02.05 Искусство эстрады","Основное общее образование","Очная"]
[null,null,null,null,null,"52.02.05 Искусство эстрадыОсновное общее образованиеОчно-заочная","11Д56025901000109002100","52.02.05 Искусство эстрады","Основное общее образование","Очно-заочная"]
[null,null,null,null,null,"52.02.05 Искусство эстрадыОсновное общее образованиеЗаочная","11Д56025901000117002100","52.02.05 Искусство эстрады","Основное общее образование","Заочная"]
[null,null,null,null,null,"52.02.05 Искусство эстрадыСреднее общее образованиеОчная","11Д56025901000201009100","52.02.05 Искусство эстрады","Среднее общее образование","Очная"]
[null,null,null,null,null,"52.02.05 Искусство эстрадыСреднее общее образованиеОчно-заочная","11Д56025901000209001100","52.02.05 Искусство эстрады","Среднее общее образование","Очно-заочная"]
[null,null,null,null,null,"52.02.05 Искусство эстрадыСреднее общее образованиеЗаочная","11Д56025901000217001100","52.02.05 Искусство эстрады","Среднее общее образование","Заочная"]
[null,null,null,null,null,"53.02.01 Музыкальное образованиеОсновное общее образованиеОчная","11Д56026101000101006100","53.02.01 Музыкальное образование","Основное общее образование","Очная"]
[null,null,null,null,null,"53.02.01 Музыкальное образованиеОсновное общее образованиеОчно-заочная","11Д56026101000109008100","53.02.01 Музыкальное образование","Основное общее образование","Очно-заочная"]
[null,null,null,null,null,"53.02.01 Музыкальное образованиеОсновное общее образованиеЗаочная","11Д56026101000117008100","53.02.01 Музыкальное образование","Основное общее образование","Заочная"]
[null,null,null,null,null,"53.02.01 Музыкальное образованиеСреднее общее образованиеОчная","11Д56026101000201005100","53.02.01 Музыкальное образование","Среднее общее образование","Очная"]
[null,null,null,null,null,"53.02.01 Музыкальное образованиеСреднее общее образованиеОчно-заочная","11Д56026101000209007100","53.02.01 Музыкальное образование","Среднее общее образование","Очно-заочная"]
[null,null,null,null,null,"53.02.01 Музыкальное образованиеСреднее общее образованиеЗаочная","11Д56026101000217007100","53.02.01 Музыкальное образование","Среднее общее образование","Заочная"]
[null,null,null,null,null,"53.02.02 Музыкальное искусство эстрады (по видам)Основное общее образованиеОчная","11Д56026201000101005100","53.02.02 Музыкальное искусство эстрады (по видам)","Основное общее образование","Очная"]
[null,null,null,null,null,"53.02.02 Музыкальное искусство эстрады (по видам)Основное общее образованиеОчно-заочная","11Д56026201000109007100","53.02.02 Музыкальное искусство эстрады (по видам)","Основное общее образование","Очно-заочная"]
[null,null,null,null,null,"53.02.02 Музыкальное искусство эстрады (по видам)Основное общее образованиеЗаочная","11Д56026201000117007100","53.02.02 Музыкальное искусство эстрады (по видам)","Основное общее образование","Заочная"]
[null,null,null,null,null,"53.02.02 Музыкальное искусство эстрады (по видам)Среднее общее образованиеОчная","11Д56026201000201004100","53.02.02 Музыкальное искусство эстрады (по видам)","Среднее общее образование","Очная"]
[null,null,null,null,null,"53.02.02 Музыкальное искусство эстрады (по видам)Среднее общее образованиеОчно-заочная","11Д56026201000209006100","53.02.02 Музыкальное искусство эстрады (по видам)","Среднее общее образование","Очно-заочная"]
[null,null,null,null,null,"53.02.02 Музыкальное искусство эстрады (по видам)Среднее общее образованиеЗаочная","11Д56026201000217006100","53.02.02 Музыкальное искусство эстрады (по видам)","Среднее общее образование","Заочная"]
[null,null,null,null,null,"53.02.03 Инструментальное исполнительство (по видам инструментов)Основное общее образованиеОчная","11Д56026301000101004100","53.02.03 Инструментальное исполнительство (по видам инструментов)","Основное общее образование","Очная"]
[null,null,null,null,null,"53.02.03 Инструментальное исполнительство (по видам инструментов)Основное общее образованиеОчно-заочная","11Д56026301000109006100","53.02.03 Инструментальное исполнительство (по видам инструментов)","Основное общее образование","Очно-заочная"]
[null,null,null,null,null,"53.02.03 Инструментальное исполнительство (по видам инструментов)Среднее общее образованиеОчная","11Д56026301000201003100","53.02.03 Инструментальное исполнительство (по видам инструментов)","Среднее общее образование","Очная"]
[null,null,null,null,null,"53.02.04 Вокальное искусствоОсновное общее образованиеОчная","11Д56026401000101003100","53.02.04 Вокальное искусство","Основное общее образование","Очная"]
[null,null,null,null,null,"53.02.04 Вокальное искусствоОсновное общее образованиеОчно-заочная","11Д56026401000109005100","53.02.04 Вокальное искусство","Основное общее образование","Очно-заочная"]
[null,null,null,null,null,"53.02.04 Вокальное искусствоОсновное общее образованиеЗаочная","11Д56026401000117005100","53.02.04 Вокальное искусство","Основное общее образование","Заочная"]
[null,null,null,null,null,"53.02.04 Вокальное искусствоСреднее общее образованиеОчная","11Д56026401000201002100","53.02.04 Вокальное искусство","Среднее общее образование","Очная"]
[null,null,null,null,null,"53.02.04 Вокальное искусствоСреднее общее образованиеЗаочная","11Д56026401000217004100","53.02.04 Вокальное искусство","Среднее общее образование","Заочная"]
[null,null,null,null,null,"53.02.05 Сольное и хоровое народное пениеОсновное общее образованиеОчная","11Д56026501000101002100","53.02.05 Сольное и хоровое народное пение","Основное общее образование","Очная"]
[null,null,null,null,null,"53.02.05 Сольное и хоровое народное пениеОсновное общее образованиеОчно-заочная","11Д56026501000109004100","53.02.05 Сольное и хоровое народное пение","Основное общее образование","Очно-заочная"]
[null,null,null,null,null,"53.02.05 Сольное и хоровое народное пениеОсновное общее образованиеЗаочная","11Д56026501000117004100","53.02.05 Сольное и хоровое народное пение","Основное общее образование","Заочная"]
[null,null,null,null,null,"53.02.05 Сольное и хоровое народное пениеСреднее общее образованиеОчная","11Д56026501000201001100","53.02.05 Сольное и хоровое народное пение","Среднее общее образование","Очная"]
[null,null,null,null,null,"53.02.05 Сольное и хоровое народное пениеСреднее общее образованиеОчно-заочная","11Д56026501000209003100","53.02.05 Сольное и хоровое народное пение","Среднее общее образование","Очно-заочная"]
[null,null,null,null,null,"53.02.06 Хоровое дирижированиеОсновное общее образованиеОчная","11Д56026601000101001100","53.02.06 Хоровое дирижирование","Основное общее образование","Очная"]
[null,null,null,null,null,"53.02.06 Хоровое дирижированиеОсновное общее образованиеОчно-заочная","11Д56026601000109003100","53.02.06 Хоровое дирижирование","Основное общее образование","Очно-заочная"]
[null,null,null,null,null,"53.02.06 Хоровое дирижированиеОсновное общее образованиеЗаочная","11Д56026601000117003100","53.02.06 Хоровое дирижирование","Основное общее образование","Заочная"]
[null,null,null,null,null,"53.02.06 Хоровое дирижированиеСреднее общее образованиеОчная","11Д56026601000201000100","53.02.06 Хоровое дирижирование","Среднее общее образование","Очная"]
[null,null,null,null,null,"53.02.06 Хоровое дирижированиеСреднее общее образованиеОчно-заочная","11Д56026601000209002100","53.02.06 Хоровое дирижирование","Среднее общее образование","Очно-заочная"]
[null,null,null,null,null,"53.02.06 Хоровое дирижированиеСреднее общее образованиеЗаочная","11Д56026601000217002100","53.02.06 Хоровое дирижирование","Среднее общее образование","Заочная"]
[null,null,null,null,null,"53.02.07 Теория музыкиОсновное общее образованиеОчная","11Д56026701000101000100","53.02.07 Теория музыки","Основное общее образование","Очная"]
[null,null,null,null,null,"53.02.07 Теория музыкиОсновное общее образованиеОчно-заочная","11Д56026701000109002100","53.02.07 Теория музыки","Основное общее образование","Очно-заочная"]
[null,null,null,null,null,"53.02.07 Теория музыкиОсновное общее образованиеЗаочная","11Д56026701000117002100","53.02.07 Теория музыки","Основное общее образование","Заочная"]
[null,null,null,null,null,"53.02.07 Теория музыкиСреднее общее образованиеОчная","11Д56026701000201009100","53.02.07 Теория музыки","Среднее общее образование","Очная"]
[null,null,null,null,null,{"$f":"H707&I707&J707","v":"53.02.07 Теория музыкиСреднее общее образованиеОчно-заочная"},"11Д56026701000209001100","53.02.07 Теория музыки","Среднее общее образование","Очно-заочная"]
[null,null,null,null,null,"53.02.07 Теория музыкиСреднее общее образованиеЗаочная","11Д56026701000217001100","53.02.07 Теория музыки","Среднее общее образование","Заочная"]
[null,null,null,null,null,"53.02.08 Музыкальное звукооператорское мастерствоОсновное общее образованиеОчная","11Д56026801000101009100","53.02.08 Музыкальное звукооператорское мастерство","Основное общее образование","Очная"]
[null,null,null,null,null,"53.02.08 Музыкальное звукооператорское мастерствоОсновное общее образованиеОчно-заочная","11Д56026801000109001100","53.02.08 Музыкальное звукооператорское мастерство","Основное общее образование","Очно-заочная"]
[null,null,null,null,null,"53.02.08 Музыкальное звукооператорское мастерствоОсновное общее образованиеЗаочная","11Д56026801000117001100","53.02.08 Музыкальное звукооператорское мастерство","Основное общее образование","Заочная"]
[null,null,null,null,null,"53.02.08 Музыкальное звукооператорское мастерствоСреднее общее образованиеОчная","11Д56026801000201008100","53.02.08 Музыкальное звукооператорское мастерство","Среднее общее образование","Очная"]
[null,null,null,null,null,"53.02.08 Музыкальное звукооператорское мастерствоСреднее общее образованиеЗаочная","11Д56026801000217000100","53.02.08 Музыкальное звукооператорское мастерство","Среднее общее образование","Заочная"]
[null,null,null,null,null,"53.02.09 Театрально-декорационное искусство (по видам)Основное общее образованиеОчная","11Д56026901000101008100","53.02.09 Театрально-декорационное искусство (по видам)","Основное общее образование","Очная"]
[null,null,null,null,null,"53.02.09 Театрально-декорационное искусство (по видам)Основное общее образованиеОчно-заочная","11Д56026901000109000100","53.02.09 Театрально-декорационное искусство (по видам)","Основное общее образование","Очно-заочная"]
[null,null,null,null,null,"53.02.09 Театрально-декорационное искусство (по видам)Основное общее образованиеЗаочная","11Д56026901000117000100","53.02.09 Театрально-декорационное искусство (по видам)","Основное общее образование","Заочная"]
[null,null,null,null,null,"53.02.09 Театрально-декорационное искусство (по видам)Среднее общее образованиеОчная","11Д56026901000201007100","53.02.09 Театрально-декорационное искусство (по видам)","Среднее общее образование","Очная"]
[null,null,null,null,null,"53.02.09 Театрально-декорационное искусство (по видам)Среднее общее образованиеОчно-заочная","11Д56026901000209009100","53.02.09 Театрально-декорационное искусство (по видам)","Среднее общее образование","Очно-заочная"]
[null,null,null,null,null,"54.02.01 Дизайн (по отраслям)Основное общее образованиеОчная","11Д56027101000101004100","54.02.01 Дизайн (по отраслям)","Основное общее образование","Очная"]
[null,null,null,null,null,"54.02.01 Дизайн (по отраслям)Среднее общее образованиеОчно-заочная","11Д56027101000209005100","54.02.01 Дизайн (по отраслям)","Среднее общее образование","Очно-заочная"]
[null,null,null,null,null,"54.02.01 Дизайн (по отраслям)Среднее общее образованиеЗаочная","11Д56027101000217005100","54.02.01 Дизайн (по отраслям)","Среднее общее образование","Заочная"]
[null,null,null,null,null,"54.02.02 Декоративно-прикладное искусство и народные промыслы (по видам)Основное общее образованиеОчная","11Д56027201000101003100","54.02.02 Декоративно-прикладное искусство и народные промыслы (по видам)","Основное общее образование","Очная"]
[null,null,null,null,null,"54.02.02 Декоративно-прикладное искусство и народные промыслы (по видам)Основное общее образованиеОчно-заочная","11Д56027201000109005100","54.02.02 Декоративно-прикладное искусство и народные промыслы (по видам)","Основное общее образование","Очно-заочная"]
[null,null,null,null,null,"54.02.02 Декоративно-прикладное искусство и народные промыслы (по видам)Основное общее образованиеЗаочная","11Д56027201000117005100","54.02.02 Декоративно-прикладное искусство и народные промыслы (по видам)","Основное общее образование","Заочная"]
[null,null,null,null,null,"54.02.02 Декоративно-прикладное искусство и народные промыслы (по видам)Среднее общее образованиеОчная","11Д56027201000201002100","54.02.02 Декоративно-прикладное искусство и народные промыслы (по видам)","Среднее общее образование","Очная"]
[null,null,null,null,null,"54.02.02 Декоративно-прикладное искусство и народные промыслы (по видам)Среднее общее образованиеОчно-заочная","11Д56027201000209004100","54.02.02 Декоративно-прикладное искусство и народные промыслы (по видам)","Среднее общее образование","Очно-заочная"]
[null,null,null,null,null,"54.02.02 Декоративно-прикладное искусство и народные промыслы (по видам)Среднее общее образованиеЗаочная","11Д56027201000217004100","54.02.02 Декоративно-прикладное искусство и народные промыслы (по видам)","Среднее общее образование","Заочная"]
[null,null,null,null,null,"54.02.03 Художественное оформление изделий текстильной и легкой промышленностиОсновное общее образованиеОчная","11Д56027301000101002100","54.02.03 Художественное оформление изделий текстильной и легкой промышленности","Основное общее образование","Очная"]
[null,null,null,null,null,"54.02.03 Художественное оформление изделий текстильной и легкой промышленностиОсновное общее образованиеОчно-заочная","11Д56027301000109004100","54.02.03 Художественное оформление изделий текстильной и легкой промышленности","Основное общее образование","Очно-заочная"]
[null,null,null,null,null,"54.02.03 Художественное оформление изделий текстильной и легкой промышленностиОсновное общее образованиеЗаочная","11Д56027301000117004100","54.02.03 Художественное оформление изделий текстильной и легкой промышленности","Основное общее образование","Заочная"]
[null,null,null,null,null,"54.02.04 РеставрацияОсновное общее образованиеОчная","11Д56027401000101001100","54.02.04 Реставрация","Основное общее образование","Очная"]
[null,null,null,null,null,"54.02.04 РеставрацияОсновное общее образованиеОчно-заочная","11Д56027401000109003100","54.02.04 Реставрация","Основное общее образование","Очно-заочная"]
[null,null,null,null,null,"54.02.04 РеставрацияОсновное общее образованиеЗаочная","11Д56027401000117003100","54.02.04 Реставрация","Основное общее образование","Заочная"]
[null,null,null,null,null,"54.02.04 РеставрацияСреднее общее образованиеОчная","11Д56027401000201000100","54.02.04 Реставрация","Среднее общее образование","Очная"]
[null,null,null,null,null,"54.02.04 РеставрацияСреднее общее образованиеОчно-заочная","11Д56027401000209002100","54.02.04 Реставрация","Среднее общее образование","Очно-заочная"]
[null,null,null,null,null,"54.02.04 РеставрацияСреднее общее образованиеЗаочная","11Д56027401000217002100","54.02.04 Реставрация","Среднее общее образование","Заочная"]
[null,null,null,null,null,"54.02.05 Живопись (по видам)Основное общее образованиеОчно-заочная","11Д56027501000109002100","54.02.05 Живопись (по видам)","Основное общее образование","Очно-заочная"]
[null,null,null,null,null,"54.02.05 Живопись (по видам)Основное общее образованиеЗаочная","11Д56027501000117002100","54.02.05 Живопись (по видам)","Основное общее образование","Заочная"]
[null,null,null,null,null,"54.02.05 Живопись (по видам)Среднее общее образованиеОчная","11Д56027501000201009100","54.02.05 Живопись (по видам)","Среднее общее образование","Очная"]
[null,null,null,null,null,"54.02.05 Живопись (по видам)Среднее общее образованиеОчно-заочная","11Д56027501000209001100","54.02.05 Живопись (по видам)","Среднее общее образование","Очно-заочная"]
[null,null,null,null,null,"54.02.05 Живопись (по видам)Среднее общее образованиеЗаочная","11Д56027501000217001100","54.02.05 Живопись (по видам)","Среднее общее образование","Заочная"]
[null,null,null,null,null,"54.02.06 Изобразительное искусство и черчениеОсновное общее образованиеОчная","11Д56027601000101009100","54.02.06 Изобразительное искусство и черчение","Основное общее образование","Очная"]
[null,null,null,null,null,"54.02.06 Изобразительное искусство и черчениеОсновное общее образованиеОчно-заочная","11Д56027601000109001100","54.02.06 Изобразительное искусство и черчение","Основное общее образование","Очно-заочная"]
[null,null,null,null,null,"54.02.06 Изобразительное искусство и черчениеОсновное общее образованиеЗаочная","11Д56027601000117001100","54.02.06 Изобразительное искусство и черчение","Основное общее образование","Заочная"]
[null,null,null,null,null,"54.02.06 Изобразительное искусство и черчениеСреднее общее образованиеОчная","11Д56027601000201008100","54.02.06 Изобразительное искусство и черчение","Среднее общее образование","Очная"]
[null,null,null,null,null,"54.02.06 Изобразительное искусство и черчениеСреднее общее образованиеОчно-заочная","11Д56027601000209000100","54.02.06 Изобразительное искусство и черчение","Среднее общее образование","Очно-заочная"]
[null,null,null,null,null,"54.02.06 Изобразительное искусство и черчениеСреднее общее образованиеЗаочная","11Д56027601000217000100","54.02.06 Изобразительное искусство и черчение","Среднее общее образование","Заочная"]
[null,null,null,null,null,"54.02.07 СкульптураОсновное общее образованиеОчно-заочная","11Д56027701000109000100","54.02.07 Скульптура","Основное общее образование","Очно-заочная"]
[null,null,null,null,null,"54.02.07 СкульптураСреднее общее образованиеОчно-заочная","11Д56027701000209009100","54.02.07 Скульптура","Среднее общее образование","Очно-заочная"]
[null,null,null,null,null,"54.02.07 СкульптураСреднее общее образованиеЗаочная","11Д56027701000217009100","54.02.07 Скульптура","Среднее общее образование","Заочная"]
[null,null,null,null,null,"54.02.08 Техника и искусство фотографииОсновное общее образованиеОчно-заочная","11Д56027801000109009100","54.02.08 Техника и искусство фотографии","Основное общее образование","Очно-заочная"]
[null,null,null,null,null,"54.02.08 Техника и искусство фотографииОсновное общее образованиеЗаочная","11Д56027801000117009100","54.02.08 Техника и искусство фотографии","Основное общее образование","Заочная"]
[null,null,null,null,null,"54.02.08 Техника и искусство фотографииСреднее общее образованиеОчная","11Д56027801000201006100","54.02.08 Техника и искусство фотографии","Среднее общее образование","Очная"]
[null,null,null,null,null,"54.02.08 Техника и искусство фотографииСреднее общее образованиеОчно-заочная","11Д56027801000209008100","54.02.08 Техника и искусство фотографии","Среднее общее образование","Очно-заочная"]
[null,null,null,null,null,"55.02.01 Театральная и аудиовизуальная техника (по видам)Основное общее образованиеОчная","11Д56028001000101003100","55.02.01 Театральная и аудиовизуальная техника (по видам)","Основное общее образование","Очная"]
[null,null,null,null,null,"55.02.01 Театральная и аудиовизуальная техника (по видам)Основное общее образованиеОчно-заочная","11Д56028001000109005100","55.02.01 Театральная и аудиовизуальная техника (по видам)","Основное общее образование","Очно-заочная"]
[null,null,null,null,null,"55.02.01 Театральная и аудиовизуальная техника (по видам)Основное общее образованиеЗаочная","11Д56028001000117005100","55.02.01 Театральная и аудиовизуальная техника (по видам)","Основное общее образование","Заочная"]
[null,null,null,null,null,"55.02.01 Театральная и аудиовизуальная техника (по видам)Среднее общее образованиеОчная","11Д56028001000201002100","55.02.01 Театральная и аудиовизуальная техника (по видам)","Среднее общее образование","Очная"]
[null,null,null,null,null,"55.02.01 Театральная и аудиовизуальная техника (по видам)Среднее общее образованиеОчно-заочная","11Д56028001000209004100","55.02.01 Театральная и аудиовизуальная техника (по видам)","Среднее общее образование","Очно-заочная"]
[null,null,null,null,null,"55.02.01 Театральная и аудиовизуальная техника (по видам)Среднее общее образованиеЗаочная","11Д56028001000217004100","55.02.01 Театральная и аудиовизуальная техника (по видам)","Среднее общее образование","Заочная"]
[null,null,null,null,null,"55.02.02 Анимация (по видам)Основное общее образованиеОчная","11Д56028101000101002100","55.02.02 Анимация (по видам)","Основное общее образование","Очная"]
[null,null,null,null,null,"55.02.02 Анимация (по видам)Основное общее образованиеОчно-заочная","11Д56028101000109004100","55.02.02 Анимация (по видам)","Основное общее образование","Очно-заочная"]
[null,null,null,null,null,"55.02.02 Анимация (по видам)Основное общее образованиеЗаочная","11Д56028101000117004100","55.02.02 Анимация (по видам)","Основное общее образование","Заочная"]
[null,null,null,null,null,"55.02.02 Анимация (по видам)Среднее общее образованиеОчная","11Д56028101000201001100","55.02.02 Анимация (по видам)","Среднее общее образование","Очная"]
[null,null,null,null,null,"55.02.02 Анимация (по видам)Среднее общее образованиеОчно-заочная","11Д56028101000209003100","55.02.02 Анимация (по видам)","Среднее общее образование","Очно-заочная"]
[null,null,null,null,null,"55.02.02 Анимация (по видам)Среднее общее образованиеЗаочная","11Д56028101000217003100","55.02.02 Анимация (по видам)","Среднее общее образование","Заочная"]
[null,null,null,null,null,"57.02.01 Пограничная деятельность (по видам деятельности)Основное общее образованиеОчная","11Д56028301000101000100","57.02.01 Пограничная деятельность (по видам деятельности)","Основное общее образование","Очная"]
[null,null,null,null,null,"57.02.01 Пограничная деятельность (по видам деятельности)Основное общее образованиеОчно-заочная","11Д56028301000109002100","57.02.01 Пограничная деятельность (по видам деятельности)","Основное общее образование","Очно-заочная"]
[null,null,null,null,null,"57.02.01 Пограничная деятельность (по видам деятельности)Основное общее образованиеЗаочная","11Д56028301000117002100","57.02.01 Пограничная деятельность (по видам деятельности)","Основное общее образование","Заочная"]
[null,null,null,null,null,"57.02.01 Пограничная деятельность (по видам деятельности)Среднее общее образованиеОчная","11Д56028301000201009100","57.02.01 Пограничная деятельность (по видам деятельности)","Среднее общее образование","Очная"]
[null,null,null,null,null,{"$f":"H771&I771&J771","v":"57.02.01 Пограничная деятельность (по видам деятельности)Среднее общее образованиеОчно-заочная"},"11Д56028301000209001100","57.02.01 Пограничная деятельность (по видам деятельности)","Среднее общее образование","Очно-заочная"]
[null,null,null,null,null,"57.02.01 Пограничная деятельность (по видам деятельности)Среднее общее образованиеЗаочная","11Д56028301000217001100","57.02.01 Пограничная деятельность (по видам деятельности)","Среднее общее образование","Заочная"]
[null,null,null,null,null,"05.02.01 КартографияОсновное общее образованиеОчная","11Д56000201000101000100","05.02.01 Картография","Основное общее образование","Очная"]
[null,null,null,null,null,"05.02.01 КартографияОсновное общее образованиеОчно-заочная","11Д56000201000109002100","05.02.01 Картография","Основное общее образование","Очно-заочная"]
[null,null,null,null,null,"05.02.01 КартографияОсновное общее образованиеЗаочная","11Д56000201000117002100","05.02.01 Картография","Основное общее образование","Заочная"]
[null,null,null,null,null,"05.02.01 КартографияСреднее общее образованиеОчно-заочная","11Д56000201000209001100","05.02.01 Картография","Среднее общее образование","Очно-заочная"]
[null,null,null,null,null,"05.02.01 КартографияСреднее общее образованиеЗаочная","11Д56000201000217001100","05.02.01 Картография","Среднее общее образование","Заочная"]
[null,null,null,null,null,"05.02.02 ГидрологияОсновное общее образованиеОчно-заочная","11Д56000301000109001100","05.02.02 Гидрология","Основное общее образование","Очно-заочная"]
[null,null,null,null,null,"05.02.02 ГидрологияОсновное общее образованиеЗаочная","11Д56000301000117001100","05.02.02 Гидрология","Основное общее образование","Заочная"]
[null,null,null,null,null,"05.02.02 ГидрологияСреднее общее образованиеОчная","11Д56000301000201008100","05.02.02 Гидрология","Среднее общее образование","Очная"]
[null,null,null,null,null,"05.02.02 ГидрологияСреднее общее образованиеОчно-заочная","11Д56000301000209000100","05.02.02 Гидрология","Среднее общее образование","Очно-заочная"]
[null,null,null,null,null,"05.02.03 МетеорологияОсновное общее образованиеЗаочная","11Д56000401000117000100","05.02.03 Метеорология","Основное общее образование","Заочная"]
[null,null,null,null,null,"05.02.03 МетеорологияСреднее общее образованиеОчная","11Д56000401000201007100","05.02.03 Метеорология","Среднее общее образование","Очная"]
[null,null,null,null,null,"05.02.03 МетеорологияСреднее общее образованиеОчно-заочная","11Д56000401000209009100","05.02.03 Метеорология","Среднее общее образование","Очно-заочная"]
[null,null,null,null,null,"05.02.03 МетеорологияСреднее общее образованиеЗаочная","11Д56000401000217009100","05.02.03 Метеорология","Среднее общее образование","Заочная"]
[null,null,null,null,null,"07.02.01 АрхитектураОсновное общее образованиеОчно-заочная","11Д56000601000109008100","07.02.01 Архитектура","Основное общее образование","Очно-заочная"]
[null,null,null,null,null,"07.02.01 АрхитектураОсновное общее образованиеЗаочная","11Д56000601000117008100","07.02.01 Архитектура","Основное общее образование","Заочная"]
[null,null,null,null,null,"07.02.01 АрхитектураСреднее общее образованиеОчная","11Д56000601000201005100","07.02.01 Архитектура","Среднее общее образование","Очная"]
[null,null,null,null,null,"07.02.01 АрхитектураСреднее общее образованиеЗаочная","11Д56000601000217007100","07.02.01 Архитектура","Среднее общее образование","Заочная"]
[null,null,null,null,null,"08.02.01 Строительство и эксплуатация зданий и сооруженийОсновное общее образованиеОчная","11Д56000801000101004100","08.02.01 Строительство и эксплуатация зданий и сооружений","Основное общее образование","Очная"]
[null,null,null,null,null,"08.02.01 Строительство и эксплуатация зданий и сооруженийОсновное общее образованиеЗаочная","11Д56000801000117006100","08.02.01 Строительство и эксплуатация зданий и сооружений","Основное общее образование","Заочная"]
[null,null,null,null,null,"08.02.01 Строительство и эксплуатация зданий и сооруженийСреднее общее образованиеОчная","11Д56000801000201003100","08.02.01 Строительство и эксплуатация зданий и сооружений","Среднее общее образование","Очная"]
[null,null,null,null,null,"08.02.01 Строительство и эксплуатация зданий и сооруженийСреднее общее образованиеЗаочная","11Д56000801000217005100","08.02.01 Строительство и эксплуатация зданий и сооружений","Среднее общее образование","Заочная"]
[null,null,null,null,null,"08.02.02 Строительство и эксплуатация инженерных сооруженийОсновное общее образованиеОчная","11Д56000901000101003100","08.02.02 Строительство и эксплуатация инженерных сооружений","Основное общее образование","Очная"]
[null,null,null,null,null,"08.02.02 Строительство и эксплуатация инженерных сооруженийОсновное общее образованиеОчно-заочная","11Д56000901000109005100","08.02.02 Строительство и эксплуатация инженерных сооружений","Основное общее образование","Очно-заочная"]
[null,null,null,null,null,"08.02.02 Строительство и эксплуатация инженерных сооруженийСреднее общее образованиеОчная","11Д56000901000201002100","08.02.02 Строительство и эксплуатация инженерных сооружений","Среднее общее образование","Очная"]
[null,null,null,null,null,"08.02.02 Строительство и эксплуатация инженерных сооруженийСреднее общее образованиеОчно-заочная","11Д56000901000209004100","08.02.02 Строительство и эксплуатация инженерных сооружений","Среднее общее образование","Очно-заочная"]
[null,null,null,null,null,"08.02.03 Производство неметаллических строительных изделий и конструкцийОсновное общее образованиеОчная","11Д56001001000101000100","08.02.03 Производство неметаллических строительных изделий и конструкций","Основное общее образование","Очная"]
[null,null,null,null,null,"08.02.03 Производство неметаллических строительных изделий и конструкцийОсновное общее образованиеОчно-заочная","11Д56001001000109002100","08.02.03 Производство неметаллических строительных изделий и конструкций","Основное общее образование","Очно-заочная"]
[null,null,null,null,null,"08.02.03 Производство неметаллических строительных изделий и конструкцийОсновное общее образованиеЗаочная","11Д56001001000117002100","08.02.03 Производство неметаллических строительных изделий и конструкций","Основное общее образование","Заочная"]
[null,null,null,null,null,"08.02.03 Производство неметаллических строительных изделий и конструкцийСреднее общее образованиеОчная","11Д56001001000201009100","08.02.03 Производство неметаллических строительных изделий и конструкций","Среднее общее образование","Очная"]
[null,null,null,null,null,"08.02.03 Производство неметаллических строительных изделий и конструкцийСреднее общее образованиеОчно-заочная","11Д56001001000209001100","08.02.03 Производство неметаллических строительных изделий и конструкций","Среднее общее образование","Очно-заочная"]
[null,null,null,null,null,"08.02.03 Производство неметаллических строительных изделий и конструкцийСреднее общее образованиеЗаочная","11Д56001001000217001100","08.02.03 Производство неметаллических строительных изделий и конструкций","Среднее общее образование","Заочная"]
[null,null,null,null,null,"08.02.04 Водоснабжение и водоотведениеОсновное общее образованиеОчная","11Д56001101000101009100","08.02.04 Водоснабжение и водоотведение","Основное общее образование","Очная"]
[null,null,null,null,null,"08.02.04 Водоснабжение и водоотведениеОсновное общее образованиеОчно-заочная","11Д56001101000109001100","08.02.04 Водоснабжение и водоотведение","Основное общее образование","Очно-заочная"]
[null,null,null,null,null,"08.02.04 Водоснабжение и водоотведениеСреднее общее образованиеОчная","11Д56001101000201008100","08.02.04 Водоснабжение и водоотведение","Среднее общее образование","Очная"]
[null,null,null,null,null,"08.02.04 Водоснабжение и водоотведениеСреднее общее образованиеОчно-заочная","11Д56001101000209000100","08.02.04 Водоснабжение и водоотведение","Среднее общее образование","Очно-заочная"]
[null,null,null,null,null,"08.02.04 Водоснабжение и водоотведениеСреднее общее образованиеЗаочная","11Д56001101000217000100","08.02.04 Водоснабжение и водоотведение","Среднее общее образование","Заочная"]
[null,null,null,null,null,"08.02.05 Строительство и эксплуатация автомобильных дорог и аэродромовОсновное общее образованиеОчно-заочная","11Д56001201000109000100","08.02.05 Строительство и эксплуатация автомобильных дорог и аэродромов","Основное общее образование","Очно-заочная"]
[null,null,null,null,null,"08.02.05 Строительство и эксплуатация автомобильных дорог и аэродромовОсновное общее образованиеЗаочная","11Д56001201000117000100","08.02.05 Строительство и эксплуатация автомобильных дорог и аэродромов","Основное общее образование","Заочная"]
[null,null,null,null,null,"08.02.05 Строительство и эксплуатация автомобильных дорог и аэродромовСреднее общее образованиеОчно-заочная","11Д56001201000209009100","08.02.05 Строительство и эксплуатация автомобильных дорог и аэродромов","Среднее общее образование","Очно-заочная"]
[null,null,null,null,null,"08.02.05 Строительство и эксплуатация автомобильных дорог и аэродромовСреднее общее образованиеЗаочная","11Д56001201000217009100","08.02.05 Строительство и эксплуатация автомобильных дорог и аэродромов","Среднее общее образование","Заочная"]
[null,null,null,null,null,"08.02.06 Строительство и эксплуатация городских путей сообщенияОсновное общее образованиеОчная","11Д56001301000101007100","08.02.06 Строительство и эксплуатация городских путей сообщения","Основное общее образование","Очная"]
[null,null,null,null,null,"08.02.06 Строительство и эксплуатация городских путей сообщенияОсновное общее образованиеОчно-заочная","11Д56001301000109009100","08.02.06 Строительство и эксплуатация городских путей сообщения","Основное общее образование","Очно-заочная"]
[null,null,null,null,null,"08.02.06 Строительство и эксплуатация городских путей сообщенияСреднее общее образованиеОчная","11Д56001301000201006100","08.02.06 Строительство и эксплуатация городских путей сообщения","Среднее общее образование","Очная"]
[null,null,null,null,null,"08.02.06 Строительство и эксплуатация городских путей сообщенияСреднее общее образованиеОчно-заочная","11Д56001301000209008100","08.02.06 Строительство и эксплуатация городских путей сообщения","Среднее общее образование","Очно-заочная"]
[null,null,null,null,null,"08.02.06 Строительство и эксплуатация городских путей сообщенияСреднее общее образованиеЗаочная","11Д56001301000217008100","08.02.06 Строительство и эксплуатация городских путей сообщения","Среднее общее образование","Заочная"]
[null,null,null,null,null,"08.02.07 Монтаж и эксплуатация внутренних сантехнических устройств, кондиционирования воздуха и вентиляцииОсновное общее образованиеОчная","11Д56001401000101006100","08.02.07 Монтаж и эксплуатация внутренних сантехнических устройств, кондиционирования воздуха и вентиляции","Основное общее образование","Очная"]
[null,null,null,null,null,"08.02.07 Монтаж и эксплуатация внутренних сантехнических устройств, кондиционирования воздуха и вентиляцииОсновное общее образованиеОчно-заочная","11Д56001401000109008100","08.02.07 Монтаж и эксплуатация внутренних сантехнических устройств, кондиционирования воздуха и вентиляции","Основное общее образование","Очно-заочная"]
[null,null,null,null,null,"08.02.07 Монтаж и эксплуатация внутренних сантехнических устройств, кондиционирования воздуха и вентиляцииСреднее общее образованиеОчная","11Д56001401000201005100","08.02.07 Монтаж и эксплуатация внутренних сантехнических устройств, кондиционирования воздуха и вентиляции","Среднее общее образование","Очная"]
[null,null,null,null,null,"08.02.07 Монтаж и эксплуатация внутренних сантехнических устройств, кондиционирования воздуха и вентиляцииСреднее общее образованиеЗаочная","11Д56001401000217007100","08.02.07 Монтаж и эксплуатация внутренних сантехнических устройств, кондиционирования воздуха и вентиляции","Среднее общее образование","Заочная"]
[null,null,null,null,null,"08.02.08 Монтаж и эксплуатация оборудования и систем газоснабженияОсновное общее образованиеОчная","11Д56001501000101005100","08.02.08 Монтаж и эксплуатация оборудования и систем газоснабжения","Основное общее образование","Очная"]
[null,null,null,null,null,"08.02.08 Монтаж и эксплуатация оборудования и систем газоснабженияОсновное общее образованиеОчно-заочная","11Д56001501000109007100","08.02.08 Монтаж и эксплуатация оборудования и систем газоснабжения","Основное общее образование","Очно-заочная"]
[null,null,null,null,null,"08.02.08 Монтаж и эксплуатация оборудования и систем газоснабженияСреднее общее образованиеОчная","11Д56001501000201004100","08.02.08 Монтаж и эксплуатация оборудования и систем газоснабжения","Среднее общее образование","Очная"]
[null,null,null,null,null,"08.02.08 Монтаж и эксплуатация оборудования и систем газоснабженияСреднее общее образованиеОчно-заочная","11Д56001501000209006100","08.02.08 Монтаж и эксплуатация оборудования и систем газоснабжения","Среднее общее образование","Очно-заочная"]
[null,null,null,null,null,"08.02.09 Монтаж, наладка и эксплуатация электрооборудования промышленных и гражданских зданийОсновное общее образованиеОчная","11Д56001601000101004100","08.02.09 Монтаж, наладка и эксплуатация электрооборудования промышленных и гражданских зданий","Основное общее образование","Очная"]
[null,null,null,null,null,"08.02.09 Монтаж, наладка и эксплуатация электрооборудования промышленных и гражданских зданийОсновное общее образованиеОчно-заочная","11Д56001601000109006100","08.02.09 Монтаж, наладка и эксплуатация электрооборудования промышленных и гражданских зданий","Основное общее образование","Очно-заочная"]
[null,null,null,null,null,"08.02.09 Монтаж, наладка и эксплуатация электрооборудования промышленных и гражданских зданийОсновное общее образованиеЗаочная","11Д56001601000117006100","08.02.09 Монтаж, наладка и эксплуатация электрооборудования промышленных и гражданских зданий","Основное общее образование","Заочная"]
[null,null,null,null,null,"08.02.09 Монтаж, наладка и эксплуатация электрооборудования промышленных и гражданских зданийСреднее общее образованиеОчная","11Д56001601000201003100","08.02.09 Монтаж, наладка и эксплуатация электрооборудования промышленных и гражданских зданий","Среднее общее образование","Очная"]
[null,null,null,null,null,"08.02.09 Монтаж, наладка и эксплуатация электрооборудования промышленных и гражданских зданийСреднее общее образованиеОчно-заочная","11Д56001601000209005100","08.02.09 Монтаж, наладка и эксплуатация электрооборудования промышленных и гражданских зданий","Среднее общее образование","Очно-заочная"]
[null,null,null,null,null,"08.02.09 Монтаж, наладка и эксплуатация электрооборудования промышленных и гражданских зданийСреднее общее образованиеЗаочная","11Д56001601000217005100","08.02.09 Монтаж, наладка и эксплуатация электрооборудования промышленных и гражданских зданий","Среднее общее образование","Заочная"]
[null,null,null,null,null,"08.02.10 Строительство железных дорог, путь и путевое хозяйствоОсновное общее образованиеОчная","11Д56001701000101003100","08.02.10 Строительство железных дорог, путь и путевое хозяйство","Основное общее образование","Очная"]
[null,null,null,null,null,"08.02.10 Строительство железных дорог, путь и путевое хозяйствоОсновное общее образованиеОчно-заочная","11Д56001701000109005100","08.02.10 Строительство железных дорог, путь и путевое хозяйство","Основное общее образование","Очно-заочная"]
[null,null,null,null,null,"08.02.10 Строительство железных дорог, путь и путевое хозяйствоСреднее общее образованиеОчная","11Д56001701000201002100","08.02.10 Строительство железных дорог, путь и путевое хозяйство","Среднее общее образование","Очная"]
[null,null,null,null,null,{"$f":"H835&I835&J835","v":"08.02.10 Строительство железных дорог, путь и путевое хозяйствоСреднее общее образованиеОчно-заочная"},"11Д56001701000209004100","08.02.10 Строительство железных дорог, путь и путевое хозяйство","Среднее общее образование","Очно-заочная"]
[null,null,null,null,null,"08.02.10 Строительство железных дорог, путь и путевое хозяйствоСреднее общее образованиеЗаочная","11Д56001701000217004100","08.02.10 Строительство железных дорог, путь и путевое хозяйство","Среднее общее образование","Заочная"]
[null,null,null,null,null,"08.02.11 Управление, эксплуатация и обслуживание многоквартирного домаОсновное общее образованиеОчная","11Д56001801000101002100","08.02.11 Управление, эксплуатация и обслуживание многоквартирного дома","Основное общее образование","Очная"]
[null,null,null,null,null,"08.02.11 Управление, эксплуатация и обслуживание многоквартирного домаСреднее общее образованиеОчная","11Д56001801000201001100","08.02.11 Управление, эксплуатация и обслуживание многоквартирного дома","Среднее общее образование","Очная"]
[null,null,null,null,null,"08.02.11 Управление, эксплуатация и обслуживание многоквартирного домаСреднее общее образованиеОчно-заочная","11Д56001801000209003100","08.02.11 Управление, эксплуатация и обслуживание многоквартирного дома","Среднее общее образование","Очно-заочная"]
[null,null,null,null,null,"08.02.11 Управление, эксплуатация и обслуживание многоквартирного домаСреднее общее образованиеЗаочная","11Д56001801000217003100","08.02.11 Управление, эксплуатация и обслуживание многоквартирного дома","Среднее общее образование","Заочная"]
[null,null,null,null,null,"09.02.01 Компьютерные системы и комплексыОсновное общее образованиеОчно-заочная","11Д56002001000109000100","09.02.01 Компьютерные системы и комплексы","Основное общее образование","Очно-заочная"]
[null,null,null,null,null,"09.02.01 Компьютерные системы и комплексыСреднее общее образованиеОчно-заочная","11Д56002001000209009100","09.02.01 Компьютерные системы и комплексы","Среднее общее образование","Очно-заочная"]
[null,null,null,null,null,"09.02.01 Компьютерные системы и комплексыСреднее общее образованиеЗаочная","11Д56002001000217009100","09.02.01 Компьютерные системы и комплексы","Среднее общее образование","Заочная"]
[null,null,null,null,null,"09.02.02 Компьютерные сетиОсновное общее образованиеОчная","11Д56002101000101007100","09.02.02 Компьютерные сети","Основное общее образование","Очная"]
[null,null,null,null,null,"09.02.02 Компьютерные сетиОсновное общее образованиеОчно-заочная","11Д56002101000109009100","09.02.02 Компьютерные сети","Основное общее образование","Очно-заочная"]
[null,null,null,null,null,"09.02.02 Компьютерные сетиСреднее общее образованиеОчная","11Д56002101000201006100","09.02.02 Компьютерные сети","Среднее общее образование","Очная"]
[null,null,null,null,null,"09.02.02 Компьютерные сетиСреднее общее образованиеОчно-заочная","11Д56002101000209008100","09.02.02 Компьютерные сети","Среднее общее образование","Очно-заочная"]
[null,null,null,null,null,"09.02.02 Компьютерные сетиСреднее общее образованиеЗаочная","11Д56002101000217008100","09.02.02 Компьютерные сети","Среднее общее образование","Заочная"]
[null,null,null,null,null,"09.02.03 Программирование в компьютерных системахОсновное общее образованиеОчная","11Д56002201000101006100","09.02.03 Программирование в компьютерных системах","Основное общее образование","Очная"]
[null,null,null,null,null,"09.02.03 Программирование в компьютерных системахОсновное общее образованиеОчно-заочная","11Д56002201000109008100","09.02.03 Программирование в компьютерных системах","Основное общее образование","Очно-заочная"]
[null,null,null,null,null,"09.02.03 Программирование в компьютерных системахОсновное общее образованиеЗаочная","11Д56002201000117008100","09.02.03 Программирование в компьютерных системах","Основное общее образование","Заочная"]
[null,null,null,null,null,"09.02.03 Программирование в компьютерных системахСреднее общее образованиеОчная","11Д56002201000201005100","09.02.03 Программирование в компьютерных системах","Среднее общее образование","Очная"]
[null,null,null,null,null,"09.02.03 Программирование в компьютерных системахСреднее общее образованиеОчно-заочная","11Д56002201000209007100","09.02.03 Программирование в компьютерных системах","Среднее общее образование","Очно-заочная"]
[null,null,null,null,null,"09.02.03 Программирование в компьютерных системахСреднее общее образованиеЗаочная","11Д56002201000217007100","09.02.03 Программирование в компьютерных системах","Среднее общее образование","Заочная"]
[null,null,null,null,null,"09.02.04 Информационные системы (по отраслям)Основное общее образованиеОчная","11Д56002301000101005100","09.02.04 Информационные системы (по отраслям)","Основное общее образование","Очная"]
[null,null,null,null,null,"09.02.04 Информационные системы (по отраслям)Основное общее образованиеОчно-заочная","11Д56002301000109007100","09.02.04 Информационные системы (по отраслям)","Основное общее образование","Очно-заочная"]
[null,null,null,null,null,"09.02.04 Информационные системы (по отраслям)Среднее общее образованиеОчная","11Д56002301000201004100","09.02.04 Информационные системы (по отраслям)","Среднее общее образование","Очная"]
[null,null,null,null,null,"09.02.04 Информационные системы (по отраслям)Среднее общее образованиеОчно-заочная","11Д56002301000209006100","09.02.04 Информационные системы (по отраслям)","Среднее общее образование","Очно-заочная"]
[null,null,null,null,null,"09.02.04 Информационные системы (по отраслям)Среднее общее образованиеЗаочная","11Д56002301000217006100","09.02.04 Информационные системы (по отраслям)","Среднее общее образование","Заочная"]
[null,null,null,null,null,"09.02.05 Прикладная информатика (по отраслям)Основное общее образованиеОчная","11Д56002401000101004100","09.02.05 Прикладная информатика (по отраслям)","Основное общее образование","Очная"]
[null,null,null,null,null,"09.02.05 Прикладная информатика (по отраслям)Основное общее образованиеОчно-заочная","11Д56002401000109006100","09.02.05 Прикладная информатика (по отраслям)","Основное общее образование","Очно-заочная"]
[null,null,null,null,null,"09.02.05 Прикладная информатика (по отраслям)Основное общее образованиеЗаочная","11Д56002401000117006100","09.02.05 Прикладная информатика (по отраслям)","Основное общее образование","Заочная"]
[null,null,null,null,null,"09.02.05 Прикладная информатика (по отраслям)Среднее общее образованиеОчная","11Д56002401000201003100","09.02.05 Прикладная информатика (по отраслям)","Среднее общее образование","Очная"]
[null,null,null,null,null,"09.02.05 Прикладная информатика (по отраслям)Среднее общее образованиеОчно-заочная","11Д56002401000209005100","09.02.05 Прикладная информатика (по отраслям)","Среднее общее образование","Очно-заочная"]
[null,null,null,null,null,"09.02.05 Прикладная информатика (по отраслям)Среднее общее образованиеЗаочная","11Д56002401000217005100","09.02.05 Прикладная информатика (по отраслям)","Среднее общее образование","Заочная"]
[null,null,null,null,null,"10.02.01 Организация и технология защиты информацииОсновное общее образованиеОчно-заочная","11Д56002601000109004100","10.02.01 Организация и технология защиты информации","Основное общее образование","Очно-заочная"]
[null,null,null,null,null,"10.02.01 Организация и технология защиты информацииСреднее общее образованиеЗаочная","11Д56002601000217003100","10.02.01 Организация и технология защиты информации","Среднее общее образование","Заочная"]
[null,null,null,null,null,"10.02.02 Информационная безопасность телекоммуникационных системОсновное общее образованиеОчная","11Д56002701000101001100","10.02.02 Информационная безопасность телекоммуникационных систем","Основное общее образование","Очная"]
[null,null,null,null,null,"10.02.02 Информационная безопасность телекоммуникационных системОсновное общее образованиеЗаочная","11Д56002701000117003100","10.02.02 Информационная безопасность телекоммуникационных систем","Основное общее образование","Заочная"]
[null,null,null,null,null,"10.02.02 Информационная безопасность телекоммуникационных системСреднее общее образованиеОчно-заочная","11Д56002701000209002100","10.02.02 Информационная безопасность телекоммуникационных систем","Среднее общее образование","Очно-заочная"]
[null,null,null,null,null,"10.02.02 Информационная безопасность телекоммуникационных системСреднее общее образованиеЗаочная","11Д56002701000217002100","10.02.02 Информационная безопасность телекоммуникационных систем","Среднее общее образование","Заочная"]
[null,null,null,null,null,"10.02.03 Информационная безопасность автоматизированных системОсновное общее образованиеОчная","11Д56002801000101000100","10.02.03 Информационная безопасность автоматизированных систем","Основное общее образование","Очная"]
[null,null,null,null,null,"10.02.03 Информационная безопасность автоматизированных системОсновное общее образованиеОчно-заочная","11Д56002801000109002100","10.02.03 Информационная безопасность автоматизированных систем","Основное общее образование","Очно-заочная"]
[null,null,null,null,null,"10.02.03 Информационная безопасность автоматизированных системСреднее общее образованиеОчная","11Д56002801000201009100","10.02.03 Информационная безопасность автоматизированных систем","Среднее общее образование","Очная"]
[null,null,null,null,null,"10.02.03 Информационная безопасность автоматизированных системСреднее общее образованиеЗаочная","11Д56002801000217001100","10.02.03 Информационная безопасность автоматизированных систем","Среднее общее образование","Заочная"]
[null,null,null,null,null,"11.02.01 РадиоаппаратостроениеОсновное общее образованиеОчная","11Д56003001000101006100","11.02.01 Радиоаппаратостроение","Основное общее образование","Очная"]
[null,null,null,null,null,"11.02.01 РадиоаппаратостроениеОсновное общее образованиеОчно-заочная","11Д56003001000109008100","11.02.01 Радиоаппаратостроение","Основное общее образование","Очно-заочная"]
[null,null,null,null,null,"11.02.01 РадиоаппаратостроениеОсновное общее образованиеЗаочная","11Д56003001000117008100","11.02.01 Радиоаппаратостроение","Основное общее образование","Заочная"]
[null,null,null,null,null,"11.02.01 РадиоаппаратостроениеСреднее общее образованиеОчная","11Д56003001000201005100","11.02.01 Радиоаппаратостроение","Среднее общее образование","Очная"]
[null,null,null,null,null,"11.02.02 Техническое обслуживание и ремонт радиоэлектронной техники (по отраслям)Основное общее образованиеОчная","11Д56003101000101005100","11.02.02 Техническое обслуживание и ремонт радиоэлектронной техники (по отраслям)","Основное общее образование","Очная"]
[null,null,null,null,null,"11.02.02 Техническое обслуживание и ремонт радиоэлектронной техники (по отраслям)Среднее общее образованиеОчно-заочная","11Д56003101000209006100","11.02.02 Техническое обслуживание и ремонт радиоэлектронной техники (по отраслям)","Среднее общее образование","Очно-заочная"]
[null,null,null,null,null,"11.02.02 Техническое обслуживание и ремонт радиоэлектронной техники (по отраслям)Среднее общее образованиеЗаочная","11Д56003101000217006100","11.02.02 Техническое обслуживание и ремонт радиоэлектронной техники (по отраслям)","Среднее общее образование","Заочная"]
[null,null,null,null,null,"11.02.03 Эксплуатация оборудования радиосвязи и электрорадионавигации судовОсновное общее образованиеОчная","11Д56003201000101004100","11.02.03 Эксплуатация оборудования радиосвязи и электрорадионавигации судов","Основное общее образование","Очная"]
[null,null,null,null,null,"11.02.03 Эксплуатация оборудования радиосвязи и электрорадионавигации судовОсновное общее образованиеЗаочная","11Д56003201000117006100","11.02.03 Эксплуатация оборудования радиосвязи и электрорадионавигации судов","Основное общее образование","Заочная"]
[null,null,null,null,null,"11.02.03 Эксплуатация оборудования радиосвязи и электрорадионавигации судовСреднее общее образованиеОчно-заочная","11Д56003201000209005100","11.02.03 Эксплуатация оборудования радиосвязи и электрорадионавигации судов","Среднее общее образование","Очно-заочная"]
[null,null,null,null,null,"11.02.03 Эксплуатация оборудования радиосвязи и электрорадионавигации судовСреднее общее образованиеЗаочная","11Д56003201000217005100","11.02.03 Эксплуатация оборудования радиосвязи и электрорадионавигации судов","Среднее общее образование","Заочная"]
[null,null,null,null,null,"11.02.04 Радиотехнические комплексы и системы управления космических летательных аппаратовОсновное общее образованиеОчная","11Д56003301000101003100","11.02.04 Радиотехнические комплексы и системы управления космических летательных аппаратов","Основное общее образование","Очная"]
[null,null,null,null,null,"11.02.04 Радиотехнические комплексы и системы управления космических летательных аппаратовОсновное общее образованиеОчно-заочная","11Д56003301000109005100","11.02.04 Радиотехнические комплексы и системы управления космических летательных аппаратов","Основное общее образование","Очно-заочная"]
[null,null,null,null,null,"11.02.04 Радиотехнические комплексы и системы управления космических летательных аппаратовОсновное общее образованиеЗаочная","11Д56003301000117005100","11.02.04 Радиотехнические комплексы и системы управления космических летательных аппаратов","Основное общее образование","Заочная"]
[null,null,null,null,null,"11.02.05 Аудиовизуальная техникаОсновное общее образованиеОчная","11Д56003401000101002100","11.02.05 Аудиовизуальная техника","Основное общее образование","Очная"]
[null,null,null,null,null,"11.02.05 Аудиовизуальная техникаОсновное общее образованиеОчно-заочная","11Д56003401000109004100","11.02.05 Аудиовизуальная техника","Основное общее образование","Очно-заочная"]
[null,null,null,null,null,"11.02.05 Аудиовизуальная техникаОсновное общее образованиеЗаочная","11Д56003401000117004100","11.02.05 Аудиовизуальная техника","Основное общее образование","Заочная"]
[null,null,null,null,null,"11.02.05 Аудиовизуальная техникаСреднее общее образованиеОчная","11Д56003401000201001100","11.02.05 Аудиовизуальная техника","Среднее общее образование","Очная"]
[null,null,null,null,null,"11.02.05 Аудиовизуальная техникаСреднее общее образованиеОчно-заочная","11Д56003401000209003100","11.02.05 Аудиовизуальная техника","Среднее общее образование","Очно-заочная"]
[null,null,null,null,null,"11.02.05 Аудиовизуальная техникаСреднее общее образованиеЗаочная","11Д56003401000217003100","11.02.05 Аудиовизуальная техника","Среднее общее образование","Заочная"]
[null,null,null,null,null,"11.02.06 Техническая эксплуатация транспортного радиоэлектронного оборудования (по видам транспорта)Основное общее образованиеОчно-заочная","11Д56003501000109003100","11.02.06 Техническая эксплуатация транспортного радиоэлектронного оборудования (по видам транспорта)","Основное общее образование","Очно-заочная"]
[null,null,null,null,null,"11.02.06 Техническая эксплуатация транспортного радиоэлектронного оборудования (по видам транспорта)Основное общее образованиеЗаочная","11Д56003501000117003100","11.02.06 Техническая эксплуатация транспортного радиоэлектронного оборудования (по видам транспорта)","Основное общее образование","Заочная"]
[null,null,null,null,null,"11.02.06 Техническая эксплуатация транспортного радиоэлектронного оборудования (по видам транспорта)Среднее общее образованиеОчная","11Д56003501000201000100","11.02.06 Техническая эксплуатация транспортного радиоэлектронного оборудования (по видам транспорта)","Среднее общее образование","Очная"]
[null,null,null,null,null,{"$f":"H899&I899&J899","v":"11.02.06 Техническая эксплуатация транспортного радиоэлектронного оборудования (по видам транспорта)Среднее общее образованиеОчно-заочная"},"11Д56003501000209002100","11.02.06 Техническая эксплуатация транспортного радиоэлектронного оборудования (по видам транспорта)","Среднее общее образование","Очно-заочная"]
[null,null,null,null,null,"11.02.07 Радиотехнические информационные системыОсновное общее образованиеОчная","11Д56003601000101000100","11.02.07 Радиотехнические информационные системы","Основное общее образование","Очная"]
[null,null,null,null,null,"11.02.07 Радиотехнические информационные системыОсновное общее образованиеОчно-заочная","11Д56003601000109002100","11.02.07 Радиотехнические информационные системы","Основное общее образование","Очно-заочная"]
[null,null,null,null,null,"11.02.07 Радиотехнические информационные системыСреднее общее образованиеОчная","11Д56003601000201009100","11.02.07 Радиотехнические информационные системы","Среднее общее образование","Очная"]
[null,null,null,null,null,"11.02.07 Радиотехнические информационные системыСреднее общее образованиеОчно-заочная","11Д56003601000209001100","11.02.07 Радиотехнические информационные системы","Среднее общее образование","Очно-заочная"]
[null,null,null,null,null,"11.02.08 Средства связи с подвижными объектамиОсновное общее образованиеОчная","11Д56003701000101009100","11.02.08 Средства связи с подвижными объектами","Основное общее образование","Очная"]
[null,null,null,null,null,"11.02.08 Средства связи с подвижными объектамиОсновное общее образованиеОчно-заочная","11Д56003701000109001100","11.02.08 Средства связи с подвижными объектами","Основное общее образование","Очно-заочная"]
[null,null,null,null,null,"11.02.08 Средства связи с подвижными объектамиСреднее общее образованиеОчная","11Д56003701000201008100","11.02.08 Средства связи с подвижными объектами","Среднее общее образование","Очная"]
[null,null,null,null,null,"11.02.08 Средства связи с подвижными объектамиСреднее общее образованиеОчно-заочная","11Д56003701000209000100","11.02.08 Средства связи с подвижными объектами","Среднее общее образование","Очно-заочная"]
[null,null,null,null,null,"11.02.08 Средства связи с подвижными объектамиСреднее общее образованиеЗаочная","11Д56003701000217000100","11.02.08 Средства связи с подвижными объектами","Среднее общее образование","Заочная"]
[null,null,null,null,null,"11.02.09 Многоканальные телекоммуникационные системыОсновное общее образованиеОчная","11Д56003801000101008100","11.02.09 Многоканальные телекоммуникационные системы","Основное общее образование","Очная"]
[null,null,null,null,null,"11.02.09 Многоканальные телекоммуникационные системыОсновное общее образованиеОчно-заочная","11Д56003801000109000100","11.02.09 Многоканальные телекоммуникационные системы","Основное общее образование","Очно-заочная"]
[null,null,null,null,null,"11.02.09 Многоканальные телекоммуникационные системыОсновное общее образованиеЗаочная","11Д56003801000117000100","11.02.09 Многоканальные телекоммуникационные системы","Основное общее образование","Заочная"]
[null,null,null,null,null,"11.02.09 Многоканальные телекоммуникационные системыСреднее общее образованиеОчная","11Д56003801000201007100","11.02.09 Многоканальные телекоммуникационные системы","Среднее общее образование","Очная"]
[null,null,null,null,null,"11.02.09 Многоканальные телекоммуникационные системыСреднее общее образованиеОчно-заочная","11Д56003801000209009100","11.02.09 Многоканальные телекоммуникационные системы","Среднее общее образование","Очно-заочная"]
[null,null,null,null,null,"11.02.09 Многоканальные телекоммуникационные системыСреднее общее образованиеЗаочная","11Д56003801000217009100","11.02.09 Многоканальные телекоммуникационные системы","Среднее общее образование","Заочная"]
[null,null,null,null,null,"11.02.10 Радиосвязь, радиовещание и телевидениеОсновное общее образованиеОчно-заочная","11Д56003901000109009100","11.02.10 Радиосвязь, радиовещание и телевидение","Основное общее образование","Очно-заочная"]
[null,null,null,null,null,"11.02.10 Радиосвязь, радиовещание и телевидениеОсновное общее образованиеЗаочная","11Д56003901000117009100","11.02.10 Радиосвязь, радиовещание и телевидение","Основное общее образование","Заочная"]
[null,null,null,null,null,"11.02.10 Радиосвязь, радиовещание и телевидениеСреднее общее образованиеОчная","11Д56003901000201006100","11.02.10 Радиосвязь, радиовещание и телевидение","Среднее общее образование","Очная"]
[null,null,null,null,null,"11.02.10 Радиосвязь, радиовещание и телевидениеСреднее общее образованиеОчно-заочная","11Д56003901000209008100","11.02.10 Радиосвязь, радиовещание и телевидение","Среднее общее образование","Очно-заочная"]
[null,null,null,null,null,"11.02.10 Радиосвязь, радиовещание и телевидениеСреднее общее образованиеЗаочная","11Д56003901000217008100","11.02.10 Радиосвязь, радиовещание и телевидение","Среднее общее образование","Заочная"]
[null,null,null,null,null,"11.02.11 Сети связи и системы коммутацииОсновное общее образованиеОчная","11Д56004001000101004100","11.02.11 Сети связи и системы коммутации","Основное общее образование","Очная"]
[null,null,null,null,null,"11.02.11 Сети связи и системы коммутацииОсновное общее образованиеОчно-заочная","11Д56004001000109006100","11.02.11 Сети связи и системы коммутации","Основное общее образование","Очно-заочная"]
[null,null,null,null,null,"11.02.11 Сети связи и системы коммутацииОсновное общее образованиеЗаочная","11Д56004001000117006100","11.02.11 Сети связи и системы коммутации","Основное общее образование","Заочная"]
[null,null,null,null,null,"11.02.11 Сети связи и системы коммутацииСреднее общее образованиеОчная","11Д56004001000201003100","11.02.11 Сети связи и системы коммутации","Среднее общее образование","Очная"]
[null,null,null,null,null,"11.02.11 Сети связи и системы коммутацииСреднее общее образованиеОчно-заочная","11Д56004001000209005100","11.02.11 Сети связи и системы коммутации","Среднее общее образование","Очно-заочная"]
[null,null,null,null,null,"11.02.11 Сети связи и системы коммутацииСреднее общее образованиеЗаочная","11Д56004001000217005100","11.02.11 Сети связи и системы коммутации","Среднее общее образование","Заочная"]
[null,null,null,null,null,"11.02.12 Почтовая связьОсновное общее образованиеОчная","11Д56004101000101003100","11.02.12 Почтовая связь","Основное общее образование","Очная"]
[null,null,null,null,null,"11.02.12 Почтовая связьОсновное общее образованиеОчно-заочная","11Д56004101000109005100","11.02.12 Почтовая связь","Основное общее образование","Очно-заочная"]
[null,null,null,null,null,"11.02.12 Почтовая связьОсновное общее образованиеЗаочная","11Д56004101000117005100","11.02.12 Почтовая связь","Основное общее образование","Заочная"]
[null,null,null,null,null,"11.02.12 Почтовая связьСреднее общее образованиеОчная","11Д56004101000201002100","11.02.12 Почтовая связь","Среднее общее образование","Очная"]
[null,null,null,null,null,"11.02.12 Почтовая связьСреднее общее образованиеЗаочная","11Д56004101000217004100","11.02.12 Почтовая связь","Среднее общее образование","Заочная"]
[null,null,null,null,null,"11.02.13 Твердотельная электроникаОсновное общее образованиеОчная","11Д56004201000101002100","11.02.13 Твердотельная электроника","Основное общее образование","Очная"]
[null,null,null,null,null,"11.02.13 Твердотельная электроникаОсновное общее образованиеОчно-заочная","11Д56004201000109004100","11.02.13 Твердотельная электроника","Основное общее образование","Очно-заочная"]
[null,null,null,null,null,"11.02.13 Твердотельная электроникаСреднее общее образованиеОчная","11Д56004201000201001100","11.02.13 Твердотельная электроника","Среднее общее образование","Очная"]
[null,null,null,null,null,"11.02.13 Твердотельная электроникаСреднее общее образованиеОчно-заочная","11Д56004201000209003100","11.02.13 Твердотельная электроника","Среднее общее образование","Очно-заочная"]
[null,null,null,null,null,"11.02.14 Электронные приборы и устройстваОсновное общее образованиеОчная","11Д56004301000101001100","11.02.14 Электронные приборы и устройства","Основное общее образование","Очная"]
[null,null,null,null,null,"11.02.14 Электронные приборы и устройстваОсновное общее образованиеОчно-заочная","11Д56004301000109003100","11.02.14 Электронные приборы и устройства","Основное общее образование","Очно-заочная"]
[null,null,null,null,null,"11.02.14 Электронные приборы и устройстваСреднее общее образованиеОчная","11Д56004301000201000100","11.02.14 Электронные приборы и устройства","Среднее общее образование","Очная"]
[null,null,null,null,null,"11.02.14 Электронные приборы и устройстваСреднее общее образованиеОчно-заочная","11Д56004301000209002100","11.02.14 Электронные приборы и устройства","Среднее общее образование","Очно-заочная"]
[null,null,null,null,null,"11.02.14 Электронные приборы и устройстваСреднее общее образованиеЗаочная","11Д56004301000217002100","11.02.14 Электронные приборы и устройства","Среднее общее образование","Заочная"]
[null,null,null,null,null,"12.02.01 Авиационные приборы и комплексыОсновное общее образованиеОчно-заочная","11Д56004501000109001100","12.02.01 Авиационные приборы и комплексы","Основное общее образование","Очно-заочная"]
[null,null,null,null,null,"12.02.01 Авиационные приборы и комплексыСреднее общее образованиеОчно-заочная","11Д56004501000209000100","12.02.01 Авиационные приборы и комплексы","Среднее общее образование","Очно-заочная"]
[null,null,null,null,null,"12.02.01 Авиационные приборы и комплексыСреднее общее образованиеЗаочная","11Д56004501000217000100","12.02.01 Авиационные приборы и комплексы","Среднее общее образование","Заочная"]
[null,null,null,null,null,"12.02.02 Акустические приборы и системыОсновное общее образованиеЗаочная","11Д56004601000117000100","12.02.02 Акустические приборы и системы","Основное общее образование","Заочная"]
[null,null,null,null,null,"12.02.02 Акустические приборы и системыСреднее общее образованиеОчная","11Д56004601000201007100","12.02.02 Акустические приборы и системы","Среднее общее образование","Очная"]
[null,null,null,null,null,"12.02.02 Акустические приборы и системыСреднее общее образованиеЗаочная","11Д56004601000217009100","12.02.02 Акустические приборы и системы","Среднее общее образование","Заочная"]
[null,null,null,null,null,"12.02.03 Радиоэлектронные приборные устройстваОсновное общее образованиеОчно-заочная","11Д56004701000109009100","12.02.03 Радиоэлектронные приборные устройства","Основное общее образование","Очно-заочная"]
[null,null,null,null,null,"12.02.03 Радиоэлектронные приборные устройстваОсновное общее образованиеЗаочная","11Д56004701000117009100","12.02.03 Радиоэлектронные приборные устройства","Основное общее образование","Заочная"]
[null,null,null,null,null,"12.02.03 Радиоэлектронные приборные устройстваСреднее общее образованиеОчно-заочная","11Д56004701000209008100","12.02.03 Радиоэлектронные приборные устройства","Среднее общее образование","Очно-заочная"]
[null,null,null,null,null,"12.02.03 Радиоэлектронные приборные устройстваСреднее общее образованиеЗаочная","11Д56004701000217008100","12.02.03 Радиоэлектронные приборные устройства","Среднее общее образование","Заочная"]
[null,null,null,null,null,"12.02.04 Электромеханические приборные устройстваОсновное общее образованиеОчная","11Д56004801000101006100","12.02.04 Электромеханические приборные устройства","Основное общее образование","Очная"]
[null,null,null,null,null,"12.02.04 Электромеханические приборные устройстваОсновное общее образованиеОчно-заочная","11Д56004801000109008100","12.02.04 Электромеханические приборные устройства","Основное общее образование","Очно-заочная"]
[null,null,null,null,null,"12.02.04 Электромеханические приборные устройстваСреднее общее образованиеОчная","11Д56004801000201005100","12.02.04 Электромеханические приборные устройства","Среднее общее образование","Очная"]
[null,null,null,null,null,"12.02.04 Электромеханические приборные устройстваСреднее общее образованиеОчно-заочная","11Д56004801000209007100","12.02.04 Электромеханические приборные устройства","Среднее общее образование","Очно-заочная"]
[null,null,null,null,null,"12.02.05 Оптические и оптико-электронные приборы и системыОсновное общее образованиеЗаочная","11Д56004901000117007100","12.02.05 Оптические и оптико-электронные приборы и системы","Основное общее образование","Заочная"]
[null,null,null,null,null,"12.02.05 Оптические и оптико-электронные приборы и системыСреднее общее образованиеОчная","11Д56004901000201004100","12.02.05 Оптические и оптико-электронные приборы и системы","Среднее общее образование","Очная"]
[null,null,null,null,null,"12.02.05 Оптические и оптико-электронные приборы и системыСреднее общее образованиеЗаочная","11Д56004901000217006100","12.02.05 Оптические и оптико-электронные приборы и системы","Среднее общее образование","Заочная"]
[null,null,null,null,null,"12.02.06 Биотехнические и медицинские аппараты и системыОсновное общее образованиеОчная","11Д56005001000101001100","12.02.06 Биотехнические и медицинские аппараты и системы","Основное общее образование","Очная"]
[null,null,null,null,null,"12.02.06 Биотехнические и медицинские аппараты и системыОсновное общее образованиеОчно-заочная","11Д56005001000109003100","12.02.06 Биотехнические и медицинские аппараты и системы","Основное общее образование","Очно-заочная"]
[null,null,null,null,null,"12.02.06 Биотехнические и медицинские аппараты и системыОсновное общее образованиеЗаочная","11Д56005001000117003100","12.02.06 Биотехнические и медицинские аппараты и системы","Основное общее образование","Заочная"]
[null,null,null,null,null,"12.02.06 Биотехнические и медицинские аппараты и системыСреднее общее образованиеОчная","11Д56005001000201000100","12.02.06 Биотехнические и медицинские аппараты и системы","Среднее общее образование","Очная"]
[null,null,null,null,null,"12.02.06 Биотехнические и медицинские аппараты и системыСреднее общее образованиеОчно-заочная","11Д56005001000209002100","12.02.06 Биотехнические и медицинские аппараты и системы","Среднее общее образование","Очно-заочная"]
[null,null,null,null,null,"12.02.06 Биотехнические и медицинские аппараты и системыСреднее общее образованиеЗаочная","11Д56005001000217002100","12.02.06 Биотехнические и медицинские аппараты и системы","Среднее общее образование","Заочная"]
[null,null,null,null,null,{"$f":"H963&I963&J963","v":"12.02.07 Монтаж, техническое обслуживание и ремонт медицинской техникиОсновное общее образованиеОчная"},"11Д56005101000101000100","12.02.07 Монтаж, техническое обслуживание и ремонт медицинской техники","Основное общее образование","Очная"]
[null,null,null,null,null,"12.02.07 Монтаж, техническое обслуживание и ремонт медицинской техникиОсновное общее образованиеОчно-заочная","11Д56005101000109002100","12.02.07 Монтаж, техническое обслуживание и ремонт медицинской техники","Основное общее образование","Очно-заочная"]
[null,null,null,null,null,"12.02.07 Монтаж, техническое обслуживание и ремонт медицинской техникиСреднее общее образованиеОчная","11Д56005101000201009100","12.02.07 Монтаж, техническое обслуживание и ремонт медицинской техники","Среднее общее образование","Очная"]
[null,null,null,null,null,"12.02.07 Монтаж, техническое обслуживание и ремонт медицинской техникиСреднее общее образованиеОчно-заочная","11Д56005101000209001100","12.02.07 Монтаж, техническое обслуживание и ремонт медицинской техники","Среднее общее образование","Очно-заочная"]
[null,null,null,null,null,"12.02.08 Протезно-ортопедическая и реабилитационная техникаОсновное общее образованиеОчная","11Д56005201000101009100","12.02.08 Протезно-ортопедическая и реабилитационная техника","Основное общее образование","Очная"]
[null,null,null,null,null,"12.02.08 Протезно-ортопедическая и реабилитационная техникаОсновное общее образованиеОчно-заочная","11Д56005201000109001100","12.02.08 Протезно-ортопедическая и реабилитационная техника","Основное общее образование","Очно-заочная"]
[null,null,null,null,null,"12.02.08 Протезно-ортопедическая и реабилитационная техникаОсновное общее образованиеЗаочная","11Д56005201000117001100","12.02.08 Протезно-ортопедическая и реабилитационная техника","Основное общее образование","Заочная"]
[null,null,null,null,null,"12.02.08 Протезно-ортопедическая и реабилитационная техникаСреднее общее образованиеОчная","11Д56005201000201008100","12.02.08 Протезно-ортопедическая и реабилитационная техника","Среднее общее образование","Очная"]
[null,null,null,null,null,"12.02.08 Протезно-ортопедическая и реабилитационная техникаСреднее общее образованиеОчно-заочная","11Д56005201000209000100","12.02.08 Протезно-ортопедическая и реабилитационная техника","Среднее общее образование","Очно-заочная"]
[null,null,null,null,null,"13.02.01 Тепловые электрические станцииОсновное общее образованиеОчная","11Д56005401000101007100","13.02.01 Тепловые электрические станции","Основное общее образование","Очная"]
[null,null,null,null,null,"13.02.01 Тепловые электрические станцииОсновное общее образованиеОчно-заочная","11Д56005401000109009100","13.02.01 Тепловые электрические станции","Основное общее образование","Очно-заочная"]
[null,null,null,null,null,"13.02.01 Тепловые электрические станцииСреднее общее образованиеОчная","11Д56005401000201006100","13.02.01 Тепловые электрические станции","Среднее общее образование","Очная"]
[null,null,null,null,null,"13.02.02 Теплоснабжение и теплотехническое оборудованиеОсновное общее образованиеОчная","11Д56005501000101006100","13.02.02 Теплоснабжение и теплотехническое оборудование","Основное общее образование","Очная"]
[null,null,null,null,null,"13.02.02 Теплоснабжение и теплотехническое оборудованиеОсновное общее образованиеОчно-заочная","11Д56005501000109008100","13.02.02 Теплоснабжение и теплотехническое оборудование","Основное общее образование","Очно-заочная"]
[null,null,null,null,null,"13.02.02 Теплоснабжение и теплотехническое оборудованиеСреднее общее образованиеОчная","11Д56005501000201005100","13.02.02 Теплоснабжение и теплотехническое оборудование","Среднее общее образование","Очная"]
[null,null,null,null,null,"13.02.02 Теплоснабжение и теплотехническое оборудованиеСреднее общее образованиеОчно-заочная","11Д56005501000209007100","13.02.02 Теплоснабжение и теплотехническое оборудование","Среднее общее образование","Очно-заочная"]
[null,null,null,null,null,"13.02.02 Теплоснабжение и теплотехническое оборудованиеСреднее общее образованиеЗаочная","11Д56005501000217007100","13.02.02 Теплоснабжение и теплотехническое оборудование","Среднее общее образование","Заочная"]
[null,null,null,null,null,"13.02.03 Электрические станции, сети и системыОсновное общее образованиеОчная","11Д56005601000101005100","13.02.03 Электрические станции, сети и системы","Основное общее образование","Очная"]
[null,null,null,null,null,"13.02.03 Электрические станции, сети и системыОсновное общее образованиеОчно-заочная","11Д56005601000109007100","13.02.03 Электрические станции, сети и системы","Основное общее образование","Очно-заочная"]
[null,null,null,null,null,"13.02.03 Электрические станции, сети и системыОсновное общее образованиеЗаочная","11Д56005601000117007100","13.02.03 Электрические станции, сети и системы","Основное общее образование","Заочная"]
[null,null,null,null,null,"13.02.03 Электрические станции, сети и системыСреднее общее образованиеОчная","11Д56005601000201004100","13.02.03 Электрические станции, сети и системы","Среднее общее образование","Очная"]
[null,null,null,null,null,"13.02.03 Электрические станции, сети и системыСреднее общее образованиеЗаочная","11Д56005601000217006100","13.02.03 Электрические станции, сети и системы","Среднее общее образование","Заочная"]
[null,null,null,null,null,"13.02.04 Гидроэлектроэнергетические установкиОсновное общее образованиеОчная","11Д56005701000101004100","13.02.04 Гидроэлектроэнергетические установки","Основное общее образование","Очная"]
[null,null,null,null,null,"13.02.04 Гидроэлектроэнергетические установкиОсновное общее образованиеОчно-заочная","11Д56005701000109006100","13.02.04 Гидроэлектроэнергетические установки","Основное общее образование","Очно-заочная"]
[null,null,null,null,null,"13.02.04 Гидроэлектроэнергетические установкиОсновное общее образованиеЗаочная","11Д56005701000117006100","13.02.04 Гидроэлектроэнергетические установки","Основное общее образование","Заочная"]
[null,null,null,null,null,"13.02.04 Гидроэлектроэнергетические установкиСреднее общее образованиеОчно-заочная","11Д56005701000209005100","13.02.04 Гидроэлектроэнергетические установки","Среднее общее образование","Очно-заочная"]
[null,null,null,null,null,"13.02.04 Гидроэлектроэнергетические установкиСреднее общее образованиеЗаочная","11Д56005701000217005100","13.02.04 Гидроэлектроэнергетические установки","Среднее общее образование","Заочная"]
[null,null,null,null,null,"13.02.05 Технология воды, топлива и смазочных материалов на электрических станцияхОсновное общее образованиеОчная","11Д56005801000101003100","13.02.05 Технология воды, топлива и смазочных материалов на электрических станциях","Основное общее образование","Очная"]
[null,null,null,null,null,"13.02.05 Технология воды, топлива и смазочных материалов на электрических станцияхОсновное общее образованиеОчно-заочная","11Д56005801000109005100","13.02.05 Технология воды, топлива и смазочных материалов на электрических станциях","Основное общее образование","Очно-заочная"]
[null,null,null,null,null,"13.02.05 Технология воды, топлива и смазочных материалов на электрических станцияхОсновное общее образованиеЗаочная","11Д56005801000117005100","13.02.05 Технология воды, топлива и смазочных материалов на электрических станциях","Основное общее образование","Заочная"]
[null,null,null,null,null,"13.02.05 Технология воды, топлива и смазочных материалов на электрических станцияхСреднее общее образованиеОчная","11Д56005801000201002100","13.02.05 Технология воды, топлива и смазочных материалов на электрических станциях","Среднее общее образование","Очная"]
[null,null,null,null,null,"13.02.05 Технология воды, топлива и смазочных материалов на электрических станцияхСреднее общее образованиеОчно-заочная","11Д56005801000209004100","13.02.05 Технология воды, топлива и смазочных материалов на электрических станциях","Среднее общее образование","Очно-заочная"]
[null,null,null,null,null,"13.02.05 Технология воды, топлива и смазочных материалов на электрических станцияхСреднее общее образованиеЗаочная","11Д56005801000217004100","13.02.05 Технология воды, топлива и смазочных материалов на электрических станциях","Среднее общее образование","Заочная"]
[null,null,null,null,null,"13.02.06 Релейная защита и автоматизация электроэнергетических системОсновное общее образованиеОчная","11Д56005901000101002100","13.02.06 Релейная защита и автоматизация электроэнергетических систем","Основное общее образование","Очная"]
[null,null,null,null,null,"13.02.06 Релейная защита и автоматизация электроэнергетических системОсновное общее образованиеОчно-заочная","11Д56005901000109004100","13.02.06 Релейная защита и автоматизация электроэнергетических систем","Основное общее образование","Очно-заочная"]
[null,null,null,null,null,"13.02.06 Релейная защита и автоматизация электроэнергетических системСреднее общее образованиеОчная","11Д56005901000201001100","13.02.06 Релейная защита и автоматизация электроэнергетических систем","Среднее общее образование","Очная"]
[null,null,null,null,null,"13.02.06 Релейная защита и автоматизация электроэнергетических системСреднее общее образованиеОчно-заочная","11Д56005901000209003100","13.02.06 Релейная защита и автоматизация электроэнергетических систем","Среднее общее образование","Очно-заочная"]
[null,null,null,null,null,"13.02.07 Электроснабжение (по отраслям)Основное общее образованиеОчная","11Д56006001000101009100","13.02.07 Электроснабжение (по отраслям)","Основное общее образование","Очная"]
[null,null,null,null,null,"13.02.07 Электроснабжение (по отраслям)Основное общее образованиеЗаочная","11Д56006001000117001100","13.02.07 Электроснабжение (по отраслям)","Основное общее образование","Заочная"]
[null,null,null,null,null,"13.02.07 Электроснабжение (по отраслям)Среднее общее образованиеОчная","11Д56006001000201008100","13.02.07 Электроснабжение (по отраслям)","Среднее общее образование","Очная"]
[null,null,null,null,null,"13.02.07 Электроснабжение (по отраслям)Среднее общее образованиеОчно-заочная","11Д56006001000209000100","13.02.07 Электроснабжение (по отраслям)","Среднее общее образование","Очно-заочная"]
[null,null,null,null,null,"13.02.07 Электроснабжение (по отраслям)Среднее общее образованиеЗаочная","11Д56006001000217000100","13.02.07 Электроснабжение (по отраслям)","Среднее общее образование","Заочная"]
[null,null,null,null,null,"13.02.08 Электроизоляционная, кабельная и конденсаторная техникаОсновное общее образованиеОчная","11Д56006101000101008100","13.02.08 Электроизоляционная, кабельная и конденсаторная техника","Основное общее образование","Очная"]
[null,null,null,null,null,"13.02.08 Электроизоляционная, кабельная и конденсаторная техникаОсновное общее образованиеОчно-заочная","11Д56006101000109000100","13.02.08 Электроизоляционная, кабельная и конденсаторная техника","Основное общее образование","Очно-заочная"]
[null,null,null,null,null,"13.02.08 Электроизоляционная, кабельная и конденсаторная техникаОсновное общее образованиеЗаочная","11Д56006101000117000100","13.02.08 Электроизоляционная, кабельная и конденсаторная техника","Основное общее образование","Заочная"]
[null,null,null,null,null,"13.02.08 Электроизоляционная, кабельная и конденсаторная техникаСреднее общее образованиеОчная","11Д56006101000201007100","13.02.08 Электроизоляционная, кабельная и конденсаторная техника","Среднее общее образование","Очная"]
[null,null,null,null,null,"13.02.08 Электроизоляционная, кабельная и конденсаторная техникаСреднее общее образованиеОчно-заочная","11Д56006101000209009100","13.02.08 Электроизоляционная, кабельная и конденсаторная техника","Среднее общее образование","Очно-заочная"]
[null,null,null,null,null,"13.02.08 Электроизоляционная, кабельная и конденсаторная техникаСреднее общее образованиеЗаочная","11Д56006101000217009100","13.02.08 Электроизоляционная, кабельная и конденсаторная техника","Среднее общее образование","Заочная"]
[null,null,null,null,null,"13.02.09 Монтаж и эксплуатация линий электропередачиОсновное общее образованиеОчно-заочная","11Д56006201000109009100","13.02.09 Монтаж и эксплуатация линий электропередачи","Основное общее образование","Очно-заочная"]
[null,null,null,null,null,"13.02.09 Монтаж и эксплуатация линий электропередачиСреднее общее образованиеОчная","11Д56006201000201006100","13.02.09 Монтаж и эксплуатация линий электропередачи","Среднее общее образование","Очная"]
[null,null,null,null,null,"13.02.09 Монтаж и эксплуатация линий электропередачиСреднее общее образованиеОчно-заочная","11Д56006201000209008100","13.02.09 Монтаж и эксплуатация линий электропередачи","Среднее общее образование","Очно-заочная"]
[null,null,null,null,null,"13.02.10 Электрические машины и аппаратыОсновное общее образованиеОчная","11Д56006301000101006100","13.02.10 Электрические машины и аппараты","Основное общее образование","Очная"]
[null,null,null,null,null,"13.02.10 Электрические машины и аппаратыОсновное общее образованиеОчно-заочная","11Д56006301000109008100","13.02.10 Электрические машины и аппараты","Основное общее образование","Очно-заочная"]
[null,null,null,null,null,"13.02.10 Электрические машины и аппаратыОсновное общее образованиеЗаочная","11Д56006301000117008100","13.02.10 Электрические машины и аппараты","Основное общее образование","Заочная"]
[null,null,null,null,null,"13.02.10 Электрические машины и аппаратыСреднее общее образованиеОчная","11Д56006301000201005100","13.02.10 Электрические машины и аппараты","Среднее общее образование","Очная"]
[null,null,null,null,null,"13.02.10 Электрические машины и аппаратыСреднее общее образованиеОчно-заочная","11Д56006301000209007100","13.02.10 Электрические машины и аппараты","Среднее общее образование","Очно-заочная"]
[null,null,null,null,null,"13.02.10 Электрические машины и аппаратыСреднее общее образованиеЗаочная","11Д56006301000217007100","13.02.10 Электрические машины и аппараты","Среднее общее образование","Заочная"]
[null,null,null,null,null,"13.02.11 Техническая эксплуатация и обслуживание электрического и электромеханического оборудования (по отраслям)Основное общее образованиеОчная","11Д56006401000101005100","13.02.11 Техническая эксплуатация и обслуживание электрического и электромеханического оборудования (по отраслям)","Основное общее образование","Очная"]
[null,null,null,null,null,"13.02.11 Техническая эксплуатация и обслуживание электрического и электромеханического оборудования (по отраслям)Основное общее образованиеОчно-заочная","11Д56006401000109007100","13.02.11 Техническая эксплуатация и обслуживание электрического и электромеханического оборудования (по отраслям)","Основное общее образование","Очно-заочная"]
[null,null,null,null,null,"13.02.11 Техническая эксплуатация и обслуживание электрического и электромеханического оборудования (по отраслям)Основное общее образованиеЗаочная","11Д56006401000117007100","13.02.11 Техническая эксплуатация и обслуживание электрического и электромеханического оборудования (по отраслям)","Основное общее образование","Заочная"]
[null,null,null,null,null,"13.02.11 Техническая эксплуатация и обслуживание электрического и электромеханического оборудования (по отраслям)Среднее общее образованиеОчная","11Д56006401000201004100","13.02.11 Техническая эксплуатация и обслуживание электрического и электромеханического оборудования (по отраслям)","Среднее общее образование","Очная"]
[null,null,null,null,null,"13.02.11 Техническая эксплуатация и обслуживание электрического и электромеханического оборудования (по отраслям)Среднее общее образованиеОчно-заочная","11Д56006401000209006100","13.02.11 Техническая эксплуатация и обслуживание электрического и электромеханического оборудования (по отраслям)","Среднее общее образование","Очно-заочная"]
[null,null,null,null,null,"13.02.11 Техническая эксплуатация и обслуживание электрического и электромеханического оборудования (по отраслям)Среднее общее образованиеЗаочная","11Д56006401000217006100","13.02.11 Техническая эксплуатация и обслуживание электрического и электромеханического оборудования (по отраслям)","Среднее общее образование","Заочная"]
[null,null,null,null,null,"14.02.01 Атомные электрические станции и установкиОсновное общее образованиеОчная","11Д56006601000101003100","14.02.01 Атомные электрические станции и установки","Основное общее образование","Очная"]
[null,null,null,null,null,{"$f":"H1027&I1027&J1027","v":"14.02.01 Атомные электрические станции и установкиОсновное общее образованиеЗаочная"},"11Д56006601000117005100","14.02.01 Атомные электрические станции и установки","Основное общее образование","Заочная"]
[null,null,null,null,null,"14.02.01 Атомные электрические станции и установкиСреднее общее образованиеОчная","11Д56006601000201002100","14.02.01 Атомные электрические станции и установки","Среднее общее образование","Очная"]
[null,null,null,null,null,"14.02.01 Атомные электрические станции и установкиСреднее общее образованиеОчно-заочная","11Д56006601000209004100","14.02.01 Атомные электрические станции и установки","Среднее общее образование","Очно-заочная"]
[null,null,null,null,null,"14.02.01 Атомные электрические станции и установкиСреднее общее образованиеЗаочная","11Д56006601000217004100","14.02.01 Атомные электрические станции и установки","Среднее общее образование","Заочная"]
[null,null,null,null,null,"14.02.02 Радиационная безопасностьОсновное общее образованиеОчная","11Д56006701000101002100","14.02.02 Радиационная безопасность","Основное общее образование","Очная"]
[null,null,null,null,null,"14.02.02 Радиационная безопасностьОсновное общее образованиеОчно-заочная","11Д56006701000109004100","14.02.02 Радиационная безопасность","Основное общее образование","Очно-заочная"]
[null,null,null,null,null,"14.02.02 Радиационная безопасностьСреднее общее образованиеОчно-заочная","11Д56006701000209003100","14.02.02 Радиационная безопасность","Среднее общее образование","Очно-заочная"]
[null,null,null,null,null,"14.02.02 Радиационная безопасностьСреднее общее образованиеЗаочная","11Д56006701000217003100","14.02.02 Радиационная безопасность","Среднее общее образование","Заочная"]
[null,null,null,null,null,"14.02.03 Технология разделения изотоповОсновное общее образованиеОчная","11Д56006801000101001100","14.02.03 Технология разделения изотопов","Основное общее образование","Очная"]
[null,null,null,null,null,"14.02.03 Технология разделения изотоповОсновное общее образованиеОчно-заочная","11Д56006801000109003100","14.02.03 Технология разделения изотопов","Основное общее образование","Очно-заочная"]
[null,null,null,null,null,"14.02.03 Технология разделения изотоповСреднее общее образованиеОчно-заочная","11Д56006801000209002100","14.02.03 Технология разделения изотопов","Среднее общее образование","Очно-заочная"]
[null,null,null,null,null,"14.02.03 Технология разделения изотоповСреднее общее образованиеЗаочная","11Д56006801000217002100","14.02.03 Технология разделения изотопов","Среднее общее образование","Заочная"]
[null,null,null,null,null,"15.02.01 Монтаж и техническая эксплуатация промышленного оборудования (по отраслям)Основное общее образованиеОчная","11Д56007001000101007100","15.02.01 Монтаж и техническая эксплуатация промышленного оборудования (по отраслям)","Основное общее образование","Очная"]
[null,null,null,null,null,"15.02.01 Монтаж и техническая эксплуатация промышленного оборудования (по отраслям)Основное общее образованиеОчно-заочная","11Д56007001000109009100","15.02.01 Монтаж и техническая эксплуатация промышленного оборудования (по отраслям)","Основное общее образование","Очно-заочная"]
[null,null,null,null,null,"15.02.01 Монтаж и техническая эксплуатация промышленного оборудования (по отраслям)Основное общее образованиеЗаочная","11Д56007001000117009100","15.02.01 Монтаж и техническая эксплуатация промышленного оборудования (по отраслям)","Основное общее образование","Заочная"]
[null,null,null,null,null,"15.02.01 Монтаж и техническая эксплуатация промышленного оборудования (по отраслям)Среднее общее образованиеОчная","11Д56007001000201006100","15.02.01 Монтаж и техническая эксплуатация промышленного оборудования (по отраслям)","Среднее общее образование","Очная"]
[null,null,null,null,null,"15.02.01 Монтаж и техническая эксплуатация промышленного оборудования (по отраслям)Среднее общее образованиеОчно-заочная","11Д56007001000209008100","15.02.01 Монтаж и техническая эксплуатация промышленного оборудования (по отраслям)","Среднее общее образование","Очно-заочная"]
[null,null,null,null,null,"15.02.01 Монтаж и техническая эксплуатация промышленного оборудования (по отраслям)Среднее общее образованиеЗаочная","11Д56007001000217008100","15.02.01 Монтаж и техническая эксплуатация промышленного оборудования (по отраслям)","Среднее общее образование","Заочная"]
[null,null,null,null,null,"15.02.02 Техническая эксплуатация оборудования для производства электронной техникиОсновное общее образованиеОчная","11Д56007101000101006100","15.02.02 Техническая эксплуатация оборудования для производства электронной техники","Основное общее образование","Очная"]
[null,null,null,null,null,"15.02.02 Техническая эксплуатация оборудования для производства электронной техникиОсновное общее образованиеОчно-заочная","11Д56007101000109008100","15.02.02 Техническая эксплуатация оборудования для производства электронной техники","Основное общее образование","Очно-заочная"]
[null,null,null,null,null,"15.02.02 Техническая эксплуатация оборудования для производства электронной техникиОсновное общее образованиеЗаочная","11Д56007101000117008100","15.02.02 Техническая эксплуатация оборудования для производства электронной техники","Основное общее образование","Заочная"]
[null,null,null,null,null,"15.02.02 Техническая эксплуатация оборудования для производства электронной техникиСреднее общее образованиеОчная","11Д56007101000201005100","15.02.02 Техническая эксплуатация оборудования для производства электронной техники","Среднее общее образование","Очная"]
[null,null,null,null,null,"15.02.02 Техническая эксплуатация оборудования для производства электронной техникиСреднее общее образованиеОчно-заочная","11Д56007101000209007100","15.02.02 Техническая эксплуатация оборудования для производства электронной техники","Среднее общее образование","Очно-заочная"]
[null,null,null,null,null,"15.02.02 Техническая эксплуатация оборудования для производства электронной техникиСреднее общее образованиеЗаочная","11Д56007101000217007100","15.02.02 Техническая эксплуатация оборудования для производства электронной техники","Среднее общее образование","Заочная"]
[null,null,null,null,null,"15.02.03 Техническая эксплуатация гидравлических машин, гидроприводов и гидропневмоавтоматикиОсновное общее образованиеОчная","11Д56007201000101005100","15.02.03 Техническая эксплуатация гидравлических машин, гидроприводов и гидропневмоавтоматики","Основное общее образование","Очная"]
[null,null,null,null,null,"15.02.03 Техническая эксплуатация гидравлических машин, гидроприводов и гидропневмоавтоматикиОсновное общее образованиеОчно-заочная","11Д56007201000109007100","15.02.03 Техническая эксплуатация гидравлических машин, гидроприводов и гидропневмоавтоматики","Основное общее образование","Очно-заочная"]
[null,null,null,null,null,"15.02.03 Техническая эксплуатация гидравлических машин, гидроприводов и гидропневмоавтоматикиОсновное общее образованиеЗаочная","11Д56007201000117007100","15.02.03 Техническая эксплуатация гидравлических машин, гидроприводов и гидропневмоавтоматики","Основное общее образование","Заочная"]
[null,null,null,null,null,"15.02.03 Техническая эксплуатация гидравлических машин, гидроприводов и гидропневмоавтоматикиСреднее общее образованиеОчная","11Д56007201000201004100","15.02.03 Техническая эксплуатация гидравлических машин, гидроприводов и гидропневмоавтоматики","Среднее общее образование","Очная"]
[null,null,null,null,null,"15.02.03 Техническая эксплуатация гидравлических машин, гидроприводов и гидропневмоавтоматикиСреднее общее образованиеЗаочная","11Д56007201000217006100","15.02.03 Техническая эксплуатация гидравлических машин, гидроприводов и гидропневмоавтоматики","Среднее общее образование","Заочная"]
[null,null,null,null,null,"15.02.04 Специальные машины и устройстваОсновное общее образованиеОчная","11Д56007301000101004100","15.02.04 Специальные машины и устройства","Основное общее образование","Очная"]
[null,null,null,null,null,"15.02.04 Специальные машины и устройстваОсновное общее образованиеОчно-заочная","11Д56007301000109006100","15.02.04 Специальные машины и устройства","Основное общее образование","Очно-заочная"]
[null,null,null,null,null,"15.02.04 Специальные машины и устройстваОсновное общее образованиеЗаочная","11Д56007301000117006100","15.02.04 Специальные машины и устройства","Основное общее образование","Заочная"]
[null,null,null,null,null,"15.02.04 Специальные машины и устройстваСреднее общее образованиеОчно-заочная","11Д56007301000209005100","15.02.04 Специальные машины и устройства","Среднее общее образование","Очно-заочная"]
[null,null,null,null,null,"15.02.04 Специальные машины и устройстваСреднее общее образованиеЗаочная","11Д56007301000217005100","15.02.04 Специальные машины и устройства","Среднее общее образование","Заочная"]
[null,null,null,null,null,"15.02.05 Техническая эксплуатация оборудования в торговле и общественном питанииОсновное общее образованиеОчная","11Д56007401000101003100","15.02.05 Техническая эксплуатация оборудования в торговле и общественном питании","Основное общее образование","Очная"]
[null,null,null,null,null,"15.02.05 Техническая эксплуатация оборудования в торговле и общественном питанииОсновное общее образованиеОчно-заочная","11Д56007401000109005100","15.02.05 Техническая эксплуатация оборудования в торговле и общественном питании","Основное общее образование","Очно-заочная"]
[null,null,null,null,null,"15.02.05 Техническая эксплуатация оборудования в торговле и общественном питанииСреднее общее образованиеОчная","11Д56007401000201002100","15.02.05 Техническая эксплуатация оборудования в торговле и общественном питании","Среднее общее образование","Очная"]
[null,null,null,null,null,"15.02.05 Техническая эксплуатация оборудования в торговле и общественном питанииСреднее общее образованиеОчно-заочная","11Д56007401000209004100","15.02.05 Техническая эксплуатация оборудования в торговле и общественном питании","Среднее общее образование","Очно-заочная"]
[null,null,null,null,null,"15.02.05 Техническая эксплуатация оборудования в торговле и общественном питанииСреднее общее образованиеЗаочная","11Д56007401000217004100","15.02.05 Техническая эксплуатация оборудования в торговле и общественном питании","Среднее общее образование","Заочная"]
[null,null,null,null,null,"15.02.06 Монтаж и техническая эксплуатация холодильно-компрессорных машин и установок (по отраслям)Основное общее образованиеОчная","11Д56007501000101002100","15.02.06 Монтаж и техническая эксплуатация холодильно-компрессорных машин и установок (по отраслям)","Основное общее образование","Очная"]
[null,null,null,null,null,"15.02.06 Монтаж и техническая эксплуатация холодильно-компрессорных машин и установок (по отраслям)Основное общее образованиеОчно-заочная","11Д56007501000109004100","15.02.06 Монтаж и техническая эксплуатация холодильно-компрессорных машин и установок (по отраслям)","Основное общее образование","Очно-заочная"]
[null,null,null,null,null,"15.02.06 Монтаж и техническая эксплуатация холодильно-компрессорных машин и установок (по отраслям)Основное общее образованиеЗаочная","11Д56007501000117004100","15.02.06 Монтаж и техническая эксплуатация холодильно-компрессорных машин и установок (по отраслям)","Основное общее образование","Заочная"]
[null,null,null,null,null,"15.02.06 Монтаж и техническая эксплуатация холодильно-компрессорных машин и установок (по отраслям)Среднее общее образованиеОчная","11Д56007501000201001100","15.02.06 Монтаж и техническая эксплуатация холодильно-компрессорных машин и установок (по отраслям)","Среднее общее образование","Очная"]
[null,null,null,null,null,"15.02.06 Монтаж и техническая эксплуатация холодильно-компрессорных машин и установок (по отраслям)Среднее общее образованиеОчно-заочная","11Д56007501000209003100","15.02.06 Монтаж и техническая эксплуатация холодильно-компрессорных машин и установок (по отраслям)","Среднее общее образование","Очно-заочная"]
[null,null,null,null,null,"15.02.06 Монтаж и техническая эксплуатация холодильно-компрессорных машин и установок (по отраслям)Среднее общее образованиеЗаочная","11Д56007501000217003100","15.02.06 Монтаж и техническая эксплуатация холодильно-компрессорных машин и установок (по отраслям)","Среднее общее образование","Заочная"]
[null,null,null,null,null,"15.02.07 Автоматизация технологических процессов и производств (по отраслям)Основное общее образованиеОчная","11Д56007601000101001100","15.02.07 Автоматизация технологических процессов и производств (по отраслям)","Основное общее образование","Очная"]
[null,null,null,null,null,"15.02.07 Автоматизация технологических процессов и производств (по отраслям)Основное общее образованиеОчно-заочная","11Д56007601000109003100","15.02.07 Автоматизация технологических процессов и производств (по отраслям)","Основное общее образование","Очно-заочная"]
[null,null,null,null,null,"15.02.07 Автоматизация технологических процессов и производств (по отраслям)Основное общее образованиеЗаочная","11Д56007601000117003100","15.02.07 Автоматизация технологических процессов и производств (по отраслям)","Основное общее образование","Заочная"]
[null,null,null,null,null,"15.02.07 Автоматизация технологических процессов и производств (по отраслям)Среднее общее образованиеОчная","11Д56007601000201000100","15.02.07 Автоматизация технологических процессов и производств (по отраслям)","Среднее общее образование","Очная"]
[null,null,null,null,null,"15.02.07 Автоматизация технологических процессов и производств (по отраслям)Среднее общее образованиеЗаочная","11Д56007601000217002100","15.02.07 Автоматизация технологических процессов и производств (по отраслям)","Среднее общее образование","Заочная"]
[null,null,null,null,null,"15.02.08 Технология машиностроенияОсновное общее образованиеОчная","11Д56007701000101000100","15.02.08 Технология машиностроения","Основное общее образование","Очная"]
[null,null,null,null,null,"15.02.08 Технология машиностроенияОсновное общее образованиеЗаочная","11Д56007701000117002100","15.02.08 Технология машиностроения","Основное общее образование","Заочная"]
[null,null,null,null,null,"15.02.08 Технология машиностроенияСреднее общее образованиеОчная","11Д56007701000201009100","15.02.08 Технология машиностроения","Среднее общее образование","Очная"]
[null,null,null,null,null,"15.02.08 Технология машиностроенияСреднее общее образованиеОчно-заочная","11Д56007701000209001100","15.02.08 Технология машиностроения","Среднее общее образование","Очно-заочная"]
[null,null,null,null,null,"15.02.09 Аддитивные технологииОсновное общее образованиеОчная","11Д56007801000101009100","15.02.09 Аддитивные технологии","Основное общее образование","Очная"]
[null,null,null,null,null,"15.02.09 Аддитивные технологииОсновное общее образованиеЗаочная","11Д56007801000117001100","15.02.09 Аддитивные технологии","Основное общее образование","Заочная"]
[null,null,null,null,null,"15.02.09 Аддитивные технологииСреднее общее образованиеОчная","11Д56007801000201008100","15.02.09 Аддитивные технологии","Среднее общее образование","Очная"]
[null,null,null,null,null,"15.02.09 Аддитивные технологииСреднее общее образованиеЗаочная","11Д56007801000217000100","15.02.09 Аддитивные технологии","Среднее общее образование","Заочная"]
[null,null,null,null,null,"18.02.01 Аналитический контроль качества химических соединенийОсновное общее образованиеОчная","11Д56008001000101005100","18.02.01 Аналитический контроль качества химических соединений","Основное общее образование","Очная"]
[null,null,null,null,null,"18.02.01 Аналитический контроль качества химических соединенийОсновное общее образованиеОчно-заочная","11Д56008001000109007100","18.02.01 Аналитический контроль качества химических соединений","Основное общее образование","Очно-заочная"]
[null,null,null,null,null,"18.02.01 Аналитический контроль качества химических соединенийОсновное общее образованиеЗаочная","11Д56008001000117007100","18.02.01 Аналитический контроль качества химических соединений","Основное общее образование","Заочная"]
[null,null,null,null,null,"18.02.01 Аналитический контроль качества химических соединенийСреднее общее образованиеОчная","11Д56008001000201004100","18.02.01 Аналитический контроль качества химических соединений","Среднее общее образование","Очная"]
[null,null,null,null,null,"18.02.01 Аналитический контроль качества химических соединенийСреднее общее образованиеОчно-заочная","11Д56008001000209006100","18.02.01 Аналитический контроль качества химических соединений","Среднее общее образование","Очно-заочная"]
[null,null,null,null,null,"18.02.01 Аналитический контроль качества химических соединенийСреднее общее образованиеЗаочная","11Д56008001000217006100","18.02.01 Аналитический контроль качества химических соединений","Среднее общее образование","Заочная"]
[null,null,null,null,null,{"$f":"H1091&I1091&J1091","v":"18.02.02 Химическая технология отделочного производства и обработки изделийОсновное общее образованиеОчная"},"11Д56008101000101004100","18.02.02 Химическая технология отделочного производства и обработки изделий","Основное общее образование","Очная"]
[null,null,null,null,null,"18.02.02 Химическая технология отделочного производства и обработки изделийОсновное общее образованиеОчно-заочная","11Д56008101000109006100","18.02.02 Химическая технология отделочного производства и обработки изделий","Основное общее образование","Очно-заочная"]
[null,null,null,null,null,"18.02.02 Химическая технология отделочного производства и обработки изделийОсновное общее образованиеЗаочная","11Д56008101000117006100","18.02.02 Химическая технология отделочного производства и обработки изделий","Основное общее образование","Заочная"]
[null,null,null,null,null,"18.02.02 Химическая технология отделочного производства и обработки изделийСреднее общее образованиеОчная","11Д56008101000201003100","18.02.02 Химическая технология отделочного производства и обработки изделий","Среднее общее образование","Очная"]
[null,null,null,null,null,"18.02.02 Химическая технология отделочного производства и обработки изделийСреднее общее образованиеОчно-заочная","11Д56008101000209005100","18.02.02 Химическая технология отделочного производства и обработки изделий","Среднее общее образование","Очно-заочная"]
[null,null,null,null,null,"18.02.02 Химическая технология отделочного производства и обработки изделийСреднее общее образованиеЗаочная","11Д56008101000217005100","18.02.02 Химическая технология отделочного производства и обработки изделий","Среднее общее образование","Заочная"]
[null,null,null,null,null,"18.02.03 Химическая технология неорганических веществОсновное общее образованиеОчно-заочная","11Д56008201000109005100","18.02.03 Химическая технология неорганических веществ","Основное общее образование","Очно-заочная"]
[null,null,null,null,null,"18.02.03 Химическая технология неорганических веществОсновное общее образованиеЗаочная","11Д56008201000117005100","18.02.03 Химическая технология неорганических веществ","Основное общее образование","Заочная"]
[null,null,null,null,null,"18.02.03 Химическая технология неорганических веществСреднее общее образованиеОчно-заочная","11Д56008201000209004100","18.02.03 Химическая технология неорганических веществ","Среднее общее образование","Очно-заочная"]
[null,null,null,null,null,"18.02.03 Химическая технология неорганических веществСреднее общее образованиеЗаочная","11Д56008201000217004100","18.02.03 Химическая технология неорганических веществ","Среднее общее образование","Заочная"]
[null,null,null,null,null,"18.02.04 Электрохимическое производствоОсновное общее образованиеОчная","11Д56008301000101002100","18.02.04 Электрохимическое производство","Основное общее образование","Очная"]
[null,null,null,null,null,"18.02.04 Электрохимическое производствоОсновное общее образованиеОчно-заочная","11Д56008301000109004100","18.02.04 Электрохимическое производство","Основное общее образование","Очно-заочная"]
[null,null,null,null,null,"18.02.05 Производство тугоплавких неметаллических и силикатных материалов и изделийОсновное общее образованиеОчно-заочная","11Д56008401000109003100","18.02.05 Производство тугоплавких неметаллических и силикатных материалов и изделий","Основное общее образование","Очно-заочная"]
[null,null,null,null,null,"18.02.05 Производство тугоплавких неметаллических и силикатных материалов и изделийСреднее общее образованиеОчная","11Д56008401000201000100","18.02.05 Производство тугоплавких неметаллических и силикатных материалов и изделий","Среднее общее образование","Очная"]
[null,null,null,null,null,"18.02.05 Производство тугоплавких неметаллических и силикатных материалов и изделийСреднее общее образованиеЗаочная","11Д56008401000217002100","18.02.05 Производство тугоплавких неметаллических и силикатных материалов и изделий","Среднее общее образование","Заочная"]
[null,null,null,null,null,"18.02.07 Технология производства и переработки пластических масс и эластомеровОсновное общее образованиеОчная","11Д56008601000101009100","18.02.07 Технология производства и переработки пластических масс и эластомеров","Основное общее образование","Очная"]
[null,null,null,null,null,"18.02.07 Технология производства и переработки пластических масс и эластомеровОсновное общее образованиеОчно-заочная","11Д56008601000109001100","18.02.07 Технология производства и переработки пластических масс и эластомеров","Основное общее образование","Очно-заочная"]
[null,null,null,null,null,"18.02.07 Технология производства и переработки пластических масс и эластомеровОсновное общее образованиеЗаочная","11Д56008601000117001100","18.02.07 Технология производства и переработки пластических масс и эластомеров","Основное общее образование","Заочная"]
[null,null,null,null,null,"18.02.07 Технология производства и переработки пластических масс и эластомеровСреднее общее образованиеОчная","11Д56008601000201008100","18.02.07 Технология производства и переработки пластических масс и эластомеров","Среднее общее образование","Очная"]
[null,null,null,null,null,"18.02.07 Технология производства и переработки пластических масс и эластомеровСреднее общее образованиеОчно-заочная","11Д56008601000209000100","18.02.07 Технология производства и переработки пластических масс и эластомеров","Среднее общее образование","Очно-заочная"]
[null,null,null,null,null,"18.02.07 Технология производства и переработки пластических масс и эластомеровСреднее общее образованиеЗаочная","11Д56008601000217000100","18.02.07 Технология производства и переработки пластических масс и эластомеров","Среднее общее образование","Заочная"]
[null,null,null,null,null,"18.02.08 Технология кинофотоматериалов и магнитных носителейОсновное общее образованиеОчная","11Д56008701000101008100","18.02.08 Технология кинофотоматериалов и магнитных носителей","Основное общее образование","Очная"]
[null,null,null,null,null,"18.02.08 Технология кинофотоматериалов и магнитных носителейОсновное общее образованиеЗаочная","11Д56008701000117000100","18.02.08 Технология кинофотоматериалов и магнитных носителей","Основное общее образование","Заочная"]
[null,null,null,null,null,"18.02.08 Технология кинофотоматериалов и магнитных носителейСреднее общее образованиеОчная","11Д56008701000201007100","18.02.08 Технология кинофотоматериалов и магнитных носителей","Среднее общее образование","Очная"]
[null,null,null,null,null,"18.02.11 Технология пиротехнических составов и изделийОсновное общее образованиеЗаочная","11Д56009001000117005100","18.02.11 Технология пиротехнических составов и изделий","Основное общее образование","Заочная"]
[null,null,null,null,null,"18.02.11 Технология пиротехнических составов и изделийСреднее общее образованиеОчная","11Д56009001000201002100","18.02.11 Технология пиротехнических составов и изделий","Среднее общее образование","Очная"]
[null,null,null,null,null,"18.02.11 Технология пиротехнических составов и изделийСреднее общее образованиеЗаочная","11Д56009001000217004100","18.02.11 Технология пиротехнических составов и изделий","Среднее общее образование","Заочная"]
[null,null,null,null,null,"19.02.01 Биохимическое производствоОсновное общее образованиеОчная","11Д56009201000101001100","19.02.01 Биохимическое производство","Основное общее образование","Очная"]
[null,null,null,null,null,"19.02.01 Биохимическое производствоОсновное общее образованиеОчно-заочная","11Д56009201000109003100","19.02.01 Биохимическое производство","Основное общее образование","Очно-заочная"]
[null,null,null,null,null,"19.02.02 Технология хранения и переработки зернаОсновное общее образованиеОчно-заочная","11Д56009301000109002100","19.02.02 Технология хранения и переработки зерна","Основное общее образование","Очно-заочная"]
[null,null,null,null,null,"19.02.02 Технология хранения и переработки зернаОсновное общее образованиеЗаочная","11Д56009301000117002100","19.02.02 Технология хранения и переработки зерна","Основное общее образование","Заочная"]
[null,null,null,null,null,"19.02.02 Технология хранения и переработки зернаСреднее общее образованиеОчно-заочная","11Д56009301000209001100","19.02.02 Технология хранения и переработки зерна","Среднее общее образование","Очно-заочная"]
[null,null,null,null,null,"19.02.02 Технология хранения и переработки зернаСреднее общее образованиеЗаочная","11Д56009301000217001100","19.02.02 Технология хранения и переработки зерна","Среднее общее образование","Заочная"]
[null,null,null,null,null,"19.02.03 Технология хлеба, кондитерских и макаронных изделийОсновное общее образованиеОчная","11Д56009401000101009100","19.02.03 Технология хлеба, кондитерских и макаронных изделий","Основное общее образование","Очная"]
[null,null,null,null,null,"19.02.03 Технология хлеба, кондитерских и макаронных изделийОсновное общее образованиеОчно-заочная","11Д56009401000109001100","19.02.03 Технология хлеба, кондитерских и макаронных изделий","Основное общее образование","Очно-заочная"]
[null,null,null,null,null,"19.02.04 Технология сахаристых продуктовОсновное общее образованиеОчная","11Д56009501000101008100","19.02.04 Технология сахаристых продуктов","Основное общее образование","Очная"]
[null,null,null,null,null,"19.02.04 Технология сахаристых продуктовСреднее общее образованиеОчная","11Д56009501000201007100","19.02.04 Технология сахаристых продуктов","Среднее общее образование","Очная"]
[null,null,null,null,null,"19.02.04 Технология сахаристых продуктовСреднее общее образованиеЗаочная","11Д56009501000217009100","19.02.04 Технология сахаристых продуктов","Среднее общее образование","Заочная"]
[null,null,null,null,null,"19.02.05 Технология бродильных производств и виноделиеОсновное общее образованиеОчная","11Д56009601000101007100","19.02.05 Технология бродильных производств и виноделие","Основное общее образование","Очная"]
[null,null,null,null,null,"19.02.05 Технология бродильных производств и виноделиеОсновное общее образованиеОчно-заочная","11Д56009601000109009100","19.02.05 Технология бродильных производств и виноделие","Основное общее образование","Очно-заочная"]
[null,null,null,null,null,"19.02.05 Технология бродильных производств и виноделиеСреднее общее образованиеОчная","11Д56009601000201006100","19.02.05 Технология бродильных производств и виноделие","Среднее общее образование","Очная"]
[null,null,null,null,null,"19.02.05 Технология бродильных производств и виноделиеСреднее общее образованиеОчно-заочная","11Д56009601000209008100","19.02.05 Технология бродильных производств и виноделие","Среднее общее образование","Очно-заочная"]
[null,null,null,null,null,"19.02.06 Технология консервов и пищеконцентратовОсновное общее образованиеОчно-заочная","11Д56009701000109008100","19.02.06 Технология консервов и пищеконцентратов","Основное общее образование","Очно-заочная"]
[null,null,null,null,null,"19.02.06 Технология консервов и пищеконцентратовОсновное общее образованиеЗаочная","11Д56009701000117008100","19.02.06 Технология консервов и пищеконцентратов","Основное общее образование","Заочная"]
[null,null,null,null,null,"19.02.06 Технология консервов и пищеконцентратовСреднее общее образованиеОчно-заочная","11Д56009701000209007100","19.02.06 Технология консервов и пищеконцентратов","Среднее общее образование","Очно-заочная"]
[null,null,null,null,null,"19.02.07 Технология молока и молочных продуктовСреднее общее образованиеОчно-заочная","11Д56009801000209006100","19.02.07 Технология молока и молочных продуктов","Среднее общее образование","Очно-заочная"]
[null,null,null,null,null,"19.02.07 Технология молока и молочных продуктовСреднее общее образованиеЗаочная","11Д56009801000217006100","19.02.07 Технология молока и молочных продуктов","Среднее общее образование","Заочная"]
[null,null,null,null,null,"19.02.09 Технология жиров и жирозаменителейОсновное общее образованиеОчная","11Д56010001000101001100","19.02.09 Технология жиров и жирозаменителей","Основное общее образование","Очная"]
[null,null,null,null,null,"20.02.01 Рациональное использование природохозяйственных комплексовСреднее общее образованиеОчная","11Д56010301000201007100","20.02.01 Рациональное использование природохозяйственных комплексов","Среднее общее образование","Очная"]
[null,null,null,null,null,"20.02.01 Рациональное использование природохозяйственных комплексовСреднее общее образованиеОчно-заочная","11Д56010301000209009100","20.02.01 Рациональное использование природохозяйственных комплексов","Среднее общее образование","Очно-заочная"]
[null,null,null,null,null,"20.02.02 Защита в чрезвычайных ситуацияхСреднее общее образованиеОчно-заочная","11Д56010401000209008100","20.02.02 Защита в чрезвычайных ситуациях","Среднее общее образование","Очно-заочная"]
[null,null,null,null,null,"20.02.02 Защита в чрезвычайных ситуацияхСреднее общее образованиеЗаочная","11Д56010401000217008100","20.02.02 Защита в чрезвычайных ситуациях","Среднее общее образование","Заочная"]
[null,null,null,null,null,"20.02.03 Природоохранное обустройство территорийОсновное общее образованиеОчная","11Д56010501000101006100","20.02.03 Природоохранное обустройство территорий","Основное общее образование","Очная"]
[null,null,null,null,null,"20.02.03 Природоохранное обустройство территорийОсновное общее образованиеОчно-заочная","11Д56010501000109008100","20.02.03 Природоохранное обустройство территорий","Основное общее образование","Очно-заочная"]
[null,null,null,null,null,"20.02.03 Природоохранное обустройство территорийСреднее общее образованиеОчная","11Д56010501000201005100","20.02.03 Природоохранное обустройство территорий","Среднее общее образование","Очная"]
[null,null,null,null,null,"20.02.03 Природоохранное обустройство территорийСреднее общее образованиеОчно-заочная","11Д56010501000209007100","20.02.03 Природоохранное обустройство территорий","Среднее общее образование","Очно-заочная"]
[null,null,null,null,null,"20.02.04 Пожарная безопасностьОсновное общее образованиеЗаочная","11Д56010601000117007100","20.02.04 Пожарная безопасность","Основное общее образование","Заочная"]
[null,null,null,null,null,"20.02.04 Пожарная безопасностьСреднее общее образованиеОчная","11Д56010601000201004100","20.02.04 Пожарная безопасность","Среднее общее образование","Очная"]
[null,null,null,null,null,"20.02.04 Пожарная безопасностьСреднее общее образованиеОчно-заочная","11Д56010601000209006100","20.02.04 Пожарная безопасность","Среднее общее образование","Очно-заочная"]
[null,null,null,null,null,"21.02.01 Разработка и эксплуатация нефтяных и газовых месторожденийОсновное общее образованиеОчная","11Д56010801000101003100","21.02.01 Разработка и эксплуатация нефтяных и газовых месторождений","Основное общее образование","Очная"]
[null,null,null,null,null,"21.02.01 Разработка и эксплуатация нефтяных и газовых месторожденийОсновное общее образованиеОчно-заочная","11Д56010801000109005100","21.02.01 Разработка и эксплуатация нефтяных и газовых месторождений","Основное общее образование","Очно-заочная"]
[null,null,null,null,null,"21.02.01 Разработка и эксплуатация нефтяных и газовых месторожденийСреднее общее образованиеОчная","11Д56010801000201002100","21.02.01 Разработка и эксплуатация нефтяных и газовых месторождений","Среднее общее образование","Очная"]
[null,null,null,null,null,"21.02.01 Разработка и эксплуатация нефтяных и газовых месторожденийСреднее общее образованиеОчно-заочная","11Д56010801000209004100","21.02.01 Разработка и эксплуатация нефтяных и газовых месторождений","Среднее общее образование","Очно-заочная"]
[null,null,null,null,null,"21.02.02 Бурение нефтяных и газовых скважинОсновное общее образованиеОчная","11Д56010901000101002100","21.02.02 Бурение нефтяных и газовых скважин","Основное общее образование","Очная"]
[null,null,null,null,null,{"$f":"H1155&I1155&J1155","v":"21.02.02 Бурение нефтяных и газовых скважинОсновное общее образованиеЗаочная"},"11Д56010901000117004100","21.02.02 Бурение нефтяных и газовых скважин","Основное общее образование","Заочная"]
[null,null,null,null,null,"21.02.02 Бурение нефтяных и газовых скважинСреднее общее образованиеОчная","11Д56010901000201001100","21.02.02 Бурение нефтяных и газовых скважин","Среднее общее образование","Очная"]
[null,null,null,null,null,"21.02.02 Бурение нефтяных и газовых скважинСреднее общее образованиеЗаочная","11Д56010901000217003100","21.02.02 Бурение нефтяных и газовых скважин","Среднее общее образование","Заочная"]
[null,null,null,null,null,"21.02.03 Сооружение и эксплуатация газонефтепроводов и газонефтехранилищОсновное общее образованиеОчная","11Д56011001000101009100","21.02.03 Сооружение и эксплуатация газонефтепроводов и газонефтехранилищ","Основное общее образование","Очная"]
[null,null,null,null,null,"21.02.03 Сооружение и эксплуатация газонефтепроводов и газонефтехранилищСреднее общее образованиеОчная","11Д56011001000201008100","21.02.03 Сооружение и эксплуатация газонефтепроводов и газонефтехранилищ","Среднее общее образование","Очная"]
[null,null,null,null,null,"21.02.03 Сооружение и эксплуатация газонефтепроводов и газонефтехранилищСреднее общее образованиеОчно-заочная","11Д56011001000209000100","21.02.03 Сооружение и эксплуатация газонефтепроводов и газонефтехранилищ","Среднее общее образование","Очно-заочная"]
[null,null,null,null,null,"21.02.04 ЗемлеустройствоОсновное общее образованиеОчная","11Д56011101000101008100","21.02.04 Землеустройство","Основное общее образование","Очная"]
[null,null,null,null,null,"21.02.04 ЗемлеустройствоОсновное общее образованиеОчно-заочная","11Д56011101000109000100","21.02.04 Землеустройство","Основное общее образование","Очно-заочная"]
[null,null,null,null,null,"21.02.04 ЗемлеустройствоОсновное общее образованиеЗаочная","11Д56011101000117000100","21.02.04 Землеустройство","Основное общее образование","Заочная"]
[null,null,null,null,null,"21.02.04 ЗемлеустройствоСреднее общее образованиеОчно-заочная","11Д56011101000209009100","21.02.04 Землеустройство","Среднее общее образование","Очно-заочная"]
[null,null,null,null,null,"21.02.04 ЗемлеустройствоСреднее общее образованиеЗаочная","11Д56011101000217009100","21.02.04 Землеустройство","Среднее общее образование","Заочная"]
[null,null,null,null,null,"21.02.05 Земельно-имущественные отношенияСреднее общее образованиеОчно-заочная","11Д56011201000209008100","21.02.05 Земельно-имущественные отношения","Среднее общее образование","Очно-заочная"]
[null,null,null,null,null,"21.02.06 Информационные системы обеспечения градостроительной деятельностиОсновное общее образованиеОчная","11Д56011301000101006100","21.02.06 Информационные системы обеспечения градостроительной деятельности","Основное общее образование","Очная"]
[null,null,null,null,null,"21.02.06 Информационные системы обеспечения градостроительной деятельностиОсновное общее образованиеОчно-заочная","11Д56011301000109008100","21.02.06 Информационные системы обеспечения градостроительной деятельности","Основное общее образование","Очно-заочная"]
[null,null,null,null,null,"21.02.06 Информационные системы обеспечения градостроительной деятельностиОсновное общее образованиеЗаочная","11Д56011301000117008100","21.02.06 Информационные системы обеспечения градостроительной деятельности","Основное общее образование","Заочная"]
[null,null,null,null,null,"21.02.06 Информационные системы обеспечения градостроительной деятельностиСреднее общее образованиеОчная","11Д56011301000201005100","21.02.06 Информационные системы обеспечения градостроительной деятельности","Среднее общее образование","Очная"]
[null,null,null,null,null,"21.02.07 АэрофотогеодезияОсновное общее образованиеОчная","11Д56011401000101005100","21.02.07 Аэрофотогеодезия","Основное общее образование","Очная"]
[null,null,null,null,null,"21.02.07 АэрофотогеодезияОсновное общее образованиеЗаочная","11Д56011401000117007100","21.02.07 Аэрофотогеодезия","Основное общее образование","Заочная"]
[null,null,null,null,null,"21.02.07 АэрофотогеодезияСреднее общее образованиеОчная","11Д56011401000201004100","21.02.07 Аэрофотогеодезия","Среднее общее образование","Очная"]
[null,null,null,null,null,"21.02.07 АэрофотогеодезияСреднее общее образованиеОчно-заочная","11Д56011401000209006100","21.02.07 Аэрофотогеодезия","Среднее общее образование","Очно-заочная"]
[null,null,null,null,null,"21.02.08 Прикладная геодезияОсновное общее образованиеОчная","11Д56011501000101004100","21.02.08 Прикладная геодезия","Основное общее образование","Очная"]
[null,null,null,null,null,"21.02.08 Прикладная геодезияОсновное общее образованиеОчно-заочная","11Д56011501000109006100","21.02.08 Прикладная геодезия","Основное общее образование","Очно-заочная"]
[null,null,null,null,null,"21.02.08 Прикладная геодезияСреднее общее образованиеОчная","11Д56011501000201003100","21.02.08 Прикладная геодезия","Среднее общее образование","Очная"]
[null,null,null,null,null,"21.02.09 Гидрогеология и инженерная геологияОсновное общее образованиеОчная","11Д56011601000101003100","21.02.09 Гидрогеология и инженерная геология","Основное общее образование","Очная"]
[null,null,null,null,null,"21.02.09 Гидрогеология и инженерная геологияОсновное общее образованиеЗаочная","11Д56011601000117005100","21.02.09 Гидрогеология и инженерная геология","Основное общее образование","Заочная"]
[null,null,null,null,null,"21.02.09 Гидрогеология и инженерная геологияСреднее общее образованиеОчная","11Д56011601000201002100","21.02.09 Гидрогеология и инженерная геология","Среднее общее образование","Очная"]
[null,null,null,null,null,"21.02.09 Гидрогеология и инженерная геологияСреднее общее образованиеОчно-заочная","11Д56011601000209004100","21.02.09 Гидрогеология и инженерная геология","Среднее общее образование","Очно-заочная"]
[null,null,null,null,null,"21.02.10 Геология и разведка нефтяных и газовых месторожденийОсновное общее образованиеОчная","11Д56011701000101002100","21.02.10 Геология и разведка нефтяных и газовых месторождений","Основное общее образование","Очная"]
[null,null,null,null,null,"21.02.10 Геология и разведка нефтяных и газовых месторожденийОсновное общее образованиеОчно-заочная","11Д56011701000109004100","21.02.10 Геология и разведка нефтяных и газовых месторождений","Основное общее образование","Очно-заочная"]
[null,null,null,null,null,"21.02.10 Геология и разведка нефтяных и газовых месторожденийСреднее общее образованиеОчно-заочная","11Д56011701000209003100","21.02.10 Геология и разведка нефтяных и газовых месторождений","Среднее общее образование","Очно-заочная"]
[null,null,null,null,null,"21.02.12 Технология и техника разведки месторождений полезных ископаемыхОсновное общее образованиеЗаочная","11Д56011901000117002100","21.02.12 Технология и техника разведки месторождений полезных ископаемых","Основное общее образование","Заочная"]
[null,null,null,null,null,"21.02.12 Технология и техника разведки месторождений полезных ископаемыхСреднее общее образованиеОчная","11Д56011901000201009100","21.02.12 Технология и техника разведки месторождений полезных ископаемых","Среднее общее образование","Очная"]
[null,null,null,null,null,"21.02.12 Технология и техника разведки месторождений полезных ископаемыхСреднее общее образованиеЗаочная","11Д56011901000217001100","21.02.12 Технология и техника разведки месторождений полезных ископаемых","Среднее общее образование","Заочная"]
[null,null,null,null,null,"21.02.13 Геологическая съемка, поиски и разведка месторождений полезных ископаемыхОсновное общее образованиеОчная","11Д56012001000101007100","21.02.13 Геологическая съемка, поиски и разведка месторождений полезных ископаемых","Основное общее образование","Очная"]
[null,null,null,null,null,"21.02.15 Открытые горные работыОсновное общее образованиеОчно-заочная","11Д56012201000109007100","21.02.15 Открытые горные работы","Основное общее образование","Очно-заочная"]
[null,null,null,null,null,"21.02.15 Открытые горные работыОсновное общее образованиеЗаочная","11Д56012201000117007100","21.02.15 Открытые горные работы","Основное общее образование","Заочная"]
[null,null,null,null,null,"21.02.15 Открытые горные работыСреднее общее образованиеОчно-заочная","11Д56012201000209006100","21.02.15 Открытые горные работы","Среднее общее образование","Очно-заочная"]
[null,null,null,null,null,"21.02.15 Открытые горные работыСреднее общее образованиеЗаочная","11Д56012201000217006100","21.02.15 Открытые горные работы","Среднее общее образование","Заочная"]
[null,null,null,null,null,"21.02.16 Шахтное строительствоОсновное общее образованиеОчная","11Д56012301000101004100","21.02.16 Шахтное строительство","Основное общее образование","Очная"]
[null,null,null,null,null,"21.02.16 Шахтное строительствоОсновное общее образованиеОчно-заочная","11Д56012301000109006100","21.02.16 Шахтное строительство","Основное общее образование","Очно-заочная"]
[null,null,null,null,null,"21.02.16 Шахтное строительствоОсновное общее образованиеЗаочная","11Д56012301000117006100","21.02.16 Шахтное строительство","Основное общее образование","Заочная"]
[null,null,null,null,null,"21.02.16 Шахтное строительствоСреднее общее образованиеОчная","11Д56012301000201003100","21.02.16 Шахтное строительство","Среднее общее образование","Очная"]
[null,null,null,null,null,"21.02.16 Шахтное строительствоСреднее общее образованиеЗаочная","11Д56012301000217005100","21.02.16 Шахтное строительство","Среднее общее образование","Заочная"]
[null,null,null,null,null,"21.02.17 Подземная разработка месторождений полезных ископаемыхОсновное общее образованиеОчная","11Д56012401000101003100","21.02.17 Подземная разработка месторождений полезных ископаемых","Основное общее образование","Очная"]
[null,null,null,null,null,"21.02.18 Обогащение полезных ископаемыхОсновное общее образованиеОчная","11Д56012501000101002100","21.02.18 Обогащение полезных ископаемых","Основное общее образование","Очная"]
[null,null,null,null,null,"21.02.18 Обогащение полезных ископаемыхОсновное общее образованиеОчно-заочная","11Д56012501000109004100","21.02.18 Обогащение полезных ископаемых","Основное общее образование","Очно-заочная"]
[null,null,null,null,null,"21.02.18 Обогащение полезных ископаемыхСреднее общее образованиеОчная","11Д56012501000201001100","21.02.18 Обогащение полезных ископаемых","Среднее общее образование","Очная"]
[null,null,null,null,null,"21.02.18 Обогащение полезных ископаемыхСреднее общее образованиеОчно-заочная","11Д56012501000209003100","21.02.18 Обогащение полезных ископаемых","Среднее общее образование","Очно-заочная"]
[null,null,null,null,null,"22.02.01 Металлургия черных металловОсновное общее образованиеОчно-заочная","11Д56012701000109002100","22.02.01 Металлургия черных металлов","Основное общее образование","Очно-заочная"]
[null,null,null,null,null,"22.02.02 Металлургия цветных металловСреднее общее образованиеЗаочная","11Д56012801000217000100","22.02.02 Металлургия цветных металлов","Среднее общее образование","Заочная"]
[null,null,null,null,null,"22.02.05 Обработка металлов давлениемСреднее общее образованиеОчная","11Д56013101000201003100","22.02.05 Обработка металлов давлением","Среднее общее образование","Очная"]
[null,null,null,null,null,"22.02.05 Обработка металлов давлениемСреднее общее образованиеЗаочная","11Д56013101000217005100","22.02.05 Обработка металлов давлением","Среднее общее образование","Заочная"]
[null,null,null,null,null,"22.02.06 Сварочное производствоОсновное общее образованиеОчно-заочная","11Д56013201000109005100","22.02.06 Сварочное производство","Основное общее образование","Очно-заочная"]
[null,null,null,null,null,"23.02.02 Автомобиле- и тракторостроениеСреднее общее образованиеОчно-заочная","11Д56013601000209000100","23.02.02 Автомобиле- и тракторостроение","Среднее общее образование","Очно-заочная"]
[null,null,null,null,null,"23.02.03 Техническое обслуживание и ремонт автомобильного транспортаСреднее общее образованиеОчная","11Д56013701000201007100","23.02.03 Техническое обслуживание и ремонт автомобильного транспорта","Среднее общее образование","Очная"]
[null,null,null,null,null,"23.02.06 Техническая эксплуатация подвижного состава железных дорогСреднее общее образованиеОчная","11Д56014001000201002100","23.02.06 Техническая эксплуатация подвижного состава железных дорог","Среднее общее образование","Очная"]
[null,null,null,null,null,"24.02.02 Производство авиационных двигателейСреднее общее образованиеОчно-заочная","11Д56014301000209001100","24.02.02 Производство авиационных двигателей","Среднее общее образование","Очно-заочная"]
[null,null,null,null,null,"24.02.03 Испытание летательных аппаратовСреднее общее образованиеОчная","11Д56014401000201008100","24.02.03 Испытание летательных аппаратов","Среднее общее образование","Очная"]
[null,null,null,null,null,"24.02.03 Испытание летательных аппаратовСреднее общее образованиеЗаочная","11Д56014401000217000100","24.02.03 Испытание летательных аппаратов","Среднее общее образование","Заочная"]
[null,null,null,null,null,"26.02.01 Эксплуатация внутренних водных путейОсновное общее образованиеОчная","11Д56015201000101008100","26.02.01 Эксплуатация внутренних водных путей","Основное общее образование","Очная"]
[null,null,null,null,null,"26.02.01 Эксплуатация внутренних водных путейОсновное общее образованиеОчно-заочная","11Д56015201000109000100","26.02.01 Эксплуатация внутренних водных путей","Основное общее образование","Очно-заочная"]
[null,null,null,null,null,"26.02.01 Эксплуатация внутренних водных путейОсновное общее образованиеЗаочная","11Д56015201000117000100","26.02.01 Эксплуатация внутренних водных путей","Основное общее образование","Заочная"]
[null,null,null,null,null,"26.02.01 Эксплуатация внутренних водных путейСреднее общее образованиеОчно-заочная","11Д56015201000209009100","26.02.01 Эксплуатация внутренних водных путей","Среднее общее образование","Очно-заочная"]
[null,null,null,null,null,"26.02.02 СудостроениеСреднее общее образованиеОчная","11Д56015301000201006100","26.02.02 Судостроение","Среднее общее образование","Очная"]
[null,null,null,null,null,{"$f":"H1219&I1219&J1219","v":"26.02.03 СудовождениеОсновное общее образованиеОчная"},"11Д56015401000101006100","26.02.03 Судовождение","Основное общее образование","Очная"]
[null,null,null,null,null,"26.02.03 СудовождениеОсновное общее образованиеОчно-заочная","11Д56015401000109008100","26.02.03 Судовождение","Основное общее образование","Очно-заочная"]
[null,null,null,null,null,"26.02.03 СудовождениеОсновное общее образованиеЗаочная","11Д56015401000117008100","26.02.03 Судовождение","Основное общее образование","Заочная"]
[null,null,null,null,null,"26.02.03 СудовождениеСреднее общее образованиеЗаочная","11Д56015401000217007100","26.02.03 Судовождение","Среднее общее образование","Заочная"]
[null,null,null,null,null,"26.02.04 Монтаж и техническое обслуживание судовых машин и механизмовОсновное общее образованиеОчно-заочная","11Д56015501000109007100","26.02.04 Монтаж и техническое обслуживание судовых машин и механизмов","Основное общее образование","Очно-заочная"]
[null,null,null,null,null,"26.02.04 Монтаж и техническое обслуживание судовых машин и механизмовОсновное общее образованиеЗаочная","11Д56015501000117007100","26.02.04 Монтаж и техническое обслуживание судовых машин и механизмов","Основное общее образование","Заочная"]
[null,null,null,null,null,"26.02.04 Монтаж и техническое обслуживание судовых машин и механизмовСреднее общее образованиеОчно-заочная","11Д56015501000209006100","26.02.04 Монтаж и техническое обслуживание судовых машин и механизмов","Среднее общее образование","Очно-заочная"]
[null,null,null,null,null,"26.02.04 Монтаж и техническое обслуживание судовых машин и механизмовСреднее общее образованиеЗаочная","11Д56015501000217006100","26.02.04 Монтаж и техническое обслуживание судовых машин и механизмов","Среднее общее образование","Заочная"]
[null,null,null,null,null,"26.02.05 Эксплуатация судовых энергетических установокОсновное общее образованиеОчная","11Д56015601000101004100","26.02.05 Эксплуатация судовых энергетических установок","Основное общее образование","Очная"]
[null,null,null,null,null,"26.02.05 Эксплуатация судовых энергетических установокОсновное общее образованиеОчно-заочная","11Д56015601000109006100","26.02.05 Эксплуатация судовых энергетических установок","Основное общее образование","Очно-заочная"]
[null,null,null,null,null,"26.02.05 Эксплуатация судовых энергетических установокСреднее общее образованиеОчная","11Д56015601000201003100","26.02.05 Эксплуатация судовых энергетических установок","Среднее общее образование","Очная"]
[null,null,null,null,null,"26.02.05 Эксплуатация судовых энергетических установокСреднее общее образованиеОчно-заочная","11Д56015601000209005100","26.02.05 Эксплуатация судовых энергетических установок","Среднее общее образование","Очно-заочная"]
[null,null,null,null,null,"26.02.06 Эксплуатация судового электрооборудования и средств автоматикиОсновное общее образованиеОчная","11Д56015701000101003100","26.02.06 Эксплуатация судового электрооборудования и средств автоматики","Основное общее образование","Очная"]
[null,null,null,null,null,"26.02.06 Эксплуатация судового электрооборудования и средств автоматикиОсновное общее образованиеОчно-заочная","11Д56015701000109005100","26.02.06 Эксплуатация судового электрооборудования и средств автоматики","Основное общее образование","Очно-заочная"]
[null,null,null,null,null,"26.02.06 Эксплуатация судового электрооборудования и средств автоматикиСреднее общее образованиеЗаочная","11Д56015701000217004100","26.02.06 Эксплуатация судового электрооборудования и средств автоматики","Среднее общее образование","Заочная"]
[null,null,null,null,null,"27.02.01 МетрологияСреднее общее образованиеЗаочная","11Д56015901000217002100","27.02.01 Метрология","Среднее общее образование","Заочная"]
[null,null,null,null,null,"27.02.02 Техническое регулирование и управление качествомОсновное общее образованиеЗаочная","11Д56016001000117000100","27.02.02 Техническое регулирование и управление качеством","Основное общее образование","Заочная"]
[null,null,null,null,null,"29.02.01 Конструирование, моделирование и технология изделий из кожиОсновное общее образованиеОчно-заочная","11Д56016501000109005100","29.02.01 Конструирование, моделирование и технология изделий из кожи","Основное общее образование","Очно-заочная"]
[null,null,null,null,null,"29.02.01 Конструирование, моделирование и технология изделий из кожиСреднее общее образованиеЗаочная","11Д56016501000217004100","29.02.01 Конструирование, моделирование и технология изделий из кожи","Среднее общее образование","Заочная"]
[null,null,null,null,null,"29.02.02 Технология кожи и мехаСреднее общее образованиеЗаочная","11Д56016601000217003100","29.02.02 Технология кожи и меха","Среднее общее образование","Заочная"]
[null,null,null,null,null,"29.02.04 Конструирование, моделирование и технология швейных изделийОсновное общее образованиеОчная","11Д56016801000101000100","29.02.04 Конструирование, моделирование и технология швейных изделий","Основное общее образование","Очная"]
[null,null,null,null,null,"29.02.05 Технология текстильных изделий (по видам)Основное общее образованиеОчно-заочная","11Д56016901000109001100","29.02.05 Технология текстильных изделий (по видам)","Основное общее образование","Очно-заочная"]
[null,null,null,null,null,"29.02.05 Технология текстильных изделий (по видам)Основное общее образованиеЗаочная","11Д56016901000117001100","29.02.05 Технология текстильных изделий (по видам)","Основное общее образование","Заочная"]
[null,null,null,null,null,"29.02.05 Технология текстильных изделий (по видам)Среднее общее образованиеОчно-заочная","11Д56016901000209000100","29.02.05 Технология текстильных изделий (по видам)","Среднее общее образование","Очно-заочная"]
[null,null,null,null,null,"29.02.06 Полиграфическое производствоСреднее общее образованиеОчно-заочная","11Д56017001000209007100","29.02.06 Полиграфическое производство","Среднее общее образование","Очно-заочная"]
[null,null,null,null,null,"29.02.06 Полиграфическое производствоСреднее общее образованиеЗаочная","11Д56017001000217007100","29.02.06 Полиграфическое производство","Среднее общее образование","Заочная"]
[null,null,null,null,null,"29.02.07 Производство изделий из бумаги и картонаОсновное общее образованиеОчная","11Д56017101000101005100","29.02.07 Производство изделий из бумаги и картона","Основное общее образование","Очная"]
[null,null,null,null,null,"29.02.07 Производство изделий из бумаги и картонаОсновное общее образованиеОчно-заочная","11Д56017101000109007100","29.02.07 Производство изделий из бумаги и картона","Основное общее образование","Очно-заочная"]
[null,null,null,null,null,"29.02.07 Производство изделий из бумаги и картонаОсновное общее образованиеЗаочная","11Д56017101000117007100","29.02.07 Производство изделий из бумаги и картона","Основное общее образование","Заочная"]
[null,null,null,null,null,"29.02.07 Производство изделий из бумаги и картонаСреднее общее образованиеОчно-заочная","11Д56017101000209006100","29.02.07 Производство изделий из бумаги и картона","Среднее общее образование","Очно-заочная"]
[null,null,null,null,null,"29.02.07 Производство изделий из бумаги и картонаСреднее общее образованиеЗаочная","11Д56017101000217006100","29.02.07 Производство изделий из бумаги и картона","Среднее общее образование","Заочная"]
[null,null,null,null,null,"29.02.08 Технология обработки алмазовОсновное общее образованиеОчная","11Д56017201000101004100","29.02.08 Технология обработки алмазов","Основное общее образование","Очная"]
[null,null,null,null,null,"29.02.08 Технология обработки алмазовОсновное общее образованиеОчно-заочная","11Д56017201000109006100","29.02.08 Технология обработки алмазов","Основное общее образование","Очно-заочная"]
[null,null,null,null,null,"29.02.08 Технология обработки алмазовСреднее общее образованиеОчная","11Д56017201000201003100","29.02.08 Технология обработки алмазов","Среднее общее образование","Очная"]
[null,null,null,null,null,"31.02.03 Лабораторная диагностикаОсновное общее образованиеОчная","11Д56017601000101000100","31.02.03 Лабораторная диагностика","Основное общее образование","Очная"]
[null,null,null,null,null,"31.02.03 Лабораторная диагностикаОсновное общее образованиеОчно-заочная","11Д56017601000109002100","31.02.03 Лабораторная диагностика","Основное общее образование","Очно-заочная"]
[null,null,null,null,null,"31.02.03 Лабораторная диагностикаОсновное общее образованиеЗаочная","11Д56017601000117002100","31.02.03 Лабораторная диагностика","Основное общее образование","Заочная"]
[null,null,null,null,null,"31.02.04 Медицинская оптикаОсновное общее образованиеОчная","11Д56017701000101009100","31.02.04 Медицинская оптика","Основное общее образование","Очная"]
[null,null,null,null,null,"31.02.04 Медицинская оптикаОсновное общее образованиеОчно-заочная","11Д56017701000109001100","31.02.04 Медицинская оптика","Основное общее образование","Очно-заочная"]
[null,null,null,null,null,"31.02.04 Медицинская оптикаОсновное общее образованиеЗаочная","11Д56017701000117001100","31.02.04 Медицинская оптика","Основное общее образование","Заочная"]
[null,null,null,null,null,"31.02.04 Медицинская оптикаСреднее общее образованиеОчная","11Д56017701000201008100","31.02.04 Медицинская оптика","Среднее общее образование","Очная"]
[null,null,null,null,null,"31.02.04 Медицинская оптикаСреднее общее образованиеОчно-заочная","11Д56017701000209000100","31.02.04 Медицинская оптика","Среднее общее образование","Очно-заочная"]
[null,null,null,null,null,"31.02.05 Стоматология ортопедическаяОсновное общее образованиеОчная","11Д56017801000101008100","31.02.05 Стоматология ортопедическая","Основное общее образование","Очная"]
[null,null,null,null,null,"31.02.05 Стоматология ортопедическаяОсновное общее образованиеОчно-заочная","11Д56017801000109000100","31.02.05 Стоматология ортопедическая","Основное общее образование","Очно-заочная"]
[null,null,null,null,null,"31.02.06 Стоматология профилактическаяОсновное общее образованиеОчно-заочная","11Д56017901000109009100","31.02.06 Стоматология профилактическая","Основное общее образование","Очно-заочная"]
[null,null,null,null,null,"32.02.01 Медико-профилактическое делоОсновное общее образованиеОчная","11Д56018101000101003100","32.02.01 Медико-профилактическое дело","Основное общее образование","Очная"]
[null,null,null,null,null,"32.02.01 Медико-профилактическое делоОсновное общее образованиеЗаочная","11Д56018101000117005100","32.02.01 Медико-профилактическое дело","Основное общее образование","Заочная"]
[null,null,null,null,null,"32.02.01 Медико-профилактическое делоСреднее общее образованиеОчная","11Д56018101000201002100","32.02.01 Медико-профилактическое дело","Среднее общее образование","Очная"]
[null,null,null,null,null,"32.02.01 Медико-профилактическое делоСреднее общее образованиеОчно-заочная","11Д56018101000209004100","32.02.01 Медико-профилактическое дело","Среднее общее образование","Очно-заочная"]
[null,null,null,null,null,"33.02.01 ФармацияОсновное общее образованиеОчная","11Д56018301000101001100","33.02.01 Фармация","Основное общее образование","Очная"]
[null,null,null,null,null,"33.02.01 ФармацияОсновное общее образованиеОчно-заочная","11Д56018301000109003100","33.02.01 Фармация","Основное общее образование","Очно-заочная"]
[null,null,null,null,null,"33.02.01 ФармацияОсновное общее образованиеЗаочная","11Д56018301000117003100","33.02.01 Фармация","Основное общее образование","Заочная"]
[null,null,null,null,null,"33.02.01 ФармацияСреднее общее образованиеЗаочная","11Д56018301000217002100","33.02.01 Фармация","Среднее общее образование","Заочная"]
[null,null,null,null,null,"34.02.01 Сестринское делоОсновное общее образованиеОчно-заочная","11Д56018501000109001100","34.02.01 Сестринское дело","Основное общее образование","Очно-заочная"]
[null,null,null,null,null,"34.02.01 Сестринское делоСреднее общее образованиеОчная","11Д56018501000201008100","34.02.01 Сестринское дело","Среднее общее образование","Очная"]
[null,null,null,null,null,"34.02.01 Сестринское делоСреднее общее образованиеОчно-заочная","11Д56018501000209000100","34.02.01 Сестринское дело","Среднее общее образование","Очно-заочная"]
[null,null,null,null,null,"34.02.01 Сестринское делоСреднее общее образованиеЗаочная","11Д56018501000217000100","34.02.01 Сестринское дело","Среднее общее образование","Заочная"]
[null,null,null,null,null,"34.02.02 Медицинский массаж (для обучения лиц с ограниченными возможностями здоровья по зрению)Основное общее образованиеОчная","11Д56018601000101008100","34.02.02 Медицинский массаж (для обучения лиц с ограниченными возможностями здоровья по зрению)","Основное общее образование","Очная"]
[null,null,null,null,null,"34.02.02 Медицинский массаж (для обучения лиц с ограниченными возможностями здоровья по зрению)Среднее общее образованиеЗаочная","11Д56018601000217009100","34.02.02 Медицинский массаж (для обучения лиц с ограниченными возможностями здоровья по зрению)","Среднее общее образование","Заочная"]
[null,null,null,null,null,"35.02.01 Лесное и лесопарковое хозяйствоОсновное общее образованиеОчно-заочная","11Д56018801000109008100","35.02.01 Лесное и лесопарковое хозяйство","Основное общее образование","Очно-заочная"]
[null,null,null,null,null,"35.02.01 Лесное и лесопарковое хозяйствоОсновное общее образованиеЗаочная","11Д56018801000117008100","35.02.01 Лесное и лесопарковое хозяйство","Основное общее образование","Заочная"]
[null,null,null,null,null,"35.02.01 Лесное и лесопарковое хозяйствоСреднее общее образованиеОчно-заочная","11Д56018801000209007100","35.02.01 Лесное и лесопарковое хозяйство","Среднее общее образование","Очно-заочная"]
[null,null,null,null,null,"35.02.02 Технология лесозаготовокОсновное общее образованиеОчная","11Д56018901000101005100","35.02.02 Технология лесозаготовок","Основное общее образование","Очная"]
[null,null,null,null,null,"35.02.02 Технология лесозаготовокОсновное общее образованиеОчно-заочная","11Д56018901000109007100","35.02.02 Технология лесозаготовок","Основное общее образование","Очно-заочная"]
[null,null,null,null,null,{"$f":"H1283&I1283&J1283","v":"35.02.02 Технология лесозаготовокОсновное общее образованиеЗаочная"},"11Д56018901000117007100","35.02.02 Технология лесозаготовок","Основное общее образование","Заочная"]
[null,null,null,null,null,"35.02.02 Технология лесозаготовокСреднее общее образованиеОчная","11Д56018901000201004100","35.02.02 Технология лесозаготовок","Среднее общее образование","Очная"]
[null,null,null,null,null,"35.02.03 Технология деревообработкиСреднее общее образованиеОчная","11Д56019001000201001100","35.02.03 Технология деревообработки","Среднее общее образование","Очная"]
[null,null,null,null,null,"35.02.03 Технология деревообработкиСреднее общее образованиеЗаочная","11Д56019001000217003100","35.02.03 Технология деревообработки","Среднее общее образование","Заочная"]
[null,null,null,null,null,"35.02.06 Технология производства и переработки сельскохозяйственной продукцииОсновное общее образованиеОчно-заочная","11Д56019301000109001100","35.02.06 Технология производства и переработки сельскохозяйственной продукции","Основное общее образование","Очно-заочная"]
[null,null,null,null,null,"35.02.06 Технология производства и переработки сельскохозяйственной продукцииОсновное общее образованиеЗаочная","11Д56019301000117001100","35.02.06 Технология производства и переработки сельскохозяйственной продукции","Основное общее образование","Заочная"]
[null,null,null,null,null,"35.02.06 Технология производства и переработки сельскохозяйственной продукцииСреднее общее образованиеОчная","11Д56019301000201008100","35.02.06 Технология производства и переработки сельскохозяйственной продукции","Среднее общее образование","Очная"]
[null,null,null,null,null,"35.02.07 Механизация сельского хозяйстваОсновное общее образованиеОчная","11Д56019401000101008100","35.02.07 Механизация сельского хозяйства","Основное общее образование","Очная"]
[null,null,null,null,null,"35.02.07 Механизация сельского хозяйстваОсновное общее образованиеОчно-заочная","11Д56019401000109000100","35.02.07 Механизация сельского хозяйства","Основное общее образование","Очно-заочная"]
[null,null,null,null,null,"35.02.07 Механизация сельского хозяйстваОсновное общее образованиеЗаочная","11Д56019401000117000100","35.02.07 Механизация сельского хозяйства","Основное общее образование","Заочная"]
[null,null,null,null,null,"35.02.07 Механизация сельского хозяйстваСреднее общее образованиеОчная","11Д56019401000201007100","35.02.07 Механизация сельского хозяйства","Среднее общее образование","Очная"]
[null,null,null,null,null,"35.02.07 Механизация сельского хозяйстваСреднее общее образованиеЗаочная","11Д56019401000217009100","35.02.07 Механизация сельского хозяйства","Среднее общее образование","Заочная"]
[null,null,null,null,null,"35.02.08 Электрификация и автоматизация сельского хозяйстваОсновное общее образованиеОчная","11Д56019501000101007100","35.02.08 Электрификация и автоматизация сельского хозяйства","Основное общее образование","Очная"]
[null,null,null,null,null,"35.02.08 Электрификация и автоматизация сельского хозяйстваОсновное общее образованиеОчно-заочная","11Д56019501000109009100","35.02.08 Электрификация и автоматизация сельского хозяйства","Основное общее образование","Очно-заочная"]
[null,null,null,null,null,"35.02.11 Промышленное рыболовствоОсновное общее образованиеОчная","11Д56019801000101004100","35.02.11 Промышленное рыболовство","Основное общее образование","Очная"]
[null,null,null,null,null,"35.02.11 Промышленное рыболовствоСреднее общее образованиеОчная","11Д56019801000201003100","35.02.11 Промышленное рыболовство","Среднее общее образование","Очная"]
[null,null,null,null,null,"35.02.11 Промышленное рыболовствоСреднее общее образованиеОчно-заочная","11Д56019801000209005100","35.02.11 Промышленное рыболовство","Среднее общее образование","Очно-заочная"]
[null,null,null,null,null,"35.02.12 Садово-парковое и ландшафтное строительствоСреднее общее образованиеОчно-заочная","11Д56019901000209004100","35.02.12 Садово-парковое и ландшафтное строительство","Среднее общее образование","Очно-заочная"]
[null,null,null,null,null,"35.02.14 Охотоведение и звероводствоОсновное общее образованиеЗаочная","11Д56020101000117001100","35.02.14 Охотоведение и звероводство","Основное общее образование","Заочная"]
[null,null,null,null,null,"35.02.14 Охотоведение и звероводствоСреднее общее образованиеОчная","11Д56020101000201008100","35.02.14 Охотоведение и звероводство","Среднее общее образование","Очная"]
[null,null,null,null,null,"35.02.14 Охотоведение и звероводствоСреднее общее образованиеЗаочная","11Д56020101000217000100","35.02.14 Охотоведение и звероводство","Среднее общее образование","Заочная"]
[null,null,null,null,null,"36.02.01 ВетеринарияСреднее общее образованиеОчная","11Д56020401000201005100","36.02.01 Ветеринария","Среднее общее образование","Очная"]
[null,null,null,null,null,"36.02.01 ВетеринарияСреднее общее образованиеОчно-заочная","11Д56020401000209007100","36.02.01 Ветеринария","Среднее общее образование","Очно-заочная"]
[null,null,null,null,null,"36.02.02 ЗоотехнияОсновное общее образованиеЗаочная","11Д56020501000117007100","36.02.02 Зоотехния","Основное общее образование","Заочная"]
[null,null,null,null,null,"36.02.02 ЗоотехнияСреднее общее образованиеОчная","11Д56020501000201004100","36.02.02 Зоотехния","Среднее общее образование","Очная"]
[null,null,null,null,null,"36.02.02 ЗоотехнияСреднее общее образованиеОчно-заочная","11Д56020501000209006100","36.02.02 Зоотехния","Среднее общее образование","Очно-заочная"]
[null,null,null,null,null,"36.02.02 ЗоотехнияСреднее общее образованиеЗаочная","11Д56020501000217006100","36.02.02 Зоотехния","Среднее общее образование","Заочная"]
[null,null,null,null,null,"38.02.01 Экономика и бухгалтерский учет (по отраслям)Основное общее образованиеЗаочная","11Д56020701000117005100","38.02.01 Экономика и бухгалтерский учет (по отраслям)","Основное общее образование","Заочная"]
[null,null,null,null,null,"38.02.01 Экономика и бухгалтерский учет (по отраслям)Среднее общее образованиеОчная","11Д56020701000201002100","38.02.01 Экономика и бухгалтерский учет (по отраслям)","Среднее общее образование","Очная"]
[null,null,null,null,null,"38.02.01 Экономика и бухгалтерский учет (по отраслям)Среднее общее образованиеЗаочная","11Д56020701000217004100","38.02.01 Экономика и бухгалтерский учет (по отраслям)","Среднее общее образование","Заочная"]
[null,null,null,null,null,"38.02.02 Страховое дело (по отраслям)Основное общее образованиеОчная","11Д56020801000101002100","38.02.02 Страховое дело (по отраслям)","Основное общее образование","Очная"]
[null,null,null,null,null,"38.02.02 Страховое дело (по отраслям)Основное общее образованиеОчно-заочная","11Д56020801000109004100","38.02.02 Страховое дело (по отраслям)","Основное общее образование","Очно-заочная"]
[null,null,null,null,null,"38.02.02 Страховое дело (по отраслям)Среднее общее образованиеОчная","11Д56020801000201001100","38.02.02 Страховое дело (по отраслям)","Среднее общее образование","Очная"]
[null,null,null,null,null,"38.02.04 Коммерция (по отраслям)Основное общее образованиеОчная","11Д56021001000101008100","38.02.04 Коммерция (по отраслям)","Основное общее образование","Очная"]
[null,null,null,null,null,"38.02.04 Коммерция (по отраслям)Среднее общее образованиеЗаочная","11Д56021001000217009100","38.02.04 Коммерция (по отраслям)","Среднее общее образование","Заочная"]
[null,null,null,null,null,"38.02.05 Товароведение и экспертиза качества потребительских товаровОсновное общее образованиеОчная","11Д56021101000101007100","38.02.05 Товароведение и экспертиза качества потребительских товаров","Основное общее образование","Очная"]
[null,null,null,null,null,"38.02.05 Товароведение и экспертиза качества потребительских товаровОсновное общее образованиеОчно-заочная","11Д56021101000109009100","38.02.05 Товароведение и экспертиза качества потребительских товаров","Основное общее образование","Очно-заочная"]
[null,null,null,null,null,"38.02.05 Товароведение и экспертиза качества потребительских товаровСреднее общее образованиеОчная","11Д56021101000201006100","38.02.05 Товароведение и экспертиза качества потребительских товаров","Среднее общее образование","Очная"]
[null,null,null,null,null,"38.02.05 Товароведение и экспертиза качества потребительских товаровСреднее общее образованиеОчно-заочная","11Д56021101000209008100","38.02.05 Товароведение и экспертиза качества потребительских товаров","Среднее общее образование","Очно-заочная"]
[null,null,null,null,null,"38.02.06 ФинансыСреднее общее образованиеОчно-заочная","11Д56021201000209007100","38.02.06 Финансы","Среднее общее образование","Очно-заочная"]
[null,null,null,null,null,"38.02.07 Банковское делоОсновное общее образованиеОчная","11Д56021301000101005100","38.02.07 Банковское дело","Основное общее образование","Очная"]
[null,null,null,null,null,"38.02.07 Банковское делоСреднее общее образованиеОчная","11Д56021301000201004100","38.02.07 Банковское дело","Среднее общее образование","Очная"]
[null,null,null,null,null,"39.02.02 Организация сурдокоммуникацииОсновное общее образованиеЗаочная","11Д56021601000117004100","39.02.02 Организация сурдокоммуникации","Основное общее образование","Заочная"]
[null,null,null,null,null,"40.02.01 Право и организация социального обеспеченияОсновное общее образованиеОчная","11Д56021801000101000100","40.02.01 Право и организация социального обеспечения","Основное общее образование","Очная"]
[null,null,null,null,null,"40.02.01 Право и организация социального обеспеченияОсновное общее образованиеЗаочная","11Д56021801000117002100","40.02.01 Право и организация социального обеспечения","Основное общее образование","Заочная"]
[null,null,null,null,null,"40.02.01 Право и организация социального обеспеченияСреднее общее образованиеОчная","11Д56021801000201009100","40.02.01 Право и организация социального обеспечения","Среднее общее образование","Очная"]
[null,null,null,null,null,"40.02.01 Право и организация социального обеспеченияСреднее общее образованиеЗаочная","11Д56021801000217001100","40.02.01 Право и организация социального обеспечения","Среднее общее образование","Заочная"]
[null,null,null,null,null,"40.02.02 Правоохранительная деятельностьОсновное общее образованиеЗаочная","11Д56021901000117001100","40.02.02 Правоохранительная деятельность","Основное общее образование","Заочная"]
[null,null,null,null,null,"40.02.02 Правоохранительная деятельностьСреднее общее образованиеОчная","11Д56021901000201008100","40.02.02 Правоохранительная деятельность","Среднее общее образование","Очная"]
[null,null,null,null,null,"40.02.02 Правоохранительная деятельностьСреднее общее образованиеЗаочная","11Д56021901000217000100","40.02.02 Правоохранительная деятельность","Среднее общее образование","Заочная"]
[null,null,null,null,null,"40.02.03 Право и судебное администрированиеСреднее общее образованиеОчная","11Д56022001000201005100","40.02.03 Право и судебное администрирование","Среднее общее образование","Очная"]
[null,null,null,null,null,"40.02.03 Право и судебное администрированиеСреднее общее образованиеОчно-заочная","11Д56022001000209007100","40.02.03 Право и судебное администрирование","Среднее общее образование","Очно-заочная"]
[null,null,null,null,null,"40.02.03 Право и судебное администрированиеСреднее общее образованиеЗаочная","11Д56022001000217007100","40.02.03 Право и судебное администрирование","Среднее общее образование","Заочная"]
[null,null,null,null,null,"42.02.01 РекламаОсновное общее образованиеОчно-заочная","11Д56022201000109006100","42.02.01 Реклама","Основное общее образование","Очно-заочная"]
[null,null,null,null,null,"42.02.01 РекламаОсновное общее образованиеЗаочная","11Д56022201000117006100","42.02.01 Реклама","Основное общее образование","Заочная"]
[null,null,null,null,null,"42.02.01 РекламаСреднее общее образованиеЗаочная","11Д56022201000217005100","42.02.01 Реклама","Среднее общее образование","Заочная"]
[null,null,null,null,null,"42.02.02 Издательское делоОсновное общее образованиеОчная","11Д56022301000101003100","42.02.02 Издательское дело","Основное общее образование","Очная"]
[null,null,null,null,null,"42.02.02 Издательское делоОсновное общее образованиеОчно-заочная","11Д56022301000109005100","42.02.02 Издательское дело","Основное общее образование","Очно-заочная"]
[null,null,null,null,null,"42.02.02 Издательское делоСреднее общее образованиеОчная","11Д56022301000201002100","42.02.02 Издательское дело","Среднее общее образование","Очная"]
[null,null,null,null,null,"42.02.02 Издательское делоСреднее общее образованиеОчно-заочная","11Д56022301000209004100","42.02.02 Издательское дело","Среднее общее образование","Очно-заочная"]
[null,null,null,null,null,"42.02.02 Издательское делоСреднее общее образованиеЗаочная","11Д56022301000217004100","42.02.02 Издательское дело","Среднее общее образование","Заочная"]
[null,null,null,null,null,"43.02.01 Организация обслуживания в общественном питанииОсновное общее образованиеОчная","11Д56022501000101001100","43.02.01 Организация обслуживания в общественном питании","Основное общее образование","Очная"]
[null,null,null,null,null,"43.02.01 Организация обслуживания в общественном питанииОсновное общее образованиеОчно-заочная","11Д56022501000109003100","43.02.01 Организация обслуживания в общественном питании","Основное общее образование","Очно-заочная"]
[null,null,null,null,null,"43.02.01 Организация обслуживания в общественном питанииСреднее общее образованиеОчная","11Д56022501000201000100","43.02.01 Организация обслуживания в общественном питании","Среднее общее образование","Очная"]
[null,null,null,null,null,{"$f":"H1347&I1347&J1347","v":"43.02.01 Организация обслуживания в общественном питанииСреднее общее образованиеОчно-заочная"},"11Д56022501000209002100","43.02.01 Организация обслуживания в общественном питании","Среднее общее образование","Очно-заочная"]
[null,null,null,null,null,"43.02.02 Парикмахерское искусствоОсновное общее образованиеОчная","11Д56022601000101000100","43.02.02 Парикмахерское искусство","Основное общее образование","Очная"]
[null,null,null,null,null,"43.02.02 Парикмахерское искусствоОсновное общее образованиеЗаочная","11Д56022601000117002100","43.02.02 Парикмахерское искусство","Основное общее образование","Заочная"]
[null,null,null,null,null,"43.02.02 Парикмахерское искусствоСреднее общее образованиеОчная","11Д56022601000201009100","43.02.02 Парикмахерское искусство","Среднее общее образование","Очная"]
[null,null,null,null,null,"43.02.02 Парикмахерское искусствоСреднее общее образованиеОчно-заочная","11Д56022601000209001100","43.02.02 Парикмахерское искусство","Среднее общее образование","Очно-заочная"]
[null,null,null,null,null,"43.02.03 Стилистика и искусство визажаОсновное общее образованиеОчно-заочная","11Д56022701000109001100","43.02.03 Стилистика и искусство визажа","Основное общее образование","Очно-заочная"]
[null,null,null,null,null,"43.02.03 Стилистика и искусство визажаСреднее общее образованиеОчно-заочная","11Д56022701000209000100","43.02.03 Стилистика и искусство визажа","Среднее общее образование","Очно-заочная"]
[null,null,null,null,null,"43.02.03 Стилистика и искусство визажаСреднее общее образованиеЗаочная","11Д56022701000217000100","43.02.03 Стилистика и искусство визажа","Среднее общее образование","Заочная"]
[null,null,null,null,null,"43.02.04 Прикладная эстетикаОсновное общее образованиеОчная","11Д56022801000101008100","43.02.04 Прикладная эстетика","Основное общее образование","Очная"]
[null,null,null,null,null,"43.02.04 Прикладная эстетикаОсновное общее образованиеОчно-заочная","11Д56022801000109000100","43.02.04 Прикладная эстетика","Основное общее образование","Очно-заочная"]
[null,null,null,null,null,"43.02.04 Прикладная эстетикаОсновное общее образованиеЗаочная","11Д56022801000117000100","43.02.04 Прикладная эстетика","Основное общее образование","Заочная"]
[null,null,null,null,null,"43.02.04 Прикладная эстетикаСреднее общее образованиеОчная","11Д56022801000201007100","43.02.04 Прикладная эстетика","Среднее общее образование","Очная"]
[null,null,null,null,null,"43.02.04 Прикладная эстетикаСреднее общее образованиеОчно-заочная","11Д56022801000209009100","43.02.04 Прикладная эстетика","Среднее общее образование","Очно-заочная"]
[null,null,null,null,null,"43.02.04 Прикладная эстетикаСреднее общее образованиеЗаочная","11Д56022801000217009100","43.02.04 Прикладная эстетика","Среднее общее образование","Заочная"]
[null,null,null,null,null,"43.02.05 ФлористикаОсновное общее образованиеОчная","11Д56022901000101007100","43.02.05 Флористика","Основное общее образование","Очная"]
[null,null,null,null,null,"43.02.05 ФлористикаСреднее общее образованиеОчная","11Д56022901000201006100","43.02.05 Флористика","Среднее общее образование","Очная"]
[null,null,null,null,null,"43.02.05 ФлористикаСреднее общее образованиеОчно-заочная","11Д56022901000209008100","43.02.05 Флористика","Среднее общее образование","Очно-заочная"]
[null,null,null,null,null,"43.02.05 ФлористикаСреднее общее образованиеЗаочная","11Д56022901000217008100","43.02.05 Флористика","Среднее общее образование","Заочная"]
[null,null,null,null,null,"43.02.06 Сервис на транспорте (по видам транспорта)Основное общее образованиеОчно-заочная","11Д56023001000109006100","43.02.06 Сервис на транспорте (по видам транспорта)","Основное общее образование","Очно-заочная"]
[null,null,null,null,null,"43.02.06 Сервис на транспорте (по видам транспорта)Основное общее образованиеЗаочная","11Д56023001000117006100","43.02.06 Сервис на транспорте (по видам транспорта)","Основное общее образование","Заочная"]
[null,null,null,null,null,"43.02.06 Сервис на транспорте (по видам транспорта)Среднее общее образованиеОчная","11Д56023001000201003100","43.02.06 Сервис на транспорте (по видам транспорта)","Среднее общее образование","Очная"]
[null,null,null,null,null,"43.02.07 Сервис по химической обработке изделийОсновное общее образованиеОчно-заочная","11Д56023101000109005100","43.02.07 Сервис по химической обработке изделий","Основное общее образование","Очно-заочная"]
[null,null,null,null,null,"43.02.07 Сервис по химической обработке изделийОсновное общее образованиеЗаочная","11Д56023101000117005100","43.02.07 Сервис по химической обработке изделий","Основное общее образование","Заочная"]
[null,null,null,null,null,"43.02.07 Сервис по химической обработке изделийСреднее общее образованиеОчно-заочная","11Д56023101000209004100","43.02.07 Сервис по химической обработке изделий","Среднее общее образование","Очно-заочная"]
[null,null,null,null,null,"43.02.07 Сервис по химической обработке изделийСреднее общее образованиеЗаочная","11Д56023101000217004100","43.02.07 Сервис по химической обработке изделий","Среднее общее образование","Заочная"]
[null,null,null,null,null,"43.02.08 Сервис домашнего и коммунального хозяйстваСреднее общее образованиеЗаочная","11Д56023201000217003100","43.02.08 Сервис домашнего и коммунального хозяйства","Среднее общее образование","Заочная"]
[null,null,null,null,null,"43.02.09 Ритуальный сервисОсновное общее образованиеОчная","11Д56023301000101001100","43.02.09 Ритуальный сервис","Основное общее образование","Очная"]
[null,null,null,null,null,"43.02.09 Ритуальный сервисОсновное общее образованиеЗаочная","11Д56023301000117003100","43.02.09 Ритуальный сервис","Основное общее образование","Заочная"]
[null,null,null,null,null,"43.02.09 Ритуальный сервисСреднее общее образованиеОчная","11Д56023301000201000100","43.02.09 Ритуальный сервис","Среднее общее образование","Очная"]
[null,null,null,null,null,"43.02.09 Ритуальный сервисСреднее общее образованиеЗаочная","11Д56023301000217002100","43.02.09 Ритуальный сервис","Среднее общее образование","Заочная"]
[null,null,null,null,null,"43.02.10 ТуризмОсновное общее образованиеОчно-заочная","11Д56023401000109002100","43.02.10 Туризм","Основное общее образование","Очно-заочная"]
[null,null,null,null,null,"43.02.10 ТуризмСреднее общее образованиеОчно-заочная","11Д56023401000209001100","43.02.10 Туризм","Среднее общее образование","Очно-заочная"]
[null,null,null,null,null,"43.02.10 ТуризмСреднее общее образованиеЗаочная","11Д56023401000217001100","43.02.10 Туризм","Среднее общее образование","Заочная"]
[null,null,null,null,null,"43.02.11 Гостиничный сервисОсновное общее образованиеОчная","11Д56023501000101009100","43.02.11 Гостиничный сервис","Основное общее образование","Очная"]
[null,null,null,null,null,"43.02.11 Гостиничный сервисОсновное общее образованиеОчно-заочная","11Д56023501000109001100","43.02.11 Гостиничный сервис","Основное общее образование","Очно-заочная"]
[null,null,null,null,null,"43.02.11 Гостиничный сервисОсновное общее образованиеЗаочная","11Д56023501000117001100","43.02.11 Гостиничный сервис","Основное общее образование","Заочная"]
[null,null,null,null,null,"43.02.11 Гостиничный сервисСреднее общее образованиеОчная","11Д56023501000201008100","43.02.11 Гостиничный сервис","Среднее общее образование","Очная"]
[null,null,null,null,null,"44.02.02 Преподавание в начальных классахОсновное общее образованиеОчно-заочная","11Д56023801000109008100","44.02.02 Преподавание в начальных классах","Основное общее образование","Очно-заочная"]
[null,null,null,null,null,"44.02.02 Преподавание в начальных классахОсновное общее образованиеЗаочная","11Д56023801000117008100","44.02.02 Преподавание в начальных классах","Основное общее образование","Заочная"]
[null,null,null,null,null,"44.02.02 Преподавание в начальных классахСреднее общее образованиеОчная","11Д56023801000201005100","44.02.02 Преподавание в начальных классах","Среднее общее образование","Очная"]
[null,null,null,null,null,"44.02.02 Преподавание в начальных классахСреднее общее образованиеОчно-заочная","11Д56023801000209007100","44.02.02 Преподавание в начальных классах","Среднее общее образование","Очно-заочная"]
[null,null,null,null,null,"44.02.02 Преподавание в начальных классахСреднее общее образованиеЗаочная","11Д56023801000217007100","44.02.02 Преподавание в начальных классах","Среднее общее образование","Заочная"]
[null,null,null,null,null,"44.02.03 Педагогика дополнительного образованияОсновное общее образованиеОчная","11Д56023901000101005100","44.02.03 Педагогика дополнительного образования","Основное общее образование","Очная"]
[null,null,null,null,null,"44.02.03 Педагогика дополнительного образованияОсновное общее образованиеОчно-заочная","11Д56023901000109007100","44.02.03 Педагогика дополнительного образования","Основное общее образование","Очно-заочная"]
[null,null,null,null,null,"44.02.03 Педагогика дополнительного образованияОсновное общее образованиеЗаочная","11Д56023901000117007100","44.02.03 Педагогика дополнительного образования","Основное общее образование","Заочная"]
[null,null,null,null,null,"44.02.03 Педагогика дополнительного образованияСреднее общее образованиеОчно-заочная","11Д56023901000209006100","44.02.03 Педагогика дополнительного образования","Среднее общее образование","Очно-заочная"]
[null,null,null,null,null,"44.02.03 Педагогика дополнительного образованияСреднее общее образованиеЗаочная","11Д56023901000217006100","44.02.03 Педагогика дополнительного образования","Среднее общее образование","Заочная"]
[null,null,null,null,null,"44.02.04 Специальное дошкольное образованиеОсновное общее образованиеОчно-заочная","11Д56024001000109004100","44.02.04 Специальное дошкольное образование","Основное общее образование","Очно-заочная"]
[null,null,null,null,null,"44.02.04 Специальное дошкольное образованиеОсновное общее образованиеЗаочная","11Д56024001000117004100","44.02.04 Специальное дошкольное образование","Основное общее образование","Заочная"]
[null,null,null,null,null,"44.02.04 Специальное дошкольное образованиеСреднее общее образованиеОчная","11Д56024001000201001100","44.02.04 Специальное дошкольное образование","Среднее общее образование","Очная"]
[null,null,null,null,null,"44.02.04 Специальное дошкольное образованиеСреднее общее образованиеОчно-заочная","11Д56024001000209003100","44.02.04 Специальное дошкольное образование","Среднее общее образование","Очно-заочная"]
[null,null,null,null,null,"44.02.04 Специальное дошкольное образованиеСреднее общее образованиеЗаочная","11Д56024001000217003100","44.02.04 Специальное дошкольное образование","Среднее общее образование","Заочная"]
[null,null,null,null,null,"44.02.05 Коррекционная педагогика в начальном образованииОсновное общее образованиеОчно-заочная","11Д56024101000109003100","44.02.05 Коррекционная педагогика в начальном образовании","Основное общее образование","Очно-заочная"]
[null,null,null,null,null,"44.02.05 Коррекционная педагогика в начальном образованииОсновное общее образованиеЗаочная","11Д56024101000117003100","44.02.05 Коррекционная педагогика в начальном образовании","Основное общее образование","Заочная"]
[null,null,null,null,null,"44.02.05 Коррекционная педагогика в начальном образованииСреднее общее образованиеОчно-заочная","11Д56024101000209002100","44.02.05 Коррекционная педагогика в начальном образовании","Среднее общее образование","Очно-заочная"]
[null,null,null,null,null,"44.02.05 Коррекционная педагогика в начальном образованииСреднее общее образованиеЗаочная","11Д56024101000217002100","44.02.05 Коррекционная педагогика в начальном образовании","Среднее общее образование","Заочная"]
[null,null,null,null,null,"44.02.06 Профессиональное обучение (по отраслям)Основное общее образованиеОчная","11Д56024201000101000100","44.02.06 Профессиональное обучение (по отраслям)","Основное общее образование","Очная"]
[null,null,null,null,null,"44.02.06 Профессиональное обучение (по отраслям)Основное общее образованиеОчно-заочная","11Д56024201000109002100","44.02.06 Профессиональное обучение (по отраслям)","Основное общее образование","Очно-заочная"]
[null,null,null,null,null,"44.02.06 Профессиональное обучение (по отраслям)Среднее общее образованиеОчная","11Д56024201000201009100","44.02.06 Профессиональное обучение (по отраслям)","Среднее общее образование","Очная"]
[null,null,null,null,null,"44.02.06 Профессиональное обучение (по отраслям)Среднее общее образованиеОчно-заочная","11Д56024201000209001100","44.02.06 Профессиональное обучение (по отраслям)","Среднее общее образование","Очно-заочная"]
[null,null,null,null,null,"44.02.06 Профессиональное обучение (по отраслям)Среднее общее образованиеЗаочная","11Д56024201000217001100","44.02.06 Профессиональное обучение (по отраслям)","Среднее общее образование","Заочная"]
[null,null,null,null,null,"46.02.01 Документационное обеспечение управления и архивоведениеСреднее общее образованиеОчно-заочная","11Д56024401000209009100","46.02.01 Документационное обеспечение управления и архивоведение","Среднее общее образование","Очно-заочная"]
[null,null,null,null,null,"46.02.01 Документационное обеспечение управления и архивоведениеСреднее общее образованиеЗаочная","11Д56024401000217009100","46.02.01 Документационное обеспечение управления и архивоведение","Среднее общее образование","Заочная"]
[null,null,null,null,null,"49.02.01 Физическая культураСреднее общее образованиеОчная","11Д56024601000201005100","49.02.01 Физическая культура","Среднее общее образование","Очная"]
[null,null,null,null,null,{"$f":"H1411&I1411&J1411","v":"49.02.01 Физическая культураСреднее общее образованиеОчно-заочная"},"11Д56024601000209007100","49.02.01 Физическая культура","Среднее общее образование","Очно-заочная"]
[null,null,null,null,null,"49.02.01 Физическая культураСреднее общее образованиеЗаочная","11Д56024601000217007100","49.02.01 Физическая культура","Среднее общее образование","Заочная"]
[null,null,null,null,null,"49.02.02 Адаптивная физическая культураОсновное общее образованиеОчная","11Д56024701000101005100","49.02.02 Адаптивная физическая культура","Основное общее образование","Очная"]
[null,null,null,null,null,"49.02.02 Адаптивная физическая культураОсновное общее образованиеОчно-заочная","11Д56024701000109007100","49.02.02 Адаптивная физическая культура","Основное общее образование","Очно-заочная"]
[null,null,null,null,null,"49.02.02 Адаптивная физическая культураОсновное общее образованиеЗаочная","11Д56024701000117007100","49.02.02 Адаптивная физическая культура","Основное общее образование","Заочная"]
[null,null,null,null,null,"49.02.02 Адаптивная физическая культураСреднее общее образованиеОчно-заочная","11Д56024701000209006100","49.02.02 Адаптивная физическая культура","Среднее общее образование","Очно-заочная"]
[null,null,null,null,null,"49.02.02 Адаптивная физическая культураСреднее общее образованиеЗаочная","11Д56024701000217006100","49.02.02 Адаптивная физическая культура","Среднее общее образование","Заочная"]
[null,null,null,null,null,"50.02.01 Мировая художественная культураОсновное общее образованиеОчно-заочная","11Д56024901000109005100","50.02.01 Мировая художественная культура","Основное общее образование","Очно-заочная"]
[null,null,null,null,null,"50.02.01 Мировая художественная культураОсновное общее образованиеЗаочная","11Д56024901000117005100","50.02.01 Мировая художественная культура","Основное общее образование","Заочная"]
[null,null,null,null,null,"50.02.01 Мировая художественная культураСреднее общее образованиеОчно-заочная","11Д56024901000209004100","50.02.01 Мировая художественная культура","Среднее общее образование","Очно-заочная"]
[null,null,null,null,null,"52.02.01 Искусство балетаОсновное общее образованиеОчная","11Д56025501000101004100","52.02.01 Искусство балета","Основное общее образование","Очная"]
[null,null,null,null,null,"52.02.01 Искусство балетаОсновное общее образованиеОчно-заочная","11Д56025501000109006100","52.02.01 Искусство балета","Основное общее образование","Очно-заочная"]
[null,null,null,null,null,"52.02.01 Искусство балетаОсновное общее образованиеЗаочная","11Д56025501000117006100","52.02.01 Искусство балета","Основное общее образование","Заочная"]
[null,null,null,null,null,"52.02.02 Искусство танца (по видам)Среднее общее образованиеОчная","11Д56025601000201002100","52.02.02 Искусство танца (по видам)","Среднее общее образование","Очная"]
[null,null,null,null,null,"52.02.02 Искусство танца (по видам)Среднее общее образованиеОчно-заочная","11Д56025601000209004100","52.02.02 Искусство танца (по видам)","Среднее общее образование","Очно-заочная"]
[null,null,null,null,null,"52.02.02 Искусство танца (по видам)Среднее общее образованиеЗаочная","11Д56025601000217004100","52.02.02 Искусство танца (по видам)","Среднее общее образование","Заочная"]
[null,null,null,null,null,"52.02.03 Цирковое искусствоОсновное общее образованиеОчная","11Д56025701000101002100","52.02.03 Цирковое искусство","Основное общее образование","Очная"]
[null,null,null,null,null,"52.02.03 Цирковое искусствоОсновное общее образованиеЗаочная","11Д56025701000117004100","52.02.03 Цирковое искусство","Основное общее образование","Заочная"]
[null,null,null,null,null,"53.02.03 Инструментальное исполнительство (по видам инструментов)Основное общее образованиеЗаочная","11Д56026301000117006100","53.02.03 Инструментальное исполнительство (по видам инструментов)","Основное общее образование","Заочная"]
[null,null,null,null,null,"53.02.03 Инструментальное исполнительство (по видам инструментов)Среднее общее образованиеОчно-заочная","11Д56026301000209005100","53.02.03 Инструментальное исполнительство (по видам инструментов)","Среднее общее образование","Очно-заочная"]
[null,null,null,null,null,"53.02.03 Инструментальное исполнительство (по видам инструментов)Среднее общее образованиеЗаочная","11Д56026301000217005100","53.02.03 Инструментальное исполнительство (по видам инструментов)","Среднее общее образование","Заочная"]
[null,null,null,null,null,"53.02.04 Вокальное искусствоСреднее общее образованиеОчно-заочная","11Д56026401000209004100","53.02.04 Вокальное искусство","Среднее общее образование","Очно-заочная"]
[null,null,null,null,null,"53.02.05 Сольное и хоровое народное пениеСреднее общее образованиеЗаочная","11Д56026501000217003100","53.02.05 Сольное и хоровое народное пение","Среднее общее образование","Заочная"]
[null,null,null,null,null,"53.02.08 Музыкальное звукооператорское мастерствоСреднее общее образованиеОчно-заочная","11Д56026801000209000100","53.02.08 Музыкальное звукооператорское мастерство","Среднее общее образование","Очно-заочная"]
[null,null,null,null,null,"53.02.09 Театрально-декорационное искусство (по видам)Среднее общее образованиеЗаочная","11Д56026901000217009100","53.02.09 Театрально-декорационное искусство (по видам)","Среднее общее образование","Заочная"]
[null,null,null,null,null,"54.02.01 Дизайн (по отраслям)Основное общее образованиеОчно-заочная","11Д56027101000109006100","54.02.01 Дизайн (по отраслям)","Основное общее образование","Очно-заочная"]
[null,null,null,null,null,"54.02.01 Дизайн (по отраслям)Основное общее образованиеЗаочная","11Д56027101000117006100","54.02.01 Дизайн (по отраслям)","Основное общее образование","Заочная"]
[null,null,null,null,null,"54.02.01 Дизайн (по отраслям)Среднее общее образованиеОчная","11Д56027101000201003100","54.02.01 Дизайн (по отраслям)","Среднее общее образование","Очная"]
[null,null,null,null,null,"54.02.03 Художественное оформление изделий текстильной и легкой промышленностиСреднее общее образованиеОчная","11Д56027301000201001100","54.02.03 Художественное оформление изделий текстильной и легкой промышленности","Среднее общее образование","Очная"]
[null,null,null,null,null,"54.02.03 Художественное оформление изделий текстильной и легкой промышленностиСреднее общее образованиеОчно-заочная","11Д56027301000209003100","54.02.03 Художественное оформление изделий текстильной и легкой промышленности","Среднее общее образование","Очно-заочная"]
[null,null,null,null,null,"54.02.03 Художественное оформление изделий текстильной и легкой промышленностиСреднее общее образованиеЗаочная","11Д56027301000217003100","54.02.03 Художественное оформление изделий текстильной и легкой промышленности","Среднее общее образование","Заочная"]
[null,null,null,null,null,"54.02.05 Живопись (по видам)Основное общее образованиеОчная","11Д56027501000101000100","54.02.05 Живопись (по видам)","Основное общее образование","Очная"]
[null,null,null,null,null,"54.02.07 СкульптураОсновное общее образованиеОчная","11Д56027701000101008100","54.02.07 Скульптура","Основное общее образование","Очная"]
[null,null,null,null,null,"54.02.07 СкульптураОсновное общее образованиеЗаочная","11Д56027701000117000100","54.02.07 Скульптура","Основное общее образование","Заочная"]
[null,null,null,null,null,"54.02.07 СкульптураСреднее общее образованиеОчная","11Д56027701000201007100","54.02.07 Скульптура","Среднее общее образование","Очная"]
[null,null,null,null,null,"54.02.08 Техника и искусство фотографииОсновное общее образованиеОчная","11Д56027801000101007100","54.02.08 Техника и искусство фотографии","Основное общее образование","Очная"]
[null,null,null,null,null,"54.02.08 Техника и искусство фотографииСреднее общее образованиеЗаочная","11Д56027801000217008100","54.02.08 Техника и искусство фотографии","Среднее общее образование","Заочная"]
[null,null,null,null,null,"43.02.12 Технология эстетических услугОсновное общее образованиеОчная",null,"43.02.12 Технология эстетических услуг","Основное общее образование","Очная"]
[null,null,null,null,null,"43.02.14 Гостиничное делоОсновное общее образованиеОчная",null,"43.02.14 Гостиничное дело","Основное общее образование","Очная"]
[null,null,null,null,null,"43.02.13 Технология парикмахерского искусстваОсновное общее образованиеОчная",null,"43.02.13 Технология парикмахерского искусства","Основное общее образование","Очная"]
[null,null,null,null,null,"15.02.12 Монтаж, техническое обслуживание и ремонт промышленного оборудования (по отраслям)Основное общее образованиеОчная",null,"15.02.12 Монтаж, техническое обслуживание и ремонт промышленного оборудования (по отраслям)","Основное общее образование","Очная"]
[null,null,null,null,null,"15.02.15 Технология металлообрабатывающего производстваОсновное общее образованиеОчная",null,"15.02.15 Технология металлообрабатывающего производства","Основное общее образование","Очная"]
[null,null,null,null,null,"23.02.07 Техническое обслуживание и ремонт двигателей, систем и агрегатов автомобилейОсновное общее образованиеОчная",null,"23.02.07 Техническое обслуживание и ремонт двигателей, систем и агрегатов автомобилей","Основное общее образование","Очная"]
[null,null,null,null,null,"43.02.15 Поварское и кондитерское делоОсновное общее образованиеОчная",null,"43.02.15 Поварское и кондитерское дело","Основное общее образование","Очная"]
[null,null,null,null,null,"09.02.07 Информационные системы и программированиеОсновное общее образованиеОчная",null,"09.02.07 Информационные системы и программирование","Основное общее образование","Очная"]
[null,null,null,null,null,"11.02.15 Инфокоммуникационные сети и системы связиОсновное общее образованиеОчная",null,"11.02.15 Инфокоммуникационные сети и системы связи","Основное общее образование","Очная"]
[null,null,null,null,null,"11.02.16 Монтаж, техническое обслуживание и ремонт электронных приборов и устройствОсновное общее образованиеОчная",null,"11.02.16 Монтаж, техническое обслуживание и ремонт электронных приборов и устройств","Основное общее образование","Очная"]
[null,null,null,null,null,"09.02.06 Сетевое и системное администрированиеОсновное общее образованиеОчная",null,"09.02.06 Сетевое и системное администрирование","Основное общее образование","Очная"]
[null,null,null,null,null,"08.02.11 Управление, эксплуатация и обслуживание многоквартирного домаОсновное общее образованиеОчная",null,"08.02.11 Управление, эксплуатация и обслуживание многоквартирного дома","Основное общее образование","Очная"]
[null,null,null,null,null,""]
[null,null,null,null,null,""]
[null,null,null,null,null,""]
[null,null,null,null,null,""]
[null,null,null,null,null,""]
[null,null,null,null,null,""]
[null,null,null,null,null,""]
[null,null,null,null,null,""]
[null,null,null,null,null,""]
[null,null,null,null,null,""]
[null,null,null,null,null,""]
[null,null,null,null,null,""]
[null,null,null,null,null,""]
[null,null,null,null,null,""]
[null,null,null,null,null,""]
[null,null,null,null,null,{"$f":"H1475&I1475&J1475","v":""}]
[null,null,null,null,null,""]
[null,null,null,null,null,""]
[null,null,null,null,null,""]
[null,null,null,null,null,""]
[null,null,null,null,null,""]
[null,null,null,null,null,""]

{"sheet":"Служебный 1","index":8,"n_rows":52,"n_cols":17,"rows_kept":52,"cut":false,"hidden":true,"merged":[[0,8,0,10],[0,12,0,16]]}
["Периодичность отчетов",null,"Наименование ПОО","Директор","Краткое аименование ПОО",null,"Наименование профессий ПО",null,"Для выбора ОКВЭД на тит листе",null,null,null,"Для нумерации разделов"]
[{"$f":"ПрСведения!A22","v":"за 9 месяцев"},null,1,2,3,null,"13013 Садовод",null,"85.21",{"$f":"IF(OR(КРС!V25<>0,ССЗ!V25<>0),'Служебный 1'!I2,\"\")","v":"85.21"},{"$f":"INDEX($J$2:$J$5, MATCH(SMALL(COUNTIF($J$2:$J$5, \"<\"&$J$2:$J$5), ROW(1:1)), COUNTIF($J$2:$J$5, \"<\"&$J$2:$J$5), 0))","v":"85.21"},"Среднее профессиональное образование","КРС",{"$f":"IF(КРС!V25<>0,1,0)","v":1},{"$f":"COUNTIF(N2:N3,\"<>0\")","v":2},{"$f":"COUNTIF(N2:N4,\"<>0\")","v":2},{"$f":"COUNTIF(N2:N5,\"<>0\")","v":3}]
[{"$f":"ПрСведения!A23","v":"ежегодно"},null,"государственное автономное профессиональное образовательное учреждение \"Волгоградский медико-экологический техникум\"","Гопия Геннадий Олегович","Волгоградский медико-экологический техникум",null,"13450 Маляр",null,"55.5",{"$f":"IF(Питание!V24<>0,'Служебный 1'!I3,\"\")","v":""},{"$f":"INDEX($J$2:$J$5, MATCH(SMALL(COUNTIF($J$2:$J$5, \"<\"&$J$2:$J$5), ROW(2:2)), COUNTIF($J$2:$J$5, \"<\"&$J$2:$J$5), 0))","v":"85.21"},"Деятельность столовых при предприятиях и учреждениях и поставка продукции общественного питания","ССЗ",{"$f":"IF(ССЗ!V25<>0,N2+1,0)","v":2}]
[null,null,"государственное автономное профессиональное образовательное учреждение \"Волгоградский социально-педагогический колледж\"","Калинин Александр Сергеевич","Волгоградский социально-педагогический колледж",null,"15220 Облицовщик-плиточник",null,"70.32.1",{"$f":"IF(Общеж!V28<>0,'Служебный 1'!I4,\"\")","v":"70.32.1"},{"$f":"INDEX($J$2:$J$5, MATCH(SMALL(COUNTIF($J$2:$J$5, \"<\"&$J$2:$J$5), ROW(3:3)), COUNTIF($J$2:$J$5, \"<\"&$J$2:$J$5), 0))","v":"85.21"},"Управление эксплуатацией жилого фонда","ПО",{"$f":"IF(ПО!$W$25<>0,O2+1,0)","v":0}]
[null,null,"государственное автономное профессиональное образовательное учреждение \"Волгоградский техникум железнодорожного транспорта и коммуникаций\"",null,"Волгоградский техникум железнодорожного транспорта и коммуникаций",null,"15415 Овощевод",null,"80.42",{"$f":"IF(ПО!W25<>0,'Служебный 1'!I5,\"\")","v":""},{"$f":"INDEX($J$2:$J$5, MATCH(SMALL(COUNTIF($J$2:$J$5, \"<\"&$J$2:$J$5), ROW(4:4)), COUNTIF($J$2:$J$5, \"<\"&$J$2:$J$5), 0))","v":"70.32.1"},"Образование для взрослых и прочие виды образования, не включенные в другие группировки","Общеж",{"$f":"IF(Общеж!$V$28<>0,'Служебный 1'!P2+1,0)","v":3}]
[null,null,"государственное автономное профессиональное образовательное учреждение \"Еланский аграрный колледж\"","Голев Владимир Александрович","Еланский аграрный колледж",null,"16185 Оператор швейного оборудования",null,null,null,null,null,"Питание",{"$f":"IF(Питание!$V$24<>0,'Служебный 1'!Q2+1,\"\")","v":""}]
[null,null,"государственное автономное профессиональное образовательное учреждение \"Камышинский политехнический колледж\"","Новицкий Александр Васильевич","Камышинский политехнический колледж",null,"16437 Парикмахер"]
[null,null,"государственное автономное профессиональное образовательное учреждение \"Профессиональный лицей имени Александра Невского\"","Зобков Михаил Петрович","Профессиональный лицей имени Александра Невского",null,"16671 Плотник"]
[null,null,"государственное бюджетное профессиональное образовательное учреждение \"Арчединский лесной колледж\"","Мельников Евгений Николаевич","Арчединский лесной колледж",null,"16675 Повар"]
[null,null,"государственное бюджетное профессиональное образовательное учреждение \"Быковский аграрный техникум\"","Перевозникова Анжелла Геннадьевна","Быковский аграрный техникум",null,"16909 Портной"]
[null,null,"государственное бюджетное профессиональное образовательное учреждение \"Волгоградский индустриальный техникум\"","Полонский Сергей Федорович","Волгоградский индустриальный техникум",null,"18511 Слесарь по ремонту автомобилей"]
[null,null,"государственное бюджетное профессиональное образовательное учреждение \"Волгоградский колледж ресторанного сервиса и торговли\"","Самохвалов Сергей Викторович","Волгоградский колледж ресторанного сервиса и торговли",null,"18545 Слесарь по ремонту сельскохозяйственных машин и оборудования"]
[null,null,"государственное бюджетное профессиональное образовательное учреждение \"Волгоградский колледж управления и новых технологий\"","Лиховцов Сергей Евгеньевич","Волгоградский колледж управления и новых технологий",null,"19601 Швея"]
[null,null,"государственное бюджетное профессиональное образовательное учреждение \"Волгоградский политехнический колледж имени В.И. Вернадского\"","Кисиль Михаил Евгеньевич","Волгоградский политехнический колледж",null,"19727 Штукатур"]
[null,null,"государственное бюджетное профессиональное образовательное учреждение \"Волгоградский профессиональный техникум кадровых ресурсов\"","Полонский Станислав Сергеевич","Волгоградский профессиональный техникум кадровых ресурсов"]
[null,null,"государственное бюджетное профессиональное образовательное учреждение \"Волгоградский социально-экономический техникум\"","Шамин Юрий Васильевич","Волгоградский социально-экономический техникум"]
[null,null,"государственное бюджетное профессиональное образовательное учреждение \"Волгоградский строительный техникум\"","Голикова Галина Артуровна","Волгоградский строительный техникум"]
[null,null,"государственное бюджетное профессиональное образовательное учреждение \"Волгоградский техникум нефтяного и газового машиностроения имени Героя Советского Союза Н.Сердюкова\"","Лиховцов Роман Сергеевич","Волгоградский техникум нефтяного и газового машиностроения"]
[null,null,"государственное бюджетное профессиональное образовательное учреждение \"Волгоградский техникум энергетики и связи\"","Ртищев Андрей Николаевич","Волгоградский техникум энергетики и связи"]
[null,null,"государственное бюджетное профессиональное образовательное учреждение \"Волгоградский технический колледж\"","Кантур Вячеслав Анатольевич","Волгоградский технический колледж"]
[null,null,"государственное бюджетное профессиональное образовательное учреждение \"Волгоградский технологический колледж\"","Петрова Оксана Юрьевна","Волгоградский технологический колледж"]
[null,null,"государственное бюджетное профессиональное образовательное учреждение \"Волгоградский экономико-технический колледж\"","Абрамов  Сергей Анатольевич","Волгоградский экономико-технический колледж"]
[null,null,"государственное бюджетное профессиональное образовательное учреждение \"Волгоградский энергетический колледж\"","Трофименко Владимир Ильич","Волгоградский энергетический колледж"]
[null,null,"государственное бюджетное профессиональное образовательное учреждение \"Волжский политехнический техникум\"","Саяпин Сергей Петрович","Волжский политехнический техникум"]
[null,null,"государственное бюджетное профессиональное образовательное учреждение \"Дубовский зооветеринарный колледж имени Героя Советского Союза А.А.Шарова\"","Корнеев  Николай  Яковлевич","Дубовский зооветеринарный колледж"]
[null,null,"государственное бюджетное профессиональное образовательное учреждение \"Дубовский педагогический колледж\"","Иванов Алексей Георгиевич","Дубовский педагогический колледж"]
[null,null,"государственное бюджетное профессиональное образовательное учреждение \"Жирновский нефтяной техникум\"","Шаповалов Александр Петрович","Жирновский нефтяной техникум"]
[null,null,"государственное бюджетное профессиональное образовательное учреждение \"Жирновский педагогический колледж\"","Пригодина Елена Николаевна","Жирновский педагогический колледж"]
[null,null,"государственное бюджетное профессиональное образовательное учреждение \"Казачье кадетское профессиональное училище № 48\"","Бецков Владимир Федорович","Казачье кадетское профессиональное училище № 48"]
[null,null,"государственное бюджетное профессиональное образовательное учреждение \"Камышинский индустриально-педагогический колледж имени Героя Советского Союза А.П.Маресьева\"","Пояркова Наталья Викторовна","Камышинский индустриально-педагогический колледж"]
[null,null,"государственное бюджетное профессиональное образовательное учреждение \"Котовский промышленно-экономический техникум\"","Китляр Виктор Иванович","Котовский промышленно-экономический техникум"]
[null,null,"государственное бюджетное профессиональное образовательное учреждение \"Михайловский профессионально-педагогический колледж\"","Белицкая Евгения Викторовна","Михайловский профессионально-педагогический колледж"]
[null,null,"государственное бюджетное профессиональное образовательное учреждение \"Новоаннинский сельскохозяйственный колледж\"","Кабанова Надежда Эргашевна","Новоаннинский сельскохозяйственный колледж"]
[null,null,"государственное бюджетное профессиональное образовательное учреждение \"Палласовский сельскохозяйственный техникум\"",null,"Палласовский сельскохозяйственный техникум"]
[null,null,"государственное бюджетное профессиональное образовательное учреждение \"Профессиональное училище № 13 имени Дважды Героя Социалистического труда В.И.Штепо\"","Детистова Елена Александровна","Профессиональное училище № 13"]
[null,null,"государственное бюджетное профессиональное образовательное учреждение \"Волгоградский техникум водного транспорта имени адмирала флота Н.Д.Сергеева\"","Суров Александр Тимофеевич","Волгоградский техникум водного транспорта"]
[]
[]
[null,null,"государственное бюджетное профессиональное образовательное учреждение \"Профессиональное училище № 40\"","Клочков Алексей Николаевич","Профессиональное училище № 40"]
[null,null,"государственное бюджетное профессиональное образовательное учреждение \"Профессиональное училище № 44\"","Яценко Владимир Викторович","Профессиональное училище № 44"]
[null,null,"государственное бюджетное профессиональное образовательное учреждение \"Профессиональное училище № 45\"",null,"Профессиональное училище № 45"]
[null,null,"государственное бюджетное профессиональное образовательное учреждение \"Профессиональное училище № 47\"",null,"Профессиональное училище № 47"]
[null,null,"государственное бюджетное профессиональное образовательное учреждение \"Профессиональное училище № 49\"","Стародымов Николай Алексеевич","Профессиональное училище № 49"]
[null,null,"государственное бюджетное профессиональное образовательное учреждение \"Профессиональное училище № 50\"","Пономарёв Юрий Викторович","Профессиональное училище № 50"]
[]
[null,null,"государственное бюджетное профессиональное образовательное учреждение \"Профессиональное училище № 58\"","Киселева Светлана Петровна","Профессиональное училище № 58"]
[]
[null,null,"государственное бюджетное профессиональное образовательное учреждение \"Себряковский технологический техникум\"","Панфилов Сергей Николаевич","Себряковский технологический техникум"]
[null,null,"государственное бюджетное профессиональное образовательное учреждение \"Серафимовичский техникум механизации сельского хозяйства\"","Манянин Сергей Афанасьевич","Серафимовичский техникум механизации сельского хозяйства"]
[null,null,"государственное бюджетное профессиональное образовательное учреждение \"Суровикинский агропромышленный техникум\"","Беляевсков Василий Петрович","Суровикинский агропромышленный техникум"]
[null,null,"государственное бюджетное профессиональное образовательное учреждение \"Урюпинский агропромышленный техникум\"","Рыков Михаил Юрьевич","Урюпинский агропромышленный техникум"]
[null,null,"государственное бюджетное профессиональное образовательное учреждение \"Фроловский промышленно-экономический техникум\"","Мещеряков Андрей Федорович","Фроловский промышленно-экономический техникум"]

{"sheet":"Служебный 3","index":9,"n_rows":5,"n_cols":5,"rows_kept":5,"cut":false,"hidden":true,"merged":[]}
[]
[]
[]
["адаптированная программа","11Г51000400400101007100","обучающиеся с ограниченными возможностями здоровья (ОВЗ)","не указано","Очная"]
["не указано","11Г51000300300101000100","обучающиеся за исключением обучающихся с ограниченными возможностями здоровья (ОВЗ) и детей-инвалидов","не указано","Очная"]

{"sheet":"ПрСведения","index":10,"n_rows":33,"n_cols":3,"rows_kept":33,"cut":false,"hidden":true,"merged":[[9,0,9,2],[10,0,10,2]]}
["Прочие сведения о государственном задании"]
[]
["1. Основания для досрочного прекращения выполнения государственного задания"]
["Ликвидация учреждения"]
["Реорганизация учреждения"]
["Исключение государственной услуги из ведомственного перечня государственных услуг"]
["Иные основания, предусмотренные нормативными правовыми актами Российской Федерации"]
[]
["2.  Иная  информация,  необходимая для выполнения (контроля за выполнением) государственного задания"]
["Показатель объема государственной услуги \"Заключение договоров найма специализированного жилого помещения\" рассчитывается как среднегодовое значение проживающих студентов за счет бюджета Волгоградской области множимое на 6 (кол-во кв.м приходящихся на одного проживающего)."]
["Показатель объема государственной услуги \"Реализация основных профессиональных образовательных программ профессионального обучения - программ профессиональной подготовки по профессиям рабочих, должностям служащих\" рассчитывается как среднегодовое количество студентов, полючающих образовательную услугу за счет бюджета Волгоградской области множимое на 1479 (кол-во часов образовательной программы профессионального обучения со сроком обучения 10 мес.)  "]
[]
["3. Порядок контроля за выполнением государственного задания"]
[]
["Форма контроля","Периодичность","Органы исполнительной власти Волгоградской области, осуществляющие контроль за оказанием государственной услуги"]
[1,2,3]
["Камеральная проверка","По мере поступления отчетности о выполнении государственного задания","Комитет образования,науки и молодежной политики                                 Волгоградской области"]
[]
["4. Требования к отчетности о выполнении государственного задания"]
[]
["4.1.  Периодичность  представления  отчетов  о  выполнении государственного задания"]
["за 9 месяцев"]
["ежегодно"]
[]
["4.2. Сроки представления отчетов о выполнении государственного задания"]
[{"$f":"\"предварительный (\"&A22&\")- до 5 октября\"","v":"предварительный (за 9 месяцев)- до 5 октября"}]
["годовой - до 31 января"]
[null,null," "]
["4.3. Иные требования к отчетности о выполнении государственного задания"]
["нет"]
[]
["5. Иные показатели, связанные с выполнением государственного задания"]
["нет"]

{"sheet":"СводГЗ","index":11,"n_rows":220,"n_cols":35,"rows_kept":220,"cut":false,"hidden":true,"merged":[[0,0,2,0],[0,1,2,1],[0,2,2,2],[0,4,2,4],[0,20,0,34],[1,20,1,31],[1,33,2,33],[1,34,2,34],[0,3,2,3],[0,5,0,19],[1,17,1,19],[1,5,1,16],[1,32,2,32],[210,32,215,32],[210,33,215,33],[210,34,215,34],[204,17,209,17],[204,18,209,18],[210,17,215,17],[204,33,209,33],[210,18,215,18],[210,19,215,19],[204,32,209,32],[204,34,209,34],[204,19,209,19]]}
["Наименование образовательной организации","Госуслуга","Профессия (специальность), для ПО - виды образовательных программ","Уровень образования, необходимый для приема на обучение","Форма обучения","Утверждено в государственном задании",null,null,null,null,null,null,null,null,null,null,null,null,null,null,"Отражено в отчете о выполнении государственного задания"]
[null,null,null,null,null,"Количество студентов, получающих образовательные услуги за счет областного бюджета, на первое число каждого месяца 2016 года, чел",null,null,null,null,null,null,null,null,null,null,null,"Значение показателя объема государственной услуги",null,null,"Количество студентов, получающих образовательные услуги за счет областного бюджета, на первое число каждого месяца 2016 года, чел",null,null,null,null,null,null,null,null,null,null,null,"исполнено на отчетную дату","отклонение, превышающее допустимое (возможное) значение","причина отклонения"]
[null,null,null,null,null,"январь","февраль","март","апрель","май","июнь","июль","август","сентябрь","октябрь","ноябрь","декабрь",2016,2017,2018,"январь","февраль","март","апрель","май","июнь","июль","август","сентябрь","октябрь","ноябрь","декабрь"]
[1,2,3,null,4,5,6,7,8,9,10,11,12,13,14,15,16,17,18,19,20,21,22,23,24,25,26,27,28,29,30,31,32,33,34]
[{"$f":"VLOOKUP(ТитГЗ!$A$17,'Служебный 1'!$C$3:$E$61,3,FALSE)","v":{"$error":"#N/A"}},{"$f":"КРС!$A$4","v":"Реализация образовательных программ среднего профессионального образования - программ подготовки квалифицированных рабочих, служащих"},{"$f":"КРС!B25","v":"08.01.08 Мастер отделочных строительных работ"},{"$f":"КРС!D25","v":"Основное общее образование"},{"$f":"КРС!E25","v":"Очная"},{"$f":"КРС!J25","v":48},{"$f":"КРС!K25","v":48},{"$f":"КРС!L25","v":48},{"$f":"КРС!M25","v":48},{"$f":"КРС!N25","v":48},{"$f":"КРС!O25","v":48},{"$f":"КРС!P25","v":39},{"$f":"КРС!Q25","v":39},{"$f":"КРС!R25","v":64},{"$f":"КРС!S25","v":64},{"$f":"КРС!T25","v":62},{"$f":"КРС!U25","v":62},{"$f":"КРС!V25","v":51.5},{"$f":"КРС!W25","v":62.3},{"$f":"КРС!X25","v":67.8},{"$f":"КРСОтч!N22","v":49},{"$f":"КРСОтч!O22","v":49},{"$f":"КРСОтч!P22","v":49},{"$f":"КРСОтч!Q22","v":49},{"$f":"КРСОтч!R22","v":49},{"$f":"КРСОтч!S22","v":49},{"$f":"КРСОтч!T22","v":41},{"$f":"КРСОтч!U22","v":41},{"$f":"КРСОтч!V22","v":53},{"$f":"КРСОтч!W22","v":65},{"$f":"КРСОтч!X22","v":64},{"$f":"КРСОтч!Y22","v":61},{"$f":"КРСОтч!Z22","v":51.6},{"$f":"КРСОтч!AC22","v":""},{"$f":"КРСОтч!AD22","v":0}]
[{"$f":"VLOOKUP(ТитГЗ!$A$17,'Служебный 1'!$C$3:$E$61,3,FALSE)","v":{"$error":"#N/A"}},{"$f":"КРС!$A$4","v":"Реализация образовательных программ среднего профессионального образования - программ подготовки квалифицированных рабочих, служащих"},{"$f":"КРС!B26","v":"13.01.10 Электромонтер по ремонту и обслуживанию электрооборудования (по отраслям)"},{"$f":"КРС!D26","v":"Основное общее образование"},{"$f":"КРС!E26","v":"Очная"},{"$f":"КРС!J26","v":60},{"$f":"КРС!K26","v":60},{"$f":"КРС!L26","v":60},{"$f":"КРС!M26","v":60},{"$f":"КРС!N26","v":60},{"$f":"КРС!O26","v":60},{"$f":"КРС!P26","v":42},{"$f":"КРС!Q26","v":42},{"$f":"КРС!R26","v":67},{"$f":"КРС!S26","v":67},{"$f":"КРС!T26","v":66},{"$f":"КРС!U26","v":66},{"$f":"КРС!V26","v":59.2},{"$f":"КРС!W26","v":64.3},{"$f":"КРС!X26","v":67.8},{"$f":"КРСОтч!N23","v":62},{"$f":"КРСОтч!O23","v":62},{"$f":"КРСОтч!P23","v":61},{"$f":"КРСОтч!Q23","v":61},{"$f":"КРСОтч!R23","v":61},{"$f":"КРСОтч!S23","v":59},{"$f":"КРСОтч!T23","v":41},{"$f":"КРСОтч!U23","v":39},{"$f":"КРСОтч!V23","v":64},{"$f":"КРСОтч!W23","v":63},{"$f":"КРСОтч!X23","v":63},{"$f":"КРСОтч!Y23","v":63},{"$f":"КРСОтч!Z23","v":58.3},{"$f":"КРСОтч!AC23","v":""},{"$f":"КРСОтч!AD23","v":0}]
[{"$f":"VLOOKUP(ТитГЗ!$A$17,'Служебный 1'!$C$3:$E$61,3,FALSE)","v":{"$error":"#N/A"}},{"$f":"КРС!$A$4","v":"Реализация образовательных программ среднего профессионального образования - программ подготовки квалифицированных рабочих, служащих"},{"$f":"КРС!B27","v":"13.01.10 Электромонтер по ремонту и обслуживанию электрооборудования (по отраслям)"},{"$f":"КРС!D27","v":"Среднее общее образование"},{"$f":"КРС!E27","v":"Очная"},{"$f":"КРС!J27","v":17},{"$f":"КРС!K27","v":17},{"$f":"КРС!L27","v":17},{"$f":"КРС!M27","v":17},{"$f":"КРС!N27","v":17},{"$f":"КРС!O27","v":17},{"$f":"КРС!P27","v":0},{"$f":"КРС!Q27","v":0},{"$f":"КРС!R27","v":25},{"$f":"КРС!S27","v":25},{"$f":"КРС!T27","v":25},{"$f":"КРС!U27","v":24},{"$f":"КРС!V27","v":16.8},{"$f":"КРС!W27","v":20.3},{"$f":"КРС!X27","v":20.8},{"$f":"КРСОтч!N24","v":18},{"$f":"КРСОтч!O24","v":18},{"$f":"КРСОтч!P24","v":18},{"$f":"КРСОтч!Q24","v":18},{"$f":"КРСОтч!R24","v":18},{"$f":"КРСОтч!S24","v":17},{"$f":"КРСОтч!T24","v":2},{"$f":"КРСОтч!U24","v":2},{"$f":"КРСОтч!V24","v":27},{"$f":"КРСОтч!W24","v":27},{"$f":"КРСОтч!X24","v":26},{"$f":"КРСОтч!Y24","v":26},{"$f":"КРСОтч!Z24","v":18.100000000000001},{"$f":"КРСОтч!AC24","v":7.6999999999999999E-2},{"$f":"КРСОтч!AD24","v":"С 1 сентября 2018 года в соответствии с КЦП принято на обучение 25 человек. В то же время,в академическом отпуске с предыдущего учебного года находились 2 студента. Таким образом, превышение ГЗ произошло по техническим причинам"}]
[{"$f":"VLOOKUP(ТитГЗ!$A$17,'Служебный 1'!$C$3:$E$61,3,FALSE)","v":{"$error":"#N/A"}},{"$f":"КРС!$A$4","v":"Реализация образовательных программ среднего профессионального образования - программ подготовки квалифицированных рабочих, служащих"},{"$f":"КРС!B28","v":"15.01.05 Сварщик (ручной и частично механизированной сварки (наплавки)"},{"$f":"КРС!D28","v":"Основное общее образование"},{"$f":"КРС!E28","v":"Очная"},{"$f":"КРС!J28","v":146},{"$f":"КРС!K28","v":146},{"$f":"КРС!L28","v":146},{"$f":"КРС!M28","v":146},{"$f":"КРС!N28","v":146},{"$f":"КРС!O28","v":146},{"$f":"КРС!P28","v":112},{"$f":"КРС!Q28","v":112},{"$f":"КРС!R28","v":162},{"$f":"КРС!S28","v":162},{"$f":"КРС!T28","v":160},{"$f":"КРС!U28","v":160},{"$f":"КРС!V28","v":145.30000000000001},{"$f":"КРС!W28","v":156.69999999999999},{"$f":"КРС!X28","v":150.69999999999999},{"$f":"КРСОтч!N25","v":145},{"$f":"КРСОтч!O25","v":143},{"$f":"КРСОтч!P25","v":143},{"$f":"КРСОтч!Q25","v":142},{"$f":"КРСОтч!R25","v":142},{"$f":"КРСОтч!S25","v":139},{"$f":"КРСОтч!T25","v":105},{"$f":"КРСОтч!U25","v":105},{"$f":"КРСОтч!V25","v":156},{"$f":"КРСОтч!W25","v":151},{"$f":"КРСОтч!X25","v":149},{"$f":"КРСОтч!Y25","v":148},{"$f":"КРСОтч!Z25","v":139},{"$f":"КРСОтч!AC25","v":""},{"$f":"КРСОтч!AD25","v":0}]
[{"$f":"VLOOKUP(ТитГЗ!$A$17,'Служебный 1'!$C$3:$E$61,3,FALSE)","v":{"$error":"#N/A"}},{"$f":"КРС!$A$4","v":"Реализация образовательных программ среднего профессионального образования - программ подготовки квалифицированных рабочих, служащих"},{"$f":"КРС!B29","v":"15.01.25 Станочник (металлообработка)"},{"$f":"КРС!D29","v":"Основное общее образование"},{"$f":"КРС!E29","v":"Очная"},{"$f":"КРС!J29","v":64},{"$f":"КРС!K29","v":64},{"$f":"КРС!L29","v":64},{"$f":"КРС!M29","v":64},{"$f":"КРС!N29","v":64},{"$f":"КРС!O29","v":64},{"$f":"КРС!P29","v":44},{"$f":"КРС!Q29","v":44},{"$f":"КРС!R29","v":44},{"$f":"КРС!S29","v":44},{"$f":"КРС!T29","v":44},{"$f":"КРС!U29","v":44},{"$f":"КРС!V29","v":54},{"$f":"КРС!W29","v":25},{"$f":"КРС!X29","v":0},{"$f":"КРСОтч!N26","v":63},{"$f":"КРСОтч!O26","v":63},{"$f":"КРСОтч!P26","v":63},{"$f":"КРСОтч!Q26","v":63},{"$f":"КРСОтч!R26","v":62},{"$f":"КРСОтч!S26","v":61},{"$f":"КРСОтч!T26","v":40},{"$f":"КРСОтч!U26","v":39},{"$f":"КРСОтч!V26","v":39},{"$f":"КРСОтч!W26","v":39},{"$f":"КРСОтч!X26","v":42},{"$f":"КРСОтч!Y26","v":42},{"$f":"КРСОтч!Z26","v":51.3},{"$f":"КРСОтч!AC26","v":""},{"$f":"КРСОтч!AD26","v":0}]
[{"$f":"VLOOKUP(ТитГЗ!$A$17,'Служебный 1'!$C$3:$E$61,3,FALSE)","v":{"$error":"#N/A"}},{"$f":"КРС!$A$4","v":"Реализация образовательных программ среднего профессионального образования - программ подготовки квалифицированных рабочих, служащих"},{"$f":"КРС!B30","v":"15.01.30 Слесарь"},{"$f":"КРС!D30","v":"Основное общее образование"},{"$f":"КРС!E30","v":"Очная"},{"$f":"КРС!J30","v":16},{"$f":"КРС!K30","v":16},{"$f":"КРС!L30","v":16},{"$f":"КРС!M30","v":16},{"$f":"КРС!N30","v":16},{"$f":"КРС!O30","v":16},{"$f":"КРС!P30","v":0},{"$f":"КРС!Q30","v":0},{"$f":"КРС!R30","v":0},{"$f":"КРС!S30","v":0},{"$f":"КРС!T30","v":0},{"$f":"КРС!U30","v":0},{"$f":"КРС!V30","v":8},{"$f":"КРС!W30","v":0},{"$f":"КРС!X30","v":0},{"$f":"КРСОтч!N27","v":16},{"$f":"КРСОтч!O27","v":16},{"$f":"КРСОтч!P27","v":16},{"$f":"КРСОтч!Q27","v":16},{"$f":"КРСОтч!R27","v":16},{"$f":"КРСОтч!S27","v":16},{"$f":"КРСОтч!T27","v":0},{"$f":"КРСОтч!U27","v":0},{"$f":"КРСОтч!V27","v":0},{"$f":"КРСОтч!W27","v":0},{"$f":"КРСОтч!X27","v":0},{"$f":"КРСОтч!Y27","v":0},{"$f":"КРСОтч!Z27","v":8},{"$f":"КРСОтч!AC27","v":""},{"$f":"КРСОтч!AD27","v":0}]
[{"$f":"VLOOKUP(ТитГЗ!$A$17,'Служебный 1'!$C$3:$E$61,3,FALSE)","v":{"$error":"#N/A"}},{"$f":"КРС!$A$4","v":"Реализация образовательных программ среднего профессионального образования - программ подготовки квалифицированных рабочих, служащих"},{"$f":"КРС!B31","v":"19.01.17 Повар, кондитер"},{"$f":"КРС!D31","v":"Основное общее образование"},{"$f":"КРС!E31","v":"Очная"},{"$f":"КРС!J31","v":17},{"$f":"КРС!K31","v":17},{"$f":"КРС!L31","v":17},{"$f":"КРС!M31","v":17},{"$f":"КРС!N31","v":17},{"$f":"КРС!O31","v":17},{"$f":"КРС!P31","v":0},{"$f":"КРС!Q31","v":0},{"$f":"КРС!R31","v":0},{"$f":"КРС!S31","v":0},{"$f":"КРС!T31","v":0},{"$f":"КРС!U31","v":0},{"$f":"КРС!V31","v":8.5},{"$f":"КРС!W31","v":0},{"$f":"КРС!X31","v":0},{"$f":"КРСОтч!N28","v":17},{"$f":"КРСОтч!O28","v":17},{"$f":"КРСОтч!P28","v":17},{"$f":"КРСОтч!Q28","v":16},{"$f":"КРСОтч!R28","v":16},{"$f":"КРСОтч!S28","v":15},{"$f":"КРСОтч!T28","v":2},{"$f":"КРСОтч!U28","v":2},{"$f":"КРСОтч!V28","v":2},{"$f":"КРСОтч!W28","v":2},{"$f":"КРСОтч!X28","v":2},{"$f":"КРСОтч!Y28","v":2},{"$f":"КРСОтч!Z28","v":9.1999999999999993},{"$f":"КРСОтч!AC28","v":8.2000000000000003E-2},{"$f":"КРСОтч!AD28","v":"Две студентки находятся в академическом отпуске (по уходу за ребёнком)"}]
[{"$f":"VLOOKUP(ТитГЗ!$A$17,'Служебный 1'!$C$3:$E$61,3,FALSE)","v":{"$error":"#N/A"}},{"$f":"КРС!$A$4","v":"Реализация образовательных программ среднего профессионального образования - программ подготовки квалифицированных рабочих, служащих"},{"$f":"КРС!B32","v":"23.01.08 Слесарь по ремонту строительных машин"},{"$f":"КРС!D32","v":"Основное общее образование"},{"$f":"КРС!E32","v":"Очная"},{"$f":"КРС!J32","v":61},{"$f":"КРС!K32","v":61},{"$f":"КРС!L32","v":61},{"$f":"КРС!M32","v":61},{"$f":"КРС!N32","v":61},{"$f":"КРС!O32","v":61},{"$f":"КРС!P32","v":48},{"$f":"КРС!Q32","v":48},{"$f":"КРС!R32","v":73},{"$f":"КРС!S32","v":73},{"$f":"КРС!T32","v":73},{"$f":"КРС!U32","v":70},{"$f":"КРС!V32","v":62.6},{"$f":"КРС!W32","v":66.8},{"$f":"КРС!X32","v":67.8},{"$f":"КРСОтч!N29","v":62},{"$f":"КРСОтч!O29","v":62},{"$f":"КРСОтч!P29","v":60},{"$f":"КРСОтч!Q29","v":60},{"$f":"КРСОтч!R29","v":60},{"$f":"КРСОтч!S29","v":58},{"$f":"КРСОтч!T29","v":45},{"$f":"КРСОтч!U29","v":43},{"$f":"КРСОтч!V29","v":65},{"$f":"КРСОтч!W29","v":67},{"$f":"КРСОтч!X29","v":67},{"$f":"КРСОтч!Y29","v":65},{"$f":"КРСОтч!Z29","v":59.5},{"$f":"КРСОтч!AC29","v":""},{"$f":"КРСОтч!AD29","v":0}]
[{"$f":"VLOOKUP(ТитГЗ!$A$17,'Служебный 1'!$C$3:$E$61,3,FALSE)","v":{"$error":"#N/A"}},{"$f":"КРС!$A$4","v":"Реализация образовательных программ среднего профессионального образования - программ подготовки квалифицированных рабочих, служащих"},{"$f":"КРС!B33","v":"23.01.08 Слесарь по ремонту строительных машин"},{"$f":"КРС!D33","v":"Среднее общее образование"},{"$f":"КРС!E33","v":"Очная"},{"$f":"КРС!J33","v":19},{"$f":"КРС!K33","v":19},{"$f":"КРС!L33","v":19},{"$f":"КРС!M33","v":19},{"$f":"КРС!N33","v":19},{"$f":"КРС!O33","v":19},{"$f":"КРС!P33","v":0},{"$f":"КРС!Q33","v":0},{"$f":"КРС!R33","v":0},{"$f":"КРС!S33","v":0},{"$f":"КРС!T33","v":0},{"$f":"КРС!U33","v":0},{"$f":"КРС!V33","v":9.5},{"$f":"КРС!W33","v":0},{"$f":"КРС!X33","v":0},{"$f":"КРСОтч!N30","v":22},{"$f":"КРСОтч!O30","v":21},{"$f":"КРСОтч!P30","v":20},{"$f":"КРСОтч!Q30","v":20},{"$f":"КРСОтч!R30","v":20},{"$f":"КРСОтч!S30","v":19},{"$f":"КРСОтч!T30","v":3},{"$f":"КРСОтч!U30","v":3},{"$f":"КРСОтч!V30","v":3},{"$f":"КРСОтч!W30","v":2},{"$f":"КРСОтч!X30","v":2},{"$f":"КРСОтч!Y30","v":1},{"$f":"КРСОтч!Z30","v":11.3},{"$f":"КРСОтч!AC30","v":0.189},{"$f":"КРСОтч!AD30","v":"3 студента оформили академический отпуск. Впоследствии один студент восстановился из академического отпуска с переводом на другую программу обучения, а одна студентка - отчислилась из колледжа по собственному желанию. "}]
[{"$f":"VLOOKUP(ТитГЗ!$A$17,'Служебный 1'!$C$3:$E$61,3,FALSE)","v":{"$error":"#N/A"}},{"$f":"КРС!$A$4","v":"Реализация образовательных программ среднего профессионального образования - программ подготовки квалифицированных рабочих, служащих"},{"$f":"КРС!B34","v":"43.01.02 Парикмахер"},{"$f":"КРС!D34","v":"Основное общее образование"},{"$f":"КРС!E34","v":"Очная"},{"$f":"КРС!J34","v":66},{"$f":"КРС!K34","v":66},{"$f":"КРС!L34","v":66},{"$f":"КРС!M34","v":66},{"$f":"КРС!N34","v":66},{"$f":"КРС!O34","v":66},{"$f":"КРС!P34","v":45},{"$f":"КРС!Q34","v":45},{"$f":"КРС!R34","v":45},{"$f":"КРС!S34","v":45},{"$f":"КРС!T34","v":45},{"$f":"КРС!U34","v":45},{"$f":"КРС!V34","v":55.5},{"$f":"КРС!W34","v":25},{"$f":"КРС!X34","v":0},{"$f":"КРСОтч!N31","v":68},{"$f":"КРСОтч!O31","v":68},{"$f":"КРСОтч!P31","v":68},{"$f":"КРСОтч!Q31","v":68},{"$f":"КРСОтч!R31","v":67},{"$f":"КРСОтч!S31","v":66},{"$f":"КРСОтч!T31","v":46},{"$f":"КРСОтч!U31","v":46},{"$f":"КРСОтч!V31","v":45},{"$f":"КРСОтч!W31","v":45},{"$f":"КРСОтч!X31","v":44},{"$f":"КРСОтч!Y31","v":44},{"$f":"КРСОтч!Z31","v":56.3},{"$f":"КРСОтч!AC31","v":""},{"$f":"КРСОтч!AD31","v":0}]
[{"$f":"VLOOKUP(ТитГЗ!$A$17,'Служебный 1'!$C$3:$E$61,3,FALSE)","v":{"$error":"#N/A"}},{"$f":"КРС!$A$4","v":"Реализация образовательных программ среднего профессионального образования - программ подготовки квалифицированных рабочих, служащих"},{"$f":"КРС!B35","v":"15.01.32 Оператор станков с программным управлением"},{"$f":"КРС!D35","v":"Основное общее образование"},{"$f":"КРС!E35","v":"Очная"},{"$f":"КРС!J35","v":0},{"$f":"КРС!K35","v":0},{"$f":"КРС!L35","v":0},{"$f":"КРС!M35","v":0},{"$f":"КРС!N35","v":0},{"$f":"КРС!O35","v":0},{"$f":"КРС!P35","v":0},{"$f":"КРС!Q35","v":0},{"$f":"КРС!R35","v":50},{"$f":"КРС!S35","v":50},{"$f":"КРС!T35","v":48},{"$f":"КРС!U35","v":48},{"$f":"КРС!V35","v":16.3},{"$f":"КРС!W35","v":64.7},{"$f":"КРС!X35","v":114.7},{"$f":"КРСОтч!N32","v":0},{"$f":"КРСОтч!O32","v":0},{"$f":"КРСОтч!P32","v":0},{"$f":"КРСОтч!Q32","v":0},{"$f":"КРСОтч!R32","v":0},{"$f":"КРСОтч!S32","v":0},{"$f":"КРСОтч!T32","v":0},{"$f":"КРСОтч!U32","v":0},{"$f":"КРСОтч!V32","v":50},{"$f":"КРСОтч!W32","v":50},{"$f":"КРСОтч!X32","v":50},{"$f":"КРСОтч!Y32","v":49},{"$f":"КРСОтч!Z32","v":16.600000000000001},{"$f":"КРСОтч!AC32","v":""},{"$f":"КРСОтч!AD32","v":0}]
[{"$f":"VLOOKUP(ТитГЗ!$A$17,'Служебный 1'!$C$3:$E$61,3,FALSE)","v":{"$error":"#N/A"}},{"$f":"КРС!$A$4","v":"Реализация образовательных программ среднего профессионального образования - программ подготовки квалифицированных рабочих, служащих"},{"$f":"КРС!B36","v":"43.01.09 Повар, кондитер"},{"$f":"КРС!D36","v":"Основное общее образование"},{"$f":"КРС!E36","v":"Очная"},{"$f":"КРС!J36","v":0},{"$f":"КРС!K36","v":0},{"$f":"КРС!L36","v":0},{"$f":"КРС!M36","v":0},{"$f":"КРС!N36","v":0},{"$f":"КРС!O36","v":0},{"$f":"КРС!P36","v":0},{"$f":"КРС!Q36","v":0},{"$f":"КРС!R36","v":25},{"$f":"КРС!S36","v":25},{"$f":"КРС!T36","v":25},{"$f":"КРС!U36","v":24},{"$f":"КРС!V36","v":8.3000000000000007},{"$f":"КРС!W36","v":32.299999999999997},{"$f":"КРС!X36","v":57.3},{"$f":"КРСОтч!N33","v":0},{"$f":"КРСОтч!O33","v":0},{"$f":"КРСОтч!P33","v":0},{"$f":"КРСОтч!Q33","v":0},{"$f":"КРСОтч!R33","v":0},{"$f":"КРСОтч!S33","v":0},{"$f":"КРСОтч!T33","v":0},{"$f":"КРСОтч!U33","v":0},{"$f":"КРСОтч!V33","v":25},{"$f":"КРСОтч!W33","v":25},{"$f":"КРСОтч!X33","v":24},{"$f":"КРСОтч!Y33","v":24},{"$f":"КРСОтч!Z33","v":8.1999999999999993},{"$f":"КРСОтч!AC33","v":""},{"$f":"КРСОтч!AD33","v":0}]
[{"$f":"VLOOKUP(ТитГЗ!$A$17,'Служебный 1'!$C$3:$E$61,3,FALSE)","v":{"$error":"#N/A"}},{"$f":"КРС!$A$4","v":"Реализация образовательных программ среднего профессионального образования - программ подготовки квалифицированных рабочих, служащих"},{"$f":"КРС!B37","v":0},{"$f":"КРС!D37","v":0},{"$f":"КРС!E37","v":0},{"$f":"КРС!J37","v":0},{"$f":"КРС!K37","v":0},{"$f":"КРС!L37","v":0},{"$f":"КРС!M37","v":0},{"$f":"КРС!N37","v":0},{"$f":"КРС!O37","v":0},{"$f":"КРС!P37","v":0},{"$f":"КРС!Q37","v":0},{"$f":"КРС!R37","v":0},{"$f":"КРС!S37","v":0},{"$f":"КРС!T37","v":0},{"$f":"КРС!U37","v":0},{"$f":"КРС!V37","v":0},{"$f":"КРС!W37","v":0},{"$f":"КРС!X37","v":0},{"$f":"КРСОтч!N34","v":0},{"$f":"КРСОтч!O34","v":0},{"$f":"КРСОтч!P34","v":0},{"$f":"КРСОтч!Q34","v":0},{"$f":"КРСОтч!R34","v":0},{"$f":"КРСОтч!S34","v":0},{"$f":"КРСОтч!T34","v":0},{"$f":"КРСОтч!U34","v":0},{"$f":"КРСОтч!V34","v":0},{"$f":"КРСОтч!W34","v":0},{"$f":"КРСОтч!X34","v":0},{"$f":"КРСОтч!Y34","v":0},{"$f":"КРСОтч!Z34","v":0},{"$f":"КРСОтч!AC34","v":""},{"$f":"КРСОтч!AD34","v":0}]
[{"$f":"VLOOKUP(ТитГЗ!$A$17,'Служебный 1'!$C$3:$E$61,3,FALSE)","v":{"$error":"#N/A"}},{"$f":"КРС!$A$4","v":"Реализация образовательных программ среднего профессионального образования - программ подготовки квалифицированных рабочих, служащих"},{"$f":"КРС!B38","v":0},{"$f":"КРС!D38","v":0},{"$f":"КРС!E38","v":0},{"$f":"КРС!J38","v":0},{"$f":"КРС!K38","v":0},{"$f":"КРС!L38","v":0},{"$f":"КРС!M38","v":0},{"$f":"КРС!N38","v":0},{"$f":"КРС!O38","v":0},{"$f":"КРС!P38","v":0},{"$f":"КРС!Q38","v":0},{"$f":"КРС!R38","v":0},{"$f":"КРС!S38","v":0},{"$f":"КРС!T38","v":0},{"$f":"КРС!U38","v":0},{"$f":"КРС!V38","v":0},{"$f":"КРС!W38","v":0},{"$f":"КРС!X38","v":0},{"$f":"КРСОтч!N35","v":0},{"$f":"КРСОтч!O35","v":0},{"$f":"КРСОтч!P35","v":0},{"$f":"КРСОтч!Q35","v":0},{"$f":"КРСОтч!R35","v":0},{"$f":"КРСОтч!S35","v":0},{"$f":"КРСОтч!T35","v":0},{"$f":"КРСОтч!U35","v":0},{"$f":"КРСОтч!V35","v":0},{"$f":"КРСОтч!W35","v":0},{"$f":"КРСОтч!X35","v":0},{"$f":"КРСОтч!Y35","v":0},{"$f":"КРСОтч!Z35","v":0},{"$f":"КРСОтч!AC35","v":""},{"$f":"КРСОтч!AD35","v":0}]
[{"$f":"VLOOKUP(ТитГЗ!$A$17,'Служебный 1'!$C$3:$E$61,3,FALSE)","v":{"$error":"#N/A"}},{"$f":"КРС!$A$4","v":"Реализация образовательных программ среднего профессионального образования - программ подготовки квалифицированных рабочих, служащих"},{"$f":"КРС!B39","v":0},{"$f":"КРС!D39","v":0},{"$f":"КРС!E39","v":0},{"$f":"КРС!J39","v":0},{"$f":"КРС!K39","v":0},{"$f":"КРС!L39","v":0},{"$f":"КРС!M39","v":0},{"$f":"КРС!N39","v":0},{"$f":"КРС!O39","v":0},{"$f":"КРС!P39","v":0},{"$f":"КРС!Q39","v":0},{"$f":"КРС!R39","v":0},{"$f":"КРС!S39","v":0},{"$f":"КРС!T39","v":0},{"$f":"КРС!U39","v":0},{"$f":"КРС!V39","v":0},{"$f":"КРС!W39","v":0},{"$f":"КРС!X39","v":0},{"$f":"КРСОтч!N36","v":0},{"$f":"КРСОтч!O36","v":0},{"$f":"КРСОтч!P36","v":0},{"$f":"КРСОтч!Q36","v":0},{"$f":"КРСОтч!R36","v":0},{"$f":"КРСОтч!S36","v":0},{"$f":"КРСОтч!T36","v":0},{"$f":"КРСОтч!U36","v":0},{"$f":"КРСОтч!V36","v":0},{"$f":"КРСОтч!W36","v":0},{"$f":"КРСОтч!X36","v":0},{"$f":"КРСОтч!Y36","v":0},{"$f":"КРСОтч!Z36","v":0},{"$f":"КРСОтч!AC36","v":""},{"$f":"КРСОтч!AD36","v":0}]
[{"$f":"VLOOKUP(ТитГЗ!$A$17,'Служебный 1'!$C$3:$E$61,3,FALSE)","v":{"$error":"#N/A"}},{"$f":"КРС!$A$4","v":"Реализация образовательных программ среднего профессионального образования - программ подготовки квалифицированных рабочих, служащих"},{"$f":"КРС!B40","v":0},{"$f":"КРС!D40","v":0},{"$f":"КРС!E40","v":0},{"$f":"КРС!J40","v":0},{"$f":"КРС!K40","v":0},{"$f":"КРС!L40","v":0},{"$f":"КРС!M40","v":0},{"$f":"КРС!N40","v":0},{"$f":"КРС!O40","v":0},{"$f":"КРС!P40","v":0},{"$f":"КРС!Q40","v":0},{"$f":"КРС!R40","v":0},{"$f":"КРС!S40","v":0},{"$f":"КРС!T40","v":0},{"$f":"КРС!U40","v":0},{"$f":"КРС!V40","v":0},{"$f":"КРС!W40","v":0},{"$f":"КРС!X40","v":0},{"$f":"КРСОтч!N37","v":0},{"$f":"КРСОтч!O37","v":0},{"$f":"КРСОтч!P37","v":0},{"$f":"КРСОтч!Q37","v":0},{"$f":"КРСОтч!R37","v":0},{"$f":"КРСОтч!S37","v":0},{"$f":"КРСОтч!T37","v":0},{"$f":"КРСОтч!U37","v":0},{"$f":"КРСОтч!V37","v":0},{"$f":"КРСОтч!W37","v":0},{"$f":"КРСОтч!X37","v":0},{"$f":"КРСОтч!Y37","v":0},{"$f":"КРСОтч!Z37","v":0},{"$f":"КРСОтч!AC37","v":""},{"$f":"КРСОтч!AD37","v":0}]
[{"$f":"VLOOKUP(ТитГЗ!$A$17,'Служебный 1'!$C$3:$E$61,3,FALSE)","v":{"$error":"#N/A"}},{"$f":"КРС!$A$4","v":"Реализация образовательных программ среднего профессионального образования - программ подготовки квалифицированных рабочих, служащих"},{"$f":"КРС!B41","v":0},{"$f":"КРС!D41","v":0},{"$f":"КРС!E41","v":0},{"$f":"КРС!J41","v":0},{"$f":"КРС!K41","v":0},{"$f":"КРС!L41","v":0},{"$f":"КРС!M41","v":0},{"$f":"КРС!N41","v":0},{"$f":"КРС!O41","v":0},{"$f":"КРС!P41","v":0},{"$f":"КРС!Q41","v":0},{"$f":"КРС!R41","v":0},{"$f":"КРС!S41","v":0},{"$f":"КРС!T41","v":0},{"$f":"КРС!U41","v":0},{"$f":"КРС!V41","v":0},{"$f":"КРС!W41","v":0},{"$f":"КРС!X41","v":0},{"$f":"КРСОтч!N38","v":0},{"$f":"КРСОтч!O38","v":0},{"$f":"КРСОтч!P38","v":0},{"$f":"КРСОтч!Q38","v":0},{"$f":"КРСОтч!R38","v":0},{"$f":"КРСОтч!S38","v":0},{"$f":"КРСОтч!T38","v":0},{"$f":"КРСОтч!U38","v":0},{"$f":"КРСОтч!V38","v":0},{"$f":"КРСОтч!W38","v":0},{"$f":"КРСОтч!X38","v":0},{"$f":"КРСОтч!Y38","v":0},{"$f":"КРСОтч!Z38","v":0},{"$f":"КРСОтч!AC38","v":""},{"$f":"КРСОтч!AD38","v":0}]
[{"$f":"VLOOKUP(ТитГЗ!$A$17,'Служебный 1'!$C$3:$E$61,3,FALSE)","v":{"$error":"#N/A"}},{"$f":"КРС!$A$4","v":"Реализация образовательных программ среднего профессионального образования - программ подготовки квалифицированных рабочих, служащих"},{"$f":"КРС!B42","v":0},{"$f":"КРС!D42","v":0},{"$f":"КРС!E42","v":0},{"$f":"КРС!J42","v":0},{"$f":"КРС!K42","v":0},{"$f":"КРС!L42","v":0},{"$f":"КРС!M42","v":0},{"$f":"КРС!N42","v":0},{"$f":"КРС!O42","v":0},{"$f":"КРС!P42","v":0},{"$f":"КРС!Q42","v":0},{"$f":"КРС!R42","v":0},{"$f":"КРС!S42","v":0},{"$f":"КРС!T42","v":0},{"$f":"КРС!U42","v":0},{"$f":"КРС!V42","v":0},{"$f":"КРС!W42","v":0},{"$f":"КРС!X42","v":0},{"$f":"КРСОтч!N39","v":0},{"$f":"КРСОтч!O39","v":0},{"$f":"КРСОтч!P39","v":0},{"$f":"КРСОтч!Q39","v":0},{"$f":"КРСОтч!R39","v":0},{"$f":"КРСОтч!S39","v":0},{"$f":"КРСОтч!T39","v":0},{"$f":"КРСОтч!U39","v":0},{"$f":"КРСОтч!V39","v":0},{"$f":"КРСОтч!W39","v":0},{"$f":"КРСОтч!X39","v":0},{"$f":"КРСОтч!Y39","v":0},{"$f":"КРСОтч!Z39","v":0},{"$f":"КРСОтч!AC39","v":""},{"$f":"КРСОтч!AD39","v":0}]
[{"$f":"VLOOKUP(ТитГЗ!$A$17,'Служебный 1'!$C$3:$E$61,3,FALSE)","v":{"$error":"#N/A"}},{"$f":"КРС!$A$4","v":"Реализация образовательных программ среднего профессионального образования - программ подготовки квалифицированных рабочих, служащих"},{"$f":"КРС!B43","v":0},{"$f":"КРС!D43","v":0},{"$f":"КРС!E43","v":0},{"$f":"КРС!J43","v":0},{"$f":"КРС!K43","v":0},{"$f":"КРС!L43","v":0},{"$f":"КРС!M43","v":0},{"$f":"КРС!N43","v":0},{"$f":"КРС!O43","v":0},{"$f":"КРС!P43","v":0},{"$f":"КРС!Q43","v":0},{"$f":"КРС!R43","v":0},{"$f":"КРС!S43","v":0},{"$f":"КРС!T43","v":0},{"$f":"КРС!U43","v":0},{"$f":"КРС!V43","v":0},{"$f":"КРС!W43","v":0},{"$f":"КРС!X43","v":0},{"$f":"КРСОтч!N40","v":0},{"$f":"КРСОтч!O40","v":0},{"$f":"КРСОтч!P40","v":0},{"$f":"КРСОтч!Q40","v":0},{"$f":"КРСОтч!R40","v":0},{"$f":"КРСОтч!S40","v":0},{"$f":"КРСОтч!T40","v":0},{"$f":"КРСОтч!U40","v":0},{"$f":"КРСОтч!V40","v":0},{"$f":"КРСОтч!W40","v":0},{"$f":"КРСОтч!X40","v":0},{"$f":"КРСОтч!Y40","v":0},{"$f":"КРСОтч!Z40","v":0},{"$f":"КРСОтч!AC40","v":""},{"$f":"КРСОтч!AD40","v":0}]
[{"$f":"VLOOKUP(ТитГЗ!$A$17,'Служебный 1'!$C$3:$E$61,3,FALSE)","v":{"$error":"#N/A"}},{"$f":"КРС!$A$4","v":"Реализация образовательных программ среднего профессионального образования - программ подготовки квалифицированных рабочих, служащих"},{"$f":"КРС!B44","v":0},{"$f":"КРС!D44","v":0},{"$f":"КРС!E44","v":0},{"$f":"КРС!J44","v":0},{"$f":"КРС!K44","v":0},{"$f":"КРС!L44","v":0},{"$f":"КРС!M44","v":0},{"$f":"КРС!N44","v":0},{"$f":"КРС!O44","v":0},{"$f":"КРС!P44","v":0},{"$f":"КРС!Q44","v":0},{"$f":"КРС!R44","v":0},{"$f":"КРС!S44","v":0},{"$f":"КРС!T44","v":0},{"$f":"КРС!U44","v":0},{"$f":"КРС!V44","v":0},{"$f":"КРС!W44","v":0},{"$f":"КРС!X44","v":0},{"$f":"КРСОтч!N41","v":0},{"$f":"КРСОтч!O41","v":0},{"$f":"КРСОтч!P41","v":0},{"$f":"КРСОтч!Q41","v":0},{"$f":"КРСОтч!R41","v":0},{"$f":"КРСОтч!S41","v":0},{"$f":"КРСОтч!T41","v":0},{"$f":"КРСОтч!U41","v":0},{"$f":"КРСОтч!V41","v":0},{"$f":"КРСОтч!W41","v":0},{"$f":"КРСОтч!X41","v":0},{"$f":"КРСОтч!Y41","v":0},{"$f":"КРСОтч!Z41","v":0},{"$f":"КРСОтч!AC41","v":""},{"$f":"КРСОтч!AD41","v":0}]
[{"$f":"VLOOKUP(ТитГЗ!$A$17,'Служебный 1'!$C$3:$E$61,3,FALSE)","v":{"$error":"#N/A"}},{"$f":"КРС!$A$4","v":"Реализация образовательных программ среднего профессионального образования - программ подготовки квалифицированных рабочих, служащих"},{"$f":"КРС!B45","v":0},{"$f":"КРС!D45","v":0},{"$f":"КРС!E45","v":0},{"$f":"КРС!J45","v":0},{"$f":"КРС!K45","v":0},{"$f":"КРС!L45","v":0},{"$f":"КРС!M45","v":0},{"$f":"КРС!N45","v":0},{"$f":"КРС!O45","v":0},{"$f":"КРС!P45","v":0},{"$f":"КРС!Q45","v":0},{"$f":"КРС!R45","v":0},{"$f":"КРС!S45","v":0},{"$f":"КРС!T45","v":0},{"$f":"КРС!U45","v":0},{"$f":"КРС!V45","v":0},{"$f":"КРС!W45","v":0},{"$f":"КРС!X45","v":0},{"$f":"КРСОтч!N42","v":0},{"$f":"КРСОтч!O42","v":0},{"$f":"КРСОтч!P42","v":0},{"$f":"КРСОтч!Q42","v":0},{"$f":"КРСОтч!R42","v":0},{"$f":"КРСОтч!S42","v":0},{"$f":"КРСОтч!T42","v":0},{"$f":"КРСОтч!U42","v":0},{"$f":"КРСОтч!V42","v":0},{"$f":"КРСОтч!W42","v":0},{"$f":"КРСОтч!X42","v":0},{"$f":"КРСОтч!Y42","v":0},{"$f":"КРСОтч!Z42","v":0},{"$f":"КРСОтч!AC42","v":""},{"$f":"КРСОтч!AD42","v":0}]
[{"$f":"VLOOKUP(ТитГЗ!$A$17,'Служебный 1'!$C$3:$E$61,3,FALSE)","v":{"$error":"#N/A"}},{"$f":"КРС!$A$4","v":"Реализация образовательных программ среднего профессионального образования - программ подготовки квалифицированных рабочих, служащих"},{"$f":"КРС!B46","v":0},{"$f":"КРС!D46","v":0},{"$f":"КРС!E46","v":0},{"$f":"КРС!J46","v":0},{"$f":"КРС!K46","v":0},{"$f":"КРС!L46","v":0},{"$f":"КРС!M46","v":0},{"$f":"КРС!N46","v":0},{"$f":"КРС!O46","v":0},{"$f":"КРС!P46","v":0},{"$f":"КРС!Q46","v":0},{"$f":"КРС!R46","v":0},{"$f":"КРС!S46","v":0},{"$f":"КРС!T46","v":0},{"$f":"КРС!U46","v":0},{"$f":"КРС!V46","v":0},{"$f":"КРС!W46","v":0},{"$f":"КРС!X46","v":0},{"$f":"КРСОтч!N43","v":0},{"$f":"КРСОтч!O43","v":0},{"$f":"КРСОтч!P43","v":0},{"$f":"КРСОтч!Q43","v":0},{"$f":"КРСОтч!R43","v":0},{"$f":"КРСОтч!S43","v":0},{"$f":"КРСОтч!T43","v":0},{"$f":"КРСОтч!U43","v":0},{"$f":"КРСОтч!V43","v":0},{"$f":"КРСОтч!W43","v":0},{"$f":"КРСОтч!X43","v":0},{"$f":"КРСОтч!Y43","v":0},{"$f":"КРСОтч!Z43","v":0},{"$f":"КРСОтч!AC43","v":""},{"$f":"КРСОтч!AD43","v":0}]
[{"$f":"VLOOKUP(ТитГЗ!$A$17,'Служебный 1'!$C$3:$E$61,3,FALSE)","v":{"$error":"#N/A"}},{"$f":"КРС!$A$4","v":"Реализация образовательных программ среднего профессионального образования - программ подготовки квалифицированных рабочих, служащих"},{"$f":"КРС!B47","v":0},{"$f":"КРС!D47","v":0},{"$f":"КРС!E47","v":0},{"$f":"КРС!J47","v":0},{"$f":"КРС!K47","v":0},{"$f":"КРС!L47","v":0},{"$f":"КРС!M47","v":0},{"$f":"КРС!N47","v":0},{"$f":"КРС!O47","v":0},{"$f":"КРС!P47","v":0},{"$f":"КРС!Q47","v":0},{"$f":"КРС!R47","v":0},{"$f":"КРС!S47","v":0},{"$f":"КРС!T47","v":0},{"$f":"КРС!U47","v":0},{"$f":"КРС!V47","v":0},{"$f":"КРС!W47","v":0},{"$f":"КРС!X47","v":0},{"$f":"КРСОтч!N44","v":0},{"$f":"КРСОтч!O44","v":0},{"$f":"КРСОтч!P44","v":0},{"$f":"КРСОтч!Q44","v":0},{"$f":"КРСОтч!R44","v":0},{"$f":"КРСОтч!S44","v":0},{"$f":"КРСОтч!T44","v":0},{"$f":"КРСОтч!U44","v":0},{"$f":"КРСОтч!V44","v":0},{"$f":"КРСОтч!W44","v":0},{"$f":"КРСОтч!X44","v":0},{"$f":"КРСОтч!Y44","v":0},{"$f":"КРСОтч!Z44","v":0},{"$f":"КРСОтч!AC44","v":""},{"$f":"КРСОтч!AD44","v":0}]
[{"$f":"VLOOKUP(ТитГЗ!$A$17,'Служебный 1'!$C$3:$E$61,3,FALSE)","v":{"$error":"#N/A"}},{"$f":"КРС!$A$4","v":"Реализация образовательных программ среднего профессионального образования - программ подготовки квалифицированных рабочих, служащих"},{"$f":"КРС!B48","v":0},{"$f":"КРС!D48","v":0},{"$f":"КРС!E48","v":0},{"$f":"КРС!J48","v":0},{"$f":"КРС!K48","v":0},{"$f":"КРС!L48","v":0},{"$f":"КРС!M48","v":0},{"$f":"КРС!N48","v":0},{"$f":"КРС!O48","v":0},{"$f":"КРС!P48","v":0},{"$f":"КРС!Q48","v":0},{"$f":"КРС!R48","v":0},{"$f":"КРС!S48","v":0},{"$f":"КРС!T48","v":0},{"$f":"КРС!U48","v":0},{"$f":"КРС!V48","v":0},{"$f":"КРС!W48","v":0},{"$f":"КРС!X48","v":0},{"$f":"КРСОтч!N45","v":0},{"$f":"КРСОтч!O45","v":0},{"$f":"КРСОтч!P45","v":0},{"$f":"КРСОтч!Q45","v":0},{"$f":"КРСОтч!R45","v":0},{"$f":"КРСОтч!S45","v":0},{"$f":"КРСОтч!T45","v":0},{"$f":"КРСОтч!U45","v":0},{"$f":"КРСОтч!V45","v":0},{"$f":"КРСОтч!W45","v":0},{"$f":"КРСОтч!X45","v":0},{"$f":"КРСОтч!Y45","v":0},{"$f":"КРСОтч!Z45","v":0},{"$f":"КРСОтч!AC45","v":""},{"$f":"КРСОтч!AD45","v":0}]
[{"$f":"VLOOKUP(ТитГЗ!$A$17,'Служебный 1'!$C$3:$E$61,3,FALSE)","v":{"$error":"#N/A"}},{"$f":"КРС!$A$4","v":"Реализация образовательных программ среднего профессионального образования - программ подготовки квалифицированных рабочих, служащих"},{"$f":"КРС!B49","v":0},{"$f":"КРС!D49","v":0},{"$f":"КРС!E49","v":0},{"$f":"КРС!J49","v":0},{"$f":"КРС!K49","v":0},{"$f":"КРС!L49","v":0},{"$f":"КРС!M49","v":0},{"$f":"КРС!N49","v":0},{"$f":"КРС!O49","v":0},{"$f":"КРС!P49","v":0},{"$f":"КРС!Q49","v":0},{"$f":"КРС!R49","v":0},{"$f":"КРС!S49","v":0},{"$f":"КРС!T49","v":0},{"$f":"КРС!U49","v":0},{"$f":"КРС!V49","v":0},{"$f":"КРС!W49","v":0},{"$f":"КРС!X49","v":0},{"$f":"КРСОтч!N46","v":0},{"$f":"КРСОтч!O46","v":0},{"$f":"КРСОтч!P46","v":0},{"$f":"КРСОтч!Q46","v":0},{"$f":"КРСОтч!R46","v":0},{"$f":"КРСОтч!S46","v":0},{"$f":"КРСОтч!T46","v":0},{"$f":"КРСОтч!U46","v":0},{"$f":"КРСОтч!V46","v":0},{"$f":"КРСОтч!W46","v":0},{"$f":"КРСОтч!X46","v":0},{"$f":"КРСОтч!Y46","v":0},{"$f":"КРСОтч!Z46","v":0},{"$f":"КРСОтч!AC46","v":""},{"$f":"КРСОтч!AD46","v":0}]
[{"$f":"VLOOKUP(ТитГЗ!$A$17,'Служебный 1'!$C$3:$E$61,3,FALSE)","v":{"$error":"#N/A"}},{"$f":"КРС!$A$4","v":"Реализация образовательных программ среднего профессионального образования - программ подготовки квалифицированных рабочих, служащих"},{"$f":"КРС!B50","v":0},{"$f":"КРС!D50","v":0},{"$f":"КРС!E50","v":0},{"$f":"КРС!J50","v":0},{"$f":"КРС!K50","v":0},{"$f":"КРС!L50","v":0},{"$f":"КРС!M50","v":0},{"$f":"КРС!N50","v":0},{"$f":"КРС!O50","v":0},{"$f":"КРС!P50","v":0},{"$f":"КРС!Q50","v":0},{"$f":"КРС!R50","v":0},{"$f":"КРС!S50","v":0},{"$f":"КРС!T50","v":0},{"$f":"КРС!U50","v":0},{"$f":"КРС!V50","v":0},{"$f":"КРС!W50","v":0},{"$f":"КРС!X50","v":0},{"$f":"КРСОтч!N47","v":0},{"$f":"КРСОтч!O47","v":0},{"$f":"КРСОтч!P47","v":0},{"$f":"КРСОтч!Q47","v":0},{"$f":"КРСОтч!R47","v":0},{"$f":"КРСОтч!S47","v":0},{"$f":"КРСОтч!T47","v":0},{"$f":"КРСОтч!U47","v":0},{"$f":"КРСОтч!V47","v":0},{"$f":"КРСОтч!W47","v":0},{"$f":"КРСОтч!X47","v":0},{"$f":"КРСОтч!Y47","v":0},{"$f":"КРСОтч!Z47","v":0},{"$f":"КРСОтч!AC47","v":""},{"$f":"КРСОтч!AD47","v":0}]
[{"$f":"VLOOKUP(ТитГЗ!$A$17,'Служебный 1'!$C$3:$E$61,3,FALSE)","v":{"$error":"#N/A"}},{"$f":"КРС!$A$4","v":"Реализация образовательных программ среднего профессионального образования - программ подготовки квалифицированных рабочих, служащих"},{"$f":"КРС!B51","v":0},{"$f":"КРС!D51","v":0},{"$f":"КРС!E51","v":0},{"$f":"КРС!J51","v":0},{"$f":"КРС!K51","v":0},{"$f":"КРС!L51","v":0},{"$f":"КРС!M51","v":0},{"$f":"КРС!N51","v":0},{"$f":"КРС!O51","v":0},{"$f":"КРС!P51","v":0},{"$f":"КРС!Q51","v":0},{"$f":"КРС!R51","v":0},{"$f":"КРС!S51","v":0},{"$f":"КРС!T51","v":0},{"$f":"КРС!U51","v":0},{"$f":"КРС!V51","v":0},{"$f":"КРС!W51","v":0},{"$f":"КРС!X51","v":0},{"$f":"КРСОтч!N48","v":0},{"$f":"КРСОтч!O48","v":0},{"$f":"КРСОтч!P48","v":0},{"$f":"КРСОтч!Q48","v":0},{"$f":"КРСОтч!R48","v":0},{"$f":"КРСОтч!S48","v":0},{"$f":"КРСОтч!T48","v":0},{"$f":"КРСОтч!U48","v":0},{"$f":"КРСОтч!V48","v":0},{"$f":"КРСОтч!W48","v":0},{"$f":"КРСОтч!X48","v":0},{"$f":"КРСОтч!Y48","v":0},{"$f":"КРСОтч!Z48","v":0},{"$f":"КРСОтч!AC48","v":""},{"$f":"КРСОтч!AD48","v":0}]
[{"$f":"VLOOKUP(ТитГЗ!$A$17,'Служебный 1'!$C$3:$E$61,3,FALSE)","v":{"$error":"#N/A"}},{"$f":"КРС!$A$4","v":"Реализация образовательных программ среднего профессионального образования - программ подготовки квалифицированных рабочих, служащих"},{"$f":"КРС!B52","v":0},{"$f":"КРС!D52","v":0},{"$f":"КРС!E52","v":0},{"$f":"КРС!J52","v":0},{"$f":"КРС!K52","v":0},{"$f":"КРС!L52","v":0},{"$f":"КРС!M52","v":0},{"$f":"КРС!N52","v":0},{"$f":"КРС!O52","v":0},{"$f":"КРС!P52","v":0},{"$f":"КРС!Q52","v":0},{"$f":"КРС!R52","v":0},{"$f":"КРС!S52","v":0},{"$f":"КРС!T52","v":0},{"$f":"КРС!U52","v":0},{"$f":"КРС!V52","v":0},{"$f":"КРС!W52","v":0},{"$f":"КРС!X52","v":0},{"$f":"КРСОтч!N49","v":0},{"$f":"КРСОтч!O49","v":0},{"$f":"КРСОтч!P49","v":0},{"$f":"КРСОтч!Q49","v":0},{"$f":"КРСОтч!R49","v":0},{"$f":"КРСОтч!S49","v":0},{"$f":"КРСОтч!T49","v":0},{"$f":"КРСОтч!U49","v":0},{"$f":"КРСОтч!V49","v":0},{"$f":"КРСОтч!W49","v":0},{"$f":"КРСОтч!X49","v":0},{"$f":"КРСОтч!Y49","v":0},{"$f":"КРСОтч!Z49","v":0},{"$f":"КРСОтч!AC49","v":""},{"$f":"КРСОтч!AD49","v":0}]
[{"$f":"VLOOKUP(ТитГЗ!$A$17,'Служебный 1'!$C$3:$E$61,3,FALSE)","v":{"$error":"#N/A"}},{"$f":"КРС!$A$4","v":"Реализация образовательных программ среднего профессионального образования - программ подготовки квалифицированных рабочих, служащих"},{"$f":"КРС!B53","v":0},{"$f":"КРС!D53","v":0},{"$f":"КРС!E53","v":0},{"$f":"КРС!J53","v":0},{"$f":"КРС!K53","v":0},{"$f":"КРС!L53","v":0},{"$f":"КРС!M53","v":0},{"$f":"КРС!N53","v":0},{"$f":"КРС!O53","v":0},{"$f":"КРС!P53","v":0},{"$f":"КРС!Q53","v":0},{"$f":"КРС!R53","v":0},{"$f":"КРС!S53","v":0},{"$f":"КРС!T53","v":0},{"$f":"КРС!U53","v":0},{"$f":"КРС!V53","v":0},{"$f":"КРС!W53","v":0},{"$f":"КРС!X53","v":0},{"$f":"КРСОтч!N50","v":0},{"$f":"КРСОтч!O50","v":0},{"$f":"КРСОтч!P50","v":0},{"$f":"КРСОтч!Q50","v":0},{"$f":"КРСОтч!R50","v":0},{"$f":"КРСОтч!S50","v":0},{"$f":"КРСОтч!T50","v":0},{"$f":"КРСОтч!U50","v":0},{"$f":"КРСОтч!V50","v":0},{"$f":"КРСОтч!W50","v":0},{"$f":"КРСОтч!X50","v":0},{"$f":"КРСОтч!Y50","v":0},{"$f":"КРСОтч!Z50","v":0},{"$f":"КРСОтч!AC50","v":""},{"$f":"КРСОтч!AD50","v":0}]
[{"$f":"VLOOKUP(ТитГЗ!$A$17,'Служебный 1'!$C$3:$E$61,3,FALSE)","v":{"$error":"#N/A"}},{"$f":"КРС!$A$4","v":"Реализация образовательных программ среднего профессионального образования - программ подготовки квалифицированных рабочих, служащих"},{"$f":"КРС!B54","v":0},{"$f":"КРС!D54","v":0},{"$f":"КРС!E54","v":0},{"$f":"КРС!J54","v":0},{"$f":"КРС!K54","v":0},{"$f":"КРС!L54","v":0},{"$f":"КРС!M54","v":0},{"$f":"КРС!N54","v":0},{"$f":"КРС!O54","v":0},{"$f":"КРС!P54","v":0},{"$f":"КРС!Q54","v":0},{"$f":"КРС!R54","v":0},{"$f":"КРС!S54","v":0},{"$f":"КРС!T54","v":0},{"$f":"КРС!U54","v":0},{"$f":"КРС!V54","v":0},{"$f":"КРС!W54","v":0},{"$f":"КРС!X54","v":0},{"$f":"КРСОтч!N51","v":0},{"$f":"КРСОтч!O51","v":0},{"$f":"КРСОтч!P51","v":0},{"$f":"КРСОтч!Q51","v":0},{"$f":"КРСОтч!R51","v":0},{"$f":"КРСОтч!S51","v":0},{"$f":"КРСОтч!T51","v":0},{"$f":"КРСОтч!U51","v":0},{"$f":"КРСОтч!V51","v":0},{"$f":"КРСОтч!W51","v":0},{"$f":"КРСОтч!X51","v":0},{"$f":"КРСОтч!Y51","v":0},{"$f":"КРСОтч!Z51","v":0},{"$f":"КРСОтч!AC51","v":""},{"$f":"КРСОтч!AD51","v":0}]
[{"$f":"VLOOKUP(ТитГЗ!$A$17,'Служебный 1'!$C$3:$E$61,3,FALSE)","v":{"$error":"#N/A"}},{"$f":"КРС!$A$4","v":"Реализация образовательных программ среднего профессионального образования - программ подготовки квалифицированных рабочих, служащих"},{"$f":"КРС!B55","v":0},{"$f":"КРС!D55","v":0},{"$f":"КРС!E55","v":0},{"$f":"КРС!J55","v":0},{"$f":"КРС!K55","v":0},{"$f":"КРС!L55","v":0},{"$f":"КРС!M55","v":0},{"$f":"КРС!N55","v":0},{"$f":"КРС!O55","v":0},{"$f":"КРС!P55","v":0},{"$f":"КРС!Q55","v":0},{"$f":"КРС!R55","v":0},{"$f":"КРС!S55","v":0},{"$f":"КРС!T55","v":0},{"$f":"КРС!U55","v":0},{"$f":"КРС!V55","v":0},{"$f":"КРС!W55","v":0},{"$f":"КРС!X55","v":0},{"$f":"КРСОтч!N52","v":0},{"$f":"КРСОтч!O52","v":0},{"$f":"КРСОтч!P52","v":0},{"$f":"КРСОтч!Q52","v":0},{"$f":"КРСОтч!R52","v":0},{"$f":"КРСОтч!S52","v":0},{"$f":"КРСОтч!T52","v":0},{"$f":"КРСОтч!U52","v":0},{"$f":"КРСОтч!V52","v":0},{"$f":"КРСОтч!W52","v":0},{"$f":"КРСОтч!X52","v":0},{"$f":"КРСОтч!Y52","v":0},{"$f":"КРСОтч!Z52","v":0},{"$f":"КРСОтч!AC52","v":""},{"$f":"КРСОтч!AD52","v":0}]
[{"$f":"VLOOKUP(ТитГЗ!$A$17,'Служебный 1'!$C$3:$E$61,3,FALSE)","v":{"$error":"#N/A"}},{"$f":"КРС!$A$4","v":"Реализация образовательных программ среднего профессионального образования - программ подготовки квалифицированных рабочих, служащих"},{"$f":"КРС!B56","v":0},{"$f":"КРС!D56","v":0},{"$f":"КРС!E56","v":0},{"$f":"КРС!J56","v":0},{"$f":"КРС!K56","v":0},{"$f":"КРС!L56","v":0},{"$f":"КРС!M56","v":0},{"$f":"КРС!N56","v":0},{"$f":"КРС!O56","v":0},{"$f":"КРС!P56","v":0},{"$f":"КРС!Q56","v":0},{"$f":"КРС!R56","v":0},{"$f":"КРС!S56","v":0},{"$f":"КРС!T56","v":0},{"$f":"КРС!U56","v":0},{"$f":"КРС!V56","v":0},{"$f":"КРС!W56","v":0},{"$f":"КРС!X56","v":0},{"$f":"КРСОтч!N53","v":0},{"$f":"КРСОтч!O53","v":0},{"$f":"КРСОтч!P53","v":0},{"$f":"КРСОтч!Q53","v":0},{"$f":"КРСОтч!R53","v":0},{"$f":"КРСОтч!S53","v":0},{"$f":"КРСОтч!T53","v":0},{"$f":"КРСОтч!U53","v":0},{"$f":"КРСОтч!V53","v":0},{"$f":"КРСОтч!W53","v":0},{"$f":"КРСОтч!X53","v":0},{"$f":"КРСОтч!Y53","v":0},{"$f":"КРСОтч!Z53","v":0},{"$f":"КРСОтч!AC53","v":""},{"$f":"КРСОтч!AD53","v":0}]
[{"$f":"VLOOKUP(ТитГЗ!$A$17,'Служебный 1'!$C$3:$E$61,3,FALSE)","v":{"$error":"#N/A"}},{"$f":"КРС!$A$4","v":"Реализация образовательных программ среднего профессионального образования - программ подготовки квалифицированных рабочих, служащих"},{"$f":"КРС!B57","v":0},{"$f":"КРС!D57","v":0},{"$f":"КРС!E57","v":0},{"$f":"КРС!J57","v":0},{"$f":"КРС!K57","v":0},{"$f":"КРС!L57","v":0},{"$f":"КРС!M57","v":0},{"$f":"КРС!N57","v":0},{"$f":"КРС!O57","v":0},{"$f":"КРС!P57","v":0},{"$f":"КРС!Q57","v":0},{"$f":"КРС!R57","v":0},{"$f":"КРС!S57","v":0},{"$f":"КРС!T57","v":0},{"$f":"КРС!U57","v":0},{"$f":"КРС!V57","v":0},{"$f":"КРС!W57","v":0},{"$f":"КРС!X57","v":0},{"$f":"КРСОтч!N54","v":0},{"$f":"КРСОтч!O54","v":0},{"$f":"КРСОтч!P54","v":0},{"$f":"КРСОтч!Q54","v":0},{"$f":"КРСОтч!R54","v":0},{"$f":"КРСОтч!S54","v":0},{"$f":"КРСОтч!T54","v":0},{"$f":"КРСОтч!U54","v":0},{"$f":"КРСОтч!V54","v":0},{"$f":"КРСОтч!W54","v":0},{"$f":"КРСОтч!X54","v":0},{"$f":"КРСОтч!Y54","v":0},{"$f":"КРСОтч!Z54","v":0},{"$f":"КРСОтч!AC54","v":""},{"$f":"КРСОтч!AD54","v":0}]
[{"$f":"VLOOKUP(ТитГЗ!$A$17,'Служебный 1'!$C$3:$E$61,3,FALSE)","v":{"$error":"#N/A"}},{"$f":"КРС!$A$4","v":"Реализация образовательных программ среднего профессионального образования - программ подготовки квалифицированных рабочих, служащих"},{"$f":"КРС!B58","v":0},{"$f":"КРС!D58","v":0},{"$f":"КРС!E58","v":0},{"$f":"КРС!J58","v":0},{"$f":"КРС!K58","v":0},{"$f":"КРС!L58","v":0},{"$f":"КРС!M58","v":0},{"$f":"КРС!N58","v":0},{"$f":"КРС!O58","v":0},{"$f":"КРС!P58","v":0},{"$f":"КРС!Q58","v":0},{"$f":"КРС!R58","v":0},{"$f":"КРС!S58","v":0},{"$f":"КРС!T58","v":0},{"$f":"КРС!U58","v":0},{"$f":"КРС!V58","v":0},{"$f":"КРС!W58","v":0},{"$f":"КРС!X58","v":0},{"$f":"КРСОтч!N55","v":0},{"$f":"КРСОтч!O55","v":0},{"$f":"КРСОтч!P55","v":0},{"$f":"КРСОтч!Q55","v":0},{"$f":"КРСОтч!R55","v":0},{"$f":"КРСОтч!S55","v":0},{"$f":"КРСОтч!T55","v":0},{"$f":"КРСОтч!U55","v":0},{"$f":"КРСОтч!V55","v":0},{"$f":"КРСОтч!W55","v":0},{"$f":"КРСОтч!X55","v":0},{"$f":"КРСОтч!Y55","v":0},{"$f":"КРСОтч!Z55","v":0},{"$f":"КРСОтч!AC55","v":""},{"$f":"КРСОтч!AD55","v":0}]
[{"$f":"VLOOKUP(ТитГЗ!$A$17,'Служебный 1'!$C$3:$E$61,3,FALSE)","v":{"$error":"#N/A"}},{"$f":"КРС!$A$4","v":"Реализация образовательных программ среднего профессионального образования - программ подготовки квалифицированных рабочих, служащих"},{"$f":"КРС!B59","v":0},{"$f":"КРС!D59","v":0},{"$f":"КРС!E59","v":0},{"$f":"КРС!J59","v":0},{"$f":"КРС!K59","v":0},{"$f":"КРС!L59","v":0},{"$f":"КРС!M59","v":0},{"$f":"КРС!N59","v":0},{"$f":"КРС!O59","v":0},{"$f":"КРС!P59","v":0},{"$f":"КРС!Q59","v":0},{"$f":"КРС!R59","v":0},{"$f":"КРС!S59","v":0},{"$f":"КРС!T59","v":0},{"$f":"КРС!U59","v":0},{"$f":"КРС!V59","v":0},{"$f":"КРС!W59","v":0},{"$f":"КРС!X59","v":0},{"$f":"КРСОтч!N56","v":0},{"$f":"КРСОтч!O56","v":0},{"$f":"КРСОтч!P56","v":0},{"$f":"КРСОтч!Q56","v":0},{"$f":"КРСОтч!R56","v":0},{"$f":"КРСОтч!S56","v":0},{"$f":"КРСОтч!T56","v":0},{"$f":"КРСОтч!U56","v":0},{"$f":"КРСОтч!V56","v":0},{"$f":"КРСОтч!W56","v":0},{"$f":"КРСОтч!X56","v":0},{"$f":"КРСОтч!Y56","v":0},{"$f":"КРСОтч!Z56","v":0},{"$f":"КРСОтч!AC56","v":""},{"$f":"КРСОтч!AD56","v":0}]
[{"$f":"VLOOKUP(ТитГЗ!$A$17,'Служебный 1'!$C$3:$E$61,3,FALSE)","v":{"$error":"#N/A"}},{"$f":"КРС!$A$4","v":"Реализация образовательных программ среднего профессионального образования - программ подготовки квалифицированных рабочих, служащих"},{"$f":"КРС!B60","v":0},{"$f":"КРС!D60","v":0},{"$f":"КРС!E60","v":0},{"$f":"КРС!J60","v":0},{"$f":"КРС!K60","v":0},{"$f":"КРС!L60","v":0},{"$f":"КРС!M60","v":0},{"$f":"КРС!N60","v":0},{"$f":"КРС!O60","v":0},{"$f":"КРС!P60","v":0},{"$f":"КРС!Q60","v":0},{"$f":"КРС!R60","v":0},{"$f":"КРС!S60","v":0},{"$f":"КРС!T60","v":0},{"$f":"КРС!U60","v":0},{"$f":"КРС!V60","v":0},{"$f":"КРС!W60","v":0},{"$f":"КРС!X60","v":0},{"$f":"КРСОтч!N57","v":0},{"$f":"КРСОтч!O57","v":0},{"$f":"КРСОтч!P57","v":0},{"$f":"КРСОтч!Q57","v":0},{"$f":"КРСОтч!R57","v":0},{"$f":"КРСОтч!S57","v":0},{"$f":"КРСОтч!T57","v":0},{"$f":"КРСОтч!U57","v":0},{"$f":"КРСОтч!V57","v":0},{"$f":"КРСОтч!W57","v":0},{"$f":"КРСОтч!X57","v":0},{"$f":"КРСОтч!Y57","v":0},{"$f":"КРСОтч!Z57","v":0},{"$f":"КРСОтч!AC57","v":""},{"$f":"КРСОтч!AD57","v":0}]
[{"$f":"VLOOKUP(ТитГЗ!$A$17,'Служебный 1'!$C$3:$E$61,3,FALSE)","v":{"$error":"#N/A"}},{"$f":"КРС!$A$4","v":"Реализация образовательных программ среднего профессионального образования - программ подготовки квалифицированных рабочих, служащих"},{"$f":"КРС!B61","v":0},{"$f":"КРС!D61","v":0},{"$f":"КРС!E61","v":0},{"$f":"КРС!J61","v":0},{"$f":"КРС!K61","v":0},{"$f":"КРС!L61","v":0},{"$f":"КРС!M61","v":0},{"$f":"КРС!N61","v":0},{"$f":"КРС!O61","v":0},{"$f":"КРС!P61","v":0},{"$f":"КРС!Q61","v":0},{"$f":"КРС!R61","v":0},{"$f":"КРС!S61","v":0},{"$f":"КРС!T61","v":0},{"$f":"КРС!U61","v":0},{"$f":"КРС!V61","v":0},{"$f":"КРС!W61","v":0},{"$f":"КРС!X61","v":0},{"$f":"КРСОтч!N58","v":0},{"$f":"КРСОтч!O58","v":0},{"$f":"КРСОтч!P58","v":0},{"$f":"КРСОтч!Q58","v":0},{"$f":"КРСОтч!R58","v":0},{"$f":"КРСОтч!S58","v":0},{"$f":"КРСОтч!T58","v":0},{"$f":"КРСОтч!U58","v":0},{"$f":"КРСОтч!V58","v":0},{"$f":"КРСОтч!W58","v":0},{"$f":"КРСОтч!X58","v":0},{"$f":"КРСОтч!Y58","v":0},{"$f":"КРСОтч!Z58","v":0},{"$f":"КРСОтч!AC58","v":""},{"$f":"КРСОтч!AD58","v":0}]
[{"$f":"VLOOKUP(ТитГЗ!$A$17,'Служебный 1'!$C$3:$E$61,3,FALSE)","v":{"$error":"#N/A"}},{"$f":"КРС!$A$4","v":"Реализация образовательных программ среднего профессионального образования - программ подготовки квалифицированных рабочих, служащих"},{"$f":"КРС!B62","v":0},{"$f":"КРС!D62","v":0},{"$f":"КРС!E62","v":0},{"$f":"КРС!J62","v":0},{"$f":"КРС!K62","v":0},{"$f":"КРС!L62","v":0},{"$f":"КРС!M62","v":0},{"$f":"КРС!N62","v":0},{"$f":"КРС!O62","v":0},{"$f":"КРС!P62","v":0},{"$f":"КРС!Q62","v":0},{"$f":"КРС!R62","v":0},{"$f":"КРС!S62","v":0},{"$f":"КРС!T62","v":0},{"$f":"КРС!U62","v":0},{"$f":"КРС!V62","v":0},{"$f":"КРС!W62","v":0},{"$f":"КРС!X62","v":0},{"$f":"КРСОтч!N59","v":0},{"$f":"КРСОтч!O59","v":0},{"$f":"КРСОтч!P59","v":0},{"$f":"КРСОтч!Q59","v":0},{"$f":"КРСОтч!R59","v":0},{"$f":"КРСОтч!S59","v":0},{"$f":"КРСОтч!T59","v":0},{"$f":"КРСОтч!U59","v":0},{"$f":"КРСОтч!V59","v":0},{"$f":"КРСОтч!W59","v":0},{"$f":"КРСОтч!X59","v":0},{"$f":"КРСОтч!Y59","v":0},{"$f":"КРСОтч!Z59","v":0},{"$f":"КРСОтч!AC59","v":""},{"$f":"КРСОтч!AD59","v":0}]
[{"$f":"VLOOKUP(ТитГЗ!$A$17,'Служебный 1'!$C$3:$E$61,3,FALSE)","v":{"$error":"#N/A"}},{"$f":"КРС!$A$4","v":"Реализация образовательных программ среднего профессионального образования - программ подготовки квалифицированных рабочих, служащих"},{"$f":"КРС!B63","v":0},{"$f":"КРС!D63","v":0},{"$f":"КРС!E63","v":0},{"$f":"КРС!J63","v":0},{"$f":"КРС!K63","v":0},{"$f":"КРС!L63","v":0},{"$f":"КРС!M63","v":0},{"$f":"КРС!N63","v":0},{"$f":"КРС!O63","v":0},{"$f":"КРС!P63","v":0},{"$f":"КРС!Q63","v":0},{"$f":"КРС!R63","v":0},{"$f":"КРС!S63","v":0},{"$f":"КРС!T63","v":0},{"$f":"КРС!U63","v":0},{"$f":"КРС!V63","v":0},{"$f":"КРС!W63","v":0},{"$f":"КРС!X63","v":0},{"$f":"КРСОтч!N60","v":0},{"$f":"КРСОтч!O60","v":0},{"$f":"КРСОтч!P60","v":0},{"$f":"КРСОтч!Q60","v":0},{"$f":"КРСОтч!R60","v":0},{"$f":"КРСОтч!S60","v":0},{"$f":"КРСОтч!T60","v":0},{"$f":"КРСОтч!U60","v":0},{"$f":"КРСОтч!V60","v":0},{"$f":"КРСОтч!W60","v":0},{"$f":"КРСОтч!X60","v":0},{"$f":"КРСОтч!Y60","v":0},{"$f":"КРСОтч!Z60","v":0},{"$f":"КРСОтч!AC60","v":""},{"$f":"КРСОтч!AD60","v":0}]
[{"$f":"VLOOKUP(ТитГЗ!$A$17,'Служебный 1'!$C$3:$E$61,3,FALSE)","v":{"$error":"#N/A"}},{"$f":"КРС!$A$4","v":"Реализация образовательных программ среднего профессионального образования - программ подготовки квалифицированных рабочих, служащих"},{"$f":"КРС!B64","v":0},{"$f":"КРС!D64","v":0},{"$f":"КРС!E64","v":0},{"$f":"КРС!J64","v":0},{"$f":"КРС!K64","v":0},{"$f":"КРС!L64","v":0},{"$f":"КРС!M64","v":0},{"$f":"КРС!N64","v":0},{"$f":"КРС!O64","v":0},{"$f":"КРС!P64","v":0},{"$f":"КРС!Q64","v":0},{"$f":"КРС!R64","v":0},{"$f":"КРС!S64","v":0},{"$f":"КРС!T64","v":0},{"$f":"КРС!U64","v":0},{"$f":"КРС!V64","v":0},{"$f":"КРС!W64","v":0},{"$f":"КРС!X64","v":0},{"$f":"КРСОтч!N61","v":0},{"$f":"КРСОтч!O61","v":0},{"$f":"КРСОтч!P61","v":0},{"$f":"КРСОтч!Q61","v":0},{"$f":"КРСОтч!R61","v":0},{"$f":"КРСОтч!S61","v":0},{"$f":"КРСОтч!T61","v":0},{"$f":"КРСОтч!U61","v":0},{"$f":"КРСОтч!V61","v":0},{"$f":"КРСОтч!W61","v":0},{"$f":"КРСОтч!X61","v":0},{"$f":"КРСОтч!Y61","v":0},{"$f":"КРСОтч!Z61","v":0},{"$f":"КРСОтч!AC61","v":""},{"$f":"КРСОтч!AD61","v":0}]
[{"$f":"VLOOKUP(ТитГЗ!$A$17,'Служебный 1'!$C$3:$E$61,3,FALSE)","v":{"$error":"#N/A"}},{"$f":"КРС!$A$4","v":"Реализация образовательных программ среднего профессионального образования - программ подготовки квалифицированных рабочих, служащих"},{"$f":"КРС!B65","v":0},{"$f":"КРС!D65","v":0},{"$f":"КРС!E65","v":0},{"$f":"КРС!J65","v":0},{"$f":"КРС!K65","v":0},{"$f":"КРС!L65","v":0},{"$f":"КРС!M65","v":0},{"$f":"КРС!N65","v":0},{"$f":"КРС!O65","v":0},{"$f":"КРС!P65","v":0},{"$f":"КРС!Q65","v":0},{"$f":"КРС!R65","v":0},{"$f":"КРС!S65","v":0},{"$f":"КРС!T65","v":0},{"$f":"КРС!U65","v":0},{"$f":"КРС!V65","v":0},{"$f":"КРС!W65","v":0},{"$f":"КРС!X65","v":0},{"$f":"КРСОтч!N62","v":0},{"$f":"КРСОтч!O62","v":0},{"$f":"КРСОтч!P62","v":0},{"$f":"КРСОтч!Q62","v":0},{"$f":"КРСОтч!R62","v":0},{"$f":"КРСОтч!S62","v":0},{"$f":"КРСОтч!T62","v":0},{"$f":"КРСОтч!U62","v":0},{"$f":"КРСОтч!V62","v":0},{"$f":"КРСОтч!W62","v":0},{"$f":"КРСОтч!X62","v":0},{"$f":"КРСОтч!Y62","v":0},{"$f":"КРСОтч!Z62","v":0},{"$f":"КРСОтч!AC62","v":""},{"$f":"КРСОтч!AD62","v":0}]
[{"$f":"VLOOKUP(ТитГЗ!$A$17,'Служебный 1'!$C$3:$E$61,3,FALSE)","v":{"$error":"#N/A"}},{"$f":"КРС!$A$4","v":"Реализация образовательных программ среднего профессионального образования - программ подготовки квалифицированных рабочих, служащих"},{"$f":"КРС!B66","v":0},{"$f":"КРС!D66","v":0},{"$f":"КРС!E66","v":0},{"$f":"КРС!J66","v":0},{"$f":"КРС!K66","v":0},{"$f":"КРС!L66","v":0},{"$f":"КРС!M66","v":0},{"$f":"КРС!N66","v":0},{"$f":"КРС!O66","v":0},{"$f":"КРС!P66","v":0},{"$f":"КРС!Q66","v":0},{"$f":"КРС!R66","v":0},{"$f":"КРС!S66","v":0},{"$f":"КРС!T66","v":0},{"$f":"КРС!U66","v":0},{"$f":"КРС!V66","v":0},{"$f":"КРС!W66","v":0},{"$f":"КРС!X66","v":0},{"$f":"КРСОтч!N63","v":0},{"$f":"КРСОтч!O63","v":0},{"$f":"КРСОтч!P63","v":0},{"$f":"КРСОтч!Q63","v":0},{"$f":"КРСОтч!R63","v":0},{"$f":"КРСОтч!S63","v":0},{"$f":"КРСОтч!T63","v":0},{"$f":"КРСОтч!U63","v":0},{"$f":"КРСОтч!V63","v":0},{"$f":"КРСОтч!W63","v":0},{"$f":"КРСОтч!X63","v":0},{"$f":"КРСОтч!Y63","v":0},{"$f":"КРСОтч!Z63","v":0},{"$f":"КРСОтч!AC63","v":""},{"$f":"КРСОтч!AD63","v":0}]
[{"$f":"VLOOKUP(ТитГЗ!$A$17,'Служебный 1'!$C$3:$E$61,3,FALSE)","v":{"$error":"#N/A"}},{"$f":"КРС!$A$4","v":"Реализация образовательных программ среднего профессионального образования - программ подготовки квалифицированных рабочих, служащих"},{"$f":"КРС!B67","v":0},{"$f":"КРС!D67","v":0},{"$f":"КРС!E67","v":0},{"$f":"КРС!J67","v":0},{"$f":"КРС!K67","v":0},{"$f":"КРС!L67","v":0},{"$f":"КРС!M67","v":0},{"$f":"КРС!N67","v":0},{"$f":"КРС!O67","v":0},{"$f":"КРС!P67","v":0},{"$f":"КРС!Q67","v":0},{"$f":"КРС!R67","v":0},{"$f":"КРС!S67","v":0},{"$f":"КРС!T67","v":0},{"$f":"КРС!U67","v":0},{"$f":"КРС!V67","v":0},{"$f":"КРС!W67","v":0},{"$f":"КРС!X67","v":0},{"$f":"КРСОтч!N64","v":0},{"$f":"КРСОтч!O64","v":0},{"$f":"КРСОтч!P64","v":0},{"$f":"КРСОтч!Q64","v":0},{"$f":"КРСОтч!R64","v":0},{"$f":"КРСОтч!S64","v":0},{"$f":"КРСОтч!T64","v":0},{"$f":"КРСОтч!U64","v":0},{"$f":"КРСОтч!V64","v":0},{"$f":"КРСОтч!W64","v":0},{"$f":"КРСОтч!X64","v":0},{"$f":"КРСОтч!Y64","v":0},{"$f":"КРСОтч!Z64","v":0},{"$f":"КРСОтч!AC64","v":""},{"$f":"КРСОтч!AD64","v":0}]
[{"$f":"VLOOKUP(ТитГЗ!$A$17,'Служебный 1'!$C$3:$E$61,3,FALSE)","v":{"$error":"#N/A"}},{"$f":"КРС!$A$4","v":"Реализация образовательных программ среднего профессионального образования - программ подготовки квалифицированных рабочих, служащих"},{"$f":"КРС!B68","v":0},{"$f":"КРС!D68","v":0},{"$f":"КРС!E68","v":0},{"$f":"КРС!J68","v":0},{"$f":"КРС!K68","v":0},{"$f":"КРС!L68","v":0},{"$f":"КРС!M68","v":0},{"$f":"КРС!N68","v":0},{"$f":"КРС!O68","v":0},{"$f":"КРС!P68","v":0},{"$f":"КРС!Q68","v":0},{"$f":"КРС!R68","v":0},{"$f":"КРС!S68","v":0},{"$f":"КРС!T68","v":0},{"$f":"КРС!U68","v":0},{"$f":"КРС!V68","v":0},{"$f":"КРС!W68","v":0},{"$f":"КРС!X68","v":0},{"$f":"КРСОтч!N65","v":0},{"$f":"КРСОтч!O65","v":0},{"$f":"КРСОтч!P65","v":0},{"$f":"КРСОтч!Q65","v":0},{"$f":"КРСОтч!R65","v":0},{"$f":"КРСОтч!S65","v":0},{"$f":"КРСОтч!T65","v":0},{"$f":"КРСОтч!U65","v":0},{"$f":"КРСОтч!V65","v":0},{"$f":"КРСОтч!W65","v":0},{"$f":"КРСОтч!X65","v":0},{"$f":"КРСОтч!Y65","v":0},{"$f":"КРСОтч!Z65","v":0},{"$f":"КРСОтч!AC65","v":""},{"$f":"КРСОтч!AD65","v":0}]
[{"$f":"VLOOKUP(ТитГЗ!$A$17,'Служебный 1'!$C$3:$E$61,3,FALSE)","v":{"$error":"#N/A"}},{"$f":"КРС!$A$4","v":"Реализация образовательных программ среднего профессионального образования - программ подготовки квалифицированных рабочих, служащих"},{"$f":"КРС!B69","v":0},{"$f":"КРС!D69","v":0},{"$f":"КРС!E69","v":0},{"$f":"КРС!J69","v":0},{"$f":"КРС!K69","v":0},{"$f":"КРС!L69","v":0},{"$f":"КРС!M69","v":0},{"$f":"КРС!N69","v":0},{"$f":"КРС!O69","v":0},{"$f":"КРС!P69","v":0},{"$f":"КРС!Q69","v":0},{"$f":"КРС!R69","v":0},{"$f":"КРС!S69","v":0},{"$f":"КРС!T69","v":0},{"$f":"КРС!U69","v":0},{"$f":"КРС!V69","v":0},{"$f":"КРС!W69","v":0},{"$f":"КРС!X69","v":0},{"$f":"КРСОтч!N66","v":0},{"$f":"КРСОтч!O66","v":0},{"$f":"КРСОтч!P66","v":0},{"$f":"КРСОтч!Q66","v":0},{"$f":"КРСОтч!R66","v":0},{"$f":"КРСОтч!S66","v":0},{"$f":"КРСОтч!T66","v":0},{"$f":"КРСОтч!U66","v":0},{"$f":"КРСОтч!V66","v":0},{"$f":"КРСОтч!W66","v":0},{"$f":"КРСОтч!X66","v":0},{"$f":"КРСОтч!Y66","v":0},{"$f":"КРСОтч!Z66","v":0},{"$f":"КРСОтч!AC66","v":""},{"$f":"КРСОтч!AD66","v":0}]
[{"$f":"VLOOKUP(ТитГЗ!$A$17,'Служебный 1'!$C$3:$E$61,3,FALSE)","v":{"$error":"#N/A"}},{"$f":"КРС!$A$4","v":"Реализация образовательных программ среднего профессионального образования - программ подготовки квалифицированных рабочих, служащих"},{"$f":"КРС!B70","v":0},{"$f":"КРС!D70","v":0},{"$f":"КРС!E70","v":0},{"$f":"КРС!J70","v":0},{"$f":"КРС!K70","v":0},{"$f":"КРС!L70","v":0},{"$f":"КРС!M70","v":0},{"$f":"КРС!N70","v":0},{"$f":"КРС!O70","v":0},{"$f":"КРС!P70","v":0},{"$f":"КРС!Q70","v":0},{"$f":"КРС!R70","v":0},{"$f":"КРС!S70","v":0},{"$f":"КРС!T70","v":0},{"$f":"КРС!U70","v":0},{"$f":"КРС!V70","v":0},{"$f":"КРС!W70","v":0},{"$f":"КРС!X70","v":0},{"$f":"КРСОтч!N67","v":0},{"$f":"КРСОтч!O67","v":0},{"$f":"КРСОтч!P67","v":0},{"$f":"КРСОтч!Q67","v":0},{"$f":"КРСОтч!R67","v":0},{"$f":"КРСОтч!S67","v":0},{"$f":"КРСОтч!T67","v":0},{"$f":"КРСОтч!U67","v":0},{"$f":"КРСОтч!V67","v":0},{"$f":"КРСОтч!W67","v":0},{"$f":"КРСОтч!X67","v":0},{"$f":"КРСОтч!Y67","v":0},{"$f":"КРСОтч!Z67","v":0},{"$f":"КРСОтч!AC67","v":""},{"$f":"КРСОтч!AD67","v":0}]
[{"$f":"VLOOKUP(ТитГЗ!$A$17,'Служебный 1'!$C$3:$E$61,3,FALSE)","v":{"$error":"#N/A"}},{"$f":"КРС!$A$4","v":"Реализация образовательных программ среднего профессионального образования - программ подготовки квалифицированных рабочих, служащих"},{"$f":"КРС!B71","v":0},{"$f":"КРС!D71","v":0},{"$f":"КРС!E71","v":0},{"$f":"КРС!J71","v":0},{"$f":"КРС!K71","v":0},{"$f":"КРС!L71","v":0},{"$f":"КРС!M71","v":0},{"$f":"КРС!N71","v":0},{"$f":"КРС!O71","v":0},{"$f":"КРС!P71","v":0},{"$f":"КРС!Q71","v":0},{"$f":"КРС!R71","v":0},{"$f":"КРС!S71","v":0},{"$f":"КРС!T71","v":0},{"$f":"КРС!U71","v":0},{"$f":"КРС!V71","v":0},{"$f":"КРС!W71","v":0},{"$f":"КРС!X71","v":0},{"$f":"КРСОтч!N68","v":0},{"$f":"КРСОтч!O68","v":0},{"$f":"КРСОтч!P68","v":0},{"$f":"КРСОтч!Q68","v":0},{"$f":"КРСОтч!R68","v":0},{"$f":"КРСОтч!S68","v":0},{"$f":"КРСОтч!T68","v":0},{"$f":"КРСОтч!U68","v":0},{"$f":"КРСОтч!V68","v":0},{"$f":"КРСОтч!W68","v":0},{"$f":"КРСОтч!X68","v":0},{"$f":"КРСОтч!Y68","v":0},{"$f":"КРСОтч!Z68","v":0},{"$f":"КРСОтч!AC68","v":""},{"$f":"КРСОтч!AD68","v":0}]
[{"$f":"VLOOKUP(ТитГЗ!$A$17,'Служебный 1'!$C$3:$E$61,3,FALSE)","v":{"$error":"#N/A"}},{"$f":"КРС!$A$4","v":"Реализация образовательных программ среднего профессионального образования - программ подготовки квалифицированных рабочих, служащих"},{"$f":"КРС!B72","v":0},{"$f":"КРС!D72","v":0},{"$f":"КРС!E72","v":0},{"$f":"КРС!J72","v":0},{"$f":"КРС!K72","v":0},{"$f":"КРС!L72","v":0},{"$f":"КРС!M72","v":0},{"$f":"КРС!N72","v":0},{"$f":"КРС!O72","v":0},{"$f":"КРС!P72","v":0},{"$f":"КРС!Q72","v":0},{"$f":"КРС!R72","v":0},{"$f":"КРС!S72","v":0},{"$f":"КРС!T72","v":0},{"$f":"КРС!U72","v":0},{"$f":"КРС!V72","v":0},{"$f":"КРС!W72","v":0},{"$f":"КРС!X72","v":0},{"$f":"КРСОтч!N69","v":0},{"$f":"КРСОтч!O69","v":0},{"$f":"КРСОтч!P69","v":0},{"$f":"КРСОтч!Q69","v":0},{"$f":"КРСОтч!R69","v":0},{"$f":"КРСОтч!S69","v":0},{"$f":"КРСОтч!T69","v":0},{"$f":"КРСОтч!U69","v":0},{"$f":"КРСОтч!V69","v":0},{"$f":"КРСОтч!W69","v":0},{"$f":"КРСОтч!X69","v":0},{"$f":"КРСОтч!Y69","v":0},{"$f":"КРСОтч!Z69","v":0},{"$f":"КРСОтч!AC69","v":""},{"$f":"КРСОтч!AD69","v":0}]
[{"$f":"VLOOKUP(ТитГЗ!$A$17,'Служебный 1'!$C$3:$E$61,3,FALSE)","v":{"$error":"#N/A"}},{"$f":"КРС!$A$4","v":"Реализация образовательных программ среднего профессионального образования - программ подготовки квалифицированных рабочих, служащих"},{"$f":"КРС!B73","v":0},{"$f":"КРС!D73","v":0},{"$f":"КРС!E73","v":0},{"$f":"КРС!J73","v":0},{"$f":"КРС!K73","v":0},{"$f":"КРС!L73","v":0},{"$f":"КРС!M73","v":0},{"$f":"КРС!N73","v":0},{"$f":"КРС!O73","v":0},{"$f":"КРС!P73","v":0},{"$f":"КРС!Q73","v":0},{"$f":"КРС!R73","v":0},{"$f":"КРС!S73","v":0},{"$f":"КРС!T73","v":0},{"$f":"КРС!U73","v":0},{"$f":"КРС!V73","v":0},{"$f":"КРС!W73","v":0},{"$f":"КРС!X73","v":0},{"$f":"КРСОтч!N70","v":0},{"$f":"КРСОтч!O70","v":0},{"$f":"КРСОтч!P70","v":0},{"$f":"КРСОтч!Q70","v":0},{"$f":"КРСОтч!R70","v":0},{"$f":"КРСОтч!S70","v":0},{"$f":"КРСОтч!T70","v":0},{"$f":"КРСОтч!U70","v":0},{"$f":"КРСОтч!V70","v":0},{"$f":"КРСОтч!W70","v":0},{"$f":"КРСОтч!X70","v":0},{"$f":"КРСОтч!Y70","v":0},{"$f":"КРСОтч!Z70","v":0},{"$f":"КРСОтч!AC70","v":""},{"$f":"КРСОтч!AD70","v":0}]
[{"$f":"VLOOKUP(ТитГЗ!$A$17,'Служебный 1'!$C$3:$E$61,3,FALSE)","v":{"$error":"#N/A"}},{"$f":"КРС!$A$4","v":"Реализация образовательных программ среднего профессионального образования - программ подготовки квалифицированных рабочих, служащих"},{"$f":"КРС!B74","v":0},{"$f":"КРС!D74","v":0},{"$f":"КРС!E74","v":0},{"$f":"КРС!J74","v":0},{"$f":"КРС!K74","v":0},{"$f":"КРС!L74","v":0},{"$f":"КРС!M74","v":0},{"$f":"КРС!N74","v":0},{"$f":"КРС!O74","v":0},{"$f":"КРС!P74","v":0},{"$f":"КРС!Q74","v":0},{"$f":"КРС!R74","v":0},{"$f":"КРС!S74","v":0},{"$f":"КРС!T74","v":0},{"$f":"КРС!U74","v":0},{"$f":"КРС!V74","v":0},{"$f":"КРС!W74","v":0},{"$f":"КРС!X74","v":0},{"$f":"КРСОтч!N71","v":0},{"$f":"КРСОтч!O71","v":0},{"$f":"КРСОтч!P71","v":0},{"$f":"КРСОтч!Q71","v":0},{"$f":"КРСОтч!R71","v":0},{"$f":"КРСОтч!S71","v":0},{"$f":"КРСОтч!T71","v":0},{"$f":"КРСОтч!U71","v":0},{"$f":"КРСОтч!V71","v":0},{"$f":"КРСОтч!W71","v":0},{"$f":"КРСОтч!X71","v":0},{"$f":"КРСОтч!Y71","v":0},{"$f":"КРСОтч!Z71","v":0},{"$f":"КРСОтч!AC71","v":""},{"$f":"КРСОтч!AD71","v":0}]
[{"$f":"VLOOKUP(ТитГЗ!$A$17,'Служебный 1'!$C$3:$E$61,3,FALSE)","v":{"$error":"#N/A"}},{"$f":"КРС!$A$4","v":"Реализация образовательных программ среднего профессионального образования - программ подготовки квалифицированных рабочих, служащих"},{"$f":"КРС!B75","v":0},{"$f":"КРС!D75","v":0},{"$f":"КРС!E75","v":0},{"$f":"КРС!J75","v":0},{"$f":"КРС!K75","v":0},{"$f":"КРС!L75","v":0},{"$f":"КРС!M75","v":0},{"$f":"КРС!N75","v":0},{"$f":"КРС!O75","v":0},{"$f":"КРС!P75","v":0},{"$f":"КРС!Q75","v":0},{"$f":"КРС!R75","v":0},{"$f":"КРС!S75","v":0},{"$f":"КРС!T75","v":0},{"$f":"КРС!U75","v":0},{"$f":"КРС!V75","v":0},{"$f":"КРС!W75","v":0},{"$f":"КРС!X75","v":0},{"$f":"КРСОтч!N72","v":0},{"$f":"КРСОтч!O72","v":0},{"$f":"КРСОтч!P72","v":0},{"$f":"КРСОтч!Q72","v":0},{"$f":"КРСОтч!R72","v":0},{"$f":"КРСОтч!S72","v":0},{"$f":"КРСОтч!T72","v":0},{"$f":"КРСОтч!U72","v":0},{"$f":"КРСОтч!V72","v":0},{"$f":"КРСОтч!W72","v":0},{"$f":"КРСОтч!X72","v":0},{"$f":"КРСОтч!Y72","v":0},{"$f":"КРСОтч!Z72","v":0},{"$f":"КРСОтч!AC72","v":""},{"$f":"КРСОтч!AD72","v":0}]
[{"$f":"VLOOKUP(ТитГЗ!$A$17,'Служебный 1'!$C$3:$E$61,3,FALSE)","v":{"$error":"#N/A"}},{"$f":"КРС!$A$4","v":"Реализация образовательных программ среднего профессионального образования - программ подготовки квалифицированных рабочих, служащих"},{"$f":"КРС!B76","v":0},{"$f":"КРС!D76","v":0},{"$f":"КРС!E76","v":0},{"$f":"КРС!J76","v":0},{"$f":"КРС!K76","v":0},{"$f":"КРС!L76","v":0},{"$f":"КРС!M76","v":0},{"$f":"КРС!N76","v":0},{"$f":"КРС!O76","v":0},{"$f":"КРС!P76","v":0},{"$f":"КРС!Q76","v":0},{"$f":"КРС!R76","v":0},{"$f":"КРС!S76","v":0},{"$f":"КРС!T76","v":0},{"$f":"КРС!U76","v":0},{"$f":"КРС!V76","v":0},{"$f":"КРС!W76","v":0},{"$f":"КРС!X76","v":0},{"$f":"КРСОтч!N73","v":0},{"$f":"КРСОтч!O73","v":0},{"$f":"КРСОтч!P73","v":0},{"$f":"КРСОтч!Q73","v":0},{"$f":"КРСОтч!R73","v":0},{"$f":"КРСОтч!S73","v":0},{"$f":"КРСОтч!T73","v":0},{"$f":"КРСОтч!U73","v":0},{"$f":"КРСОтч!V73","v":0},{"$f":"КРСОтч!W73","v":0},{"$f":"КРСОтч!X73","v":0},{"$f":"КРСОтч!Y73","v":0},{"$f":"КРСОтч!Z73","v":0},{"$f":"КРСОтч!AC73","v":""},{"$f":"КРСОтч!AD73","v":0}]
[{"$f":"VLOOKUP(ТитГЗ!$A$17,'Служебный 1'!$C$3:$E$61,3,FALSE)","v":{"$error":"#N/A"}},{"$f":"КРС!$A$4","v":"Реализация образовательных программ среднего профессионального образования - программ подготовки квалифицированных рабочих, служащих"},{"$f":"КРС!B77","v":0},{"$f":"КРС!D77","v":0},{"$f":"КРС!E77","v":0},{"$f":"КРС!J77","v":0},{"$f":"КРС!K77","v":0},{"$f":"КРС!L77","v":0},{"$f":"КРС!M77","v":0},{"$f":"КРС!N77","v":0},{"$f":"КРС!O77","v":0},{"$f":"КРС!P77","v":0},{"$f":"КРС!Q77","v":0},{"$f":"КРС!R77","v":0},{"$f":"КРС!S77","v":0},{"$f":"КРС!T77","v":0},{"$f":"КРС!U77","v":0},{"$f":"КРС!V77","v":0},{"$f":"КРС!W77","v":0},{"$f":"КРС!X77","v":0},{"$f":"КРСОтч!N74","v":0},{"$f":"КРСОтч!O74","v":0},{"$f":"КРСОтч!P74","v":0},{"$f":"КРСОтч!Q74","v":0},{"$f":"КРСОтч!R74","v":0},{"$f":"КРСОтч!S74","v":0},{"$f":"КРСОтч!T74","v":0},{"$f":"КРСОтч!U74","v":0},{"$f":"КРСОтч!V74","v":0},{"$f":"КРСОтч!W74","v":0},{"$f":"КРСОтч!X74","v":0},{"$f":"КРСОтч!Y74","v":0},{"$f":"КРСОтч!Z74","v":0},{"$f":"КРСОтч!AC74","v":""},{"$f":"КРСОтч!AD74","v":0}]
[{"$f":"VLOOKUP(ТитГЗ!$A$17,'Служебный 1'!$C$3:$E$61,3,FALSE)","v":{"$error":"#N/A"}},{"$f":"КРС!$A$4","v":"Реализация образовательных программ среднего профессионального образования - программ подготовки квалифицированных рабочих, служащих"},{"$f":"КРС!B78","v":0},{"$f":"КРС!D78","v":0},{"$f":"КРС!E78","v":0},{"$f":"КРС!J78","v":0},{"$f":"КРС!K78","v":0},{"$f":"КРС!L78","v":0},{"$f":"КРС!M78","v":0},{"$f":"КРС!N78","v":0},{"$f":"КРС!O78","v":0},{"$f":"КРС!P78","v":0},{"$f":"КРС!Q78","v":0},{"$f":"КРС!R78","v":0},{"$f":"КРС!S78","v":0},{"$f":"КРС!T78","v":0},{"$f":"КРС!U78","v":0},{"$f":"КРС!V78","v":0},{"$f":"КРС!W78","v":0},{"$f":"КРС!X78","v":0},{"$f":"КРСОтч!N75","v":0},{"$f":"КРСОтч!O75","v":0},{"$f":"КРСОтч!P75","v":0},{"$f":"КРСОтч!Q75","v":0},{"$f":"КРСОтч!R75","v":0},{"$f":"КРСОтч!S75","v":0},{"$f":"КРСОтч!T75","v":0},{"$f":"КРСОтч!U75","v":0},{"$f":"КРСОтч!V75","v":0},{"$f":"КРСОтч!W75","v":0},{"$f":"КРСОтч!X75","v":0},{"$f":"КРСОтч!Y75","v":0},{"$f":"КРСОтч!Z75","v":0},{"$f":"КРСОтч!AC75","v":""},{"$f":"КРСОтч!AD75","v":0}]
[{"$f":"VLOOKUP(ТитГЗ!$A$17,'Служебный 1'!$C$3:$E$61,3,FALSE)","v":{"$error":"#N/A"}},{"$f":"КРС!$A$4","v":"Реализация образовательных программ среднего профессионального образования - программ подготовки квалифицированных рабочих, служащих"},{"$f":"КРС!B79","v":0},{"$f":"КРС!D79","v":0},{"$f":"КРС!E79","v":0},{"$f":"КРС!J79","v":0},{"$f":"КРС!K79","v":0},{"$f":"КРС!L79","v":0},{"$f":"КРС!M79","v":0},{"$f":"КРС!N79","v":0},{"$f":"КРС!O79","v":0},{"$f":"КРС!P79","v":0},{"$f":"КРС!Q79","v":0},{"$f":"КРС!R79","v":0},{"$f":"КРС!S79","v":0},{"$f":"КРС!T79","v":0},{"$f":"КРС!U79","v":0},{"$f":"КРС!V79","v":0},{"$f":"КРС!W79","v":0},{"$f":"КРС!X79","v":0},{"$f":"КРСОтч!N76","v":0},{"$f":"КРСОтч!O76","v":0},{"$f":"КРСОтч!P76","v":0},{"$f":"КРСОтч!Q76","v":0},{"$f":"КРСОтч!R76","v":0},{"$f":"КРСОтч!S76","v":0},{"$f":"КРСОтч!T76","v":0},{"$f":"КРСОтч!U76","v":0},{"$f":"КРСОтч!V76","v":0},{"$f":"КРСОтч!W76","v":0},{"$f":"КРСОтч!X76","v":0},{"$f":"КРСОтч!Y76","v":0},{"$f":"КРСОтч!Z76","v":0},{"$f":"КРСОтч!AC76","v":""},{"$f":"КРСОтч!AD76","v":0}]
[{"$f":"VLOOKUP(ТитГЗ!$A$17,'Служебный 1'!$C$3:$E$61,3,FALSE)","v":{"$error":"#N/A"}},{"$f":"КРС!$A$4","v":"Реализация образовательных программ среднего профессионального образования - программ подготовки квалифицированных рабочих, служащих"},{"$f":"КРС!B80","v":0},{"$f":"КРС!D80","v":0},{"$f":"КРС!E80","v":0},{"$f":"КРС!J80","v":0},{"$f":"КРС!K80","v":0},{"$f":"КРС!L80","v":0},{"$f":"КРС!M80","v":0},{"$f":"КРС!N80","v":0},{"$f":"КРС!O80","v":0},{"$f":"КРС!P80","v":0},{"$f":"КРС!Q80","v":0},{"$f":"КРС!R80","v":0},{"$f":"КРС!S80","v":0},{"$f":"КРС!T80","v":0},{"$f":"КРС!U80","v":0},{"$f":"КРС!V80","v":0},{"$f":"КРС!W80","v":0},{"$f":"КРС!X80","v":0},{"$f":"КРСОтч!N77","v":0},{"$f":"КРСОтч!O77","v":0},{"$f":"КРСОтч!P77","v":0},{"$f":"КРСОтч!Q77","v":0},{"$f":"КРСОтч!R77","v":0},{"$f":"КРСОтч!S77","v":0},{"$f":"КРСОтч!T77","v":0},{"$f":"КРСОтч!U77","v":0},{"$f":"КРСОтч!V77","v":0},{"$f":"КРСОтч!W77","v":0},{"$f":"КРСОтч!X77","v":0},{"$f":"КРСОтч!Y77","v":0},{"$f":"КРСОтч!Z77","v":0},{"$f":"КРСОтч!AC77","v":""},{"$f":"КРСОтч!AD77","v":0}]
[{"$f":"VLOOKUP(ТитГЗ!$A$17,'Служебный 1'!$C$3:$E$61,3,FALSE)","v":{"$error":"#N/A"}},{"$f":"КРС!$A$4","v":"Реализация образовательных программ среднего профессионального образования - программ подготовки квалифицированных рабочих, служащих"},{"$f":"КРС!B81","v":0},{"$f":"КРС!D81","v":0},{"$f":"КРС!E81","v":0},{"$f":"КРС!J81","v":0},{"$f":"КРС!K81","v":0},{"$f":"КРС!L81","v":0},{"$f":"КРС!M81","v":0},{"$f":"КРС!N81","v":0},{"$f":"КРС!O81","v":0},{"$f":"КРС!P81","v":0},{"$f":"КРС!Q81","v":0},{"$f":"КРС!R81","v":0},{"$f":"КРС!S81","v":0},{"$f":"КРС!T81","v":0},{"$f":"КРС!U81","v":0},{"$f":"КРС!V81","v":0},{"$f":"КРС!W81","v":0},{"$f":"КРС!X81","v":0},{"$f":"КРСОтч!N78","v":0},{"$f":"КРСОтч!O78","v":0},{"$f":"КРСОтч!P78","v":0},{"$f":"КРСОтч!Q78","v":0},{"$f":"КРСОтч!R78","v":0},{"$f":"КРСОтч!S78","v":0},{"$f":"КРСОтч!T78","v":0},{"$f":"КРСОтч!U78","v":0},{"$f":"КРСОтч!V78","v":0},{"$f":"КРСОтч!W78","v":0},{"$f":"КРСОтч!X78","v":0},{"$f":"КРСОтч!Y78","v":0},{"$f":"КРСОтч!Z78","v":0},{"$f":"КРСОтч!AC78","v":""},{"$f":"КРСОтч!AD78","v":0}]
[{"$f":"VLOOKUP(ТитГЗ!$A$17,'Служебный 1'!$C$3:$E$61,3,FALSE)","v":{"$error":"#N/A"}},{"$f":"КРС!$A$4","v":"Реализация образовательных программ среднего профессионального образования - программ подготовки квалифицированных рабочих, служащих"},{"$f":"КРС!B82","v":0},{"$f":"КРС!D82","v":0},{"$f":"КРС!E82","v":0},{"$f":"КРС!J82","v":0},{"$f":"КРС!K82","v":0},{"$f":"КРС!L82","v":0},{"$f":"КРС!M82","v":0},{"$f":"КРС!N82","v":0},{"$f":"КРС!O82","v":0},{"$f":"КРС!P82","v":0},{"$f":"КРС!Q82","v":0},{"$f":"КРС!R82","v":0},{"$f":"КРС!S82","v":0},{"$f":"КРС!T82","v":0},{"$f":"КРС!U82","v":0},{"$f":"КРС!V82","v":0},{"$f":"КРС!W82","v":0},{"$f":"КРС!X82","v":0},{"$f":"КРСОтч!N79","v":0},{"$f":"КРСОтч!O79","v":0},{"$f":"КРСОтч!P79","v":0},{"$f":"КРСОтч!Q79","v":0},{"$f":"КРСОтч!R79","v":0},{"$f":"КРСОтч!S79","v":0},{"$f":"КРСОтч!T79","v":0},{"$f":"КРСОтч!U79","v":0},{"$f":"КРСОтч!V79","v":0},{"$f":"КРСОтч!W79","v":0},{"$f":"КРСОтч!X79","v":0},{"$f":"КРСОтч!Y79","v":0},{"$f":"КРСОтч!Z79","v":0},{"$f":"КРСОтч!AC79","v":""},{"$f":"КРСОтч!AD79","v":0}]
[{"$f":"VLOOKUP(ТитГЗ!$A$17,'Служебный 1'!$C$3:$E$61,3,FALSE)","v":{"$error":"#N/A"}},{"$f":"КРС!$A$4","v":"Реализация образовательных программ среднего профессионального образования - программ подготовки квалифицированных рабочих, служащих"},{"$f":"КРС!B83","v":0},{"$f":"КРС!D83","v":0},{"$f":"КРС!E83","v":0},{"$f":"КРС!J83","v":0},{"$f":"КРС!K83","v":0},{"$f":"КРС!L83","v":0},{"$f":"КРС!M83","v":0},{"$f":"КРС!N83","v":0},{"$f":"КРС!O83","v":0},{"$f":"КРС!P83","v":0},{"$f":"КРС!Q83","v":0},{"$f":"КРС!R83","v":0},{"$f":"КРС!S83","v":0},{"$f":"КРС!T83","v":0},{"$f":"КРС!U83","v":0},{"$f":"КРС!V83","v":0},{"$f":"КРС!W83","v":0},{"$f":"КРС!X83","v":0},{"$f":"КРСОтч!N80","v":0},{"$f":"КРСОтч!O80","v":0},{"$f":"КРСОтч!P80","v":0},{"$f":"КРСОтч!Q80","v":0},{"$f":"КРСОтч!R80","v":0},{"$f":"КРСОтч!S80","v":0},{"$f":"КРСОтч!T80","v":0},{"$f":"КРСОтч!U80","v":0},{"$f":"КРСОтч!V80","v":0},{"$f":"КРСОтч!W80","v":0},{"$f":"КРСОтч!X80","v":0},{"$f":"КРСОтч!Y80","v":0},{"$f":"КРСОтч!Z80","v":0},{"$f":"КРСОтч!AC80","v":""},{"$f":"КРСОтч!AD80","v":0}]
[{"$f":"VLOOKUP(ТитГЗ!$A$17,'Служебный 1'!$C$3:$E$61,3,FALSE)","v":{"$error":"#N/A"}},{"$f":"КРС!$A$4","v":"Реализация образовательных программ среднего профессионального образования - программ подготовки квалифицированных рабочих, служащих"},{"$f":"КРС!B84","v":0},{"$f":"КРС!D84","v":0},{"$f":"КРС!E84","v":0},{"$f":"КРС!J84","v":0},{"$f":"КРС!K84","v":0},{"$f":"КРС!L84","v":0},{"$f":"КРС!M84","v":0},{"$f":"КРС!N84","v":0},{"$f":"КРС!O84","v":0},{"$f":"КРС!P84","v":0},{"$f":"КРС!Q84","v":0},{"$f":"КРС!R84","v":0},{"$f":"КРС!S84","v":0},{"$f":"КРС!T84","v":0},{"$f":"КРС!U84","v":0},{"$f":"КРС!V84","v":0},{"$f":"КРС!W84","v":0},{"$f":"КРС!X84","v":0},{"$f":"КРСОтч!N81","v":0},{"$f":"КРСОтч!O81","v":0},{"$f":"КРСОтч!P81","v":0},{"$f":"КРСОтч!Q81","v":0},{"$f":"КРСОтч!R81","v":0},{"$f":"КРСОтч!S81","v":0},{"$f":"КРСОтч!T81","v":0},{"$f":"КРСОтч!U81","v":0},{"$f":"КРСОтч!V81","v":0},{"$f":"КРСОтч!W81","v":0},{"$f":"КРСОтч!X81","v":0},{"$f":"КРСОтч!Y81","v":0},{"$f":"КРСОтч!Z81","v":0},{"$f":"КРСОтч!AC81","v":""},{"$f":"КРСОтч!AD81","v":0}]
[{"$f":"VLOOKUP(ТитГЗ!$A$17,'Служебный 1'!$C$3:$E$61,3,FALSE)","v":{"$error":"#N/A"}},{"$f":"КРС!$A$4","v":"Реализация образовательных программ среднего профессионального образования - программ подготовки квалифицированных рабочих, служащих"},{"$f":"КРС!B85","v":0},{"$f":"КРС!D85","v":0},{"$f":"КРС!E85","v":0},{"$f":"КРС!J85","v":0},{"$f":"КРС!K85","v":0},{"$f":"КРС!L85","v":0},{"$f":"КРС!M85","v":0},{"$f":"КРС!N85","v":0},{"$f":"КРС!O85","v":0},{"$f":"КРС!P85","v":0},{"$f":"КРС!Q85","v":0},{"$f":"КРС!R85","v":0},{"$f":"КРС!S85","v":0},{"$f":"КРС!T85","v":0},{"$f":"КРС!U85","v":0},{"$f":"КРС!V85","v":0},{"$f":"КРС!W85","v":0},{"$f":"КРС!X85","v":0},{"$f":"КРСОтч!N82","v":0},{"$f":"КРСОтч!O82","v":0},{"$f":"КРСОтч!P82","v":0},{"$f":"КРСОтч!Q82","v":0},{"$f":"КРСОтч!R82","v":0},{"$f":"КРСОтч!S82","v":0},{"$f":"КРСОтч!T82","v":0},{"$f":"КРСОтч!U82","v":0},{"$f":"КРСОтч!V82","v":0},{"$f":"КРСОтч!W82","v":0},{"$f":"КРСОтч!X82","v":0},{"$f":"КРСОтч!Y82","v":0},{"$f":"КРСОтч!Z82","v":0},{"$f":"КРСОтч!AC82","v":""},{"$f":"КРСОтч!AD82","v":0}]
[{"$f":"VLOOKUP(ТитГЗ!$A$17,'Служебный 1'!$C$3:$E$61,3,FALSE)","v":{"$error":"#N/A"}},{"$f":"КРС!$A$4","v":"Реализация образовательных программ среднего профессионального образования - программ подготовки квалифицированных рабочих, служащих"},{"$f":"КРС!B86","v":0},{"$f":"КРС!D86","v":0},{"$f":"КРС!E86","v":0},{"$f":"КРС!J86","v":0},{"$f":"КРС!K86","v":0},{"$f":"КРС!L86","v":0},{"$f":"КРС!M86","v":0},{"$f":"КРС!N86","v":0},{"$f":"КРС!O86","v":0},{"$f":"КРС!P86","v":0},{"$f":"КРС!Q86","v":0},{"$f":"КРС!R86","v":0},{"$f":"КРС!S86","v":0},{"$f":"КРС!T86","v":0},{"$f":"КРС!U86","v":0},{"$f":"КРС!V86","v":0},{"$f":"КРС!W86","v":0},{"$f":"КРС!X86","v":0},{"$f":"КРСОтч!N83","v":0},{"$f":"КРСОтч!O83","v":0},{"$f":"КРСОтч!P83","v":0},{"$f":"КРСОтч!Q83","v":0},{"$f":"КРСОтч!R83","v":0},{"$f":"КРСОтч!S83","v":0},{"$f":"КРСОтч!T83","v":0},{"$f":"КРСОтч!U83","v":0},{"$f":"КРСОтч!V83","v":0},{"$f":"КРСОтч!W83","v":0},{"$f":"КРСОтч!X83","v":0},{"$f":"КРСОтч!Y83","v":0},{"$f":"КРСОтч!Z83","v":0},{"$f":"КРСОтч!AC83","v":""},{"$f":"КРСОтч!AD83","v":0}]
[{"$f":"VLOOKUP(ТитГЗ!$A$17,'Служебный 1'!$C$3:$E$61,3,FALSE)","v":{"$error":"#N/A"}},{"$f":"КРС!$A$4","v":"Реализация образовательных программ среднего профессионального образования - программ подготовки квалифицированных рабочих, служащих"},{"$f":"КРС!B87","v":0},{"$f":"КРС!D87","v":0},{"$f":"КРС!E87","v":0},{"$f":"КРС!J87","v":0},{"$f":"КРС!K87","v":0},{"$f":"КРС!L87","v":0},{"$f":"КРС!M87","v":0},{"$f":"КРС!N87","v":0},{"$f":"КРС!O87","v":0},{"$f":"КРС!P87","v":0},{"$f":"КРС!Q87","v":0},{"$f":"КРС!R87","v":0},{"$f":"КРС!S87","v":0},{"$f":"КРС!T87","v":0},{"$f":"КРС!U87","v":0},{"$f":"КРС!V87","v":0},{"$f":"КРС!W87","v":0},{"$f":"КРС!X87","v":0},{"$f":"КРСОтч!N84","v":0},{"$f":"КРСОтч!O84","v":0},{"$f":"КРСОтч!P84","v":0},{"$f":"КРСОтч!Q84","v":0},{"$f":"КРСОтч!R84","v":0},{"$f":"КРСОтч!S84","v":0},{"$f":"КРСОтч!T84","v":0},{"$f":"КРСОтч!U84","v":0},{"$f":"КРСОтч!V84","v":0},{"$f":"КРСОтч!W84","v":0},{"$f":"КРСОтч!X84","v":0},{"$f":"КРСОтч!Y84","v":0},{"$f":"КРСОтч!Z84","v":0},{"$f":"КРСОтч!AC84","v":""},{"$f":"КРСОтч!AD84","v":0}]
[{"$f":"VLOOKUP(ТитГЗ!$A$17,'Служебный 1'!$C$3:$E$61,3,FALSE)","v":{"$error":"#N/A"}},{"$f":"КРС!$A$4","v":"Реализация образовательных программ среднего профессионального образования - программ подготовки квалифицированных рабочих, служащих"},{"$f":"КРС!B88","v":0},{"$f":"КРС!D88","v":0},{"$f":"КРС!E88","v":0},{"$f":"КРС!J88","v":0},{"$f":"КРС!K88","v":0},{"$f":"КРС!L88","v":0},{"$f":"КРС!M88","v":0},{"$f":"КРС!N88","v":0},{"$f":"КРС!O88","v":0},{"$f":"КРС!P88","v":0},{"$f":"КРС!Q88","v":0},{"$f":"КРС!R88","v":0},{"$f":"КРС!S88","v":0},{"$f":"КРС!T88","v":0},{"$f":"КРС!U88","v":0},{"$f":"КРС!V88","v":0},{"$f":"КРС!W88","v":0},{"$f":"КРС!X88","v":0},{"$f":"КРСОтч!N85","v":0},{"$f":"КРСОтч!O85","v":0},{"$f":"КРСОтч!P85","v":0},{"$f":"КРСОтч!Q85","v":0},{"$f":"КРСОтч!R85","v":0},{"$f":"КРСОтч!S85","v":0},{"$f":"КРСОтч!T85","v":0},{"$f":"КРСОтч!U85","v":0},{"$f":"КРСОтч!V85","v":0},{"$f":"КРСОтч!W85","v":0},{"$f":"КРСОтч!X85","v":0},{"$f":"КРСОтч!Y85","v":0},{"$f":"КРСОтч!Z85","v":0},{"$f":"КРСОтч!AC85","v":""},{"$f":"КРСОтч!AD85","v":0}]
[{"$f":"VLOOKUP(ТитГЗ!$A$17,'Служебный 1'!$C$3:$E$61,3,FALSE)","v":{"$error":"#N/A"}},{"$f":"КРС!$A$4","v":"Реализация образовательных программ среднего профессионального образования - программ подготовки квалифицированных рабочих, служащих"},{"$f":"КРС!B89","v":0},{"$f":"КРС!D89","v":0},{"$f":"КРС!E89","v":0},{"$f":"КРС!J89","v":0},{"$f":"КРС!K89","v":0},{"$f":"КРС!L89","v":0},{"$f":"КРС!M89","v":0},{"$f":"КРС!N89","v":0},{"$f":"КРС!O89","v":0},{"$f":"КРС!P89","v":0},{"$f":"КРС!Q89","v":0},{"$f":"КРС!R89","v":0},{"$f":"КРС!S89","v":0},{"$f":"КРС!T89","v":0},{"$f":"КРС!U89","v":0},{"$f":"КРС!V89","v":0},{"$f":"КРС!W89","v":0},{"$f":"КРС!X89","v":0},{"$f":"КРСОтч!N86","v":0},{"$f":"КРСОтч!O86","v":0},{"$f":"КРСОтч!P86","v":0},{"$f":"КРСОтч!Q86","v":0},{"$f":"КРСОтч!R86","v":0},{"$f":"КРСОтч!S86","v":0},{"$f":"КРСОтч!T86","v":0},{"$f":"КРСОтч!U86","v":0},{"$f":"КРСОтч!V86","v":0},{"$f":"КРСОтч!W86","v":0},{"$f":"КРСОтч!X86","v":0},{"$f":"КРСОтч!Y86","v":0},{"$f":"КРСОтч!Z86","v":0},{"$f":"КРСОтч!AC86","v":""},{"$f":"КРСОтч!AD86","v":0}]
[{"$f":"VLOOKUP(ТитГЗ!$A$17,'Служебный 1'!$C$3:$E$61,3,FALSE)","v":{"$error":"#N/A"}},{"$f":"КРС!$A$4","v":"Реализация образовательных программ среднего профессионального образования - программ подготовки квалифицированных рабочих, служащих"},{"$f":"КРС!B90","v":0},{"$f":"КРС!D90","v":0},{"$f":"КРС!E90","v":0},{"$f":"КРС!J90","v":0},{"$f":"КРС!K90","v":0},{"$f":"КРС!L90","v":0},{"$f":"КРС!M90","v":0},{"$f":"КРС!N90","v":0},{"$f":"КРС!O90","v":0},{"$f":"КРС!P90","v":0},{"$f":"КРС!Q90","v":0},{"$f":"КРС!R90","v":0},{"$f":"КРС!S90","v":0},{"$f":"КРС!T90","v":0},{"$f":"КРС!U90","v":0},{"$f":"КРС!V90","v":0},{"$f":"КРС!W90","v":0},{"$f":"КРС!X90","v":0},{"$f":"КРСОтч!N87","v":0},{"$f":"КРСОтч!O87","v":0},{"$f":"КРСОтч!P87","v":0},{"$f":"КРСОтч!Q87","v":0},{"$f":"КРСОтч!R87","v":0},{"$f":"КРСОтч!S87","v":0},{"$f":"КРСОтч!T87","v":0},{"$f":"КРСОтч!U87","v":0},{"$f":"КРСОтч!V87","v":0},{"$f":"КРСОтч!W87","v":0},{"$f":"КРСОтч!X87","v":0},{"$f":"КРСОтч!Y87","v":0},{"$f":"КРСОтч!Z87","v":0},{"$f":"КРСОтч!AC87","v":""},{"$f":"КРСОтч!AD87","v":0}]
[{"$f":"VLOOKUP(ТитГЗ!$A$17,'Служебный 1'!$C$3:$E$61,3,FALSE)","v":{"$error":"#N/A"}},{"$f":"КРС!$A$4","v":"Реализация образовательных программ среднего профессионального образования - программ подготовки квалифицированных рабочих, служащих"},{"$f":"КРС!B91","v":0},{"$f":"КРС!D91","v":0},{"$f":"КРС!E91","v":0},{"$f":"КРС!J91","v":0},{"$f":"КРС!K91","v":0},{"$f":"КРС!L91","v":0},{"$f":"КРС!M91","v":0},{"$f":"КРС!N91","v":0},{"$f":"КРС!O91","v":0},{"$f":"КРС!P91","v":0},{"$f":"КРС!Q91","v":0},{"$f":"КРС!R91","v":0},{"$f":"КРС!S91","v":0},{"$f":"КРС!T91","v":0},{"$f":"КРС!U91","v":0},{"$f":"КРС!V91","v":0},{"$f":"КРС!W91","v":0},{"$f":"КРС!X91","v":0},{"$f":"КРСОтч!N88","v":0},{"$f":"КРСОтч!O88","v":0},{"$f":"КРСОтч!P88","v":0},{"$f":"КРСОтч!Q88","v":0},{"$f":"КРСОтч!R88","v":0},{"$f":"КРСОтч!S88","v":0},{"$f":"КРСОтч!T88","v":0},{"$f":"КРСОтч!U88","v":0},{"$f":"КРСОтч!V88","v":0},{"$f":"КРСОтч!W88","v":0},{"$f":"КРСОтч!X88","v":0},{"$f":"КРСОтч!Y88","v":0},{"$f":"КРСОтч!Z88","v":0},{"$f":"КРСОтч!AC88","v":""},{"$f":"КРСОтч!AD88","v":0}]
[{"$f":"VLOOKUP(ТитГЗ!$A$17,'Служебный 1'!$C$3:$E$61,3,FALSE)","v":{"$error":"#N/A"}},{"$f":"КРС!$A$4","v":"Реализация образовательных программ среднего профессионального образования - программ подготовки квалифицированных рабочих, служащих"},{"$f":"КРС!B92","v":0},{"$f":"КРС!D92","v":0},{"$f":"КРС!E92","v":0},{"$f":"КРС!J92","v":0},{"$f":"КРС!K92","v":0},{"$f":"КРС!L92","v":0},{"$f":"КРС!M92","v":0},{"$f":"КРС!N92","v":0},{"$f":"КРС!O92","v":0},{"$f":"КРС!P92","v":0},{"$f":"КРС!Q92","v":0},{"$f":"КРС!R92","v":0},{"$f":"КРС!S92","v":0},{"$f":"КРС!T92","v":0},{"$f":"КРС!U92","v":0},{"$f":"КРС!V92","v":0},{"$f":"КРС!W92","v":0},{"$f":"КРС!X92","v":0},{"$f":"КРСОтч!N89","v":0},{"$f":"КРСОтч!O89","v":0},{"$f":"КРСОтч!P89","v":0},{"$f":"КРСОтч!Q89","v":0},{"$f":"КРСОтч!R89","v":0},{"$f":"КРСОтч!S89","v":0},{"$f":"КРСОтч!T89","v":0},{"$f":"КРСОтч!U89","v":0},{"$f":"КРСОтч!V89","v":0},{"$f":"КРСОтч!W89","v":0},{"$f":"КРСОтч!X89","v":0},{"$f":"КРСОтч!Y89","v":0},{"$f":"КРСОтч!Z89","v":0},{"$f":"КРСОтч!AC89","v":""},{"$f":"КРСОтч!AD89","v":0}]
[{"$f":"VLOOKUP(ТитГЗ!$A$17,'Служебный 1'!$C$3:$E$61,3,FALSE)","v":{"$error":"#N/A"}},{"$f":"КРС!$A$4","v":"Реализация образовательных программ среднего профессионального образования - программ подготовки квалифицированных рабочих, служащих"},{"$f":"КРС!B93","v":0},{"$f":"КРС!D93","v":0},{"$f":"КРС!E93","v":0},{"$f":"КРС!J93","v":0},{"$f":"КРС!K93","v":0},{"$f":"КРС!L93","v":0},{"$f":"КРС!M93","v":0},{"$f":"КРС!N93","v":0},{"$f":"КРС!O93","v":0},{"$f":"КРС!P93","v":0},{"$f":"КРС!Q93","v":0},{"$f":"КРС!R93","v":0},{"$f":"КРС!S93","v":0},{"$f":"КРС!T93","v":0},{"$f":"КРС!U93","v":0},{"$f":"КРС!V93","v":0},{"$f":"КРС!W93","v":0},{"$f":"КРС!X93","v":0},{"$f":"КРСОтч!N90","v":0},{"$f":"КРСОтч!O90","v":0},{"$f":"КРСОтч!P90","v":0},{"$f":"КРСОтч!Q90","v":0},{"$f":"КРСОтч!R90","v":0},{"$f":"КРСОтч!S90","v":0},{"$f":"КРСОтч!T90","v":0},{"$f":"КРСОтч!U90","v":0},{"$f":"КРСОтч!V90","v":0},{"$f":"КРСОтч!W90","v":0},{"$f":"КРСОтч!X90","v":0},{"$f":"КРСОтч!Y90","v":0},{"$f":"КРСОтч!Z90","v":0},{"$f":"КРСОтч!AC90","v":""},{"$f":"КРСОтч!AD90","v":0}]
[{"$f":"VLOOKUP(ТитГЗ!$A$17,'Служебный 1'!$C$3:$E$61,3,FALSE)","v":{"$error":"#N/A"}},{"$f":"КРС!$A$4","v":"Реализация образовательных программ среднего профессионального образования - программ подготовки квалифицированных рабочих, служащих"},{"$f":"КРС!B94","v":0},{"$f":"КРС!D94","v":0},{"$f":"КРС!E94","v":0},{"$f":"КРС!J94","v":0},{"$f":"КРС!K94","v":0},{"$f":"КРС!L94","v":0},{"$f":"КРС!M94","v":0},{"$f":"КРС!N94","v":0},{"$f":"КРС!O94","v":0},{"$f":"КРС!P94","v":0},{"$f":"КРС!Q94","v":0},{"$f":"КРС!R94","v":0},{"$f":"КРС!S94","v":0},{"$f":"КРС!T94","v":0},{"$f":"КРС!U94","v":0},{"$f":"КРС!V94","v":0},{"$f":"КРС!W94","v":0},{"$f":"КРС!X94","v":0},{"$f":"КРСОтч!N91","v":0},{"$f":"КРСОтч!O91","v":0},{"$f":"КРСОтч!P91","v":0},{"$f":"КРСОтч!Q91","v":0},{"$f":"КРСОтч!R91","v":0},{"$f":"КРСОтч!S91","v":0},{"$f":"КРСОтч!T91","v":0},{"$f":"КРСОтч!U91","v":0},{"$f":"КРСОтч!V91","v":0},{"$f":"КРСОтч!W91","v":0},{"$f":"КРСОтч!X91","v":0},{"$f":"КРСОтч!Y91","v":0},{"$f":"КРСОтч!Z91","v":0},{"$f":"КРСОтч!AC91","v":""},{"$f":"КРСОтч!AD91","v":0}]
[{"$f":"VLOOKUP(ТитГЗ!$A$17,'Служебный 1'!$C$3:$E$61,3,FALSE)","v":{"$error":"#N/A"}},{"$f":"КРС!$A$4","v":"Реализация образовательных программ среднего профессионального образования - программ подготовки квалифицированных рабочих, служащих"},{"$f":"КРС!B95","v":0},{"$f":"КРС!D95","v":0},{"$f":"КРС!E95","v":0},{"$f":"КРС!J95","v":0},{"$f":"КРС!K95","v":0},{"$f":"КРС!L95","v":0},{"$f":"КРС!M95","v":0},{"$f":"КРС!N95","v":0},{"$f":"КРС!O95","v":0},{"$f":"КРС!P95","v":0},{"$f":"КРС!Q95","v":0},{"$f":"КРС!R95","v":0},{"$f":"КРС!S95","v":0},{"$f":"КРС!T95","v":0},{"$f":"КРС!U95","v":0},{"$f":"КРС!V95","v":0},{"$f":"КРС!W95","v":0},{"$f":"КРС!X95","v":0},{"$f":"КРСОтч!N92","v":0},{"$f":"КРСОтч!O92","v":0},{"$f":"КРСОтч!P92","v":0},{"$f":"КРСОтч!Q92","v":0},{"$f":"КРСОтч!R92","v":0},{"$f":"КРСОтч!S92","v":0},{"$f":"КРСОтч!T92","v":0},{"$f":"КРСОтч!U92","v":0},{"$f":"КРСОтч!V92","v":0},{"$f":"КРСОтч!W92","v":0},{"$f":"КРСОтч!X92","v":0},{"$f":"КРСОтч!Y92","v":0},{"$f":"КРСОтч!Z92","v":0},{"$f":"КРСОтч!AC92","v":""},{"$f":"КРСОтч!AD92","v":0}]
[{"$f":"VLOOKUP(ТитГЗ!$A$17,'Служебный 1'!$C$3:$E$61,3,FALSE)","v":{"$error":"#N/A"}},{"$f":"КРС!$A$4","v":"Реализация образовательных программ среднего профессионального образования - программ подготовки квалифицированных рабочих, служащих"},{"$f":"КРС!B96","v":0},{"$f":"КРС!D96","v":0},{"$f":"КРС!E96","v":0},{"$f":"КРС!J96","v":0},{"$f":"КРС!K96","v":0},{"$f":"КРС!L96","v":0},{"$f":"КРС!M96","v":0},{"$f":"КРС!N96","v":0},{"$f":"КРС!O96","v":0},{"$f":"КРС!P96","v":0},{"$f":"КРС!Q96","v":0},{"$f":"КРС!R96","v":0},{"$f":"КРС!S96","v":0},{"$f":"КРС!T96","v":0},{"$f":"КРС!U96","v":0},{"$f":"КРС!V96","v":0},{"$f":"КРС!W96","v":0},{"$f":"КРС!X96","v":0},{"$f":"КРСОтч!N93","v":0},{"$f":"КРСОтч!O93","v":0},{"$f":"КРСОтч!P93","v":0},{"$f":"КРСОтч!Q93","v":0},{"$f":"КРСОтч!R93","v":0},{"$f":"КРСОтч!S93","v":0},{"$f":"КРСОтч!T93","v":0},{"$f":"КРСОтч!U93","v":0},{"$f":"КРСОтч!V93","v":0},{"$f":"КРСОтч!W93","v":0},{"$f":"КРСОтч!X93","v":0},{"$f":"КРСОтч!Y93","v":0},{"$f":"КРСОтч!Z93","v":0},{"$f":"КРСОтч!AC93","v":""},{"$f":"КРСОтч!AD93","v":0}]
[{"$f":"VLOOKUP(ТитГЗ!$A$17,'Служебный 1'!$C$3:$E$61,3,FALSE)","v":{"$error":"#N/A"}},{"$f":"КРС!$A$4","v":"Реализация образовательных программ среднего профессионального образования - программ подготовки квалифицированных рабочих, служащих"},{"$f":"КРС!B97","v":0},{"$f":"КРС!D97","v":0},{"$f":"КРС!E97","v":0},{"$f":"КРС!J97","v":0},{"$f":"КРС!K97","v":0},{"$f":"КРС!L97","v":0},{"$f":"КРС!M97","v":0},{"$f":"КРС!N97","v":0},{"$f":"КРС!O97","v":0},{"$f":"КРС!P97","v":0},{"$f":"КРС!Q97","v":0},{"$f":"КРС!R97","v":0},{"$f":"КРС!S97","v":0},{"$f":"КРС!T97","v":0},{"$f":"КРС!U97","v":0},{"$f":"КРС!V97","v":0},{"$f":"КРС!W97","v":0},{"$f":"КРС!X97","v":0},{"$f":"КРСОтч!N94","v":0},{"$f":"КРСОтч!O94","v":0},{"$f":"КРСОтч!P94","v":0},{"$f":"КРСОтч!Q94","v":0},{"$f":"КРСОтч!R94","v":0},{"$f":"КРСОтч!S94","v":0},{"$f":"КРСОтч!T94","v":0},{"$f":"КРСОтч!U94","v":0},{"$f":"КРСОтч!V94","v":0},{"$f":"КРСОтч!W94","v":0},{"$f":"КРСОтч!X94","v":0},{"$f":"КРСОтч!Y94","v":0},{"$f":"КРСОтч!Z94","v":0},{"$f":"КРСОтч!AC94","v":""},{"$f":"КРСОтч!AD94","v":0}]
[{"$f":"VLOOKUP(ТитГЗ!$A$17,'Служебный 1'!$C$3:$E$61,3,FALSE)","v":{"$error":"#N/A"}},{"$f":"КРС!$A$4","v":"Реализация образовательных программ среднего профессионального образования - программ подготовки квалифицированных рабочих, служащих"},{"$f":"КРС!B98","v":0},{"$f":"КРС!D98","v":0},{"$f":"КРС!E98","v":0},{"$f":"КРС!J98","v":0},{"$f":"КРС!K98","v":0},{"$f":"КРС!L98","v":0},{"$f":"КРС!M98","v":0},{"$f":"КРС!N98","v":0},{"$f":"КРС!O98","v":0},{"$f":"КРС!P98","v":0},{"$f":"КРС!Q98","v":0},{"$f":"КРС!R98","v":0},{"$f":"КРС!S98","v":0},{"$f":"КРС!T98","v":0},{"$f":"КРС!U98","v":0},{"$f":"КРС!V98","v":0},{"$f":"КРС!W98","v":0},{"$f":"КРС!X98","v":0},{"$f":"КРСОтч!N95","v":0},{"$f":"КРСОтч!O95","v":0},{"$f":"КРСОтч!P95","v":0},{"$f":"КРСОтч!Q95","v":0},{"$f":"КРСОтч!R95","v":0},{"$f":"КРСОтч!S95","v":0},{"$f":"КРСОтч!T95","v":0},{"$f":"КРСОтч!U95","v":0},{"$f":"КРСОтч!V95","v":0},{"$f":"КРСОтч!W95","v":0},{"$f":"КРСОтч!X95","v":0},{"$f":"КРСОтч!Y95","v":0},{"$f":"КРСОтч!Z95","v":0},{"$f":"КРСОтч!AC95","v":""},{"$f":"КРСОтч!AD95","v":0}]
[{"$f":"VLOOKUP(ТитГЗ!$A$17,'Служебный 1'!$C$3:$E$61,3,FALSE)","v":{"$error":"#N/A"}},{"$f":"КРС!$A$4","v":"Реализация образовательных программ среднего профессионального образования - программ подготовки квалифицированных рабочих, служащих"},{"$f":"КРС!B99","v":0},{"$f":"КРС!D99","v":0},{"$f":"КРС!E99","v":0},{"$f":"КРС!J99","v":0},{"$f":"КРС!K99","v":0},{"$f":"КРС!L99","v":0},{"$f":"КРС!M99","v":0},{"$f":"КРС!N99","v":0},{"$f":"КРС!O99","v":0},{"$f":"КРС!P99","v":0},{"$f":"КРС!Q99","v":0},{"$f":"КРС!R99","v":0},{"$f":"КРС!S99","v":0},{"$f":"КРС!T99","v":0},{"$f":"КРС!U99","v":0},{"$f":"КРС!V99","v":0},{"$f":"КРС!W99","v":0},{"$f":"КРС!X99","v":0},{"$f":"КРСОтч!N96","v":0},{"$f":"КРСОтч!O96","v":0},{"$f":"КРСОтч!P96","v":0},{"$f":"КРСОтч!Q96","v":0},{"$f":"КРСОтч!R96","v":0},{"$f":"КРСОтч!S96","v":0},{"$f":"КРСОтч!T96","v":0},{"$f":"КРСОтч!U96","v":0},{"$f":"КРСОтч!V96","v":0},{"$f":"КРСОтч!W96","v":0},{"$f":"КРСОтч!X96","v":0},{"$f":"КРСОтч!Y96","v":0},{"$f":"КРСОтч!Z96","v":0},{"$f":"КРСОтч!AC96","v":""},{"$f":"КРСОтч!AD96","v":0}]
[{"$f":"VLOOKUP(ТитГЗ!$A$17,'Служебный 1'!$C$3:$E$61,3,FALSE)","v":{"$error":"#N/A"}},{"$f":"КРС!$A$4","v":"Реализация образовательных программ среднего профессионального образования - программ подготовки квалифицированных рабочих, служащих"},{"$f":"КРС!B100","v":0},{"$f":"КРС!D100","v":0},{"$f":"КРС!E100","v":0},{"$f":"КРС!J100","v":0},{"$f":"КРС!K100","v":0},{"$f":"КРС!L100","v":0},{"$f":"КРС!M100","v":0},{"$f":"КРС!N100","v":0},{"$f":"КРС!O100","v":0},{"$f":"КРС!P100","v":0},{"$f":"КРС!Q100","v":0},{"$f":"КРС!R100","v":0},{"$f":"КРС!S100","v":0},{"$f":"КРС!T100","v":0},{"$f":"КРС!U100","v":0},{"$f":"КРС!V100","v":0},{"$f":"КРС!W100","v":0},{"$f":"КРС!X100","v":0},{"$f":"КРСОтч!N97","v":0},{"$f":"КРСОтч!O97","v":0},{"$f":"КРСОтч!P97","v":0},{"$f":"КРСОтч!Q97","v":0},{"$f":"КРСОтч!R97","v":0},{"$f":"КРСОтч!S97","v":0},{"$f":"КРСОтч!T97","v":0},{"$f":"КРСОтч!U97","v":0},{"$f":"КРСОтч!V97","v":0},{"$f":"КРСОтч!W97","v":0},{"$f":"КРСОтч!X97","v":0},{"$f":"КРСОтч!Y97","v":0},{"$f":"КРСОтч!Z97","v":0},{"$f":"КРСОтч!AC97","v":""},{"$f":"КРСОтч!AD97","v":0}]
[{"$f":"VLOOKUP(ТитГЗ!$A$17,'Служебный 1'!$C$3:$E$61,3,FALSE)","v":{"$error":"#N/A"}},{"$f":"КРС!$A$4","v":"Реализация образовательных программ среднего профессионального образования - программ подготовки квалифицированных рабочих, служащих"},{"$f":"КРС!B101","v":0},{"$f":"КРС!D101","v":0},{"$f":"КРС!E101","v":0},{"$f":"КРС!J101","v":0},{"$f":"КРС!K101","v":0},{"$f":"КРС!L101","v":0},{"$f":"КРС!M101","v":0},{"$f":"КРС!N101","v":0},{"$f":"КРС!O101","v":0},{"$f":"КРС!P101","v":0},{"$f":"КРС!Q101","v":0},{"$f":"КРС!R101","v":0},{"$f":"КРС!S101","v":0},{"$f":"КРС!T101","v":0},{"$f":"КРС!U101","v":0},{"$f":"КРС!V101","v":0},{"$f":"КРС!W101","v":0},{"$f":"КРС!X101","v":0},{"$f":"КРСОтч!N98","v":0},{"$f":"КРСОтч!O98","v":0},{"$f":"КРСОтч!P98","v":0},{"$f":"КРСОтч!Q98","v":0},{"$f":"КРСОтч!R98","v":0},{"$f":"КРСОтч!S98","v":0},{"$f":"КРСОтч!T98","v":0},{"$f":"КРСОтч!U98","v":0},{"$f":"КРСОтч!V98","v":0},{"$f":"КРСОтч!W98","v":0},{"$f":"КРСОтч!X98","v":0},{"$f":"КРСОтч!Y98","v":0},{"$f":"КРСОтч!Z98","v":0},{"$f":"КРСОтч!AC98","v":""},{"$f":"КРСОтч!AD98","v":0}]
[{"$f":"VLOOKUP(ТитГЗ!$A$17,'Служебный 1'!$C$3:$E$61,3,FALSE)","v":{"$error":"#N/A"}},{"$f":"КРС!$A$4","v":"Реализация образовательных программ среднего профессионального образования - программ подготовки квалифицированных рабочих, служащих"},{"$f":"КРС!B102","v":0},{"$f":"КРС!D102","v":0},{"$f":"КРС!E102","v":0},{"$f":"КРС!J102","v":0},{"$f":"КРС!K102","v":0},{"$f":"КРС!L102","v":0},{"$f":"КРС!M102","v":0},{"$f":"КРС!N102","v":0},{"$f":"КРС!O102","v":0},{"$f":"КРС!P102","v":0},{"$f":"КРС!Q102","v":0},{"$f":"КРС!R102","v":0},{"$f":"КРС!S102","v":0},{"$f":"КРС!T102","v":0},{"$f":"КРС!U102","v":0},{"$f":"КРС!V102","v":0},{"$f":"КРС!W102","v":0},{"$f":"КРС!X102","v":0},{"$f":"КРСОтч!N99","v":0},{"$f":"КРСОтч!O99","v":0},{"$f":"КРСОтч!P99","v":0},{"$f":"КРСОтч!Q99","v":0},{"$f":"КРСОтч!R99","v":0},{"$f":"КРСОтч!S99","v":0},{"$f":"КРСОтч!T99","v":0},{"$f":"КРСОтч!U99","v":0},{"$f":"КРСОтч!V99","v":0},{"$f":"КРСОтч!W99","v":0},{"$f":"КРСОтч!X99","v":0},{"$f":"КРСОтч!Y99","v":0},{"$f":"КРСОтч!Z99","v":0},{"$f":"КРСОтч!AC99","v":""},{"$f":"КРСОтч!AD99","v":0}]
[{"$f":"VLOOKUP(ТитГЗ!$A$17,'Служебный 1'!$C$3:$E$61,3,FALSE)","v":{"$error":"#N/A"}},{"$f":"КРС!$A$4","v":"Реализация образовательных программ среднего профессионального образования - программ подготовки квалифицированных рабочих, служащих"},{"$f":"КРС!B103","v":0},{"$f":"КРС!D103","v":0},{"$f":"КРС!E103","v":0},{"$f":"КРС!J103","v":0},{"$f":"КРС!K103","v":0},{"$f":"КРС!L103","v":0},{"$f":"КРС!M103","v":0},{"$f":"КРС!N103","v":0},{"$f":"КРС!O103","v":0},{"$f":"КРС!P103","v":0},{"$f":"КРС!Q103","v":0},{"$f":"КРС!R103","v":0},{"$f":"КРС!S103","v":0},{"$f":"КРС!T103","v":0},{"$f":"КРС!U103","v":0},{"$f":"КРС!V103","v":0},{"$f":"КРС!W103","v":0},{"$f":"КРС!X103","v":0},{"$f":"КРСОтч!N100","v":0},{"$f":"КРСОтч!O100","v":0},{"$f":"КРСОтч!P100","v":0},{"$f":"КРСОтч!Q100","v":0},{"$f":"КРСОтч!R100","v":0},{"$f":"КРСОтч!S100","v":0},{"$f":"КРСОтч!T100","v":0},{"$f":"КРСОтч!U100","v":0},{"$f":"КРСОтч!V100","v":0},{"$f":"КРСОтч!W100","v":0},{"$f":"КРСОтч!X100","v":0},{"$f":"КРСОтч!Y100","v":0},{"$f":"КРСОтч!Z100","v":0},{"$f":"КРСОтч!AC100","v":""},{"$f":"КРСОтч!AD100","v":0}]
[{"$f":"VLOOKUP(ТитГЗ!$A$17,'Служебный 1'!$C$3:$E$61,3,FALSE)","v":{"$error":"#N/A"}},{"$f":"КРС!$A$4","v":"Реализация образовательных программ среднего профессионального образования - программ подготовки квалифицированных рабочих, служащих"},{"$f":"КРС!B104","v":0},{"$f":"КРС!D104","v":0},{"$f":"КРС!E104","v":0},{"$f":"КРС!J104","v":0},{"$f":"КРС!K104","v":0},{"$f":"КРС!L104","v":0},{"$f":"КРС!M104","v":0},{"$f":"КРС!N104","v":0},{"$f":"КРС!O104","v":0},{"$f":"КРС!P104","v":0},{"$f":"КРС!Q104","v":0},{"$f":"КРС!R104","v":0},{"$f":"КРС!S104","v":0},{"$f":"КРС!T104","v":0},{"$f":"КРС!U104","v":0},{"$f":"КРС!V104","v":0},{"$f":"КРС!W104","v":0},{"$f":"КРС!X104","v":0},{"$f":"КРСОтч!N101","v":0},{"$f":"КРСОтч!O101","v":0},{"$f":"КРСОтч!P101","v":0},{"$f":"КРСОтч!Q101","v":0},{"$f":"КРСОтч!R101","v":0},{"$f":"КРСОтч!S101","v":0},{"$f":"КРСОтч!T101","v":0},{"$f":"КРСОтч!U101","v":0},{"$f":"КРСОтч!V101","v":0},{"$f":"КРСОтч!W101","v":0},{"$f":"КРСОтч!X101","v":0},{"$f":"КРСОтч!Y101","v":0},{"$f":"КРСОтч!Z101","v":0},{"$f":"КРСОтч!AC101","v":""},{"$f":"КРСОтч!AD101","v":0}]
[{"$f":"VLOOKUP(ТитГЗ!$A$17,'Служебный 1'!$C$3:$E$61,3,FALSE)","v":{"$error":"#N/A"}},{"$f":"КРС!$A$4","v":"Реализация образовательных программ среднего профессионального образования - программ подготовки квалифицированных рабочих, служащих"},{"$f":"КРС!B105","v":0},{"$f":"КРС!D105","v":0},{"$f":"КРС!E105","v":0},{"$f":"КРС!J105","v":0},{"$f":"КРС!K105","v":0},{"$f":"КРС!L105","v":0},{"$f":"КРС!M105","v":0},{"$f":"КРС!N105","v":0},{"$f":"КРС!O105","v":0},{"$f":"КРС!P105","v":0},{"$f":"КРС!Q105","v":0},{"$f":"КРС!R105","v":0},{"$f":"КРС!S105","v":0},{"$f":"КРС!T105","v":0},{"$f":"КРС!U105","v":0},{"$f":"КРС!V105","v":0},{"$f":"КРС!W105","v":0},{"$f":"КРС!X105","v":0},{"$f":"КРСОтч!N102","v":0},{"$f":"КРСОтч!O102","v":0},{"$f":"КРСОтч!P102","v":0},{"$f":"КРСОтч!Q102","v":0},{"$f":"КРСОтч!R102","v":0},{"$f":"КРСОтч!S102","v":0},{"$f":"КРСОтч!T102","v":0},{"$f":"КРСОтч!U102","v":0},{"$f":"КРСОтч!V102","v":0},{"$f":"КРСОтч!W102","v":0},{"$f":"КРСОтч!X102","v":0},{"$f":"КРСОтч!Y102","v":0},{"$f":"КРСОтч!Z102","v":0},{"$f":"КРСОтч!AC102","v":""},{"$f":"КРСОтч!AD102","v":0}]
[{"$f":"VLOOKUP(ТитГЗ!$A$17,'Служебный 1'!$C$3:$E$61,3,FALSE)","v":{"$error":"#N/A"}},{"$f":"КРС!$A$4","v":"Реализация образовательных программ среднего профессионального образования - программ подготовки квалифицированных рабочих, служащих"},{"$f":"КРС!B106","v":0},{"$f":"КРС!D106","v":0},{"$f":"КРС!E106","v":0},{"$f":"КРС!J106","v":0},{"$f":"КРС!K106","v":0},{"$f":"КРС!L106","v":0},{"$f":"КРС!M106","v":0},{"$f":"КРС!N106","v":0},{"$f":"КРС!O106","v":0},{"$f":"КРС!P106","v":0},{"$f":"КРС!Q106","v":0},{"$f":"КРС!R106","v":0},{"$f":"КРС!S106","v":0},{"$f":"КРС!T106","v":0},{"$f":"КРС!U106","v":0},{"$f":"КРС!V106","v":0},{"$f":"КРС!W106","v":0},{"$f":"КРС!X106","v":0},{"$f":"КРСОтч!N103","v":0},{"$f":"КРСОтч!O103","v":0},{"$f":"КРСОтч!P103","v":0},{"$f":"КРСОтч!Q103","v":0},{"$f":"КРСОтч!R103","v":0},{"$f":"КРСОтч!S103","v":0},{"$f":"КРСОтч!T103","v":0},{"$f":"КРСОтч!U103","v":0},{"$f":"КРСОтч!V103","v":0},{"$f":"КРСОтч!W103","v":0},{"$f":"КРСОтч!X103","v":0},{"$f":"КРСОтч!Y103","v":0},{"$f":"КРСОтч!Z103","v":0},{"$f":"КРСОтч!AC103","v":""},{"$f":"КРСОтч!AD103","v":0}]
[{"$f":"VLOOKUP(ТитГЗ!$A$17,'Служебный 1'!$C$3:$E$61,3,FALSE)","v":{"$error":"#N/A"}},{"$f":"КРС!$A$4","v":"Реализация образовательных программ среднего профессионального образования - программ подготовки квалифицированных рабочих, служащих"},{"$f":"КРС!B107","v":0},{"$f":"КРС!D107","v":0},{"$f":"КРС!E107","v":0},{"$f":"КРС!J107","v":0},{"$f":"КРС!K107","v":0},{"$f":"КРС!L107","v":0},{"$f":"КРС!M107","v":0},{"$f":"КРС!N107","v":0},{"$f":"КРС!O107","v":0},{"$f":"КРС!P107","v":0},{"$f":"КРС!Q107","v":0},{"$f":"КРС!R107","v":0},{"$f":"КРС!S107","v":0},{"$f":"КРС!T107","v":0},{"$f":"КРС!U107","v":0},{"$f":"КРС!V107","v":0},{"$f":"КРС!W107","v":0},{"$f":"КРС!X107","v":0},{"$f":"КРСОтч!N104","v":0},{"$f":"КРСОтч!O104","v":0},{"$f":"КРСОтч!P104","v":0},{"$f":"КРСОтч!Q104","v":0},{"$f":"КРСОтч!R104","v":0},{"$f":"КРСОтч!S104","v":0},{"$f":"КРСОтч!T104","v":0},{"$f":"КРСОтч!U104","v":0},{"$f":"КРСОтч!V104","v":0},{"$f":"КРСОтч!W104","v":0},{"$f":"КРСОтч!X104","v":0},{"$f":"КРСОтч!Y104","v":0},{"$f":"КРСОтч!Z104","v":0},{"$f":"КРСОтч!AC104","v":""},{"$f":"КРСОтч!AD104","v":0}]
[{"$f":"VLOOKUP(ТитГЗ!$A$17,'Служебный 1'!$C$3:$E$61,3,FALSE)","v":{"$error":"#N/A"}},{"$f":"КРС!$A$4","v":"Реализация образовательных программ среднего профессионального образования - программ подготовки квалифицированных рабочих, служащих"},{"$f":"КРС!B108","v":0},{"$f":"КРС!D108","v":0},{"$f":"КРС!E108","v":0},{"$f":"КРС!J108","v":0},{"$f":"КРС!K108","v":0},{"$f":"КРС!L108","v":0},{"$f":"КРС!M108","v":0},{"$f":"КРС!N108","v":0},{"$f":"КРС!O108","v":0},{"$f":"КРС!P108","v":0},{"$f":"КРС!Q108","v":0},{"$f":"КРС!R108","v":0},{"$f":"КРС!S108","v":0},{"$f":"КРС!T108","v":0},{"$f":"КРС!U108","v":0},{"$f":"КРС!V108","v":0},{"$f":"КРС!W108","v":0},{"$f":"КРС!X108","v":0},{"$f":"КРСОтч!N105","v":0},{"$f":"КРСОтч!O105","v":0},{"$f":"КРСОтч!P105","v":0},{"$f":"КРСОтч!Q105","v":0},{"$f":"КРСОтч!R105","v":0},{"$f":"КРСОтч!S105","v":0},{"$f":"КРСОтч!T105","v":0},{"$f":"КРСОтч!U105","v":0},{"$f":"КРСОтч!V105","v":0},{"$f":"КРСОтч!W105","v":0},{"$f":"КРСОтч!X105","v":0},{"$f":"КРСОтч!Y105","v":0},{"$f":"КРСОтч!Z105","v":0},{"$f":"КРСОтч!AC105","v":""},{"$f":"КРСОтч!AD105","v":0}]
[{"$f":"VLOOKUP(ТитГЗ!$A$17,'Служебный 1'!$C$3:$E$61,3,FALSE)","v":{"$error":"#N/A"}},{"$f":"КРС!$A$4","v":"Реализация образовательных программ среднего профессионального образования - программ подготовки квалифицированных рабочих, служащих"},{"$f":"КРС!B109","v":0},{"$f":"КРС!D109","v":0},{"$f":"КРС!E109","v":0},{"$f":"КРС!J109","v":0},{"$f":"КРС!K109","v":0},{"$f":"КРС!L109","v":0},{"$f":"КРС!M109","v":0},{"$f":"КРС!N109","v":0},{"$f":"КРС!O109","v":0},{"$f":"КРС!P109","v":0},{"$f":"КРС!Q109","v":0},{"$f":"КРС!R109","v":0},{"$f":"КРС!S109","v":0},{"$f":"КРС!T109","v":0},{"$f":"КРС!U109","v":0},{"$f":"КРС!V109","v":0},{"$f":"КРС!W109","v":0},{"$f":"КРС!X109","v":0},{"$f":"КРСОтч!N106","v":0},{"$f":"КРСОтч!O106","v":0},{"$f":"КРСОтч!P106","v":0},{"$f":"КРСОтч!Q106","v":0},{"$f":"КРСОтч!R106","v":0},{"$f":"КРСОтч!S106","v":0},{"$f":"КРСОтч!T106","v":0},{"$f":"КРСОтч!U106","v":0},{"$f":"КРСОтч!V106","v":0},{"$f":"КРСОтч!W106","v":0},{"$f":"КРСОтч!X106","v":0},{"$f":"КРСОтч!Y106","v":0},{"$f":"КРСОтч!Z106","v":0},{"$f":"КРСОтч!AC106","v":""},{"$f":"КРСОтч!AD106","v":0}]
[{"$f":"VLOOKUP(ТитГЗ!$A$17,'Служебный 1'!$C$3:$E$61,3,FALSE)","v":{"$error":"#N/A"}},{"$f":"КРС!$A$4","v":"Реализация образовательных программ среднего профессионального образования - программ подготовки квалифицированных рабочих, служащих"},{"$f":"КРС!B110","v":0},{"$f":"КРС!D110","v":0},{"$f":"КРС!E110","v":0},{"$f":"КРС!J110","v":0},{"$f":"КРС!K110","v":0},{"$f":"КРС!L110","v":0},{"$f":"КРС!M110","v":0},{"$f":"КРС!N110","v":0},{"$f":"КРС!O110","v":0},{"$f":"КРС!P110","v":0},{"$f":"КРС!Q110","v":0},{"$f":"КРС!R110","v":0},{"$f":"КРС!S110","v":0},{"$f":"КРС!T110","v":0},{"$f":"КРС!U110","v":0},{"$f":"КРС!V110","v":0},{"$f":"КРС!W110","v":0},{"$f":"КРС!X110","v":0},{"$f":"КРСОтч!N107","v":0},{"$f":"КРСОтч!O107","v":0},{"$f":"КРСОтч!P107","v":0},{"$f":"КРСОтч!Q107","v":0},{"$f":"КРСОтч!R107","v":0},{"$f":"КРСОтч!S107","v":0},{"$f":"КРСОтч!T107","v":0},{"$f":"КРСОтч!U107","v":0},{"$f":"КРСОтч!V107","v":0},{"$f":"КРСОтч!W107","v":0},{"$f":"КРСОтч!X107","v":0},{"$f":"КРСОтч!Y107","v":0},{"$f":"КРСОтч!Z107","v":0},{"$f":"КРСОтч!AC107","v":""},{"$f":"КРСОтч!AD107","v":0}]
[{"$f":"VLOOKUP(ТитГЗ!$A$17,'Служебный 1'!$C$3:$E$61,3,FALSE)","v":{"$error":"#N/A"}},{"$f":"КРС!$A$4","v":"Реализация образовательных программ среднего профессионального образования - программ подготовки квалифицированных рабочих, служащих"},{"$f":"КРС!B111","v":0},{"$f":"КРС!D111","v":0},{"$f":"КРС!E111","v":0},{"$f":"КРС!J111","v":0},{"$f":"КРС!K111","v":0},{"$f":"КРС!L111","v":0},{"$f":"КРС!M111","v":0},{"$f":"КРС!N111","v":0},{"$f":"КРС!O111","v":0},{"$f":"КРС!P111","v":0},{"$f":"КРС!Q111","v":0},{"$f":"КРС!R111","v":0},{"$f":"КРС!S111","v":0},{"$f":"КРС!T111","v":0},{"$f":"КРС!U111","v":0},{"$f":"КРС!V111","v":0},{"$f":"КРС!W111","v":0},{"$f":"КРС!X111","v":0},{"$f":"КРСОтч!N108","v":0},{"$f":"КРСОтч!O108","v":0},{"$f":"КРСОтч!P108","v":0},{"$f":"КРСОтч!Q108","v":0},{"$f":"КРСОтч!R108","v":0},{"$f":"КРСОтч!S108","v":0},{"$f":"КРСОтч!T108","v":0},{"$f":"КРСОтч!U108","v":0},{"$f":"КРСОтч!V108","v":0},{"$f":"КРСОтч!W108","v":0},{"$f":"КРСОтч!X108","v":0},{"$f":"КРСОтч!Y108","v":0},{"$f":"КРСОтч!Z108","v":0},{"$f":"КРСОтч!AC108","v":""},{"$f":"КРСОтч!AD108","v":0}]
[{"$f":"VLOOKUP(ТитГЗ!$A$17,'Служебный 1'!$C$3:$E$61,3,FALSE)","v":{"$error":"#N/A"}},{"$f":"КРС!$A$4","v":"Реализация образовательных программ среднего профессионального образования - программ подготовки квалифицированных рабочих, служащих"},{"$f":"КРС!B112","v":0},{"$f":"КРС!D112","v":0},{"$f":"КРС!E112","v":0},{"$f":"КРС!J112","v":0},{"$f":"КРС!K112","v":0},{"$f":"КРС!L112","v":0},{"$f":"КРС!M112","v":0},{"$f":"КРС!N112","v":0},{"$f":"КРС!O112","v":0},{"$f":"КРС!P112","v":0},{"$f":"КРС!Q112","v":0},{"$f":"КРС!R112","v":0},{"$f":"КРС!S112","v":0},{"$f":"КРС!T112","v":0},{"$f":"КРС!U112","v":0},{"$f":"КРС!V112","v":0},{"$f":"КРС!W112","v":0},{"$f":"КРС!X112","v":0},{"$f":"КРСОтч!N109","v":0},{"$f":"КРСОтч!O109","v":0},{"$f":"КРСОтч!P109","v":0},{"$f":"КРСОтч!Q109","v":0},{"$f":"КРСОтч!R109","v":0},{"$f":"КРСОтч!S109","v":0},{"$f":"КРСОтч!T109","v":0},{"$f":"КРСОтч!U109","v":0},{"$f":"КРСОтч!V109","v":0},{"$f":"КРСОтч!W109","v":0},{"$f":"КРСОтч!X109","v":0},{"$f":"КРСОтч!Y109","v":0},{"$f":"КРСОтч!Z109","v":0},{"$f":"КРСОтч!AC109","v":""},{"$f":"КРСОтч!AD109","v":0}]
[{"$f":"VLOOKUP(ТитГЗ!$A$17,'Служебный 1'!$C$3:$E$61,3,FALSE)","v":{"$error":"#N/A"}},{"$f":"КРС!$A$4","v":"Реализация образовательных программ среднего профессионального образования - программ подготовки квалифицированных рабочих, служащих"},{"$f":"КРС!B113","v":0},{"$f":"КРС!D113","v":0},{"$f":"КРС!E113","v":0},{"$f":"КРС!J113","v":0},{"$f":"КРС!K113","v":0},{"$f":"КРС!L113","v":0},{"$f":"КРС!M113","v":0},{"$f":"КРС!N113","v":0},{"$f":"КРС!O113","v":0},{"$f":"КРС!P113","v":0},{"$f":"КРС!Q113","v":0},{"$f":"КРС!R113","v":0},{"$f":"КРС!S113","v":0},{"$f":"КРС!T113","v":0},{"$f":"КРС!U113","v":0},{"$f":"КРС!V113","v":0},{"$f":"КРС!W113","v":0},{"$f":"КРС!X113","v":0},{"$f":"КРСОтч!N110","v":0},{"$f":"КРСОтч!O110","v":0},{"$f":"КРСОтч!P110","v":0},{"$f":"КРСОтч!Q110","v":0},{"$f":"КРСОтч!R110","v":0},{"$f":"КРСОтч!S110","v":0},{"$f":"КРСОтч!T110","v":0},{"$f":"КРСОтч!U110","v":0},{"$f":"КРСОтч!V110","v":0},{"$f":"КРСОтч!W110","v":0},{"$f":"КРСОтч!X110","v":0},{"$f":"КРСОтч!Y110","v":0},{"$f":"КРСОтч!Z110","v":0},{"$f":"КРСОтч!AC110","v":""},{"$f":"КРСОтч!AD110","v":0}]
[{"$f":"VLOOKUP(ТитГЗ!$A$17,'Служебный 1'!$C$3:$E$61,3,FALSE)","v":{"$error":"#N/A"}},{"$f":"КРС!$A$4","v":"Реализация образовательных программ среднего профессионального образования - программ подготовки квалифицированных рабочих, служащих"},{"$f":"КРС!B114","v":0},{"$f":"КРС!D114","v":0},{"$f":"КРС!E114","v":0},{"$f":"КРС!J114","v":0},{"$f":"КРС!K114","v":0},{"$f":"КРС!L114","v":0},{"$f":"КРС!M114","v":0},{"$f":"КРС!N114","v":0},{"$f":"КРС!O114","v":0},{"$f":"КРС!P114","v":0},{"$f":"КРС!Q114","v":0},{"$f":"КРС!R114","v":0},{"$f":"КРС!S114","v":0},{"$f":"КРС!T114","v":0},{"$f":"КРС!U114","v":0},{"$f":"КРС!V114","v":0},{"$f":"КРС!W114","v":0},{"$f":"КРС!X114","v":0},{"$f":"КРСОтч!N111","v":0},{"$f":"КРСОтч!O111","v":0},{"$f":"КРСОтч!P111","v":0},{"$f":"КРСОтч!Q111","v":0},{"$f":"КРСОтч!R111","v":0},{"$f":"КРСОтч!S111","v":0},{"$f":"КРСОтч!T111","v":0},{"$f":"КРСОтч!U111","v":0},{"$f":"КРСОтч!V111","v":0},{"$f":"КРСОтч!W111","v":0},{"$f":"КРСОтч!X111","v":0},{"$f":"КРСОтч!Y111","v":0},{"$f":"КРСОтч!Z111","v":0},{"$f":"КРСОтч!AC111","v":""},{"$f":"КРСОтч!AD111","v":0}]
[{"$f":"VLOOKUP(ТитГЗ!$A$17,'Служебный 1'!$C$3:$E$61,3,FALSE)","v":{"$error":"#N/A"}},{"$f":"КРС!$A$4","v":"Реализация образовательных программ среднего профессионального образования - программ подготовки квалифицированных рабочих, служащих"},{"$f":"КРС!B115","v":0},{"$f":"КРС!D115","v":0},{"$f":"КРС!E115","v":0},{"$f":"КРС!J115","v":0},{"$f":"КРС!K115","v":0},{"$f":"КРС!L115","v":0},{"$f":"КРС!M115","v":0},{"$f":"КРС!N115","v":0},{"$f":"КРС!O115","v":0},{"$f":"КРС!P115","v":0},{"$f":"КРС!Q115","v":0},{"$f":"КРС!R115","v":0},{"$f":"КРС!S115","v":0},{"$f":"КРС!T115","v":0},{"$f":"КРС!U115","v":0},{"$f":"КРС!V115","v":0},{"$f":"КРС!W115","v":0},{"$f":"КРС!X115","v":0},{"$f":"КРСОтч!N112","v":0},{"$f":"КРСОтч!O112","v":0},{"$f":"КРСОтч!P112","v":0},{"$f":"КРСОтч!Q112","v":0},{"$f":"КРСОтч!R112","v":0},{"$f":"КРСОтч!S112","v":0},{"$f":"КРСОтч!T112","v":0},{"$f":"КРСОтч!U112","v":0},{"$f":"КРСОтч!V112","v":0},{"$f":"КРСОтч!W112","v":0},{"$f":"КРСОтч!X112","v":0},{"$f":"КРСОтч!Y112","v":0},{"$f":"КРСОтч!Z112","v":0},{"$f":"КРСОтч!AC112","v":""},{"$f":"КРСОтч!AD112","v":0}]
[{"$f":"VLOOKUP(ТитГЗ!$A$17,'Служебный 1'!$C$3:$E$61,3,FALSE)","v":{"$error":"#N/A"}},{"$f":"КРС!$A$4","v":"Реализация образовательных программ среднего профессионального образования - программ подготовки квалифицированных рабочих, служащих"},{"$f":"КРС!B116","v":0},{"$f":"КРС!D116","v":0},{"$f":"КРС!E116","v":0},{"$f":"КРС!J116","v":0},{"$f":"КРС!K116","v":0},{"$f":"КРС!L116","v":0},{"$f":"КРС!M116","v":0},{"$f":"КРС!N116","v":0},{"$f":"КРС!O116","v":0},{"$f":"КРС!P116","v":0},{"$f":"КРС!Q116","v":0},{"$f":"КРС!R116","v":0},{"$f":"КРС!S116","v":0},{"$f":"КРС!T116","v":0},{"$f":"КРС!U116","v":0},{"$f":"КРС!V116","v":0},{"$f":"КРС!W116","v":0},{"$f":"КРС!X116","v":0},{"$f":"КРСОтч!N113","v":0},{"$f":"КРСОтч!O113","v":0},{"$f":"КРСОтч!P113","v":0},{"$f":"КРСОтч!Q113","v":0},{"$f":"КРСОтч!R113","v":0},{"$f":"КРСОтч!S113","v":0},{"$f":"КРСОтч!T113","v":0},{"$f":"КРСОтч!U113","v":0},{"$f":"КРСОтч!V113","v":0},{"$f":"КРСОтч!W113","v":0},{"$f":"КРСОтч!X113","v":0},{"$f":"КРСОтч!Y113","v":0},{"$f":"КРСОтч!Z113","v":0},{"$f":"КРСОтч!AC113","v":""},{"$f":"КРСОтч!AD113","v":0}]
[{"$f":"VLOOKUP(ТитГЗ!$A$17,'Служебный 1'!$C$3:$E$61,3,FALSE)","v":{"$error":"#N/A"}},{"$f":"КРС!$A$4","v":"Реализация образовательных программ среднего профессионального образования - программ подготовки квалифицированных рабочих, служащих"},{"$f":"КРС!B117","v":0},{"$f":"КРС!D117","v":0},{"$f":"КРС!E117","v":0},{"$f":"КРС!J117","v":0},{"$f":"КРС!K117","v":0},{"$f":"КРС!L117","v":0},{"$f":"КРС!M117","v":0},{"$f":"КРС!N117","v":0},{"$f":"КРС!O117","v":0},{"$f":"КРС!P117","v":0},{"$f":"КРС!Q117","v":0},{"$f":"КРС!R117","v":0},{"$f":"КРС!S117","v":0},{"$f":"КРС!T117","v":0},{"$f":"КРС!U117","v":0},{"$f":"КРС!V117","v":0},{"$f":"КРС!W117","v":0},{"$f":"КРС!X117","v":0},{"$f":"КРСОтч!N114","v":0},{"$f":"КРСОтч!O114","v":0},{"$f":"КРСОтч!P114","v":0},{"$f":"КРСОтч!Q114","v":0},{"$f":"КРСОтч!R114","v":0},{"$f":"КРСОтч!S114","v":0},{"$f":"КРСОтч!T114","v":0},{"$f":"КРСОтч!U114","v":0},{"$f":"КРСОтч!V114","v":0},{"$f":"КРСОтч!W114","v":0},{"$f":"КРСОтч!X114","v":0},{"$f":"КРСОтч!Y114","v":0},{"$f":"КРСОтч!Z114","v":0},{"$f":"КРСОтч!AC114","v":""},{"$f":"КРСОтч!AD114","v":0}]
[{"$f":"VLOOKUP(ТитГЗ!$A$17,'Служебный 1'!$C$3:$E$61,3,FALSE)","v":{"$error":"#N/A"}},{"$f":"КРС!$A$4","v":"Реализация образовательных программ среднего профессионального образования - программ подготовки квалифицированных рабочих, служащих"},{"$f":"КРС!B118","v":0},{"$f":"КРС!D118","v":0},{"$f":"КРС!E118","v":0},{"$f":"КРС!J118","v":0},{"$f":"КРС!K118","v":0},{"$f":"КРС!L118","v":0},{"$f":"КРС!M118","v":0},{"$f":"КРС!N118","v":0},{"$f":"КРС!O118","v":0},{"$f":"КРС!P118","v":0},{"$f":"КРС!Q118","v":0},{"$f":"КРС!R118","v":0},{"$f":"КРС!S118","v":0},{"$f":"КРС!T118","v":0},{"$f":"КРС!U118","v":0},{"$f":"КРС!V118","v":0},{"$f":"КРС!W118","v":0},{"$f":"КРС!X118","v":0},{"$f":"КРСОтч!N115","v":0},{"$f":"КРСОтч!O115","v":0},{"$f":"КРСОтч!P115","v":0},{"$f":"КРСОтч!Q115","v":0},{"$f":"КРСОтч!R115","v":0},{"$f":"КРСОтч!S115","v":0},{"$f":"КРСОтч!T115","v":0},{"$f":"КРСОтч!U115","v":0},{"$f":"КРСОтч!V115","v":0},{"$f":"КРСОтч!W115","v":0},{"$f":"КРСОтч!X115","v":0},{"$f":"КРСОтч!Y115","v":0},{"$f":"КРСОтч!Z115","v":0},{"$f":"КРСОтч!AC115","v":""},{"$f":"КРСОтч!AD115","v":0}]
[{"$f":"VLOOKUP(ТитГЗ!$A$17,'Служебный 1'!$C$3:$E$61,3,FALSE)","v":{"$error":"#N/A"}},{"$f":"КРС!$A$4","v":"Реализация образовательных программ среднего профессионального образования - программ подготовки квалифицированных рабочих, служащих"},{"$f":"КРС!B119","v":0},{"$f":"КРС!D119","v":0},{"$f":"КРС!E119","v":0},{"$f":"КРС!J119","v":0},{"$f":"КРС!K119","v":0},{"$f":"КРС!L119","v":0},{"$f":"КРС!M119","v":0},{"$f":"КРС!N119","v":0},{"$f":"КРС!O119","v":0},{"$f":"КРС!P119","v":0},{"$f":"КРС!Q119","v":0},{"$f":"КРС!R119","v":0},{"$f":"КРС!S119","v":0},{"$f":"КРС!T119","v":0},{"$f":"КРС!U119","v":0},{"$f":"КРС!V119","v":0},{"$f":"КРС!W119","v":0},{"$f":"КРС!X119","v":0},{"$f":"КРСОтч!N116","v":0},{"$f":"КРСОтч!O116","v":0},{"$f":"КРСОтч!P116","v":0},{"$f":"КРСОтч!Q116","v":0},{"$f":"КРСОтч!R116","v":0},{"$f":"КРСОтч!S116","v":0},{"$f":"КРСОтч!T116","v":0},{"$f":"КРСОтч!U116","v":0},{"$f":"КРСОтч!V116","v":0},{"$f":"КРСОтч!W116","v":0},{"$f":"КРСОтч!X116","v":0},{"$f":"КРСОтч!Y116","v":0},{"$f":"КРСОтч!Z116","v":0},{"$f":"КРСОтч!AC116","v":""},{"$f":"КРСОтч!AD116","v":0}]
[{"$f":"VLOOKUP(ТитГЗ!$A$17,'Служебный 1'!$C$3:$E$61,3,FALSE)","v":{"$error":"#N/A"}},{"$f":"КРС!$A$4","v":"Реализация образовательных программ среднего профессионального образования - программ подготовки квалифицированных рабочих, служащих"},{"$f":"КРС!B120","v":0},{"$f":"КРС!D120","v":0},{"$f":"КРС!E120","v":0},{"$f":"КРС!J120","v":0},{"$f":"КРС!K120","v":0},{"$f":"КРС!L120","v":0},{"$f":"КРС!M120","v":0},{"$f":"КРС!N120","v":0},{"$f":"КРС!O120","v":0},{"$f":"КРС!P120","v":0},{"$f":"КРС!Q120","v":0},{"$f":"КРС!R120","v":0},{"$f":"КРС!S120","v":0},{"$f":"КРС!T120","v":0},{"$f":"КРС!U120","v":0},{"$f":"КРС!V120","v":0},{"$f":"КРС!W120","v":0},{"$f":"КРС!X120","v":0},{"$f":"КРСОтч!N117","v":0},{"$f":"КРСОтч!O117","v":0},{"$f":"КРСОтч!P117","v":0},{"$f":"КРСОтч!Q117","v":0},{"$f":"КРСОтч!R117","v":0},{"$f":"КРСОтч!S117","v":0},{"$f":"КРСОтч!T117","v":0},{"$f":"КРСОтч!U117","v":0},{"$f":"КРСОтч!V117","v":0},{"$f":"КРСОтч!W117","v":0},{"$f":"КРСОтч!X117","v":0},{"$f":"КРСОтч!Y117","v":0},{"$f":"КРСОтч!Z117","v":0},{"$f":"КРСОтч!AC117","v":""},{"$f":"КРСОтч!AD117","v":0}]
[{"$f":"VLOOKUP(ТитГЗ!$A$17,'Служебный 1'!$C$3:$E$61,3,FALSE)","v":{"$error":"#N/A"}},{"$f":"КРС!$A$4","v":"Реализация образовательных программ среднего профессионального образования - программ подготовки квалифицированных рабочих, служащих"},{"$f":"КРС!B121","v":0},{"$f":"КРС!D121","v":0},{"$f":"КРС!E121","v":0},{"$f":"КРС!J121","v":0},{"$f":"КРС!K121","v":0},{"$f":"КРС!L121","v":0},{"$f":"КРС!M121","v":0},{"$f":"КРС!N121","v":0},{"$f":"КРС!O121","v":0},{"$f":"КРС!P121","v":0},{"$f":"КРС!Q121","v":0},{"$f":"КРС!R121","v":0},{"$f":"КРС!S121","v":0},{"$f":"КРС!T121","v":0},{"$f":"КРС!U121","v":0},{"$f":"КРС!V121","v":0},{"$f":"КРС!W121","v":0},{"$f":"КРС!X121","v":0},{"$f":"КРСОтч!N118","v":0},{"$f":"КРСОтч!O118","v":0},{"$f":"КРСОтч!P118","v":0},{"$f":"КРСОтч!Q118","v":0},{"$f":"КРСОтч!R118","v":0},{"$f":"КРСОтч!S118","v":0},{"$f":"КРСОтч!T118","v":0},{"$f":"КРСОтч!U118","v":0},{"$f":"КРСОтч!V118","v":0},{"$f":"КРСОтч!W118","v":0},{"$f":"КРСОтч!X118","v":0},{"$f":"КРСОтч!Y118","v":0},{"$f":"КРСОтч!Z118","v":0},{"$f":"КРСОтч!AC118","v":""},{"$f":"КРСОтч!AD118","v":0}]
[{"$f":"VLOOKUP(ТитГЗ!$A$17,'Служебный 1'!$C$3:$E$61,3,FALSE)","v":{"$error":"#N/A"}},{"$f":"КРС!$A$4","v":"Реализация образовательных программ среднего профессионального образования - программ подготовки квалифицированных рабочих, служащих"},{"$f":"КРС!B122","v":0},{"$f":"КРС!D122","v":0},{"$f":"КРС!E122","v":0},{"$f":"КРС!J122","v":0},{"$f":"КРС!K122","v":0},{"$f":"КРС!L122","v":0},{"$f":"КРС!M122","v":0},{"$f":"КРС!N122","v":0},{"$f":"КРС!O122","v":0},{"$f":"КРС!P122","v":0},{"$f":"КРС!Q122","v":0},{"$f":"КРС!R122","v":0},{"$f":"КРС!S122","v":0},{"$f":"КРС!T122","v":0},{"$f":"КРС!U122","v":0},{"$f":"КРС!V122","v":0},{"$f":"КРС!W122","v":0},{"$f":"КРС!X122","v":0},{"$f":"КРСОтч!N119","v":0},{"$f":"КРСОтч!O119","v":0},{"$f":"КРСОтч!P119","v":0},{"$f":"КРСОтч!Q119","v":0},{"$f":"КРСОтч!R119","v":0},{"$f":"КРСОтч!S119","v":0},{"$f":"КРСОтч!T119","v":0},{"$f":"КРСОтч!U119","v":0},{"$f":"КРСОтч!V119","v":0},{"$f":"КРСОтч!W119","v":0},{"$f":"КРСОтч!X119","v":0},{"$f":"КРСОтч!Y119","v":0},{"$f":"КРСОтч!Z119","v":0},{"$f":"КРСОтч!AC119","v":""},{"$f":"КРСОтч!AD119","v":0}]
[{"$f":"VLOOKUP(ТитГЗ!$A$17,'Служебный 1'!$C$3:$E$61,3,FALSE)","v":{"$error":"#N/A"}},{"$f":"КРС!$A$4","v":"Реализация образовательных программ среднего профессионального образования - программ подготовки квалифицированных рабочих, служащих"},{"$f":"КРС!B123","v":0},{"$f":"КРС!D123","v":0},{"$f":"КРС!E123","v":0},{"$f":"КРС!J123","v":0},{"$f":"КРС!K123","v":0},{"$f":"КРС!L123","v":0},{"$f":"КРС!M123","v":0},{"$f":"КРС!N123","v":0},{"$f":"КРС!O123","v":0},{"$f":"КРС!P123","v":0},{"$f":"КРС!Q123","v":0},{"$f":"КРС!R123","v":0},{"$f":"КРС!S123","v":0},{"$f":"КРС!T123","v":0},{"$f":"КРС!U123","v":0},{"$f":"КРС!V123","v":0},{"$f":"КРС!W123","v":0},{"$f":"КРС!X123","v":0},{"$f":"КРСОтч!N120","v":0},{"$f":"КРСОтч!O120","v":0},{"$f":"КРСОтч!P120","v":0},{"$f":"КРСОтч!Q120","v":0},{"$f":"КРСОтч!R120","v":0},{"$f":"КРСОтч!S120","v":0},{"$f":"КРСОтч!T120","v":0},{"$f":"КРСОтч!U120","v":0},{"$f":"КРСОтч!V120","v":0},{"$f":"КРСОтч!W120","v":0},{"$f":"КРСОтч!X120","v":0},{"$f":"КРСОтч!Y120","v":0},{"$f":"КРСОтч!Z120","v":0},{"$f":"КРСОтч!AC120","v":""},{"$f":"КРСОтч!AD120","v":0}]
[{"$f":"VLOOKUP(ТитГЗ!$A$17,'Служебный 1'!$C$3:$E$61,3,FALSE)","v":{"$error":"#N/A"}},{"$f":"КРС!$A$4","v":"Реализация образовательных программ среднего профессионального образования - программ подготовки квалифицированных рабочих, служащих"},{"$f":"КРС!B124","v":0},{"$f":"КРС!D124","v":0},{"$f":"КРС!E124","v":0},{"$f":"КРС!J124","v":0},{"$f":"КРС!K124","v":0},{"$f":"КРС!L124","v":0},{"$f":"КРС!M124","v":0},{"$f":"КРС!N124","v":0},{"$f":"КРС!O124","v":0},{"$f":"КРС!P124","v":0},{"$f":"КРС!Q124","v":0},{"$f":"КРС!R124","v":0},{"$f":"КРС!S124","v":0},{"$f":"КРС!T124","v":0},{"$f":"КРС!U124","v":0},{"$f":"КРС!V124","v":0},{"$f":"КРС!W124","v":0},{"$f":"КРС!X124","v":0},{"$f":"КРСОтч!N121","v":0},{"$f":"КРСОтч!O121","v":0},{"$f":"КРСОтч!P121","v":0},{"$f":"КРСОтч!Q121","v":0},{"$f":"КРСОтч!R121","v":0},{"$f":"КРСОтч!S121","v":0},{"$f":"КРСОтч!T121","v":0},{"$f":"КРСОтч!U121","v":0},{"$f":"КРСОтч!V121","v":0},{"$f":"КРСОтч!W121","v":0},{"$f":"КРСОтч!X121","v":0},{"$f":"КРСОтч!Y121","v":0},{"$f":"КРСОтч!Z121","v":0},{"$f":"КРСОтч!AC121","v":""},{"$f":"КРСОтч!AD121","v":0}]
[{"$f":"VLOOKUP(ТитГЗ!$A$17,'Служебный 1'!$C$3:$E$61,3,FALSE)","v":{"$error":"#N/A"}},{"$f":"ССЗ!$A$4","v":"Реализация образовательных программ среднего профессионального образования - программ подготовки специалистов среднего звена"},{"$f":"ССЗ!B25","v":"09.02.03 Программирование в компьютерных системах"},{"$f":"ССЗ!D25","v":"Основное общее образование"},{"$f":"ССЗ!E25","v":"Очная"},{"$f":"ССЗ!J25","v":105},{"$f":"ССЗ!K25","v":105},{"$f":"ССЗ!L25","v":105},{"$f":"ССЗ!M25","v":105},{"$f":"ССЗ!N25","v":105},{"$f":"ССЗ!O25","v":105},{"$f":"ССЗ!P25","v":76},{"$f":"ССЗ!Q25","v":76},{"$f":"ССЗ!R25","v":101},{"$f":"ССЗ!S25","v":101},{"$f":"ССЗ!T25","v":101},{"$f":"ССЗ!U25","v":101},{"$f":"ССЗ!V25","v":98.8},{"$f":"ССЗ!W25","v":98.3},{"$f":"ССЗ!X25","v":98.8},{"$f":"ССЗОтч!N22","v":106},{"$f":"ССЗОтч!O22","v":106},{"$f":"ССЗОтч!P22","v":106},{"$f":"ССЗОтч!Q22","v":106},{"$f":"ССЗОтч!R22","v":106},{"$f":"ССЗОтч!S22","v":105},{"$f":"ССЗОтч!T22","v":80},{"$f":"ССЗОтч!U22","v":80},{"$f":"ССЗОтч!V22","v":103},{"$f":"ССЗОтч!W22","v":103},{"$f":"ССЗОтч!X22","v":102},{"$f":"ССЗОтч!Y22","v":101},{"$f":"ССЗОтч!Z22","v":100.3},{"$f":"ССЗОтч!AC22","v":""},{"$f":"ССЗОтч!AD22","v":0}]
[{"$f":"VLOOKUP(ТитГЗ!$A$17,'Служебный 1'!$C$3:$E$61,3,FALSE)","v":{"$error":"#N/A"}},{"$f":"ССЗ!$A$4","v":"Реализация образовательных программ среднего профессионального образования - программ подготовки специалистов среднего звена"},{"$f":"ССЗ!B26","v":"11.02.01 Радиоаппаратостроение"},{"$f":"ССЗ!D26","v":"Основное общее образование"},{"$f":"ССЗ!E26","v":"Очная"},{"$f":"ССЗ!J26","v":47},{"$f":"ССЗ!K26","v":47},{"$f":"ССЗ!L26","v":47},{"$f":"ССЗ!M26","v":47},{"$f":"ССЗ!N26","v":47},{"$f":"ССЗ!O26","v":47},{"$f":"ССЗ!P26","v":47},{"$f":"ССЗ!Q26","v":47},{"$f":"ССЗ!R26","v":72},{"$f":"ССЗ!S26","v":72},{"$f":"ССЗ!T26","v":70},{"$f":"ССЗ!U26","v":70},{"$f":"ССЗ!V26","v":55},{"$f":"ССЗ!W26","v":78.3},{"$f":"ССЗ!X26","v":92.8},{"$f":"ССЗОтч!N23","v":48},{"$f":"ССЗОтч!O23","v":48},{"$f":"ССЗОтч!P23","v":47},{"$f":"ССЗОтч!Q23","v":47},{"$f":"ССЗОтч!R23","v":47},{"$f":"ССЗОтч!S23","v":47},{"$f":"ССЗОтч!T23","v":47},{"$f":"ССЗОтч!U23","v":45},{"$f":"ССЗОтч!V23","v":70},{"$f":"ССЗОтч!W23","v":69},{"$f":"ССЗОтч!X23","v":64},{"$f":"ССЗОтч!Y23","v":63},{"$f":"ССЗОтч!Z23","v":53.5},{"$f":"ССЗОтч!AC23","v":""},{"$f":"ССЗОтч!AD23","v":0}]
[{"$f":"VLOOKUP(ТитГЗ!$A$17,'Служебный 1'!$C$3:$E$61,3,FALSE)","v":{"$error":"#N/A"}},{"$f":"ССЗ!$A$4","v":"Реализация образовательных программ среднего профессионального образования - программ подготовки специалистов среднего звена"},{"$f":"ССЗ!B27","v":"15.02.08 Технология машиностроения"},{"$f":"ССЗ!D27","v":"Основное общее образование"},{"$f":"ССЗ!E27","v":"Очная"},{"$f":"ССЗ!J27","v":185},{"$f":"ССЗ!K27","v":185},{"$f":"ССЗ!L27","v":185},{"$f":"ССЗ!M27","v":185},{"$f":"ССЗ!N27","v":185},{"$f":"ССЗ!O27","v":185},{"$f":"ССЗ!P27","v":147},{"$f":"ССЗ!Q27","v":147},{"$f":"ССЗ!R27","v":172},{"$f":"ССЗ!S27","v":172},{"$f":"ССЗ!T27","v":170},{"$f":"ССЗ!U27","v":170},{"$f":"ССЗ!V27","v":174},{"$f":"ССЗ!W27","v":159.30000000000001},{"$f":"ССЗ!X27","v":140.30000000000001},{"$f":"ССЗОтч!N24","v":184},{"$f":"ССЗОтч!O24","v":184},{"$f":"ССЗОтч!P24","v":184},{"$f":"ССЗОтч!Q24","v":184},{"$f":"ССЗОтч!R24","v":184},{"$f":"ССЗОтч!S24","v":184},{"$f":"ССЗОтч!T24","v":146},{"$f":"ССЗОтч!U24","v":146},{"$f":"ССЗОтч!V24","v":168},{"$f":"ССЗОтч!W24","v":169},{"$f":"ССЗОтч!X24","v":171},{"$f":"ССЗОтч!Y24","v":170},{"$f":"ССЗОтч!Z24","v":172.8},{"$f":"ССЗОтч!AC24","v":""},{"$f":"ССЗОтч!AD24","v":0}]
[{"$f":"VLOOKUP(ТитГЗ!$A$17,'Служебный 1'!$C$3:$E$61,3,FALSE)","v":{"$error":"#N/A"}},{"$f":"ССЗ!$A$4","v":"Реализация образовательных программ среднего профессионального образования - программ подготовки специалистов среднего звена"},{"$f":"ССЗ!B28","v":"15.02.08 Технология машиностроения"},{"$f":"ССЗ!D28","v":"Среднее общее образование"},{"$f":"ССЗ!E28","v":"Заочная"},{"$f":"ССЗ!J28","v":9},{"$f":"ССЗ!K28","v":9},{"$f":"ССЗ!L28","v":9},{"$f":"ССЗ!M28","v":9},{"$f":"ССЗ!N28","v":9},{"$f":"ССЗ!O28","v":9},{"$f":"ССЗ!P28","v":6},{"$f":"ССЗ!Q28","v":6},{"$f":"ССЗ!R28","v":6},{"$f":"ССЗ!S28","v":6},{"$f":"ССЗ!T28","v":6},{"$f":"ССЗ!U28","v":6},{"$f":"ССЗ!V28","v":7.5},{"$f":"ССЗ!W28","v":4},{"$f":"ССЗ!X28","v":0},{"$f":"ССЗОтч!N25","v":11},{"$f":"ССЗОтч!O25","v":11},{"$f":"ССЗОтч!P25","v":11},{"$f":"ССЗОтч!Q25","v":11},{"$f":"ССЗОтч!R25","v":11},{"$f":"ССЗОтч!S25","v":11},{"$f":"ССЗОтч!T25","v":9},{"$f":"ССЗОтч!U25","v":9},{"$f":"ССЗОтч!V25","v":9},{"$f":"ССЗОтч!W25","v":9},{"$f":"ССЗОтч!X25","v":3},{"$f":"ССЗОтч!Y25","v":3},{"$f":"ССЗОтч!Z25","v":9},{"$f":"ССЗОтч!AC25","v":0.2},{"$f":"ССЗОтч!AD25","v":"В контингенте заочной формы остаются студенты, обучающиеся на бюджетной основе: находящиеся в академическом отпуске, либо восстановившиеся из академического отпуска  (на конец года - три таких студента)."}]
[{"$f":"VLOOKUP(ТитГЗ!$A$17,'Служебный 1'!$C$3:$E$61,3,FALSE)","v":{"$error":"#N/A"}},{"$f":"ССЗ!$A$4","v":"Реализация образовательных программ среднего профессионального образования - программ подготовки специалистов среднего звена"},{"$f":"ССЗ!B29","v":"22.02.02 Металлургия цветных металлов"},{"$f":"ССЗ!D29","v":"Среднее общее образование"},{"$f":"ССЗ!E29","v":"Очная"},{"$f":"ССЗ!J29","v":24},{"$f":"ССЗ!K29","v":24},{"$f":"ССЗ!L29","v":24},{"$f":"ССЗ!M29","v":24},{"$f":"ССЗ!N29","v":24},{"$f":"ССЗ!O29","v":24},{"$f":"ССЗ!P29","v":24},{"$f":"ССЗ!Q29","v":24},{"$f":"ССЗ!R29","v":49},{"$f":"ССЗ!S29","v":49},{"$f":"ССЗ!T29","v":49},{"$f":"ССЗ!U29","v":47},{"$f":"ССЗ!V29","v":32.200000000000003},{"$f":"ССЗ!W29","v":55.3},{"$f":"ССЗ!X29","v":68.3},{"$f":"ССЗОтч!N26","v":23},{"$f":"ССЗОтч!O26","v":23},{"$f":"ССЗОтч!P26","v":23},{"$f":"ССЗОтч!Q26","v":23},{"$f":"ССЗОтч!R26","v":22},{"$f":"ССЗОтч!S26","v":22},{"$f":"ССЗОтч!T26","v":22},{"$f":"ССЗОтч!U26","v":22},{"$f":"ССЗОтч!V26","v":47},{"$f":"ССЗОтч!W26","v":45},{"$f":"ССЗОтч!X26","v":49},{"$f":"ССЗОтч!Y26","v":46},{"$f":"ССЗОтч!Z26","v":30.6},{"$f":"ССЗОтч!AC26","v":""},{"$f":"ССЗОтч!AD26","v":0}]
[{"$f":"VLOOKUP(ТитГЗ!$A$17,'Служебный 1'!$C$3:$E$61,3,FALSE)","v":{"$error":"#N/A"}},{"$f":"ССЗ!$A$4","v":"Реализация образовательных программ среднего профессионального образования - программ подготовки специалистов среднего звена"},{"$f":"ССЗ!B30","v":"22.02.06 Сварочное производство"},{"$f":"ССЗ!D30","v":"Основное общее образование"},{"$f":"ССЗ!E30","v":"Очная"},{"$f":"ССЗ!J30","v":107},{"$f":"ССЗ!K30","v":107},{"$f":"ССЗ!L30","v":107},{"$f":"ССЗ!M30","v":107},{"$f":"ССЗ!N30","v":107},{"$f":"ССЗ!O30","v":107},{"$f":"ССЗ!P30","v":88},{"$f":"ССЗ!Q30","v":88},{"$f":"ССЗ!R30","v":113},{"$f":"ССЗ!S30","v":113},{"$f":"ССЗ!T30","v":111},{"$f":"ССЗ!U30","v":111},{"$f":"ССЗ!V30","v":105.5},{"$f":"ССЗ!W30","v":108.8},{"$f":"ССЗ!X30","v":101.8},{"$f":"ССЗОтч!N27","v":106},{"$f":"ССЗОтч!O27","v":105},{"$f":"ССЗОтч!P27","v":105},{"$f":"ССЗОтч!Q27","v":105},{"$f":"ССЗОтч!R27","v":105},{"$f":"ССЗОтч!S27","v":105},{"$f":"ССЗОтч!T27","v":86},{"$f":"ССЗОтч!U27","v":86},{"$f":"ССЗОтч!V27","v":110},{"$f":"ССЗОтч!W27","v":109},{"$f":"ССЗОтч!X27","v":108},{"$f":"ССЗОтч!Y27","v":108},{"$f":"ССЗОтч!Z27","v":103.2},{"$f":"ССЗОтч!AC27","v":""},{"$f":"ССЗОтч!AD27","v":0}]
[{"$f":"VLOOKUP(ТитГЗ!$A$17,'Служебный 1'!$C$3:$E$61,3,FALSE)","v":{"$error":"#N/A"}},{"$f":"ССЗ!$A$4","v":"Реализация образовательных программ среднего профессионального образования - программ подготовки специалистов среднего звена"},{"$f":"ССЗ!B31","v":"23.02.02 Автомобиле- и тракторостроение"},{"$f":"ССЗ!D31","v":"Основное общее образование"},{"$f":"ССЗ!E31","v":"Очная"},{"$f":"ССЗ!J31","v":92},{"$f":"ССЗ!K31","v":92},{"$f":"ССЗ!L31","v":92},{"$f":"ССЗ!M31","v":92},{"$f":"ССЗ!N31","v":92},{"$f":"ССЗ!O31","v":92},{"$f":"ССЗ!P31","v":74},{"$f":"ССЗ!Q31","v":74},{"$f":"ССЗ!R31","v":99},{"$f":"ССЗ!S31","v":99},{"$f":"ССЗ!T31","v":97},{"$f":"ССЗ!U31","v":97},{"$f":"ССЗ!V31","v":91},{"$f":"ССЗ!W31","v":91.8},{"$f":"ССЗ!X31","v":116.7},{"$f":"ССЗОтч!N28","v":91},{"$f":"ССЗОтч!O28","v":91},{"$f":"ССЗОтч!P28","v":91},{"$f":"ССЗОтч!Q28","v":89},{"$f":"ССЗОтч!R28","v":87},{"$f":"ССЗОтч!S28","v":85},{"$f":"ССЗОтч!T28","v":68},{"$f":"ССЗОтч!U28","v":66},{"$f":"ССЗОтч!V28","v":92},{"$f":"ССЗОтч!W28","v":92},{"$f":"ССЗОтч!X28","v":93},{"$f":"ССЗОтч!Y28","v":93},{"$f":"ССЗОтч!Z28","v":86.5},{"$f":"ССЗОтч!AC28","v":""},{"$f":"ССЗОтч!AD28","v":0}]
[{"$f":"VLOOKUP(ТитГЗ!$A$17,'Служебный 1'!$C$3:$E$61,3,FALSE)","v":{"$error":"#N/A"}},{"$f":"ССЗ!$A$4","v":"Реализация образовательных программ среднего профессионального образования - программ подготовки специалистов среднего звена"},{"$f":"ССЗ!B32","v":"23.02.03 Техническое обслуживание и ремонт автомобильного транспорта"},{"$f":"ССЗ!D32","v":"Основное общее образование"},{"$f":"ССЗ!E32","v":"Очная"},{"$f":"ССЗ!J32","v":202},{"$f":"ССЗ!K32","v":202},{"$f":"ССЗ!L32","v":202},{"$f":"ССЗ!M32","v":202},{"$f":"ССЗ!N32","v":202},{"$f":"ССЗ!O32","v":202},{"$f":"ССЗ!P32","v":138},{"$f":"ССЗ!Q32","v":138},{"$f":"ССЗ!R32","v":188},{"$f":"ССЗ!S32","v":188},{"$f":"ССЗ!T32","v":187},{"$f":"ССЗ!U32","v":187},{"$f":"ССЗ!V32","v":186.5},{"$f":"ССЗ!W32","v":183.7},{"$f":"ССЗ!X32","v":190.7},{"$f":"ССЗОтч!N29","v":202},{"$f":"ССЗОтч!O29","v":200},{"$f":"ССЗОтч!P29","v":200},{"$f":"ССЗОтч!Q29","v":200},{"$f":"ССЗОтч!R29","v":197},{"$f":"ССЗОтч!S29","v":194},{"$f":"ССЗОтч!T29","v":134},{"$f":"ССЗОтч!U29","v":131},{"$f":"ССЗОтч!V29","v":182},{"$f":"ССЗОтч!W29","v":175},{"$f":"ССЗОтч!X29","v":174},{"$f":"ССЗОтч!Y29","v":174},{"$f":"ССЗОтч!Z29","v":180.3},{"$f":"ССЗОтч!AC29","v":""},{"$f":"ССЗОтч!AD29","v":0}]
[{"$f":"VLOOKUP(ТитГЗ!$A$17,'Служебный 1'!$C$3:$E$61,3,FALSE)","v":{"$error":"#N/A"}},{"$f":"ССЗ!$A$4","v":"Реализация образовательных программ среднего профессионального образования - программ подготовки специалистов среднего звена"},{"$f":"ССЗ!B33","v":"23.02.03 Техническое обслуживание и ремонт автомобильного транспорта"},{"$f":"ССЗ!D33","v":"Среднее общее образование"},{"$f":"ССЗ!E33","v":"Заочная"},{"$f":"ССЗ!J33","v":1},{"$f":"ССЗ!K33","v":1},{"$f":"ССЗ!L33","v":1},{"$f":"ССЗ!M33","v":1},{"$f":"ССЗ!N33","v":1},{"$f":"ССЗ!O33","v":1},{"$f":"ССЗ!P33","v":0},{"$f":"ССЗ!Q33","v":0},{"$f":"ССЗ!R33","v":0},{"$f":"ССЗ!S33","v":0},{"$f":"ССЗ!T33","v":0},{"$f":"ССЗ!U33","v":0},{"$f":"ССЗ!V33","v":0.5},{"$f":"ССЗ!W33","v":0},{"$f":"ССЗ!X33","v":0},{"$f":"ССЗОтч!N30","v":1},{"$f":"ССЗОтч!O30","v":1},{"$f":"ССЗОтч!P30","v":1},{"$f":"ССЗОтч!Q30","v":1},{"$f":"ССЗОтч!R30","v":1},{"$f":"ССЗОтч!S30","v":0},{"$f":"ССЗОтч!T30","v":0},{"$f":"ССЗОтч!U30","v":0},{"$f":"ССЗОтч!V30","v":0},{"$f":"ССЗОтч!W30","v":0},{"$f":"ССЗОтч!X30","v":0},{"$f":"ССЗОтч!Y30","v":0},{"$f":"ССЗОтч!Z30","v":0.4},{"$f":"ССЗОтч!AC30","v":-0.2},{"$f":"ССЗОтч!AD30","v":"В течение отчётного переиода восстановился из академического отпуска и выпустился один студент, обучающийся на бюджетной основе. Отклонение от ГЗ носит технический характер."}]
[{"$f":"VLOOKUP(ТитГЗ!$A$17,'Служебный 1'!$C$3:$E$61,3,FALSE)","v":{"$error":"#N/A"}},{"$f":"ССЗ!$A$4","v":"Реализация образовательных программ среднего профессионального образования - программ подготовки специалистов среднего звена"},{"$f":"ССЗ!B34","v":"38.02.01 Экономика и бухгалтерский учет (по отраслям)"},{"$f":"ССЗ!D34","v":"Основное общее образование"},{"$f":"ССЗ!E34","v":"Очная"},{"$f":"ССЗ!J34","v":23},{"$f":"ССЗ!K34","v":23},{"$f":"ССЗ!L34","v":23},{"$f":"ССЗ!M34","v":23},{"$f":"ССЗ!N34","v":23},{"$f":"ССЗ!O34","v":23},{"$f":"ССЗ!P34","v":23},{"$f":"ССЗ!Q34","v":23},{"$f":"ССЗ!R34","v":23},{"$f":"ССЗ!S34","v":23},{"$f":"ССЗ!T34","v":23},{"$f":"ССЗ!U34","v":23},{"$f":"ССЗ!V34","v":23},{"$f":"ССЗ!W34","v":0},{"$f":"ССЗ!X34","v":0},{"$f":"ССЗОтч!N31","v":23},{"$f":"ССЗОтч!O31","v":23},{"$f":"ССЗОтч!P31","v":23},{"$f":"ССЗОтч!Q31","v":22},{"$f":"ССЗОтч!R31","v":20},{"$f":"ССЗОтч!S31","v":18},{"$f":"ССЗОтч!T31","v":18},{"$f":"ССЗОтч!U31","v":18},{"$f":"ССЗОтч!V31","v":18},{"$f":"ССЗОтч!W31","v":16},{"$f":"ССЗОтч!X31","v":21},{"$f":"ССЗОтч!Y31","v":21},{"$f":"ССЗОтч!Z31","v":20.100000000000001},{"$f":"ССЗОтч!AC31","v":-0.126},{"$f":"ССЗОтч!AD31","v":"На 4 курсе заканчивает обучение группа, обучающаяся на бюджетной основе по программам углубленной подготовки. По семейным обстоятельствам 7 студентов перешли на заочную форму обучения, в то же время, в ноябре контингент был частично восстановлен за счёт перехода обучающихся с платного обучения на бесплатное."}]
[{"$f":"VLOOKUP(ТитГЗ!$A$17,'Служебный 1'!$C$3:$E$61,3,FALSE)","v":{"$error":"#N/A"}},{"$f":"ССЗ!$A$4","v":"Реализация образовательных программ среднего профессионального образования - программ подготовки специалистов среднего звена"},{"$f":"ССЗ!B35","v":"40.02.01 Право и организация социального обеспечения"},{"$f":"ССЗ!D35","v":"Основное общее образование"},{"$f":"ССЗ!E35","v":"Очная"},{"$f":"ССЗ!J35","v":1},{"$f":"ССЗ!K35","v":1},{"$f":"ССЗ!L35","v":1},{"$f":"ССЗ!M35","v":1},{"$f":"ССЗ!N35","v":1},{"$f":"ССЗ!O35","v":1},{"$f":"ССЗ!P35","v":0},{"$f":"ССЗ!Q35","v":0},{"$f":"ССЗ!R35","v":0},{"$f":"ССЗ!S35","v":0},{"$f":"ССЗ!T35","v":0},{"$f":"ССЗ!U35","v":0},{"$f":"ССЗ!V35","v":0.5},{"$f":"ССЗ!W35","v":0},{"$f":"ССЗ!X35","v":0},{"$f":"ССЗОтч!N32","v":1},{"$f":"ССЗОтч!O32","v":1},{"$f":"ССЗОтч!P32","v":1},{"$f":"ССЗОтч!Q32","v":1},{"$f":"ССЗОтч!R32","v":1},{"$f":"ССЗОтч!S32","v":1},{"$f":"ССЗОтч!T32","v":1},{"$f":"ССЗОтч!U32","v":1},{"$f":"ССЗОтч!V32","v":1},{"$f":"ССЗОтч!W32","v":1},{"$f":"ССЗОтч!X32","v":1},{"$f":"ССЗОтч!Y32","v":1},{"$f":"ССЗОтч!Z32","v":1},{"$f":"ССЗОтч!AC32","v":1},{"$f":"ССЗОтч!AD32","v":"Одна студентка, находящаяся ранее в академическом отпуске, вновь оформила академический отпуск по семейным обстоятельствам. Отклонение (превышение ГЗ) носит технический характер."}]
[{"$f":"VLOOKUP(ТитГЗ!$A$17,'Служебный 1'!$C$3:$E$61,3,FALSE)","v":{"$error":"#N/A"}},{"$f":"ССЗ!$A$4","v":"Реализация образовательных программ среднего профессионального образования - программ подготовки специалистов среднего звена"},{"$f":"ССЗ!B36","v":"40.02.02 Правоохранительная деятельность"},{"$f":"ССЗ!D36","v":"Среднее общее образование"},{"$f":"ССЗ!E36","v":"Заочная"},{"$f":"ССЗ!J36","v":1},{"$f":"ССЗ!K36","v":1},{"$f":"ССЗ!L36","v":0},{"$f":"ССЗ!M36","v":0},{"$f":"ССЗ!N36","v":0},{"$f":"ССЗ!O36","v":0},{"$f":"ССЗ!P36","v":0},{"$f":"ССЗ!Q36","v":0},{"$f":"ССЗ!R36","v":0},{"$f":"ССЗ!S36","v":0},{"$f":"ССЗ!T36","v":0},{"$f":"ССЗ!U36","v":0},{"$f":"ССЗ!V36","v":0.2},{"$f":"ССЗ!W36","v":0},{"$f":"ССЗ!X36","v":0},{"$f":"ССЗОтч!N33","v":0},{"$f":"ССЗОтч!O33","v":0},{"$f":"ССЗОтч!P33","v":0},{"$f":"ССЗОтч!Q33","v":0},{"$f":"ССЗОтч!R33","v":0},{"$f":"ССЗОтч!S33","v":0},{"$f":"ССЗОтч!T33","v":0},{"$f":"ССЗОтч!U33","v":0},{"$f":"ССЗОтч!V33","v":0},{"$f":"ССЗОтч!W33","v":0},{"$f":"ССЗОтч!X33","v":0},{"$f":"ССЗОтч!Y33","v":0},{"$f":"ССЗОтч!Z33","v":0},{"$f":"ССЗОтч!AC33","v":-1},{"$f":"ССЗОтч!AD33","v":"Одна студентка, находящаяся ранее в академическом отпуске, отчислилась из колледжа по собственному желанию. Отклонение от ГЗ носит технический характер."}]
[{"$f":"VLOOKUP(ТитГЗ!$A$17,'Служебный 1'!$C$3:$E$61,3,FALSE)","v":{"$error":"#N/A"}},{"$f":"ССЗ!$A$4","v":"Реализация образовательных программ среднего профессионального образования - программ подготовки специалистов среднего звена"},{"$f":"ССЗ!B37","v":"43.02.02 Парикмахерское искусство"},{"$f":"ССЗ!D37","v":"Основное общее образование"},{"$f":"ССЗ!E37","v":"Очная"},{"$f":"ССЗ!J37","v":47},{"$f":"ССЗ!K37","v":47},{"$f":"ССЗ!L37","v":47},{"$f":"ССЗ!M37","v":47},{"$f":"ССЗ!N37","v":47},{"$f":"ССЗ!O37","v":47},{"$f":"ССЗ!P37","v":22},{"$f":"ССЗ!Q37","v":22},{"$f":"ССЗ!R37","v":22},{"$f":"ССЗ!S37","v":22},{"$f":"ССЗ!T37","v":22},{"$f":"ССЗ!U37","v":22},{"$f":"ССЗ!V37","v":34.5},{"$f":"ССЗ!W37","v":0},{"$f":"ССЗ!X37","v":0},{"$f":"ССЗОтч!N34","v":47},{"$f":"ССЗОтч!O34","v":47},{"$f":"ССЗОтч!P34","v":47},{"$f":"ССЗОтч!Q34","v":47},{"$f":"ССЗОтч!R34","v":47},{"$f":"ССЗОтч!S34","v":45},{"$f":"ССЗОтч!T34","v":27},{"$f":"ССЗОтч!U34","v":27},{"$f":"ССЗОтч!V34","v":25},{"$f":"ССЗОтч!W34","v":25},{"$f":"ССЗОтч!X34","v":25},{"$f":"ССЗОтч!Y34","v":25},{"$f":"ССЗОтч!Z34","v":36.200000000000003},{"$f":"ССЗОтч!AC34","v":""},{"$f":"ССЗОтч!AD34","v":0}]
[{"$f":"VLOOKUP(ТитГЗ!$A$17,'Служебный 1'!$C$3:$E$61,3,FALSE)","v":{"$error":"#N/A"}},{"$f":"ССЗ!$A$4","v":"Реализация образовательных программ среднего профессионального образования - программ подготовки специалистов среднего звена"},{"$f":"ССЗ!B38","v":"43.02.11 Гостиничный сервис"},{"$f":"ССЗ!D38","v":"Основное общее образование"},{"$f":"ССЗ!E38","v":"Очная"},{"$f":"ССЗ!J38","v":72},{"$f":"ССЗ!K38","v":72},{"$f":"ССЗ!L38","v":72},{"$f":"ССЗ!M38","v":72},{"$f":"ССЗ!N38","v":72},{"$f":"ССЗ!O38","v":72},{"$f":"ССЗ!P38","v":52},{"$f":"ССЗ!Q38","v":52},{"$f":"ССЗ!R38","v":52},{"$f":"ССЗ!S38","v":52},{"$f":"ССЗ!T38","v":52},{"$f":"ССЗ!U38","v":52},{"$f":"ССЗ!V38","v":62},{"$f":"ССЗ!W38","v":43},{"$f":"ССЗ!X38","v":16.5},{"$f":"ССЗОтч!N35","v":72},{"$f":"ССЗОтч!O35","v":72},{"$f":"ССЗОтч!P35","v":72},{"$f":"ССЗОтч!Q35","v":72},{"$f":"ССЗОтч!R35","v":72},{"$f":"ССЗОтч!S35","v":71},{"$f":"ССЗОтч!T35","v":52},{"$f":"ССЗОтч!U35","v":50},{"$f":"ССЗОтч!V35","v":51},{"$f":"ССЗОтч!W35","v":51},{"$f":"ССЗОтч!X35","v":52},{"$f":"ССЗОтч!Y35","v":52},{"$f":"ССЗОтч!Z35","v":61.6},{"$f":"ССЗОтч!AC35","v":""},{"$f":"ССЗОтч!AD35","v":0}]
[{"$f":"VLOOKUP(ТитГЗ!$A$17,'Служебный 1'!$C$3:$E$61,3,FALSE)","v":{"$error":"#N/A"}},{"$f":"ССЗ!$A$4","v":"Реализация образовательных программ среднего профессионального образования - программ подготовки специалистов среднего звена"},{"$f":"ССЗ!B39","v":"09.02.07 Информационные системы и программирование"},{"$f":"ССЗ!D39","v":"Основное общее образование"},{"$f":"ССЗ!E39","v":"Очная"},{"$f":"ССЗ!J39","v":0},{"$f":"ССЗ!K39","v":0},{"$f":"ССЗ!L39","v":0},{"$f":"ССЗ!M39","v":0},{"$f":"ССЗ!N39","v":0},{"$f":"ССЗ!O39","v":0},{"$f":"ССЗ!P39","v":0},{"$f":"ССЗ!Q39","v":0},{"$f":"ССЗ!R39","v":25},{"$f":"ССЗ!S39","v":25},{"$f":"ССЗ!T39","v":25},{"$f":"ССЗ!U39","v":25},{"$f":"ССЗ!V39","v":8.3000000000000007},{"$f":"ССЗ!W39","v":32.299999999999997},{"$f":"ССЗ!X39","v":57.3},{"$f":"ССЗОтч!N36","v":0},{"$f":"ССЗОтч!O36","v":0},{"$f":"ССЗОтч!P36","v":0},{"$f":"ССЗОтч!Q36","v":0},{"$f":"ССЗОтч!R36","v":0},{"$f":"ССЗОтч!S36","v":0},{"$f":"ССЗОтч!T36","v":0},{"$f":"ССЗОтч!U36","v":0},{"$f":"ССЗОтч!V36","v":25},{"$f":"ССЗОтч!W36","v":25},{"$f":"ССЗОтч!X36","v":25},{"$f":"ССЗОтч!Y36","v":25},{"$f":"ССЗОтч!Z36","v":8.3000000000000007},{"$f":"ССЗОтч!AC36","v":""},{"$f":"ССЗОтч!AD36","v":0}]
[{"$f":"VLOOKUP(ТитГЗ!$A$17,'Служебный 1'!$C$3:$E$61,3,FALSE)","v":{"$error":"#N/A"}},{"$f":"ССЗ!$A$4","v":"Реализация образовательных программ среднего профессионального образования - программ подготовки специалистов среднего звена"},{"$f":"ССЗ!B40","v":"15.02.09 Аддитивные технологии"},{"$f":"ССЗ!D40","v":"Основное общее образование"},{"$f":"ССЗ!E40","v":"Очная"},{"$f":"ССЗ!J40","v":0},{"$f":"ССЗ!K40","v":0},{"$f":"ССЗ!L40","v":0},{"$f":"ССЗ!M40","v":0},{"$f":"ССЗ!N40","v":0},{"$f":"ССЗ!O40","v":0},{"$f":"ССЗ!P40","v":0},{"$f":"ССЗ!Q40","v":0},{"$f":"ССЗ!R40","v":25},{"$f":"ССЗ!S40","v":25},{"$f":"ССЗ!T40","v":25},{"$f":"ССЗ!U40","v":24},{"$f":"ССЗ!V40","v":8.3000000000000007},{"$f":"ССЗ!W40","v":32.299999999999997},{"$f":"ССЗ!X40","v":57.3},{"$f":"ССЗОтч!N37","v":0},{"$f":"ССЗОтч!O37","v":0},{"$f":"ССЗОтч!P37","v":0},{"$f":"ССЗОтч!Q37","v":0},{"$f":"ССЗОтч!R37","v":0},{"$f":"ССЗОтч!S37","v":0},{"$f":"ССЗОтч!T37","v":0},{"$f":"ССЗОтч!U37","v":0},{"$f":"ССЗОтч!V37","v":25},{"$f":"ССЗОтч!W37","v":25},{"$f":"ССЗОтч!X37","v":25},{"$f":"ССЗОтч!Y37","v":25},{"$f":"ССЗОтч!Z37","v":8.3000000000000007},{"$f":"ССЗОтч!AC37","v":""},{"$f":"ССЗОтч!AD37","v":0}]
[{"$f":"VLOOKUP(ТитГЗ!$A$17,'Служебный 1'!$C$3:$E$61,3,FALSE)","v":{"$error":"#N/A"}},{"$f":"ССЗ!$A$4","v":"Реализация образовательных программ среднего профессионального образования - программ подготовки специалистов среднего звена"},{"$f":"ССЗ!B41","v":"15.02.15 Технология металлообрабатывающего производства"},{"$f":"ССЗ!D41","v":"Основное общее образование"},{"$f":"ССЗ!E41","v":"Очная"},{"$f":"ССЗ!J41","v":0},{"$f":"ССЗ!K41","v":0},{"$f":"ССЗ!L41","v":0},{"$f":"ССЗ!M41","v":0},{"$f":"ССЗ!N41","v":0},{"$f":"ССЗ!O41","v":0},{"$f":"ССЗ!P41","v":0},{"$f":"ССЗ!Q41","v":0},{"$f":"ССЗ!R41","v":25},{"$f":"ССЗ!S41","v":25},{"$f":"ССЗ!T41","v":25},{"$f":"ССЗ!U41","v":24},{"$f":"ССЗ!V41","v":8.3000000000000007},{"$f":"ССЗ!W41","v":32.299999999999997},{"$f":"ССЗ!X41","v":57.3},{"$f":"ССЗОтч!N38","v":0},{"$f":"ССЗОтч!O38","v":0},{"$f":"ССЗОтч!P38","v":0},{"$f":"ССЗОтч!Q38","v":0},{"$f":"ССЗОтч!R38","v":0},{"$f":"ССЗОтч!S38","v":0},{"$f":"ССЗОтч!T38","v":0},{"$f":"ССЗОтч!U38","v":0},{"$f":"ССЗОтч!V38","v":25},{"$f":"ССЗОтч!W38","v":25},{"$f":"ССЗОтч!X38","v":25},{"$f":"ССЗОтч!Y38","v":25},{"$f":"ССЗОтч!Z38","v":8.3000000000000007},{"$f":"ССЗОтч!AC38","v":""},{"$f":"ССЗОтч!AD38","v":0}]
[{"$f":"VLOOKUP(ТитГЗ!$A$17,'Служебный 1'!$C$3:$E$61,3,FALSE)","v":{"$error":"#N/A"}},{"$f":"ССЗ!$A$4","v":"Реализация образовательных программ среднего профессионального образования - программ подготовки специалистов среднего звена"},{"$f":"ССЗ!B42","v":"43.02.13 Технология парикмахерского искусства"},{"$f":"ССЗ!D42","v":"Основное общее образование"},{"$f":"ССЗ!E42","v":"Очная"},{"$f":"ССЗ!J42","v":0},{"$f":"ССЗ!K42","v":0},{"$f":"ССЗ!L42","v":0},{"$f":"ССЗ!M42","v":0},{"$f":"ССЗ!N42","v":0},{"$f":"ССЗ!O42","v":0},{"$f":"ССЗ!P42","v":0},{"$f":"ССЗ!Q42","v":0},{"$f":"ССЗ!R42","v":50},{"$f":"ССЗ!S42","v":50},{"$f":"ССЗ!T42","v":50},{"$f":"ССЗ!U42","v":48},{"$f":"ССЗ!V42","v":16.5},{"$f":"ССЗ!W42","v":64.7},{"$f":"ССЗ!X42","v":114.7},{"$f":"ССЗОтч!N39","v":0},{"$f":"ССЗОтч!O39","v":0},{"$f":"ССЗОтч!P39","v":0},{"$f":"ССЗОтч!Q39","v":0},{"$f":"ССЗОтч!R39","v":0},{"$f":"ССЗОтч!S39","v":0},{"$f":"ССЗОтч!T39","v":0},{"$f":"ССЗОтч!U39","v":0},{"$f":"ССЗОтч!V39","v":50},{"$f":"ССЗОтч!W39","v":49},{"$f":"ССЗОтч!X39","v":50},{"$f":"ССЗОтч!Y39","v":49},{"$f":"ССЗОтч!Z39","v":16.5},{"$f":"ССЗОтч!AC39","v":""},{"$f":"ССЗОтч!AD39","v":0}]
[{"$f":"VLOOKUP(ТитГЗ!$A$17,'Служебный 1'!$C$3:$E$61,3,FALSE)","v":{"$error":"#N/A"}},{"$f":"ССЗ!$A$4","v":"Реализация образовательных программ среднего профессионального образования - программ подготовки специалистов среднего звена"},{"$f":"ССЗ!B43","v":"43.02.14 Гостиничное дело"},{"$f":"ССЗ!D43","v":"Основное общее образование"},{"$f":"ССЗ!E43","v":"Очная"},{"$f":"ССЗ!J43","v":0},{"$f":"ССЗ!K43","v":0},{"$f":"ССЗ!L43","v":0},{"$f":"ССЗ!M43","v":0},{"$f":"ССЗ!N43","v":0},{"$f":"ССЗ!O43","v":0},{"$f":"ССЗ!P43","v":0},{"$f":"ССЗ!Q43","v":0},{"$f":"ССЗ!R43","v":25},{"$f":"ССЗ!S43","v":25},{"$f":"ССЗ!T43","v":25},{"$f":"ССЗ!U43","v":25},{"$f":"ССЗ!V43","v":8.3000000000000007},{"$f":"ССЗ!W43","v":32.299999999999997},{"$f":"ССЗ!X43","v":57.3},{"$f":"ССЗОтч!N40","v":0},{"$f":"ССЗОтч!O40","v":0},{"$f":"ССЗОтч!P40","v":0},{"$f":"ССЗОтч!Q40","v":0},{"$f":"ССЗОтч!R40","v":0},{"$f":"ССЗОтч!S40","v":0},{"$f":"ССЗОтч!T40","v":0},{"$f":"ССЗОтч!U40","v":0},{"$f":"ССЗОтч!V40","v":25},{"$f":"ССЗОтч!W40","v":24},{"$f":"ССЗОтч!X40","v":24},{"$f":"ССЗОтч!Y40","v":23},{"$f":"ССЗОтч!Z40","v":8},{"$f":"ССЗОтч!AC40","v":""},{"$f":"ССЗОтч!AD40","v":0}]
[{"$f":"VLOOKUP(ТитГЗ!$A$17,'Служебный 1'!$C$3:$E$61,3,FALSE)","v":{"$error":"#N/A"}},{"$f":"ССЗ!$A$4","v":"Реализация образовательных программ среднего профессионального образования - программ подготовки специалистов среднего звена"},{"$f":"ССЗ!B44","v":0},{"$f":"ССЗ!D44","v":0},{"$f":"ССЗ!E44","v":0},{"$f":"ССЗ!J44","v":0},{"$f":"ССЗ!K44","v":0},{"$f":"ССЗ!L44","v":0},{"$f":"ССЗ!M44","v":0},{"$f":"ССЗ!N44","v":0},{"$f":"ССЗ!O44","v":0},{"$f":"ССЗ!P44","v":0},{"$f":"ССЗ!Q44","v":0},{"$f":"ССЗ!R44","v":0},{"$f":"ССЗ!S44","v":0},{"$f":"ССЗ!T44","v":0},{"$f":"ССЗ!U44","v":0},{"$f":"ССЗ!V44","v":0},{"$f":"ССЗ!W44","v":0},{"$f":"ССЗ!X44","v":0},{"$f":"ССЗОтч!N41","v":0},{"$f":"ССЗОтч!O41","v":0},{"$f":"ССЗОтч!P41","v":0},{"$f":"ССЗОтч!Q41","v":0},{"$f":"ССЗОтч!R41","v":0},{"$f":"ССЗОтч!S41","v":0},{"$f":"ССЗОтч!T41","v":0},{"$f":"ССЗОтч!U41","v":0},{"$f":"ССЗОтч!V41","v":0},{"$f":"ССЗОтч!W41","v":0},{"$f":"ССЗОтч!X41","v":0},{"$f":"ССЗОтч!Y41","v":0},{"$f":"ССЗОтч!Z41","v":0},{"$f":"ССЗОтч!AC41","v":""},{"$f":"ССЗОтч!AD41","v":0}]
[{"$f":"VLOOKUP(ТитГЗ!$A$17,'Служебный 1'!$C$3:$E$61,3,FALSE)","v":{"$error":"#N/A"}},{"$f":"ССЗ!$A$4","v":"Реализация образовательных программ среднего профессионального образования - программ подготовки специалистов среднего звена"},{"$f":"ССЗ!B45","v":0},{"$f":"ССЗ!D45","v":0},{"$f":"ССЗ!E45","v":0},{"$f":"ССЗ!J45","v":0},{"$f":"ССЗ!K45","v":0},{"$f":"ССЗ!L45","v":0},{"$f":"ССЗ!M45","v":0},{"$f":"ССЗ!N45","v":0},{"$f":"ССЗ!O45","v":0},{"$f":"ССЗ!P45","v":0},{"$f":"ССЗ!Q45","v":0},{"$f":"ССЗ!R45","v":0},{"$f":"ССЗ!S45","v":0},{"$f":"ССЗ!T45","v":0},{"$f":"ССЗ!U45","v":0},{"$f":"ССЗ!V45","v":0},{"$f":"ССЗ!W45","v":0},{"$f":"ССЗ!X45","v":0},{"$f":"ССЗОтч!N42","v":0},{"$f":"ССЗОтч!O42","v":0},{"$f":"ССЗОтч!P42","v":0},{"$f":"ССЗОтч!Q42","v":0},{"$f":"ССЗОтч!R42","v":0},{"$f":"ССЗОтч!S42","v":0},{"$f":"ССЗОтч!T42","v":0},{"$f":"ССЗОтч!U42","v":0},{"$f":"ССЗОтч!V42","v":0},{"$f":"ССЗОтч!W42","v":0},{"$f":"ССЗОтч!X42","v":0},{"$f":"ССЗОтч!Y42","v":0},{"$f":"ССЗОтч!Z42","v":0},{"$f":"ССЗОтч!AC42","v":""},{"$f":"ССЗОтч!AD42","v":0}]
[{"$f":"VLOOKUP(ТитГЗ!$A$17,'Служебный 1'!$C$3:$E$61,3,FALSE)","v":{"$error":"#N/A"}},{"$f":"ССЗ!$A$4","v":"Реализация образовательных программ среднего профессионального образования - программ подготовки специалистов среднего звена"},{"$f":"ССЗ!B46","v":0},{"$f":"ССЗ!D46","v":0},{"$f":"ССЗ!E46","v":0},{"$f":"ССЗ!J46","v":0},{"$f":"ССЗ!K46","v":0},{"$f":"ССЗ!L46","v":0},{"$f":"ССЗ!M46","v":0},{"$f":"ССЗ!N46","v":0},{"$f":"ССЗ!O46","v":0},{"$f":"ССЗ!P46","v":0},{"$f":"ССЗ!Q46","v":0},{"$f":"ССЗ!R46","v":0},{"$f":"ССЗ!S46","v":0},{"$f":"ССЗ!T46","v":0},{"$f":"ССЗ!U46","v":0},{"$f":"ССЗ!V46","v":0},{"$f":"ССЗ!W46","v":0},{"$f":"ССЗ!X46","v":0},{"$f":"ССЗОтч!N43","v":0},{"$f":"ССЗОтч!O43","v":0},{"$f":"ССЗОтч!P43","v":0},{"$f":"ССЗОтч!Q43","v":0},{"$f":"ССЗОтч!R43","v":0},{"$f":"ССЗОтч!S43","v":0},{"$f":"ССЗОтч!T43","v":0},{"$f":"ССЗОтч!U43","v":0},{"$f":"ССЗОтч!V43","v":0},{"$f":"ССЗОтч!W43","v":0},{"$f":"ССЗОтч!X43","v":0},{"$f":"ССЗОтч!Y43","v":0},{"$f":"ССЗОтч!Z43","v":0},{"$f":"ССЗОтч!AC43","v":""},{"$f":"ССЗОтч!AD43","v":0}]
[{"$f":"VLOOKUP(ТитГЗ!$A$17,'Служебный 1'!$C$3:$E$61,3,FALSE)","v":{"$error":"#N/A"}},{"$f":"ССЗ!$A$4","v":"Реализация образовательных программ среднего профессионального образования - программ подготовки специалистов среднего звена"},{"$f":"ССЗ!B47","v":0},{"$f":"ССЗ!D47","v":0},{"$f":"ССЗ!E47","v":0},{"$f":"ССЗ!J47","v":0},{"$f":"ССЗ!K47","v":0},{"$f":"ССЗ!L47","v":0},{"$f":"ССЗ!M47","v":0},{"$f":"ССЗ!N47","v":0},{"$f":"ССЗ!O47","v":0},{"$f":"ССЗ!P47","v":0},{"$f":"ССЗ!Q47","v":0},{"$f":"ССЗ!R47","v":0},{"$f":"ССЗ!S47","v":0},{"$f":"ССЗ!T47","v":0},{"$f":"ССЗ!U47","v":0},{"$f":"ССЗ!V47","v":0},{"$f":"ССЗ!W47","v":0},{"$f":"ССЗ!X47","v":0},{"$f":"ССЗОтч!N44","v":0},{"$f":"ССЗОтч!O44","v":0},{"$f":"ССЗОтч!P44","v":0},{"$f":"ССЗОтч!Q44","v":0},{"$f":"ССЗОтч!R44","v":0},{"$f":"ССЗОтч!S44","v":0},{"$f":"ССЗОтч!T44","v":0},{"$f":"ССЗОтч!U44","v":0},{"$f":"ССЗОтч!V44","v":0},{"$f":"ССЗОтч!W44","v":0},{"$f":"ССЗОтч!X44","v":0},{"$f":"ССЗОтч!Y44","v":0},{"$f":"ССЗОтч!Z44","v":0},{"$f":"ССЗОтч!AC44","v":""},{"$f":"ССЗОтч!AD44","v":0}]
[{"$f":"VLOOKUP(ТитГЗ!$A$17,'Служебный 1'!$C$3:$E$61,3,FALSE)","v":{"$error":"#N/A"}},{"$f":"ССЗ!$A$4","v":"Реализация образовательных программ среднего профессионального образования - программ подготовки специалистов среднего звена"},{"$f":"ССЗ!B48","v":0},{"$f":"ССЗ!D48","v":0},{"$f":"ССЗ!E48","v":0},{"$f":"ССЗ!J48","v":0},{"$f":"ССЗ!K48","v":0},{"$f":"ССЗ!L48","v":0},{"$f":"ССЗ!M48","v":0},{"$f":"ССЗ!N48","v":0},{"$f":"ССЗ!O48","v":0},{"$f":"ССЗ!P48","v":0},{"$f":"ССЗ!Q48","v":0},{"$f":"ССЗ!R48","v":0},{"$f":"ССЗ!S48","v":0},{"$f":"ССЗ!T48","v":0},{"$f":"ССЗ!U48","v":0},{"$f":"ССЗ!V48","v":0},{"$f":"ССЗ!W48","v":0},{"$f":"ССЗ!X48","v":0},{"$f":"ССЗОтч!N45","v":0},{"$f":"ССЗОтч!O45","v":0},{"$f":"ССЗОтч!P45","v":0},{"$f":"ССЗОтч!Q45","v":0},{"$f":"ССЗОтч!R45","v":0},{"$f":"ССЗОтч!S45","v":0},{"$f":"ССЗОтч!T45","v":0},{"$f":"ССЗОтч!U45","v":0},{"$f":"ССЗОтч!V45","v":0},{"$f":"ССЗОтч!W45","v":0},{"$f":"ССЗОтч!X45","v":0},{"$f":"ССЗОтч!Y45","v":0},{"$f":"ССЗОтч!Z45","v":0},{"$f":"ССЗОтч!AC45","v":""},{"$f":"ССЗОтч!AD45","v":0}]
[{"$f":"VLOOKUP(ТитГЗ!$A$17,'Служебный 1'!$C$3:$E$61,3,FALSE)","v":{"$error":"#N/A"}},{"$f":"ССЗ!$A$4","v":"Реализация образовательных программ среднего профессионального образования - программ подготовки специалистов среднего звена"},{"$f":"ССЗ!B49","v":0},{"$f":"ССЗ!D49","v":0},{"$f":"ССЗ!E49","v":0},{"$f":"ССЗ!J49","v":0},{"$f":"ССЗ!K49","v":0},{"$f":"ССЗ!L49","v":0},{"$f":"ССЗ!M49","v":0},{"$f":"ССЗ!N49","v":0},{"$f":"ССЗ!O49","v":0},{"$f":"ССЗ!P49","v":0},{"$f":"ССЗ!Q49","v":0},{"$f":"ССЗ!R49","v":0},{"$f":"ССЗ!S49","v":0},{"$f":"ССЗ!T49","v":0},{"$f":"ССЗ!U49","v":0},{"$f":"ССЗ!V49","v":0},{"$f":"ССЗ!W49","v":0},{"$f":"ССЗ!X49","v":0},{"$f":"ССЗОтч!N46","v":0},{"$f":"ССЗОтч!O46","v":0},{"$f":"ССЗОтч!P46","v":0},{"$f":"ССЗОтч!Q46","v":0},{"$f":"ССЗОтч!R46","v":0},{"$f":"ССЗОтч!S46","v":0},{"$f":"ССЗОтч!T46","v":0},{"$f":"ССЗОтч!U46","v":0},{"$f":"ССЗОтч!V46","v":0},{"$f":"ССЗОтч!W46","v":0},{"$f":"ССЗОтч!X46","v":0},{"$f":"ССЗОтч!Y46","v":0},{"$f":"ССЗОтч!Z46","v":0},{"$f":"ССЗОтч!AC46","v":""},{"$f":"ССЗОтч!AD46","v":0}]
[{"$f":"VLOOKUP(ТитГЗ!$A$17,'Служебный 1'!$C$3:$E$61,3,FALSE)","v":{"$error":"#N/A"}},{"$f":"ССЗ!$A$4","v":"Реализация образовательных программ среднего профессионального образования - программ подготовки специалистов среднего звена"},{"$f":"ССЗ!B50","v":0},{"$f":"ССЗ!D50","v":0},{"$f":"ССЗ!E50","v":0},{"$f":"ССЗ!J50","v":0},{"$f":"ССЗ!K50","v":0},{"$f":"ССЗ!L50","v":0},{"$f":"ССЗ!M50","v":0},{"$f":"ССЗ!N50","v":0},{"$f":"ССЗ!O50","v":0},{"$f":"ССЗ!P50","v":0},{"$f":"ССЗ!Q50","v":0},{"$f":"ССЗ!R50","v":0},{"$f":"ССЗ!S50","v":0},{"$f":"ССЗ!T50","v":0},{"$f":"ССЗ!U50","v":0},{"$f":"ССЗ!V50","v":0},{"$f":"ССЗ!W50","v":0},{"$f":"ССЗ!X50","v":0},{"$f":"ССЗОтч!N47","v":0},{"$f":"ССЗОтч!O47","v":0},{"$f":"ССЗОтч!P47","v":0},{"$f":"ССЗОтч!Q47","v":0},{"$f":"ССЗОтч!R47","v":0},{"$f":"ССЗОтч!S47","v":0},{"$f":"ССЗОтч!T47","v":0},{"$f":"ССЗОтч!U47","v":0},{"$f":"ССЗОтч!V47","v":0},{"$f":"ССЗОтч!W47","v":0},{"$f":"ССЗОтч!X47","v":0},{"$f":"ССЗОтч!Y47","v":0},{"$f":"ССЗОтч!Z47","v":0},{"$f":"ССЗОтч!AC47","v":""},{"$f":"ССЗОтч!AD47","v":0}]
[{"$f":"VLOOKUP(ТитГЗ!$A$17,'Служебный 1'!$C$3:$E$61,3,FALSE)","v":{"$error":"#N/A"}},{"$f":"ССЗ!$A$4","v":"Реализация образовательных программ среднего профессионального образования - программ подготовки специалистов среднего звена"},{"$f":"ССЗ!B51","v":0},{"$f":"ССЗ!D51","v":0},{"$f":"ССЗ!E51","v":0},{"$f":"ССЗ!J51","v":0},{"$f":"ССЗ!K51","v":0},{"$f":"ССЗ!L51","v":0},{"$f":"ССЗ!M51","v":0},{"$f":"ССЗ!N51","v":0},{"$f":"ССЗ!O51","v":0},{"$f":"ССЗ!P51","v":0},{"$f":"ССЗ!Q51","v":0},{"$f":"ССЗ!R51","v":0},{"$f":"ССЗ!S51","v":0},{"$f":"ССЗ!T51","v":0},{"$f":"ССЗ!U51","v":0},{"$f":"ССЗ!V51","v":0},{"$f":"ССЗ!W51","v":0},{"$f":"ССЗ!X51","v":0},{"$f":"ССЗОтч!N48","v":0},{"$f":"ССЗОтч!O48","v":0},{"$f":"ССЗОтч!P48","v":0},{"$f":"ССЗОтч!Q48","v":0},{"$f":"ССЗОтч!R48","v":0},{"$f":"ССЗОтч!S48","v":0},{"$f":"ССЗОтч!T48","v":0},{"$f":"ССЗОтч!U48","v":0},{"$f":"ССЗОтч!V48","v":0},{"$f":"ССЗОтч!W48","v":0},{"$f":"ССЗОтч!X48","v":0},{"$f":"ССЗОтч!Y48","v":0},{"$f":"ССЗОтч!Z48","v":0},{"$f":"ССЗОтч!AC48","v":""},{"$f":"ССЗОтч!AD48","v":0}]
[{"$f":"VLOOKUP(ТитГЗ!$A$17,'Служебный 1'!$C$3:$E$61,3,FALSE)","v":{"$error":"#N/A"}},{"$f":"ССЗ!$A$4","v":"Реализация образовательных программ среднего профессионального образования - программ подготовки специалистов среднего звена"},{"$f":"ССЗ!B52","v":0},{"$f":"ССЗ!D52","v":0},{"$f":"ССЗ!E52","v":0},{"$f":"ССЗ!J52","v":0},{"$f":"ССЗ!K52","v":0},{"$f":"ССЗ!L52","v":0},{"$f":"ССЗ!M52","v":0},{"$f":"ССЗ!N52","v":0},{"$f":"ССЗ!O52","v":0},{"$f":"ССЗ!P52","v":0},{"$f":"ССЗ!Q52","v":0},{"$f":"ССЗ!R52","v":0},{"$f":"ССЗ!S52","v":0},{"$f":"ССЗ!T52","v":0},{"$f":"ССЗ!U52","v":0},{"$f":"ССЗ!V52","v":0},{"$f":"ССЗ!W52","v":0},{"$f":"ССЗ!X52","v":0},{"$f":"ССЗОтч!N49","v":0},{"$f":"ССЗОтч!O49","v":0},{"$f":"ССЗОтч!P49","v":0},{"$f":"ССЗОтч!Q49","v":0},{"$f":"ССЗОтч!R49","v":0},{"$f":"ССЗОтч!S49","v":0},{"$f":"ССЗОтч!T49","v":0},{"$f":"ССЗОтч!U49","v":0},{"$f":"ССЗОтч!V49","v":0},{"$f":"ССЗОтч!W49","v":0},{"$f":"ССЗОтч!X49","v":0},{"$f":"ССЗОтч!Y49","v":0},{"$f":"ССЗОтч!Z49","v":0},{"$f":"ССЗОтч!AC49","v":""},{"$f":"ССЗОтч!AD49","v":0}]
[{"$f":"VLOOKUP(ТитГЗ!$A$17,'Служебный 1'!$C$3:$E$61,3,FALSE)","v":{"$error":"#N/A"}},{"$f":"ССЗ!$A$4","v":"Реализация образовательных программ среднего профессионального образования - программ подготовки специалистов среднего звена"},{"$f":"ССЗ!B53","v":0},{"$f":"ССЗ!D53","v":0},{"$f":"ССЗ!E53","v":0},{"$f":"ССЗ!J53","v":0},{"$f":"ССЗ!K53","v":0},{"$f":"ССЗ!L53","v":0},{"$f":"ССЗ!M53","v":0},{"$f":"ССЗ!N53","v":0},{"$f":"ССЗ!O53","v":0},{"$f":"ССЗ!P53","v":0},{"$f":"ССЗ!Q53","v":0},{"$f":"ССЗ!R53","v":0},{"$f":"ССЗ!S53","v":0},{"$f":"ССЗ!T53","v":0},{"$f":"ССЗ!U53","v":0},{"$f":"ССЗ!V53","v":0},{"$f":"ССЗ!W53","v":0},{"$f":"ССЗ!X53","v":0},{"$f":"ССЗОтч!N50","v":0},{"$f":"ССЗОтч!O50","v":0},{"$f":"ССЗОтч!P50","v":0},{"$f":"ССЗОтч!Q50","v":0},{"$f":"ССЗОтч!R50","v":0},{"$f":"ССЗОтч!S50","v":0},{"$f":"ССЗОтч!T50","v":0},{"$f":"ССЗОтч!U50","v":0},{"$f":"ССЗОтч!V50","v":0},{"$f":"ССЗОтч!W50","v":0},{"$f":"ССЗОтч!X50","v":0},{"$f":"ССЗОтч!Y50","v":0},{"$f":"ССЗОтч!Z50","v":0},{"$f":"ССЗОтч!AC50","v":""},{"$f":"ССЗОтч!AD50","v":0}]
[{"$f":"VLOOKUP(ТитГЗ!$A$17,'Служебный 1'!$C$3:$E$61,3,FALSE)","v":{"$error":"#N/A"}},{"$f":"ССЗ!$A$4","v":"Реализация образовательных программ среднего профессионального образования - программ подготовки специалистов среднего звена"},{"$f":"ССЗ!B54","v":0},{"$f":"ССЗ!D54","v":0},{"$f":"ССЗ!E54","v":0},{"$f":"ССЗ!J54","v":0},{"$f":"ССЗ!K54","v":0},{"$f":"ССЗ!L54","v":0},{"$f":"ССЗ!M54","v":0},{"$f":"ССЗ!N54","v":0},{"$f":"ССЗ!O54","v":0},{"$f":"ССЗ!P54","v":0},{"$f":"ССЗ!Q54","v":0},{"$f":"ССЗ!R54","v":0},{"$f":"ССЗ!S54","v":0},{"$f":"ССЗ!T54","v":0},{"$f":"ССЗ!U54","v":0},{"$f":"ССЗ!V54","v":0},{"$f":"ССЗ!W54","v":0},{"$f":"ССЗ!X54","v":0},{"$f":"ССЗОтч!N51","v":0},{"$f":"ССЗОтч!O51","v":0},{"$f":"ССЗОтч!P51","v":0},{"$f":"ССЗОтч!Q51","v":0},{"$f":"ССЗОтч!R51","v":0},{"$f":"ССЗОтч!S51","v":0},{"$f":"ССЗОтч!T51","v":0},{"$f":"ССЗОтч!U51","v":0},{"$f":"ССЗОтч!V51","v":0},{"$f":"ССЗОтч!W51","v":0},{"$f":"ССЗОтч!X51","v":0},{"$f":"ССЗОтч!Y51","v":0},{"$f":"ССЗОтч!Z51","v":0},{"$f":"ССЗОтч!AC51","v":""},{"$f":"ССЗОтч!AD51","v":0}]
[{"$f":"VLOOKUP(ТитГЗ!$A$17,'Служебный 1'!$C$3:$E$61,3,FALSE)","v":{"$error":"#N/A"}},{"$f":"ССЗ!$A$4","v":"Реализация образовательных программ среднего профессионального образования - программ подготовки специалистов среднего звена"},{"$f":"ССЗ!B55","v":0},{"$f":"ССЗ!D55","v":0},{"$f":"ССЗ!E55","v":0},{"$f":"ССЗ!J55","v":0},{"$f":"ССЗ!K55","v":0},{"$f":"ССЗ!L55","v":0},{"$f":"ССЗ!M55","v":0},{"$f":"ССЗ!N55","v":0},{"$f":"ССЗ!O55","v":0},{"$f":"ССЗ!P55","v":0},{"$f":"ССЗ!Q55","v":0},{"$f":"ССЗ!R55","v":0},{"$f":"ССЗ!S55","v":0},{"$f":"ССЗ!T55","v":0},{"$f":"ССЗ!U55","v":0},{"$f":"ССЗ!V55","v":0},{"$f":"ССЗ!W55","v":0},{"$f":"ССЗ!X55","v":0},{"$f":"ССЗОтч!N52","v":0},{"$f":"ССЗОтч!O52","v":0},{"$f":"ССЗОтч!P52","v":0},{"$f":"ССЗОтч!Q52","v":0},{"$f":"ССЗОтч!R52","v":0},{"$f":"ССЗОтч!S52","v":0},{"$f":"ССЗОтч!T52","v":0},{"$f":"ССЗОтч!U52","v":0},{"$f":"ССЗОтч!V52","v":0},{"$f":"ССЗОтч!W52","v":0},{"$f":"ССЗОтч!X52","v":0},{"$f":"ССЗОтч!Y52","v":0},{"$f":"ССЗОтч!Z52","v":0},{"$f":"ССЗОтч!AC52","v":""},{"$f":"ССЗОтч!AD52","v":0}]
[{"$f":"VLOOKUP(ТитГЗ!$A$17,'Служебный 1'!$C$3:$E$61,3,FALSE)","v":{"$error":"#N/A"}},{"$f":"ССЗ!$A$4","v":"Реализация образовательных программ среднего профессионального образования - программ подготовки специалистов среднего звена"},{"$f":"ССЗ!B56","v":0},{"$f":"ССЗ!D56","v":0},{"$f":"ССЗ!E56","v":0},{"$f":"ССЗ!J56","v":0},{"$f":"ССЗ!K56","v":0},{"$f":"ССЗ!L56","v":0},{"$f":"ССЗ!M56","v":0},{"$f":"ССЗ!N56","v":0},{"$f":"ССЗ!O56","v":0},{"$f":"ССЗ!P56","v":0},{"$f":"ССЗ!Q56","v":0},{"$f":"ССЗ!R56","v":0},{"$f":"ССЗ!S56","v":0},{"$f":"ССЗ!T56","v":0},{"$f":"ССЗ!U56","v":0},{"$f":"ССЗ!V56","v":0},{"$f":"ССЗ!W56","v":0},{"$f":"ССЗ!X56","v":0},{"$f":"ССЗОтч!N53","v":0},{"$f":"ССЗОтч!O53","v":0},{"$f":"ССЗОтч!P53","v":0},{"$f":"ССЗОтч!Q53","v":0},{"$f":"ССЗОтч!R53","v":0},{"$f":"ССЗОтч!S53","v":0},{"$f":"ССЗОтч!T53","v":0},{"$f":"ССЗОтч!U53","v":0},{"$f":"ССЗОтч!V53","v":0},{"$f":"ССЗОтч!W53","v":0},{"$f":"ССЗОтч!X53","v":0},{"$f":"ССЗОтч!Y53","v":0},{"$f":"ССЗОтч!Z53","v":0},{"$f":"ССЗОтч!AC53","v":""},{"$f":"ССЗОтч!AD53","v":0}]
[{"$f":"VLOOKUP(ТитГЗ!$A$17,'Служебный 1'!$C$3:$E$61,3,FALSE)","v":{"$error":"#N/A"}},{"$f":"ССЗ!$A$4","v":"Реализация образовательных программ среднего профессионального образования - программ подготовки специалистов среднего звена"},{"$f":"ССЗ!B57","v":0},{"$f":"ССЗ!D57","v":0},{"$f":"ССЗ!E57","v":0},{"$f":"ССЗ!J57","v":0},{"$f":"ССЗ!K57","v":0},{"$f":"ССЗ!L57","v":0},{"$f":"ССЗ!M57","v":0},{"$f":"ССЗ!N57","v":0},{"$f":"ССЗ!O57","v":0},{"$f":"ССЗ!P57","v":0},{"$f":"ССЗ!Q57","v":0},{"$f":"ССЗ!R57","v":0},{"$f":"ССЗ!S57","v":0},{"$f":"ССЗ!T57","v":0},{"$f":"ССЗ!U57","v":0},{"$f":"ССЗ!V57","v":0},{"$f":"ССЗ!W57","v":0},{"$f":"ССЗ!X57","v":0},{"$f":"ССЗОтч!N54","v":0},{"$f":"ССЗОтч!O54","v":0},{"$f":"ССЗОтч!P54","v":0},{"$f":"ССЗОтч!Q54","v":0},{"$f":"ССЗОтч!R54","v":0},{"$f":"ССЗОтч!S54","v":0},{"$f":"ССЗОтч!T54","v":0},{"$f":"ССЗОтч!U54","v":0},{"$f":"ССЗОтч!V54","v":0},{"$f":"ССЗОтч!W54","v":0},{"$f":"ССЗОтч!X54","v":0},{"$f":"ССЗОтч!Y54","v":0},{"$f":"ССЗОтч!Z54","v":0},{"$f":"ССЗОтч!AC54","v":""},{"$f":"ССЗОтч!AD54","v":0}]
[{"$f":"VLOOKUP(ТитГЗ!$A$17,'Служебный 1'!$C$3:$E$61,3,FALSE)","v":{"$error":"#N/A"}},{"$f":"ССЗ!$A$4","v":"Реализация образовательных программ среднего профессионального образования - программ подготовки специалистов среднего звена"},{"$f":"ССЗ!B58","v":0},{"$f":"ССЗ!D58","v":0},{"$f":"ССЗ!E58","v":0},{"$f":"ССЗ!J58","v":0},{"$f":"ССЗ!K58","v":0},{"$f":"ССЗ!L58","v":0},{"$f":"ССЗ!M58","v":0},{"$f":"ССЗ!N58","v":0},{"$f":"ССЗ!O58","v":0},{"$f":"ССЗ!P58","v":0},{"$f":"ССЗ!Q58","v":0},{"$f":"ССЗ!R58","v":0},{"$f":"ССЗ!S58","v":0},{"$f":"ССЗ!T58","v":0},{"$f":"ССЗ!U58","v":0},{"$f":"ССЗ!V58","v":0},{"$f":"ССЗ!W58","v":0},{"$f":"ССЗ!X58","v":0},{"$f":"ССЗОтч!N55","v":0},{"$f":"ССЗОтч!O55","v":0},{"$f":"ССЗОтч!P55","v":0},{"$f":"ССЗОтч!Q55","v":0},{"$f":"ССЗОтч!R55","v":0},{"$f":"ССЗОтч!S55","v":0},{"$f":"ССЗОтч!T55","v":0},{"$f":"ССЗОтч!U55","v":0},{"$f":"ССЗОтч!V55","v":0},{"$f":"ССЗОтч!W55","v":0},{"$f":"ССЗОтч!X55","v":0},{"$f":"ССЗОтч!Y55","v":0},{"$f":"ССЗОтч!Z55","v":0},{"$f":"ССЗОтч!AC55","v":""},{"$f":"ССЗОтч!AD55","v":0}]
[{"$f":"VLOOKUP(ТитГЗ!$A$17,'Служебный 1'!$C$3:$E$61,3,FALSE)","v":{"$error":"#N/A"}},{"$f":"ССЗ!$A$4","v":"Реализация образовательных программ среднего профессионального образования - программ подготовки специалистов среднего звена"},{"$f":"ССЗ!B59","v":0},{"$f":"ССЗ!D59","v":0},{"$f":"ССЗ!E59","v":0},{"$f":"ССЗ!J59","v":0},{"$f":"ССЗ!K59","v":0},{"$f":"ССЗ!L59","v":0},{"$f":"ССЗ!M59","v":0},{"$f":"ССЗ!N59","v":0},{"$f":"ССЗ!O59","v":0},{"$f":"ССЗ!P59","v":0},{"$f":"ССЗ!Q59","v":0},{"$f":"ССЗ!R59","v":0},{"$f":"ССЗ!S59","v":0},{"$f":"ССЗ!T59","v":0},{"$f":"ССЗ!U59","v":0},{"$f":"ССЗ!V59","v":0},{"$f":"ССЗ!W59","v":0},{"$f":"ССЗ!X59","v":0},{"$f":"ССЗОтч!N56","v":0},{"$f":"ССЗОтч!O56","v":0},{"$f":"ССЗОтч!P56","v":0},{"$f":"ССЗОтч!Q56","v":0},{"$f":"ССЗОтч!R56","v":0},{"$f":"ССЗОтч!S56","v":0},{"$f":"ССЗОтч!T56","v":0},{"$f":"ССЗОтч!U56","v":0},{"$f":"ССЗОтч!V56","v":0},{"$f":"ССЗОтч!W56","v":0},{"$f":"ССЗОтч!X56","v":0},{"$f":"ССЗОтч!Y56","v":0},{"$f":"ССЗОтч!Z56","v":0},{"$f":"ССЗОтч!AC56","v":""},{"$f":"ССЗОтч!AD56","v":0}]
[{"$f":"VLOOKUP(ТитГЗ!$A$17,'Служебный 1'!$C$3:$E$61,3,FALSE)","v":{"$error":"#N/A"}},{"$f":"ССЗ!$A$4","v":"Реализация образовательных программ среднего профессионального образования - программ подготовки специалистов среднего звена"},{"$f":"ССЗ!B60","v":0},{"$f":"ССЗ!D60","v":0},{"$f":"ССЗ!E60","v":0},{"$f":"ССЗ!J60","v":0},{"$f":"ССЗ!K60","v":0},{"$f":"ССЗ!L60","v":0},{"$f":"ССЗ!M60","v":0},{"$f":"ССЗ!N60","v":0},{"$f":"ССЗ!O60","v":0},{"$f":"ССЗ!P60","v":0},{"$f":"ССЗ!Q60","v":0},{"$f":"ССЗ!R60","v":0},{"$f":"ССЗ!S60","v":0},{"$f":"ССЗ!T60","v":0},{"$f":"ССЗ!U60","v":0},{"$f":"ССЗ!V60","v":0},{"$f":"ССЗ!W60","v":0},{"$f":"ССЗ!X60","v":0},{"$f":"ССЗОтч!N57","v":0},{"$f":"ССЗОтч!O57","v":0},{"$f":"ССЗОтч!P57","v":0},{"$f":"ССЗОтч!Q57","v":0},{"$f":"ССЗОтч!R57","v":0},{"$f":"ССЗОтч!S57","v":0},{"$f":"ССЗОтч!T57","v":0},{"$f":"ССЗОтч!U57","v":0},{"$f":"ССЗОтч!V57","v":0},{"$f":"ССЗОтч!W57","v":0},{"$f":"ССЗОтч!X57","v":0},{"$f":"ССЗОтч!Y57","v":0},{"$f":"ССЗОтч!Z57","v":0},{"$f":"ССЗОтч!AC57","v":""},{"$f":"ССЗОтч!AD57","v":0}]
[{"$f":"VLOOKUP(ТитГЗ!$A$17,'Служебный 1'!$C$3:$E$61,3,FALSE)","v":{"$error":"#N/A"}},{"$f":"ССЗ!$A$4","v":"Реализация образовательных программ среднего профессионального образования - программ подготовки специалистов среднего звена"},{"$f":"ССЗ!B61","v":0},{"$f":"ССЗ!D61","v":0},{"$f":"ССЗ!E61","v":0},{"$f":"ССЗ!J61","v":0},{"$f":"ССЗ!K61","v":0},{"$f":"ССЗ!L61","v":0},{"$f":"ССЗ!M61","v":0},{"$f":"ССЗ!N61","v":0},{"$f":"ССЗ!O61","v":0},{"$f":"ССЗ!P61","v":0},{"$f":"ССЗ!Q61","v":0},{"$f":"ССЗ!R61","v":0},{"$f":"ССЗ!S61","v":0},{"$f":"ССЗ!T61","v":0},{"$f":"ССЗ!U61","v":0},{"$f":"ССЗ!V61","v":0},{"$f":"ССЗ!W61","v":0},{"$f":"ССЗ!X61","v":0},{"$f":"ССЗОтч!N58","v":0},{"$f":"ССЗОтч!O58","v":0},{"$f":"ССЗОтч!P58","v":0},{"$f":"ССЗОтч!Q58","v":0},{"$f":"ССЗОтч!R58","v":0},{"$f":"ССЗОтч!S58","v":0},{"$f":"ССЗОтч!T58","v":0},{"$f":"ССЗОтч!U58","v":0},{"$f":"ССЗОтч!V58","v":0},{"$f":"ССЗОтч!W58","v":0},{"$f":"ССЗОтч!X58","v":0},{"$f":"ССЗОтч!Y58","v":0},{"$f":"ССЗОтч!Z58","v":0},{"$f":"ССЗОтч!AC58","v":""},{"$f":"ССЗОтч!AD58","v":0}]
[{"$f":"VLOOKUP(ТитГЗ!$A$17,'Служебный 1'!$C$3:$E$61,3,FALSE)","v":{"$error":"#N/A"}},{"$f":"ССЗ!$A$4","v":"Реализация образовательных программ среднего профессионального образования - программ подготовки специалистов среднего звена"},{"$f":"ССЗ!B62","v":0},{"$f":"ССЗ!D62","v":0},{"$f":"ССЗ!E62","v":0},{"$f":"ССЗ!J62","v":0},{"$f":"ССЗ!K62","v":0},{"$f":"ССЗ!L62","v":0},{"$f":"ССЗ!M62","v":0},{"$f":"ССЗ!N62","v":0},{"$f":"ССЗ!O62","v":0},{"$f":"ССЗ!P62","v":0},{"$f":"ССЗ!Q62","v":0},{"$f":"ССЗ!R62","v":0},{"$f":"ССЗ!S62","v":0},{"$f":"ССЗ!T62","v":0},{"$f":"ССЗ!U62","v":0},{"$f":"ССЗ!V62","v":0},{"$f":"ССЗ!W62","v":0},{"$f":"ССЗ!X62","v":0},{"$f":"ССЗОтч!N59","v":0},{"$f":"ССЗОтч!O59","v":0},{"$f":"ССЗОтч!P59","v":0},{"$f":"ССЗОтч!Q59","v":0},{"$f":"ССЗОтч!R59","v":0},{"$f":"ССЗОтч!S59","v":0},{"$f":"ССЗОтч!T59","v":0},{"$f":"ССЗОтч!U59","v":0},{"$f":"ССЗОтч!V59","v":0},{"$f":"ССЗОтч!W59","v":0},{"$f":"ССЗОтч!X59","v":0},{"$f":"ССЗОтч!Y59","v":0},{"$f":"ССЗОтч!Z59","v":0},{"$f":"ССЗОтч!AC59","v":""},{"$f":"ССЗОтч!AD59","v":0}]
[{"$f":"VLOOKUP(ТитГЗ!$A$17,'Служебный 1'!$C$3:$E$61,3,FALSE)","v":{"$error":"#N/A"}},{"$f":"ССЗ!$A$4","v":"Реализация образовательных программ среднего профессионального образования - программ подготовки специалистов среднего звена"},{"$f":"ССЗ!B63","v":0},{"$f":"ССЗ!D63","v":0},{"$f":"ССЗ!E63","v":0},{"$f":"ССЗ!J63","v":0},{"$f":"ССЗ!K63","v":0},{"$f":"ССЗ!L63","v":0},{"$f":"ССЗ!M63","v":0},{"$f":"ССЗ!N63","v":0},{"$f":"ССЗ!O63","v":0},{"$f":"ССЗ!P63","v":0},{"$f":"ССЗ!Q63","v":0},{"$f":"ССЗ!R63","v":0},{"$f":"ССЗ!S63","v":0},{"$f":"ССЗ!T63","v":0},{"$f":"ССЗ!U63","v":0},{"$f":"ССЗ!V63","v":0},{"$f":"ССЗ!W63","v":0},{"$f":"ССЗ!X63","v":0},{"$f":"ССЗОтч!N60","v":0},{"$f":"ССЗОтч!O60","v":0},{"$f":"ССЗОтч!P60","v":0},{"$f":"ССЗОтч!Q60","v":0},{"$f":"ССЗОтч!R60","v":0},{"$f":"ССЗОтч!S60","v":0},{"$f":"ССЗОтч!T60","v":0},{"$f":"ССЗОтч!U60","v":0},{"$f":"ССЗОтч!V60","v":0},{"$f":"ССЗОтч!W60","v":0},{"$f":"ССЗОтч!X60","v":0},{"$f":"ССЗОтч!Y60","v":0},{"$f":"ССЗОтч!Z60","v":0},{"$f":"ССЗОтч!AC60","v":""},{"$f":"ССЗОтч!AD60","v":0}]
[{"$f":"VLOOKUP(ТитГЗ!$A$17,'Служебный 1'!$C$3:$E$61,3,FALSE)","v":{"$error":"#N/A"}},{"$f":"ССЗ!$A$4","v":"Реализация образовательных программ среднего профессионального образования - программ подготовки специалистов среднего звена"},{"$f":"ССЗ!B64","v":0},{"$f":"ССЗ!D64","v":0},{"$f":"ССЗ!E64","v":0},{"$f":"ССЗ!J64","v":0},{"$f":"ССЗ!K64","v":0},{"$f":"ССЗ!L64","v":0},{"$f":"ССЗ!M64","v":0},{"$f":"ССЗ!N64","v":0},{"$f":"ССЗ!O64","v":0},{"$f":"ССЗ!P64","v":0},{"$f":"ССЗ!Q64","v":0},{"$f":"ССЗ!R64","v":0},{"$f":"ССЗ!S64","v":0},{"$f":"ССЗ!T64","v":0},{"$f":"ССЗ!U64","v":0},{"$f":"ССЗ!V64","v":0},{"$f":"ССЗ!W64","v":0},{"$f":"ССЗ!X64","v":0},{"$f":"ССЗОтч!N61","v":0},{"$f":"ССЗОтч!O61","v":0},{"$f":"ССЗОтч!P61","v":0},{"$f":"ССЗОтч!Q61","v":0},{"$f":"ССЗОтч!R61","v":0},{"$f":"ССЗОтч!S61","v":0},{"$f":"ССЗОтч!T61","v":0},{"$f":"ССЗОтч!U61","v":0},{"$f":"ССЗОтч!V61","v":0},{"$f":"ССЗОтч!W61","v":0},{"$f":"ССЗОтч!X61","v":0},{"$f":"ССЗОтч!Y61","v":0},{"$f":"ССЗОтч!Z61","v":0},{"$f":"ССЗОтч!AC61","v":""},{"$f":"ССЗОтч!AD61","v":0}]
[{"$f":"VLOOKUP(ТитГЗ!$A$17,'Служебный 1'!$C$3:$E$61,3,FALSE)","v":{"$error":"#N/A"}},{"$f":"ССЗ!$A$4","v":"Реализация образовательных программ среднего профессионального образования - программ подготовки специалистов среднего звена"},{"$f":"ССЗ!B65","v":0},{"$f":"ССЗ!D65","v":0},{"$f":"ССЗ!E65","v":0},{"$f":"ССЗ!J65","v":0},{"$f":"ССЗ!K65","v":0},{"$f":"ССЗ!L65","v":0},{"$f":"ССЗ!M65","v":0},{"$f":"ССЗ!N65","v":0},{"$f":"ССЗ!O65","v":0},{"$f":"ССЗ!P65","v":0},{"$f":"ССЗ!Q65","v":0},{"$f":"ССЗ!R65","v":0},{"$f":"ССЗ!S65","v":0},{"$f":"ССЗ!T65","v":0},{"$f":"ССЗ!U65","v":0},{"$f":"ССЗ!V65","v":0},{"$f":"ССЗ!W65","v":0},{"$f":"ССЗ!X65","v":0},{"$f":"ССЗОтч!N62","v":0},{"$f":"ССЗОтч!O62","v":0},{"$f":"ССЗОтч!P62","v":0},{"$f":"ССЗОтч!Q62","v":0},{"$f":"ССЗОтч!R62","v":0},{"$f":"ССЗОтч!S62","v":0},{"$f":"ССЗОтч!T62","v":0},{"$f":"ССЗОтч!U62","v":0},{"$f":"ССЗОтч!V62","v":0},{"$f":"ССЗОтч!W62","v":0},{"$f":"ССЗОтч!X62","v":0},{"$f":"ССЗОтч!Y62","v":0},{"$f":"ССЗОтч!Z62","v":0},{"$f":"ССЗОтч!AC62","v":""},{"$f":"ССЗОтч!AD62","v":0}]
[{"$f":"VLOOKUP(ТитГЗ!$A$17,'Служебный 1'!$C$3:$E$61,3,FALSE)","v":{"$error":"#N/A"}},{"$f":"ССЗ!$A$4","v":"Реализация образовательных программ среднего профессионального образования - программ подготовки специалистов среднего звена"},{"$f":"ССЗ!B66","v":0},{"$f":"ССЗ!D66","v":0},{"$f":"ССЗ!E66","v":0},{"$f":"ССЗ!J66","v":0},{"$f":"ССЗ!K66","v":0},{"$f":"ССЗ!L66","v":0},{"$f":"ССЗ!M66","v":0},{"$f":"ССЗ!N66","v":0},{"$f":"ССЗ!O66","v":0},{"$f":"ССЗ!P66","v":0},{"$f":"ССЗ!Q66","v":0},{"$f":"ССЗ!R66","v":0},{"$f":"ССЗ!S66","v":0},{"$f":"ССЗ!T66","v":0},{"$f":"ССЗ!U66","v":0},{"$f":"ССЗ!V66","v":0},{"$f":"ССЗ!W66","v":0},{"$f":"ССЗ!X66","v":0},{"$f":"ССЗОтч!N63","v":0},{"$f":"ССЗОтч!O63","v":0},{"$f":"ССЗОтч!P63","v":0},{"$f":"ССЗОтч!Q63","v":0},{"$f":"ССЗОтч!R63","v":0},{"$f":"ССЗОтч!S63","v":0},{"$f":"ССЗОтч!T63","v":0},{"$f":"ССЗОтч!U63","v":0},{"$f":"ССЗОтч!V63","v":0},{"$f":"ССЗОтч!W63","v":0},{"$f":"ССЗОтч!X63","v":0},{"$f":"ССЗОтч!Y63","v":0},{"$f":"ССЗОтч!Z63","v":0},{"$f":"ССЗОтч!AC63","v":""},{"$f":"ССЗОтч!AD63","v":0}]
[{"$f":"VLOOKUP(ТитГЗ!$A$17,'Служебный 1'!$C$3:$E$61,3,FALSE)","v":{"$error":"#N/A"}},{"$f":"ССЗ!$A$4","v":"Реализация образовательных программ среднего профессионального образования - программ подготовки специалистов среднего звена"},{"$f":"ССЗ!B67","v":0},{"$f":"ССЗ!D67","v":0},{"$f":"ССЗ!E67","v":0},{"$f":"ССЗ!J67","v":0},{"$f":"ССЗ!K67","v":0},{"$f":"ССЗ!L67","v":0},{"$f":"ССЗ!M67","v":0},{"$f":"ССЗ!N67","v":0},{"$f":"ССЗ!O67","v":0},{"$f":"ССЗ!P67","v":0},{"$f":"ССЗ!Q67","v":0},{"$f":"ССЗ!R67","v":0},{"$f":"ССЗ!S67","v":0},{"$f":"ССЗ!T67","v":0},{"$f":"ССЗ!U67","v":0},{"$f":"ССЗ!V67","v":0},{"$f":"ССЗ!W67","v":0},{"$f":"ССЗ!X67","v":0},{"$f":"ССЗОтч!N64","v":0},{"$f":"ССЗОтч!O64","v":0},{"$f":"ССЗОтч!P64","v":0},{"$f":"ССЗОтч!Q64","v":0},{"$f":"ССЗОтч!R64","v":0},{"$f":"ССЗОтч!S64","v":0},{"$f":"ССЗОтч!T64","v":0},{"$f":"ССЗОтч!U64","v":0},{"$f":"ССЗОтч!V64","v":0},{"$f":"ССЗОтч!W64","v":0},{"$f":"ССЗОтч!X64","v":0},{"$f":"ССЗОтч!Y64","v":0},{"$f":"ССЗОтч!Z64","v":0},{"$f":"ССЗОтч!AC64","v":""},{"$f":"ССЗОтч!AD64","v":0}]
[{"$f":"VLOOKUP(ТитГЗ!$A$17,'Служебный 1'!$C$3:$E$61,3,FALSE)","v":{"$error":"#N/A"}},{"$f":"ССЗ!$A$4","v":"Реализация образовательных программ среднего профессионального образования - программ подготовки специалистов среднего звена"},{"$f":"ССЗ!B68","v":0},{"$f":"ССЗ!D68","v":0},{"$f":"ССЗ!E68","v":0},{"$f":"ССЗ!J68","v":0},{"$f":"ССЗ!K68","v":0},{"$f":"ССЗ!L68","v":0},{"$f":"ССЗ!M68","v":0},{"$f":"ССЗ!N68","v":0},{"$f":"ССЗ!O68","v":0},{"$f":"ССЗ!P68","v":0},{"$f":"ССЗ!Q68","v":0},{"$f":"ССЗ!R68","v":0},{"$f":"ССЗ!S68","v":0},{"$f":"ССЗ!T68","v":0},{"$f":"ССЗ!U68","v":0},{"$f":"ССЗ!V68","v":0},{"$f":"ССЗ!W68","v":0},{"$f":"ССЗ!X68","v":0},{"$f":"ССЗОтч!N65","v":0},{"$f":"ССЗОтч!O65","v":0},{"$f":"ССЗОтч!P65","v":0},{"$f":"ССЗОтч!Q65","v":0},{"$f":"ССЗОтч!R65","v":0},{"$f":"ССЗОтч!S65","v":0},{"$f":"ССЗОтч!T65","v":0},{"$f":"ССЗОтч!U65","v":0},{"$f":"ССЗОтч!V65","v":0},{"$f":"ССЗОтч!W65","v":0},{"$f":"ССЗОтч!X65","v":0},{"$f":"ССЗОтч!Y65","v":0},{"$f":"ССЗОтч!Z65","v":0},{"$f":"ССЗОтч!AC65","v":""},{"$f":"ССЗОтч!AD65","v":0}]
[{"$f":"VLOOKUP(ТитГЗ!$A$17,'Служебный 1'!$C$3:$E$61,3,FALSE)","v":{"$error":"#N/A"}},{"$f":"ССЗ!$A$4","v":"Реализация образовательных программ среднего профессионального образования - программ подготовки специалистов среднего звена"},{"$f":"ССЗ!B69","v":0},{"$f":"ССЗ!D69","v":0},{"$f":"ССЗ!E69","v":0},{"$f":"ССЗ!J69","v":0},{"$f":"ССЗ!K69","v":0},{"$f":"ССЗ!L69","v":0},{"$f":"ССЗ!M69","v":0},{"$f":"ССЗ!N69","v":0},{"$f":"ССЗ!O69","v":0},{"$f":"ССЗ!P69","v":0},{"$f":"ССЗ!Q69","v":0},{"$f":"ССЗ!R69","v":0},{"$f":"ССЗ!S69","v":0},{"$f":"ССЗ!T69","v":0},{"$f":"ССЗ!U69","v":0},{"$f":"ССЗ!V69","v":0},{"$f":"ССЗ!W69","v":0},{"$f":"ССЗ!X69","v":0},{"$f":"ССЗОтч!N66","v":0},{"$f":"ССЗОтч!O66","v":0},{"$f":"ССЗОтч!P66","v":0},{"$f":"ССЗОтч!Q66","v":0},{"$f":"ССЗОтч!R66","v":0},{"$f":"ССЗОтч!S66","v":0},{"$f":"ССЗОтч!T66","v":0},{"$f":"ССЗОтч!U66","v":0},{"$f":"ССЗОтч!V66","v":0},{"$f":"ССЗОтч!W66","v":0},{"$f":"ССЗОтч!X66","v":0},{"$f":"ССЗОтч!Y66","v":0},{"$f":"ССЗОтч!Z66","v":0},{"$f":"ССЗОтч!AC66","v":""},{"$f":"ССЗОтч!AD66","v":0}]
[{"$f":"VLOOKUP(ТитГЗ!$A$17,'Служебный 1'!$C$3:$E$61,3,FALSE)","v":{"$error":"#N/A"}},{"$f":"ССЗ!$A$4","v":"Реализация образовательных программ среднего профессионального образования - программ подготовки специалистов среднего звена"},{"$f":"ССЗ!B70","v":0},{"$f":"ССЗ!D70","v":0},{"$f":"ССЗ!E70","v":0},{"$f":"ССЗ!J70","v":0},{"$f":"ССЗ!K70","v":0},{"$f":"ССЗ!L70","v":0},{"$f":"ССЗ!M70","v":0},{"$f":"ССЗ!N70","v":0},{"$f":"ССЗ!O70","v":0},{"$f":"ССЗ!P70","v":0},{"$f":"ССЗ!Q70","v":0},{"$f":"ССЗ!R70","v":0},{"$f":"ССЗ!S70","v":0},{"$f":"ССЗ!T70","v":0},{"$f":"ССЗ!U70","v":0},{"$f":"ССЗ!V70","v":0},{"$f":"ССЗ!W70","v":0},{"$f":"ССЗ!X70","v":0},{"$f":"ССЗОтч!N67","v":0},{"$f":"ССЗОтч!O67","v":0},{"$f":"ССЗОтч!P67","v":0},{"$f":"ССЗОтч!Q67","v":0},{"$f":"ССЗОтч!R67","v":0},{"$f":"ССЗОтч!S67","v":0},{"$f":"ССЗОтч!T67","v":0},{"$f":"ССЗОтч!U67","v":0},{"$f":"ССЗОтч!V67","v":0},{"$f":"ССЗОтч!W67","v":0},{"$f":"ССЗОтч!X67","v":0},{"$f":"ССЗОтч!Y67","v":0},{"$f":"ССЗОтч!Z67","v":0},{"$f":"ССЗОтч!AC67","v":""},{"$f":"ССЗОтч!AD67","v":0}]
[{"$f":"VLOOKUP(ТитГЗ!$A$17,'Служебный 1'!$C$3:$E$61,3,FALSE)","v":{"$error":"#N/A"}},{"$f":"ССЗ!$A$4","v":"Реализация образовательных программ среднего профессионального образования - программ подготовки специалистов среднего звена"},{"$f":"ССЗ!B71","v":0},{"$f":"ССЗ!D71","v":0},{"$f":"ССЗ!E71","v":0},{"$f":"ССЗ!J71","v":0},{"$f":"ССЗ!K71","v":0},{"$f":"ССЗ!L71","v":0},{"$f":"ССЗ!M71","v":0},{"$f":"ССЗ!N71","v":0},{"$f":"ССЗ!O71","v":0},{"$f":"ССЗ!P71","v":0},{"$f":"ССЗ!Q71","v":0},{"$f":"ССЗ!R71","v":0},{"$f":"ССЗ!S71","v":0},{"$f":"ССЗ!T71","v":0},{"$f":"ССЗ!U71","v":0},{"$f":"ССЗ!V71","v":0},{"$f":"ССЗ!W71","v":0},{"$f":"ССЗ!X71","v":0},{"$f":"ССЗОтч!N68","v":0},{"$f":"ССЗОтч!O68","v":0},{"$f":"ССЗОтч!P68","v":0},{"$f":"ССЗОтч!Q68","v":0},{"$f":"ССЗОтч!R68","v":0},{"$f":"ССЗОтч!S68","v":0},{"$f":"ССЗОтч!T68","v":0},{"$f":"ССЗОтч!U68","v":0},{"$f":"ССЗОтч!V68","v":0},{"$f":"ССЗОтч!W68","v":0},{"$f":"ССЗОтч!X68","v":0},{"$f":"ССЗОтч!Y68","v":0},{"$f":"ССЗОтч!Z68","v":0},{"$f":"ССЗОтч!AC68","v":""},{"$f":"ССЗОтч!AD68","v":0}]
[{"$f":"VLOOKUP(ТитГЗ!$A$17,'Служебный 1'!$C$3:$E$61,3,FALSE)","v":{"$error":"#N/A"}},{"$f":"ССЗ!$A$4","v":"Реализация образовательных программ среднего профессионального образования - программ подготовки специалистов среднего звена"},{"$f":"ССЗ!B72","v":0},{"$f":"ССЗ!D72","v":0},{"$f":"ССЗ!E72","v":0},{"$f":"ССЗ!J72","v":0},{"$f":"ССЗ!K72","v":0},{"$f":"ССЗ!L72","v":0},{"$f":"ССЗ!M72","v":0},{"$f":"ССЗ!N72","v":0},{"$f":"ССЗ!O72","v":0},{"$f":"ССЗ!P72","v":0},{"$f":"ССЗ!Q72","v":0},{"$f":"ССЗ!R72","v":0},{"$f":"ССЗ!S72","v":0},{"$f":"ССЗ!T72","v":0},{"$f":"ССЗ!U72","v":0},{"$f":"ССЗ!V72","v":0},{"$f":"ССЗ!W72","v":0},{"$f":"ССЗ!X72","v":0},{"$f":"ССЗОтч!N69","v":0},{"$f":"ССЗОтч!O69","v":0},{"$f":"ССЗОтч!P69","v":0},{"$f":"ССЗОтч!Q69","v":0},{"$f":"ССЗОтч!R69","v":0},{"$f":"ССЗОтч!S69","v":0},{"$f":"ССЗОтч!T69","v":0},{"$f":"ССЗОтч!U69","v":0},{"$f":"ССЗОтч!V69","v":0},{"$f":"ССЗОтч!W69","v":0},{"$f":"ССЗОтч!X69","v":0},{"$f":"ССЗОтч!Y69","v":0},{"$f":"ССЗОтч!Z69","v":0},{"$f":"ССЗОтч!AC69","v":""},{"$f":"ССЗОтч!AD69","v":0}]
[{"$f":"VLOOKUP(ТитГЗ!$A$17,'Служебный 1'!$C$3:$E$61,3,FALSE)","v":{"$error":"#N/A"}},{"$f":"ССЗ!$A$4","v":"Реализация образовательных программ среднего профессионального образования - программ подготовки специалистов среднего звена"},{"$f":"ССЗ!B73","v":0},{"$f":"ССЗ!D73","v":0},{"$f":"ССЗ!E73","v":0},{"$f":"ССЗ!J73","v":0},{"$f":"ССЗ!K73","v":0},{"$f":"ССЗ!L73","v":0},{"$f":"ССЗ!M73","v":0},{"$f":"ССЗ!N73","v":0},{"$f":"ССЗ!O73","v":0},{"$f":"ССЗ!P73","v":0},{"$f":"ССЗ!Q73","v":0},{"$f":"ССЗ!R73","v":0},{"$f":"ССЗ!S73","v":0},{"$f":"ССЗ!T73","v":0},{"$f":"ССЗ!U73","v":0},{"$f":"ССЗ!V73","v":0},{"$f":"ССЗ!W73","v":0},{"$f":"ССЗ!X73","v":0},{"$f":"ССЗОтч!N70","v":0},{"$f":"ССЗОтч!O70","v":0},{"$f":"ССЗОтч!P70","v":0},{"$f":"ССЗОтч!Q70","v":0},{"$f":"ССЗОтч!R70","v":0},{"$f":"ССЗОтч!S70","v":0},{"$f":"ССЗОтч!T70","v":0},{"$f":"ССЗОтч!U70","v":0},{"$f":"ССЗОтч!V70","v":0},{"$f":"ССЗОтч!W70","v":0},{"$f":"ССЗОтч!X70","v":0},{"$f":"ССЗОтч!Y70","v":0},{"$f":"ССЗОтч!Z70","v":0},{"$f":"ССЗОтч!AC70","v":""},{"$f":"ССЗОтч!AD70","v":0}]
[{"$f":"VLOOKUP(ТитГЗ!$A$17,'Служебный 1'!$C$3:$E$61,3,FALSE)","v":{"$error":"#N/A"}},{"$f":"ССЗ!$A$4","v":"Реализация образовательных программ среднего профессионального образования - программ подготовки специалистов среднего звена"},{"$f":"ССЗ!B74","v":0},{"$f":"ССЗ!D74","v":0},{"$f":"ССЗ!E74","v":0},{"$f":"ССЗ!J74","v":0},{"$f":"ССЗ!K74","v":0},{"$f":"ССЗ!L74","v":0},{"$f":"ССЗ!M74","v":0},{"$f":"ССЗ!N74","v":0},{"$f":"ССЗ!O74","v":0},{"$f":"ССЗ!P74","v":0},{"$f":"ССЗ!Q74","v":0},{"$f":"ССЗ!R74","v":0},{"$f":"ССЗ!S74","v":0},{"$f":"ССЗ!T74","v":0},{"$f":"ССЗ!U74","v":0},{"$f":"ССЗ!V74","v":0},{"$f":"ССЗ!W74","v":0},{"$f":"ССЗ!X74","v":0},{"$f":"ССЗОтч!N71","v":0},{"$f":"ССЗОтч!O71","v":0},{"$f":"ССЗОтч!P71","v":0},{"$f":"ССЗОтч!Q71","v":0},{"$f":"ССЗОтч!R71","v":0},{"$f":"ССЗОтч!S71","v":0},{"$f":"ССЗОтч!T71","v":0},{"$f":"ССЗОтч!U71","v":0},{"$f":"ССЗОтч!V71","v":0},{"$f":"ССЗОтч!W71","v":0},{"$f":"ССЗОтч!X71","v":0},{"$f":"ССЗОтч!Y71","v":0},{"$f":"ССЗОтч!Z71","v":0},{"$f":"ССЗОтч!AC71","v":""},{"$f":"ССЗОтч!AD71","v":0}]
[{"$f":"VLOOKUP(ТитГЗ!$A$17,'Служебный 1'!$C$3:$E$61,3,FALSE)","v":{"$error":"#N/A"}},{"$f":"ССЗ!$A$4","v":"Реализация образовательных программ среднего профессионального образования - программ подготовки специалистов среднего звена"},{"$f":"ССЗ!B75","v":0},{"$f":"ССЗ!D75","v":0},{"$f":"ССЗ!E75","v":0},{"$f":"ССЗ!J75","v":0},{"$f":"ССЗ!K75","v":0},{"$f":"ССЗ!L75","v":0},{"$f":"ССЗ!M75","v":0},{"$f":"ССЗ!N75","v":0},{"$f":"ССЗ!O75","v":0},{"$f":"ССЗ!P75","v":0},{"$f":"ССЗ!Q75","v":0},{"$f":"ССЗ!R75","v":0},{"$f":"ССЗ!S75","v":0},{"$f":"ССЗ!T75","v":0},{"$f":"ССЗ!U75","v":0},{"$f":"ССЗ!V75","v":0},{"$f":"ССЗ!W75","v":0},{"$f":"ССЗ!X75","v":0},{"$f":"ССЗОтч!N72","v":0},{"$f":"ССЗОтч!O72","v":0},{"$f":"ССЗОтч!P72","v":0},{"$f":"ССЗОтч!Q72","v":0},{"$f":"ССЗОтч!R72","v":0},{"$f":"ССЗОтч!S72","v":0},{"$f":"ССЗОтч!T72","v":0},{"$f":"ССЗОтч!U72","v":0},{"$f":"ССЗОтч!V72","v":0},{"$f":"ССЗОтч!W72","v":0},{"$f":"ССЗОтч!X72","v":0},{"$f":"ССЗОтч!Y72","v":0},{"$f":"ССЗОтч!Z72","v":0},{"$f":"ССЗОтч!AC72","v":""},{"$f":"ССЗОтч!AD72","v":0}]
[{"$f":"VLOOKUP(ТитГЗ!$A$17,'Служебный 1'!$C$3:$E$61,3,FALSE)","v":{"$error":"#N/A"}},{"$f":"ССЗ!$A$4","v":"Реализация образовательных программ среднего профессионального образования - программ подготовки специалистов среднего звена"},{"$f":"ССЗ!B76","v":0},{"$f":"ССЗ!D76","v":0},{"$f":"ССЗ!E76","v":0},{"$f":"ССЗ!J76","v":0},{"$f":"ССЗ!K76","v":0},{"$f":"ССЗ!L76","v":0},{"$f":"ССЗ!M76","v":0},{"$f":"ССЗ!N76","v":0},{"$f":"ССЗ!O76","v":0},{"$f":"ССЗ!P76","v":0},{"$f":"ССЗ!Q76","v":0},{"$f":"ССЗ!R76","v":0},{"$f":"ССЗ!S76","v":0},{"$f":"ССЗ!T76","v":0},{"$f":"ССЗ!U76","v":0},{"$f":"ССЗ!V76","v":0},{"$f":"ССЗ!W76","v":0},{"$f":"ССЗ!X76","v":0},{"$f":"ССЗОтч!N73","v":0},{"$f":"ССЗОтч!O73","v":0},{"$f":"ССЗОтч!P73","v":0},{"$f":"ССЗОтч!Q73","v":0},{"$f":"ССЗОтч!R73","v":0},{"$f":"ССЗОтч!S73","v":0},{"$f":"ССЗОтч!T73","v":0},{"$f":"ССЗОтч!U73","v":0},{"$f":"ССЗОтч!V73","v":0},{"$f":"ССЗОтч!W73","v":0},{"$f":"ССЗОтч!X73","v":0},{"$f":"ССЗОтч!Y73","v":0},{"$f":"ССЗОтч!Z73","v":0},{"$f":"ССЗОтч!AC73","v":""},{"$f":"ССЗОтч!AD73","v":0}]
[{"$f":"VLOOKUP(ТитГЗ!$A$17,'Служебный 1'!$C$3:$E$61,3,FALSE)","v":{"$error":"#N/A"}},{"$f":"ССЗ!$A$4","v":"Реализация образовательных программ среднего профессионального образования - программ подготовки специалистов среднего звена"},{"$f":"ССЗ!B77","v":0},{"$f":"ССЗ!D77","v":0},{"$f":"ССЗ!E77","v":0},{"$f":"ССЗ!J77","v":0},{"$f":"ССЗ!K77","v":0},{"$f":"ССЗ!L77","v":0},{"$f":"ССЗ!M77","v":0},{"$f":"ССЗ!N77","v":0},{"$f":"ССЗ!O77","v":0},{"$f":"ССЗ!P77","v":0},{"$f":"ССЗ!Q77","v":0},{"$f":"ССЗ!R77","v":0},{"$f":"ССЗ!S77","v":0},{"$f":"ССЗ!T77","v":0},{"$f":"ССЗ!U77","v":0},{"$f":"ССЗ!V77","v":0},{"$f":"ССЗ!W77","v":0},{"$f":"ССЗ!X77","v":0},{"$f":"ССЗОтч!N74","v":0},{"$f":"ССЗОтч!O74","v":0},{"$f":"ССЗОтч!P74","v":0},{"$f":"ССЗОтч!Q74","v":0},{"$f":"ССЗОтч!R74","v":0},{"$f":"ССЗОтч!S74","v":0},{"$f":"ССЗОтч!T74","v":0},{"$f":"ССЗОтч!U74","v":0},{"$f":"ССЗОтч!V74","v":0},{"$f":"ССЗОтч!W74","v":0},{"$f":"ССЗОтч!X74","v":0},{"$f":"ССЗОтч!Y74","v":0},{"$f":"ССЗОтч!Z74","v":0},{"$f":"ССЗОтч!AC74","v":""},{"$f":"ССЗОтч!AD74","v":0}]
[{"$f":"VLOOKUP(ТитГЗ!$A$17,'Служебный 1'!$C$3:$E$61,3,FALSE)","v":{"$error":"#N/A"}},{"$f":"ССЗ!$A$4","v":"Реализация образовательных программ среднего профессионального образования - программ подготовки специалистов среднего звена"},{"$f":"ССЗ!B78","v":0},{"$f":"ССЗ!D78","v":0},{"$f":"ССЗ!E78","v":0},{"$f":"ССЗ!J78","v":0},{"$f":"ССЗ!K78","v":0},{"$f":"ССЗ!L78","v":0},{"$f":"ССЗ!M78","v":0},{"$f":"ССЗ!N78","v":0},{"$f":"ССЗ!O78","v":0},{"$f":"ССЗ!P78","v":0},{"$f":"ССЗ!Q78","v":0},{"$f":"ССЗ!R78","v":0},{"$f":"ССЗ!S78","v":0},{"$f":"ССЗ!T78","v":0},{"$f":"ССЗ!U78","v":0},{"$f":"ССЗ!V78","v":0},{"$f":"ССЗ!W78","v":0},{"$f":"ССЗ!X78","v":0},{"$f":"ССЗОтч!N75","v":0},{"$f":"ССЗОтч!O75","v":0},{"$f":"ССЗОтч!P75","v":0},{"$f":"ССЗОтч!Q75","v":0},{"$f":"ССЗОтч!R75","v":0},{"$f":"ССЗОтч!S75","v":0},{"$f":"ССЗОтч!T75","v":0},{"$f":"ССЗОтч!U75","v":0},{"$f":"ССЗОтч!V75","v":0},{"$f":"ССЗОтч!W75","v":0},{"$f":"ССЗОтч!X75","v":0},{"$f":"ССЗОтч!Y75","v":0},{"$f":"ССЗОтч!Z75","v":0},{"$f":"ССЗОтч!AC75","v":""},{"$f":"ССЗОтч!AD75","v":0}]
[{"$f":"VLOOKUP(ТитГЗ!$A$17,'Служебный 1'!$C$3:$E$61,3,FALSE)","v":{"$error":"#N/A"}},{"$f":"ССЗ!$A$4","v":"Реализация образовательных программ среднего профессионального образования - программ подготовки специалистов среднего звена"},{"$f":"ССЗ!B79","v":0},{"$f":"ССЗ!D79","v":0},{"$f":"ССЗ!E79","v":0},{"$f":"ССЗ!J79","v":0},{"$f":"ССЗ!K79","v":0},{"$f":"ССЗ!L79","v":0},{"$f":"ССЗ!M79","v":0},{"$f":"ССЗ!N79","v":0},{"$f":"ССЗ!O79","v":0},{"$f":"ССЗ!P79","v":0},{"$f":"ССЗ!Q79","v":0},{"$f":"ССЗ!R79","v":0},{"$f":"ССЗ!S79","v":0},{"$f":"ССЗ!T79","v":0},{"$f":"ССЗ!U79","v":0},{"$f":"ССЗ!V79","v":0},{"$f":"ССЗ!W79","v":0},{"$f":"ССЗ!X79","v":0},{"$f":"ССЗОтч!N76","v":0},{"$f":"ССЗОтч!O76","v":0},{"$f":"ССЗОтч!P76","v":0},{"$f":"ССЗОтч!Q76","v":0},{"$f":"ССЗОтч!R76","v":0},{"$f":"ССЗОтч!S76","v":0},{"$f":"ССЗОтч!T76","v":0},{"$f":"ССЗОтч!U76","v":0},{"$f":"ССЗОтч!V76","v":0},{"$f":"ССЗОтч!W76","v":0},{"$f":"ССЗОтч!X76","v":0},{"$f":"ССЗОтч!Y76","v":0},{"$f":"ССЗОтч!Z76","v":0},{"$f":"ССЗОтч!AC76","v":""},{"$f":"ССЗОтч!AD76","v":0}]
[{"$f":"VLOOKUP(ТитГЗ!$A$17,'Служебный 1'!$C$3:$E$61,3,FALSE)","v":{"$error":"#N/A"}},{"$f":"ССЗ!$A$4","v":"Реализация образовательных программ среднего профессионального образования - программ подготовки специалистов среднего звена"},{"$f":"ССЗ!B80","v":0},{"$f":"ССЗ!D80","v":0},{"$f":"ССЗ!E80","v":0},{"$f":"ССЗ!J80","v":0},{"$f":"ССЗ!K80","v":0},{"$f":"ССЗ!L80","v":0},{"$f":"ССЗ!M80","v":0},{"$f":"ССЗ!N80","v":0},{"$f":"ССЗ!O80","v":0},{"$f":"ССЗ!P80","v":0},{"$f":"ССЗ!Q80","v":0},{"$f":"ССЗ!R80","v":0},{"$f":"ССЗ!S80","v":0},{"$f":"ССЗ!T80","v":0},{"$f":"ССЗ!U80","v":0},{"$f":"ССЗ!V80","v":0},{"$f":"ССЗ!W80","v":0},{"$f":"ССЗ!X80","v":0},{"$f":"ССЗОтч!N77","v":0},{"$f":"ССЗОтч!O77","v":0},{"$f":"ССЗОтч!P77","v":0},{"$f":"ССЗОтч!Q77","v":0},{"$f":"ССЗОтч!R77","v":0},{"$f":"ССЗОтч!S77","v":0},{"$f":"ССЗОтч!T77","v":0},{"$f":"ССЗОтч!U77","v":0},{"$f":"ССЗОтч!V77","v":0},{"$f":"ССЗОтч!W77","v":0},{"$f":"ССЗОтч!X77","v":0},{"$f":"ССЗОтч!Y77","v":0},{"$f":"ССЗОтч!Z77","v":0},{"$f":"ССЗОтч!AC77","v":""},{"$f":"ССЗОтч!AD77","v":0}]
[{"$f":"VLOOKUP(ТитГЗ!$A$17,'Служебный 1'!$C$3:$E$61,3,FALSE)","v":{"$error":"#N/A"}},{"$f":"ССЗ!$A$4","v":"Реализация образовательных программ среднего профессионального образования - программ подготовки специалистов среднего звена"},{"$f":"ССЗ!B81","v":0},{"$f":"ССЗ!D81","v":0},{"$f":"ССЗ!E81","v":0},{"$f":"ССЗ!J81","v":0},{"$f":"ССЗ!K81","v":0},{"$f":"ССЗ!L81","v":0},{"$f":"ССЗ!M81","v":0},{"$f":"ССЗ!N81","v":0},{"$f":"ССЗ!O81","v":0},{"$f":"ССЗ!P81","v":0},{"$f":"ССЗ!Q81","v":0},{"$f":"ССЗ!R81","v":0},{"$f":"ССЗ!S81","v":0},{"$f":"ССЗ!T81","v":0},{"$f":"ССЗ!U81","v":0},{"$f":"ССЗ!V81","v":0},{"$f":"ССЗ!W81","v":0},{"$f":"ССЗ!X81","v":0},{"$f":"ССЗОтч!N78","v":0},{"$f":"ССЗОтч!O78","v":0},{"$f":"ССЗОтч!P78","v":0},{"$f":"ССЗОтч!Q78","v":0},{"$f":"ССЗОтч!R78","v":0},{"$f":"ССЗОтч!S78","v":0},{"$f":"ССЗОтч!T78","v":0},{"$f":"ССЗОтч!U78","v":0},{"$f":"ССЗОтч!V78","v":0},{"$f":"ССЗОтч!W78","v":0},{"$f":"ССЗОтч!X78","v":0},{"$f":"ССЗОтч!Y78","v":0},{"$f":"ССЗОтч!Z78","v":0},{"$f":"ССЗОтч!AC78","v":""},{"$f":"ССЗОтч!AD78","v":0}]
[{"$f":"VLOOKUP(ТитГЗ!$A$17,'Служебный 1'!$C$3:$E$61,3,FALSE)","v":{"$error":"#N/A"}},{"$f":"ССЗ!$A$4","v":"Реализация образовательных программ среднего профессионального образования - программ подготовки специалистов среднего звена"},{"$f":"ССЗ!B82","v":0},{"$f":"ССЗ!D82","v":0},{"$f":"ССЗ!E82","v":0},{"$f":"ССЗ!J82","v":0},{"$f":"ССЗ!K82","v":0},{"$f":"ССЗ!L82","v":0},{"$f":"ССЗ!M82","v":0},{"$f":"ССЗ!N82","v":0},{"$f":"ССЗ!O82","v":0},{"$f":"ССЗ!P82","v":0},{"$f":"ССЗ!Q82","v":0},{"$f":"ССЗ!R82","v":0},{"$f":"ССЗ!S82","v":0},{"$f":"ССЗ!T82","v":0},{"$f":"ССЗ!U82","v":0},{"$f":"ССЗ!V82","v":0},{"$f":"ССЗ!W82","v":0},{"$f":"ССЗ!X82","v":0},{"$f":"ССЗОтч!N79","v":0},{"$f":"ССЗОтч!O79","v":0},{"$f":"ССЗОтч!P79","v":0},{"$f":"ССЗОтч!Q79","v":0},{"$f":"ССЗОтч!R79","v":0},{"$f":"ССЗОтч!S79","v":0},{"$f":"ССЗОтч!T79","v":0},{"$f":"ССЗОтч!U79","v":0},{"$f":"ССЗОтч!V79","v":0},{"$f":"ССЗОтч!W79","v":0},{"$f":"ССЗОтч!X79","v":0},{"$f":"ССЗОтч!Y79","v":0},{"$f":"ССЗОтч!Z79","v":0},{"$f":"ССЗОтч!AC79","v":""},{"$f":"ССЗОтч!AD79","v":0}]
[{"$f":"VLOOKUP(ТитГЗ!$A$17,'Служебный 1'!$C$3:$E$61,3,FALSE)","v":{"$error":"#N/A"}},{"$f":"ССЗ!$A$4","v":"Реализация образовательных программ среднего профессионального образования - программ подготовки специалистов среднего звена"},{"$f":"ССЗ!B83","v":0},{"$f":"ССЗ!D83","v":0},{"$f":"ССЗ!E83","v":0},{"$f":"ССЗ!J83","v":0},{"$f":"ССЗ!K83","v":0},{"$f":"ССЗ!L83","v":0},{"$f":"ССЗ!M83","v":0},{"$f":"ССЗ!N83","v":0},{"$f":"ССЗ!O83","v":0},{"$f":"ССЗ!P83","v":0},{"$f":"ССЗ!Q83","v":0},{"$f":"ССЗ!R83","v":0},{"$f":"ССЗ!S83","v":0},{"$f":"ССЗ!T83","v":0},{"$f":"ССЗ!U83","v":0},{"$f":"ССЗ!V83","v":0},{"$f":"ССЗ!W83","v":0},{"$f":"ССЗ!X83","v":0},{"$f":"ССЗОтч!N80","v":0},{"$f":"ССЗОтч!O80","v":0},{"$f":"ССЗОтч!P80","v":0},{"$f":"ССЗОтч!Q80","v":0},{"$f":"ССЗОтч!R80","v":0},{"$f":"ССЗОтч!S80","v":0},{"$f":"ССЗОтч!T80","v":0},{"$f":"ССЗОтч!U80","v":0},{"$f":"ССЗОтч!V80","v":0},{"$f":"ССЗОтч!W80","v":0},{"$f":"ССЗОтч!X80","v":0},{"$f":"ССЗОтч!Y80","v":0},{"$f":"ССЗОтч!Z80","v":0},{"$f":"ССЗОтч!AC80","v":""},{"$f":"ССЗОтч!AD80","v":0}]
[{"$f":"VLOOKUP(ТитГЗ!$A$17,'Служебный 1'!$C$3:$E$61,3,FALSE)","v":{"$error":"#N/A"}},{"$f":"ССЗ!$A$4","v":"Реализация образовательных программ среднего профессионального образования - программ подготовки специалистов среднего звена"},{"$f":"ССЗ!B84","v":0},{"$f":"ССЗ!D84","v":0},{"$f":"ССЗ!E84","v":0},{"$f":"ССЗ!J84","v":0},{"$f":"ССЗ!K84","v":0},{"$f":"ССЗ!L84","v":0},{"$f":"ССЗ!M84","v":0},{"$f":"ССЗ!N84","v":0},{"$f":"ССЗ!O84","v":0},{"$f":"ССЗ!P84","v":0},{"$f":"ССЗ!Q84","v":0},{"$f":"ССЗ!R84","v":0},{"$f":"ССЗ!S84","v":0},{"$f":"ССЗ!T84","v":0},{"$f":"ССЗ!U84","v":0},{"$f":"ССЗ!V84","v":0},{"$f":"ССЗ!W84","v":0},{"$f":"ССЗ!X84","v":0},{"$f":"ССЗОтч!N81","v":0},{"$f":"ССЗОтч!O81","v":0},{"$f":"ССЗОтч!P81","v":0},{"$f":"ССЗОтч!Q81","v":0},{"$f":"ССЗОтч!R81","v":0},{"$f":"ССЗОтч!S81","v":0},{"$f":"ССЗОтч!T81","v":0},{"$f":"ССЗОтч!U81","v":0},{"$f":"ССЗОтч!V81","v":0},{"$f":"ССЗОтч!W81","v":0},{"$f":"ССЗОтч!X81","v":0},{"$f":"ССЗОтч!Y81","v":0},{"$f":"ССЗОтч!Z81","v":0},{"$f":"ССЗОтч!AC81","v":""},{"$f":"ССЗОтч!AD81","v":0}]
[{"$f":"VLOOKUP(ТитГЗ!$A$17,'Служебный 1'!$C$3:$E$61,3,FALSE)","v":{"$error":"#N/A"}},{"$f":"ССЗ!$A$4","v":"Реализация образовательных программ среднего профессионального образования - программ подготовки специалистов среднего звена"},{"$f":"ССЗ!B85","v":0},{"$f":"ССЗ!D85","v":0},{"$f":"ССЗ!E85","v":0},{"$f":"ССЗ!J85","v":0},{"$f":"ССЗ!K85","v":0},{"$f":"ССЗ!L85","v":0},{"$f":"ССЗ!M85","v":0},{"$f":"ССЗ!N85","v":0},{"$f":"ССЗ!O85","v":0},{"$f":"ССЗ!P85","v":0},{"$f":"ССЗ!Q85","v":0},{"$f":"ССЗ!R85","v":0},{"$f":"ССЗ!S85","v":0},{"$f":"ССЗ!T85","v":0},{"$f":"ССЗ!U85","v":0},{"$f":"ССЗ!V85","v":0},{"$f":"ССЗ!W85","v":0},{"$f":"ССЗ!X85","v":0},{"$f":"ССЗОтч!N82","v":0},{"$f":"ССЗОтч!O82","v":0},{"$f":"ССЗОтч!P82","v":0},{"$f":"ССЗОтч!Q82","v":0},{"$f":"ССЗОтч!R82","v":0},{"$f":"ССЗОтч!S82","v":0},{"$f":"ССЗОтч!T82","v":0},{"$f":"ССЗОтч!U82","v":0},{"$f":"ССЗОтч!V82","v":0},{"$f":"ССЗОтч!W82","v":0},{"$f":"ССЗОтч!X82","v":0},{"$f":"ССЗОтч!Y82","v":0},{"$f":"ССЗОтч!Z82","v":0},{"$f":"ССЗОтч!AC82","v":""},{"$f":"ССЗОтч!AD82","v":0}]
[{"$f":"VLOOKUP(ТитГЗ!$A$17,'Служебный 1'!$C$3:$E$61,3,FALSE)","v":{"$error":"#N/A"}},{"$f":"ССЗ!$A$4","v":"Реализация образовательных программ среднего профессионального образования - программ подготовки специалистов среднего звена"},{"$f":"ССЗ!B86","v":0},{"$f":"ССЗ!D86","v":0},{"$f":"ССЗ!E86","v":0},{"$f":"ССЗ!J86","v":0},{"$f":"ССЗ!K86","v":0},{"$f":"ССЗ!L86","v":0},{"$f":"ССЗ!M86","v":0},{"$f":"ССЗ!N86","v":0},{"$f":"ССЗ!O86","v":0},{"$f":"ССЗ!P86","v":0},{"$f":"ССЗ!Q86","v":0},{"$f":"ССЗ!R86","v":0},{"$f":"ССЗ!S86","v":0},{"$f":"ССЗ!T86","v":0},{"$f":"ССЗ!U86","v":0},{"$f":"ССЗ!V86","v":0},{"$f":"ССЗ!W86","v":0},{"$f":"ССЗ!X86","v":0},{"$f":"ССЗОтч!N83","v":0},{"$f":"ССЗОтч!O83","v":0},{"$f":"ССЗОтч!P83","v":0},{"$f":"ССЗОтч!Q83","v":0},{"$f":"ССЗОтч!R83","v":0},{"$f":"ССЗОтч!S83","v":0},{"$f":"ССЗОтч!T83","v":0},{"$f":"ССЗОтч!U83","v":0},{"$f":"ССЗОтч!V83","v":0},{"$f":"ССЗОтч!W83","v":0},{"$f":"ССЗОтч!X83","v":0},{"$f":"ССЗОтч!Y83","v":0},{"$f":"ССЗОтч!Z83","v":0},{"$f":"ССЗОтч!AC83","v":""},{"$f":"ССЗОтч!AD83","v":0}]
[{"$f":"VLOOKUP(ТитГЗ!$A$17,'Служебный 1'!$C$3:$E$61,3,FALSE)","v":{"$error":"#N/A"}},{"$f":"ССЗ!$A$4","v":"Реализация образовательных программ среднего профессионального образования - программ подготовки специалистов среднего звена"},{"$f":"ССЗ!B87","v":0},{"$f":"ССЗ!D87","v":0},{"$f":"ССЗ!E87","v":0},{"$f":"ССЗ!J87","v":0},{"$f":"ССЗ!K87","v":0},{"$f":"ССЗ!L87","v":0},{"$f":"ССЗ!M87","v":0},{"$f":"ССЗ!N87","v":0},{"$f":"ССЗ!O87","v":0},{"$f":"ССЗ!P87","v":0},{"$f":"ССЗ!Q87","v":0},{"$f":"ССЗ!R87","v":0},{"$f":"ССЗ!S87","v":0},{"$f":"ССЗ!T87","v":0},{"$f":"ССЗ!U87","v":0},{"$f":"ССЗ!V87","v":0},{"$f":"ССЗ!W87","v":0},{"$f":"ССЗ!X87","v":0},{"$f":"ССЗОтч!N84","v":0},{"$f":"ССЗОтч!O84","v":0},{"$f":"ССЗОтч!P84","v":0},{"$f":"ССЗОтч!Q84","v":0},{"$f":"ССЗОтч!R84","v":0},{"$f":"ССЗОтч!S84","v":0},{"$f":"ССЗОтч!T84","v":0},{"$f":"ССЗОтч!U84","v":0},{"$f":"ССЗОтч!V84","v":0},{"$f":"ССЗОтч!W84","v":0},{"$f":"ССЗОтч!X84","v":0},{"$f":"ССЗОтч!Y84","v":0},{"$f":"ССЗОтч!Z84","v":0},{"$f":"ССЗОтч!AC84","v":""},{"$f":"ССЗОтч!AD84","v":0}]
[{"$f":"VLOOKUP(ТитГЗ!$A$17,'Служебный 1'!$C$3:$E$61,3,FALSE)","v":{"$error":"#N/A"}},{"$f":"ССЗ!$A$4","v":"Реализация образовательных программ среднего профессионального образования - программ подготовки специалистов среднего звена"},{"$f":"ССЗ!B88","v":0},{"$f":"ССЗ!D88","v":0},{"$f":"ССЗ!E88","v":0},{"$f":"ССЗ!J88","v":0},{"$f":"ССЗ!K88","v":0},{"$f":"ССЗ!L88","v":0},{"$f":"ССЗ!M88","v":0},{"$f":"ССЗ!N88","v":0},{"$f":"ССЗ!O88","v":0},{"$f":"ССЗ!P88","v":0},{"$f":"ССЗ!Q88","v":0},{"$f":"ССЗ!R88","v":0},{"$f":"ССЗ!S88","v":0},{"$f":"ССЗ!T88","v":0},{"$f":"ССЗ!U88","v":0},{"$f":"ССЗ!V88","v":0},{"$f":"ССЗ!W88","v":0},{"$f":"ССЗ!X88","v":0},{"$f":"ССЗОтч!N85","v":0},{"$f":"ССЗОтч!O85","v":0},{"$f":"ССЗОтч!P85","v":0},{"$f":"ССЗОтч!Q85","v":0},{"$f":"ССЗОтч!R85","v":0},{"$f":"ССЗОтч!S85","v":0},{"$f":"ССЗОтч!T85","v":0},{"$f":"ССЗОтч!U85","v":0},{"$f":"ССЗОтч!V85","v":0},{"$f":"ССЗОтч!W85","v":0},{"$f":"ССЗОтч!X85","v":0},{"$f":"ССЗОтч!Y85","v":0},{"$f":"ССЗОтч!Z85","v":0},{"$f":"ССЗОтч!AC85","v":""},{"$f":"ССЗОтч!AD85","v":0}]
[{"$f":"VLOOKUP(ТитГЗ!$A$17,'Служебный 1'!$C$3:$E$61,3,FALSE)","v":{"$error":"#N/A"}},{"$f":"ССЗ!$A$4","v":"Реализация образовательных программ среднего профессионального образования - программ подготовки специалистов среднего звена"},{"$f":"ССЗ!B89","v":0},{"$f":"ССЗ!D89","v":0},{"$f":"ССЗ!E89","v":0},{"$f":"ССЗ!J89","v":0},{"$f":"ССЗ!K89","v":0},{"$f":"ССЗ!L89","v":0},{"$f":"ССЗ!M89","v":0},{"$f":"ССЗ!N89","v":0},{"$f":"ССЗ!O89","v":0},{"$f":"ССЗ!P89","v":0},{"$f":"ССЗ!Q89","v":0},{"$f":"ССЗ!R89","v":0},{"$f":"ССЗ!S89","v":0},{"$f":"ССЗ!T89","v":0},{"$f":"ССЗ!U89","v":0},{"$f":"ССЗ!V89","v":0},{"$f":"ССЗ!W89","v":0},{"$f":"ССЗ!X89","v":0},{"$f":"ССЗОтч!N86","v":0},{"$f":"ССЗОтч!O86","v":0},{"$f":"ССЗОтч!P86","v":0},{"$f":"ССЗОтч!Q86","v":0},{"$f":"ССЗОтч!R86","v":0},{"$f":"ССЗОтч!S86","v":0},{"$f":"ССЗОтч!T86","v":0},{"$f":"ССЗОтч!U86","v":0},{"$f":"ССЗОтч!V86","v":0},{"$f":"ССЗОтч!W86","v":0},{"$f":"ССЗОтч!X86","v":0},{"$f":"ССЗОтч!Y86","v":0},{"$f":"ССЗОтч!Z86","v":0},{"$f":"ССЗОтч!AC86","v":""},{"$f":"ССЗОтч!AD86","v":0}]
[{"$f":"VLOOKUP(ТитГЗ!$A$17,'Служебный 1'!$C$3:$E$61,3,FALSE)","v":{"$error":"#N/A"}},{"$f":"ССЗ!$A$4","v":"Реализация образовательных программ среднего профессионального образования - программ подготовки специалистов среднего звена"},{"$f":"ССЗ!B90","v":0},{"$f":"ССЗ!D90","v":0},{"$f":"ССЗ!E90","v":0},{"$f":"ССЗ!J90","v":0},{"$f":"ССЗ!K90","v":0},{"$f":"ССЗ!L90","v":0},{"$f":"ССЗ!M90","v":0},{"$f":"ССЗ!N90","v":0},{"$f":"ССЗ!O90","v":0},{"$f":"ССЗ!P90","v":0},{"$f":"ССЗ!Q90","v":0},{"$f":"ССЗ!R90","v":0},{"$f":"ССЗ!S90","v":0},{"$f":"ССЗ!T90","v":0},{"$f":"ССЗ!U90","v":0},{"$f":"ССЗ!V90","v":0},{"$f":"ССЗ!W90","v":0},{"$f":"ССЗ!X90","v":0},{"$f":"ССЗОтч!N87","v":0},{"$f":"ССЗОтч!O87","v":0},{"$f":"ССЗОтч!P87","v":0},{"$f":"ССЗОтч!Q87","v":0},{"$f":"ССЗОтч!R87","v":0},{"$f":"ССЗОтч!S87","v":0},{"$f":"ССЗОтч!T87","v":0},{"$f":"ССЗОтч!U87","v":0},{"$f":"ССЗОтч!V87","v":0},{"$f":"ССЗОтч!W87","v":0},{"$f":"ССЗОтч!X87","v":0},{"$f":"ССЗОтч!Y87","v":0},{"$f":"ССЗОтч!Z87","v":0},{"$f":"ССЗОтч!AC87","v":""},{"$f":"ССЗОтч!AD87","v":0}]
[{"$f":"VLOOKUP(ТитГЗ!$A$17,'Служебный 1'!$C$3:$E$61,3,FALSE)","v":{"$error":"#N/A"}},{"$f":"ССЗ!$A$4","v":"Реализация образовательных программ среднего профессионального образования - программ подготовки специалистов среднего звена"},{"$f":"ССЗ!B91","v":0},{"$f":"ССЗ!D91","v":0},{"$f":"ССЗ!E91","v":0},{"$f":"ССЗ!J91","v":0},{"$f":"ССЗ!K91","v":0},{"$f":"ССЗ!L91","v":0},{"$f":"ССЗ!M91","v":0},{"$f":"ССЗ!N91","v":0},{"$f":"ССЗ!O91","v":0},{"$f":"ССЗ!P91","v":0},{"$f":"ССЗ!Q91","v":0},{"$f":"ССЗ!R91","v":0},{"$f":"ССЗ!S91","v":0},{"$f":"ССЗ!T91","v":0},{"$f":"ССЗ!U91","v":0},{"$f":"ССЗ!V91","v":0},{"$f":"ССЗ!W91","v":0},{"$f":"ССЗ!X91","v":0},{"$f":"ССЗОтч!N88","v":0},{"$f":"ССЗОтч!O88","v":0},{"$f":"ССЗОтч!P88","v":0},{"$f":"ССЗОтч!Q88","v":0},{"$f":"ССЗОтч!R88","v":0},{"$f":"ССЗОтч!S88","v":0},{"$f":"ССЗОтч!T88","v":0},{"$f":"ССЗОтч!U88","v":0},{"$f":"ССЗОтч!V88","v":0},{"$f":"ССЗОтч!W88","v":0},{"$f":"ССЗОтч!X88","v":0},{"$f":"ССЗОтч!Y88","v":0},{"$f":"ССЗОтч!Z88","v":0},{"$f":"ССЗОтч!AC88","v":""},{"$f":"ССЗОтч!AD88","v":0}]
[{"$f":"VLOOKUP(ТитГЗ!$A$17,'Служебный 1'!$C$3:$E$61,3,FALSE)","v":{"$error":"#N/A"}},{"$f":"ССЗ!$A$4","v":"Реализация образовательных программ среднего профессионального образования - программ подготовки специалистов среднего звена"},{"$f":"ССЗ!B92","v":0},{"$f":"ССЗ!D92","v":0},{"$f":"ССЗ!E92","v":0},{"$f":"ССЗ!J92","v":0},{"$f":"ССЗ!K92","v":0},{"$f":"ССЗ!L92","v":0},{"$f":"ССЗ!M92","v":0},{"$f":"ССЗ!N92","v":0},{"$f":"ССЗ!O92","v":0},{"$f":"ССЗ!P92","v":0},{"$f":"ССЗ!Q92","v":0},{"$f":"ССЗ!R92","v":0},{"$f":"ССЗ!S92","v":0},{"$f":"ССЗ!T92","v":0},{"$f":"ССЗ!U92","v":0},{"$f":"ССЗ!V92","v":0},{"$f":"ССЗ!W92","v":0},{"$f":"ССЗ!X92","v":0},{"$f":"ССЗОтч!N89","v":0},{"$f":"ССЗОтч!O89","v":0},{"$f":"ССЗОтч!P89","v":0},{"$f":"ССЗОтч!Q89","v":0},{"$f":"ССЗОтч!R89","v":0},{"$f":"ССЗОтч!S89","v":0},{"$f":"ССЗОтч!T89","v":0},{"$f":"ССЗОтч!U89","v":0},{"$f":"ССЗОтч!V89","v":0},{"$f":"ССЗОтч!W89","v":0},{"$f":"ССЗОтч!X89","v":0},{"$f":"ССЗОтч!Y89","v":0},{"$f":"ССЗОтч!Z89","v":0},{"$f":"ССЗОтч!AC89","v":""},{"$f":"ССЗОтч!AD89","v":0}]
[{"$f":"VLOOKUP(ТитГЗ!$A$17,'Служебный 1'!$C$3:$E$61,3,FALSE)","v":{"$error":"#N/A"}},{"$f":"ССЗ!$A$4","v":"Реализация образовательных программ среднего профессионального образования - программ подготовки специалистов среднего звена"},{"$f":"ССЗ!B93","v":0},{"$f":"ССЗ!D93","v":0},{"$f":"ССЗ!E93","v":0},{"$f":"ССЗ!J93","v":0},{"$f":"ССЗ!K93","v":0},{"$f":"ССЗ!L93","v":0},{"$f":"ССЗ!M93","v":0},{"$f":"ССЗ!N93","v":0},{"$f":"ССЗ!O93","v":0},{"$f":"ССЗ!P93","v":0},{"$f":"ССЗ!Q93","v":0},{"$f":"ССЗ!R93","v":0},{"$f":"ССЗ!S93","v":0},{"$f":"ССЗ!T93","v":0},{"$f":"ССЗ!U93","v":0},{"$f":"ССЗ!V93","v":0},{"$f":"ССЗ!W93","v":0},{"$f":"ССЗ!X93","v":0},{"$f":"ССЗОтч!N90","v":0},{"$f":"ССЗОтч!O90","v":0},{"$f":"ССЗОтч!P90","v":0},{"$f":"ССЗОтч!Q90","v":0},{"$f":"ССЗОтч!R90","v":0},{"$f":"ССЗОтч!S90","v":0},{"$f":"ССЗОтч!T90","v":0},{"$f":"ССЗОтч!U90","v":0},{"$f":"ССЗОтч!V90","v":0},{"$f":"ССЗОтч!W90","v":0},{"$f":"ССЗОтч!X90","v":0},{"$f":"ССЗОтч!Y90","v":0},{"$f":"ССЗОтч!Z90","v":0},{"$f":"ССЗОтч!AC90","v":""},{"$f":"ССЗОтч!AD90","v":0}]
[{"$f":"VLOOKUP(ТитГЗ!$A$17,'Служебный 1'!$C$3:$E$61,3,FALSE)","v":{"$error":"#N/A"}},{"$f":"ССЗ!$A$4","v":"Реализация образовательных программ среднего профессионального образования - программ подготовки специалистов среднего звена"},{"$f":"ССЗ!B94","v":0},{"$f":"ССЗ!D94","v":0},{"$f":"ССЗ!E94","v":0},{"$f":"ССЗ!J94","v":0},{"$f":"ССЗ!K94","v":0},{"$f":"ССЗ!L94","v":0},{"$f":"ССЗ!M94","v":0},{"$f":"ССЗ!N94","v":0},{"$f":"ССЗ!O94","v":0},{"$f":"ССЗ!P94","v":0},{"$f":"ССЗ!Q94","v":0},{"$f":"ССЗ!R94","v":0},{"$f":"ССЗ!S94","v":0},{"$f":"ССЗ!T94","v":0},{"$f":"ССЗ!U94","v":0},{"$f":"ССЗ!V94","v":0},{"$f":"ССЗ!W94","v":0},{"$f":"ССЗ!X94","v":0},{"$f":"ССЗОтч!N91","v":0},{"$f":"ССЗОтч!O91","v":0},{"$f":"ССЗОтч!P91","v":0},{"$f":"ССЗОтч!Q91","v":0},{"$f":"ССЗОтч!R91","v":0},{"$f":"ССЗОтч!S91","v":0},{"$f":"ССЗОтч!T91","v":0},{"$f":"ССЗОтч!U91","v":0},{"$f":"ССЗОтч!V91","v":0},{"$f":"ССЗОтч!W91","v":0},{"$f":"ССЗОтч!X91","v":0},{"$f":"ССЗОтч!Y91","v":0},{"$f":"ССЗОтч!Z91","v":0},{"$f":"ССЗОтч!AC91","v":""},{"$f":"ССЗОтч!AD91","v":0}]
[{"$f":"VLOOKUP(ТитГЗ!$A$17,'Служебный 1'!$C$3:$E$61,3,FALSE)","v":{"$error":"#N/A"}},{"$f":"ССЗ!$A$4","v":"Реализация образовательных программ среднего профессионального образования - программ подготовки специалистов среднего звена"},{"$f":"ССЗ!B95","v":0},{"$f":"ССЗ!D95","v":0},{"$f":"ССЗ!E95","v":0},{"$f":"ССЗ!J95","v":0},{"$f":"ССЗ!K95","v":0},{"$f":"ССЗ!L95","v":0},{"$f":"ССЗ!M95","v":0},{"$f":"ССЗ!N95","v":0},{"$f":"ССЗ!O95","v":0},{"$f":"ССЗ!P95","v":0},{"$f":"ССЗ!Q95","v":0},{"$f":"ССЗ!R95","v":0},{"$f":"ССЗ!S95","v":0},{"$f":"ССЗ!T95","v":0},{"$f":"ССЗ!U95","v":0},{"$f":"ССЗ!V95","v":0},{"$f":"ССЗ!W95","v":0},{"$f":"ССЗ!X95","v":0},{"$f":"ССЗОтч!N92","v":0},{"$f":"ССЗОтч!O92","v":0},{"$f":"ССЗОтч!P92","v":0},{"$f":"ССЗОтч!Q92","v":0},{"$f":"ССЗОтч!R92","v":0},{"$f":"ССЗОтч!S92","v":0},{"$f":"ССЗОтч!T92","v":0},{"$f":"ССЗОтч!U92","v":0},{"$f":"ССЗОтч!V92","v":0},{"$f":"ССЗОтч!W92","v":0},{"$f":"ССЗОтч!X92","v":0},{"$f":"ССЗОтч!Y92","v":0},{"$f":"ССЗОтч!Z92","v":0},{"$f":"ССЗОтч!AC92","v":""},{"$f":"ССЗОтч!AD92","v":0}]
[{"$f":"VLOOKUP(ТитГЗ!$A$17,'Служебный 1'!$C$3:$E$61,3,FALSE)","v":{"$error":"#N/A"}},{"$f":"ССЗ!$A$4","v":"Реализация образовательных программ среднего профессионального образования - программ подготовки специалистов среднего звена"},{"$f":"ССЗ!B96","v":0},{"$f":"ССЗ!D96","v":0},{"$f":"ССЗ!E96","v":0},{"$f":"ССЗ!J96","v":0},{"$f":"ССЗ!K96","v":0},{"$f":"ССЗ!L96","v":0},{"$f":"ССЗ!M96","v":0},{"$f":"ССЗ!N96","v":0},{"$f":"ССЗ!O96","v":0},{"$f":"ССЗ!P96","v":0},{"$f":"ССЗ!Q96","v":0},{"$f":"ССЗ!R96","v":0},{"$f":"ССЗ!S96","v":0},{"$f":"ССЗ!T96","v":0},{"$f":"ССЗ!U96","v":0},{"$f":"ССЗ!V96","v":0},{"$f":"ССЗ!W96","v":0},{"$f":"ССЗ!X96","v":0},{"$f":"ССЗОтч!N93","v":0},{"$f":"ССЗОтч!O93","v":0},{"$f":"ССЗОтч!P93","v":0},{"$f":"ССЗОтч!Q93","v":0},{"$f":"ССЗОтч!R93","v":0},{"$f":"ССЗОтч!S93","v":0},{"$f":"ССЗОтч!T93","v":0},{"$f":"ССЗОтч!U93","v":0},{"$f":"ССЗОтч!V93","v":0},{"$f":"ССЗОтч!W93","v":0},{"$f":"ССЗОтч!X93","v":0},{"$f":"ССЗОтч!Y93","v":0},{"$f":"ССЗОтч!Z93","v":0},{"$f":"ССЗОтч!AC93","v":""},{"$f":"ССЗОтч!AD93","v":0}]
[{"$f":"VLOOKUP(ТитГЗ!$A$17,'Служебный 1'!$C$3:$E$61,3,FALSE)","v":{"$error":"#N/A"}},{"$f":"ССЗ!$A$4","v":"Реализация образовательных программ среднего профессионального образования - программ подготовки специалистов среднего звена"},{"$f":"ССЗ!B97","v":0},{"$f":"ССЗ!D97","v":0},{"$f":"ССЗ!E97","v":0},{"$f":"ССЗ!J97","v":0},{"$f":"ССЗ!K97","v":0},{"$f":"ССЗ!L97","v":0},{"$f":"ССЗ!M97","v":0},{"$f":"ССЗ!N97","v":0},{"$f":"ССЗ!O97","v":0},{"$f":"ССЗ!P97","v":0},{"$f":"ССЗ!Q97","v":0},{"$f":"ССЗ!R97","v":0},{"$f":"ССЗ!S97","v":0},{"$f":"ССЗ!T97","v":0},{"$f":"ССЗ!U97","v":0},{"$f":"ССЗ!V97","v":0},{"$f":"ССЗ!W97","v":0},{"$f":"ССЗ!X97","v":0},{"$f":"ССЗОтч!N94","v":0},{"$f":"ССЗОтч!O94","v":0},{"$f":"ССЗОтч!P94","v":0},{"$f":"ССЗОтч!Q94","v":0},{"$f":"ССЗОтч!R94","v":0},{"$f":"ССЗОтч!S94","v":0},{"$f":"ССЗОтч!T94","v":0},{"$f":"ССЗОтч!U94","v":0},{"$f":"ССЗОтч!V94","v":0},{"$f":"ССЗОтч!W94","v":0},{"$f":"ССЗОтч!X94","v":0},{"$f":"ССЗОтч!Y94","v":0},{"$f":"ССЗОтч!Z94","v":0},{"$f":"ССЗОтч!AC94","v":""},{"$f":"ССЗОтч!AD94","v":0}]
[{"$f":"VLOOKUP(ТитГЗ!$A$17,'Служебный 1'!$C$3:$E$61,3,FALSE)","v":{"$error":"#N/A"}},{"$f":"ССЗ!$A$4","v":"Реализация образовательных программ среднего профессионального образования - программ подготовки специалистов среднего звена"},{"$f":"ССЗ!B98","v":0},{"$f":"ССЗ!D98","v":0},{"$f":"ССЗ!E98","v":0},{"$f":"ССЗ!J98","v":0},{"$f":"ССЗ!K98","v":0},{"$f":"ССЗ!L98","v":0},{"$f":"ССЗ!M98","v":0},{"$f":"ССЗ!N98","v":0},{"$f":"ССЗ!O98","v":0},{"$f":"ССЗ!P98","v":0},{"$f":"ССЗ!Q98","v":0},{"$f":"ССЗ!R98","v":0},{"$f":"ССЗ!S98","v":0},{"$f":"ССЗ!T98","v":0},{"$f":"ССЗ!U98","v":0},{"$f":"ССЗ!V98","v":0},{"$f":"ССЗ!W98","v":0},{"$f":"ССЗ!X98","v":0},{"$f":"ССЗОтч!N95","v":0},{"$f":"ССЗОтч!O95","v":0},{"$f":"ССЗОтч!P95","v":0},{"$f":"ССЗОтч!Q95","v":0},{"$f":"ССЗОтч!R95","v":0},{"$f":"ССЗОтч!S95","v":0},{"$f":"ССЗОтч!T95","v":0},{"$f":"ССЗОтч!U95","v":0},{"$f":"ССЗОтч!V95","v":0},{"$f":"ССЗОтч!W95","v":0},{"$f":"ССЗОтч!X95","v":0},{"$f":"ССЗОтч!Y95","v":0},{"$f":"ССЗОтч!Z95","v":0},{"$f":"ССЗОтч!AC95","v":""},{"$f":"ССЗОтч!AD95","v":0}]
[{"$f":"VLOOKUP(ТитГЗ!$A$17,'Служебный 1'!$C$3:$E$61,3,FALSE)","v":{"$error":"#N/A"}},{"$f":"ССЗ!$A$4","v":"Реализация образовательных программ среднего профессионального образования - программ подготовки специалистов среднего звена"},{"$f":"ССЗ!B99","v":0},{"$f":"ССЗ!D99","v":0},{"$f":"ССЗ!E99","v":0},{"$f":"ССЗ!J99","v":0},{"$f":"ССЗ!K99","v":0},{"$f":"ССЗ!L99","v":0},{"$f":"ССЗ!M99","v":0},{"$f":"ССЗ!N99","v":0},{"$f":"ССЗ!O99","v":0},{"$f":"ССЗ!P99","v":0},{"$f":"ССЗ!Q99","v":0},{"$f":"ССЗ!R99","v":0},{"$f":"ССЗ!S99","v":0},{"$f":"ССЗ!T99","v":0},{"$f":"ССЗ!U99","v":0},{"$f":"ССЗ!V99","v":0},{"$f":"ССЗ!W99","v":0},{"$f":"ССЗ!X99","v":0},{"$f":"ССЗОтч!N96","v":0},{"$f":"ССЗОтч!O96","v":0},{"$f":"ССЗОтч!P96","v":0},{"$f":"ССЗОтч!Q96","v":0},{"$f":"ССЗОтч!R96","v":0},{"$f":"ССЗОтч!S96","v":0},{"$f":"ССЗОтч!T96","v":0},{"$f":"ССЗОтч!U96","v":0},{"$f":"ССЗОтч!V96","v":0},{"$f":"ССЗОтч!W96","v":0},{"$f":"ССЗОтч!X96","v":0},{"$f":"ССЗОтч!Y96","v":0},{"$f":"ССЗОтч!Z96","v":0},{"$f":"ССЗОтч!AC96","v":""},{"$f":"ССЗОтч!AD96","v":0}]
[{"$f":"VLOOKUP(ТитГЗ!$A$17,'Служебный 1'!$C$3:$E$61,3,FALSE)","v":{"$error":"#N/A"}},{"$f":"ССЗ!$A$4","v":"Реализация образовательных программ среднего профессионального образования - программ подготовки специалистов среднего звена"},{"$f":"ССЗ!B100","v":0},{"$f":"ССЗ!D100","v":0},{"$f":"ССЗ!E100","v":0},{"$f":"ССЗ!J100","v":0},{"$f":"ССЗ!K100","v":0},{"$f":"ССЗ!L100","v":0},{"$f":"ССЗ!M100","v":0},{"$f":"ССЗ!N100","v":0},{"$f":"ССЗ!O100","v":0},{"$f":"ССЗ!P100","v":0},{"$f":"ССЗ!Q100","v":0},{"$f":"ССЗ!R100","v":0},{"$f":"ССЗ!S100","v":0},{"$f":"ССЗ!T100","v":0},{"$f":"ССЗ!U100","v":0},{"$f":"ССЗ!V100","v":0},{"$f":"ССЗ!W100","v":0},{"$f":"ССЗ!X100","v":0},{"$f":"ССЗОтч!N97","v":0},{"$f":"ССЗОтч!O97","v":0},{"$f":"ССЗОтч!P97","v":0},{"$f":"ССЗОтч!Q97","v":0},{"$f":"ССЗОтч!R97","v":0},{"$f":"ССЗОтч!S97","v":0},{"$f":"ССЗОтч!T97","v":0},{"$f":"ССЗОтч!U97","v":0},{"$f":"ССЗОтч!V97","v":0},{"$f":"ССЗОтч!W97","v":0},{"$f":"ССЗОтч!X97","v":0},{"$f":"ССЗОтч!Y97","v":0},{"$f":"ССЗОтч!Z97","v":0},{"$f":"ССЗОтч!AC97","v":""},{"$f":"ССЗОтч!AD97","v":0}]
[{"$f":"VLOOKUP(ТитГЗ!$A$17,'Служебный 1'!$C$3:$E$61,3,FALSE)","v":{"$error":"#N/A"}},{"$f":"ССЗ!$A$4","v":"Реализация образовательных программ среднего профессионального образования - программ подготовки специалистов среднего звена"},{"$f":"ССЗ!B101","v":0},{"$f":"ССЗ!D101","v":0},{"$f":"ССЗ!E101","v":0},{"$f":"ССЗ!J101","v":0},{"$f":"ССЗ!K101","v":0},{"$f":"ССЗ!L101","v":0},{"$f":"ССЗ!M101","v":0},{"$f":"ССЗ!N101","v":0},{"$f":"ССЗ!O101","v":0},{"$f":"ССЗ!P101","v":0},{"$f":"ССЗ!Q101","v":0},{"$f":"ССЗ!R101","v":0},{"$f":"ССЗ!S101","v":0},{"$f":"ССЗ!T101","v":0},{"$f":"ССЗ!U101","v":0},{"$f":"ССЗ!V101","v":0},{"$f":"ССЗ!W101","v":0},{"$f":"ССЗ!X101","v":0},{"$f":"ССЗОтч!N98","v":0},{"$f":"ССЗОтч!O98","v":0},{"$f":"ССЗОтч!P98","v":0},{"$f":"ССЗОтч!Q98","v":0},{"$f":"ССЗОтч!R98","v":0},{"$f":"ССЗОтч!S98","v":0},{"$f":"ССЗОтч!T98","v":0},{"$f":"ССЗОтч!U98","v":0},{"$f":"ССЗОтч!V98","v":0},{"$f":"ССЗОтч!W98","v":0},{"$f":"ССЗОтч!X98","v":0},{"$f":"ССЗОтч!Y98","v":0},{"$f":"ССЗОтч!Z98","v":0},{"$f":"ССЗОтч!AC98","v":""},{"$f":"ССЗОтч!AD98","v":0}]
[{"$f":"VLOOKUP(ТитГЗ!$A$17,'Служебный 1'!$C$3:$E$61,3,FALSE)","v":{"$error":"#N/A"}},{"$f":"ССЗ!$A$4","v":"Реализация образовательных программ среднего профессионального образования - программ подготовки специалистов среднего звена"},{"$f":"ССЗ!B102","v":0},{"$f":"ССЗ!D102","v":0},{"$f":"ССЗ!E102","v":0},{"$f":"ССЗ!J102","v":0},{"$f":"ССЗ!K102","v":0},{"$f":"ССЗ!L102","v":0},{"$f":"ССЗ!M102","v":0},{"$f":"ССЗ!N102","v":0},{"$f":"ССЗ!O102","v":0},{"$f":"ССЗ!P102","v":0},{"$f":"ССЗ!Q102","v":0},{"$f":"ССЗ!R102","v":0},{"$f":"ССЗ!S102","v":0},{"$f":"ССЗ!T102","v":0},{"$f":"ССЗ!U102","v":0},{"$f":"ССЗ!V102","v":0},{"$f":"ССЗ!W102","v":0},{"$f":"ССЗ!X102","v":0},{"$f":"ССЗОтч!N99","v":0},{"$f":"ССЗОтч!O99","v":0},{"$f":"ССЗОтч!P99","v":0},{"$f":"ССЗОтч!Q99","v":0},{"$f":"ССЗОтч!R99","v":0},{"$f":"ССЗОтч!S99","v":0},{"$f":"ССЗОтч!T99","v":0},{"$f":"ССЗОтч!U99","v":0},{"$f":"ССЗОтч!V99","v":0},{"$f":"ССЗОтч!W99","v":0},{"$f":"ССЗОтч!X99","v":0},{"$f":"ССЗОтч!Y99","v":0},{"$f":"ССЗОтч!Z99","v":0},{"$f":"ССЗОтч!AC99","v":""},{"$f":"ССЗОтч!AD99","v":0}]
[{"$f":"VLOOKUP(ТитГЗ!$A$17,'Служебный 1'!$C$3:$E$61,3,FALSE)","v":{"$error":"#N/A"}},{"$f":"ССЗ!$A$4","v":"Реализация образовательных программ среднего профессионального образования - программ подготовки специалистов среднего звена"},{"$f":"ССЗ!B103","v":0},{"$f":"ССЗ!D103","v":0},{"$f":"ССЗ!E103","v":0},{"$f":"ССЗ!J103","v":0},{"$f":"ССЗ!K103","v":0},{"$f":"ССЗ!L103","v":0},{"$f":"ССЗ!M103","v":0},{"$f":"ССЗ!N103","v":0},{"$f":"ССЗ!O103","v":0},{"$f":"ССЗ!P103","v":0},{"$f":"ССЗ!Q103","v":0},{"$f":"ССЗ!R103","v":0},{"$f":"ССЗ!S103","v":0},{"$f":"ССЗ!T103","v":0},{"$f":"ССЗ!U103","v":0},{"$f":"ССЗ!V103","v":0},{"$f":"ССЗ!W103","v":0},{"$f":"ССЗ!X103","v":0},{"$f":"ССЗОтч!N100","v":0},{"$f":"ССЗОтч!O100","v":0},{"$f":"ССЗОтч!P100","v":0},{"$f":"ССЗОтч!Q100","v":0},{"$f":"ССЗОтч!R100","v":0},{"$f":"ССЗОтч!S100","v":0},{"$f":"ССЗОтч!T100","v":0},{"$f":"ССЗОтч!U100","v":0},{"$f":"ССЗОтч!V100","v":0},{"$f":"ССЗОтч!W100","v":0},{"$f":"ССЗОтч!X100","v":0},{"$f":"ССЗОтч!Y100","v":0},{"$f":"ССЗОтч!Z100","v":0},{"$f":"ССЗОтч!AC100","v":""},{"$f":"ССЗОтч!AD100","v":0}]
[{"$f":"VLOOKUP(ТитГЗ!$A$17,'Служебный 1'!$C$3:$E$61,3,FALSE)","v":{"$error":"#N/A"}},{"$f":"ССЗ!$A$4","v":"Реализация образовательных программ среднего профессионального образования - программ подготовки специалистов среднего звена"},{"$f":"ССЗ!B104","v":0},{"$f":"ССЗ!D104","v":0},{"$f":"ССЗ!E104","v":0},{"$f":"ССЗ!J104","v":0},{"$f":"ССЗ!K104","v":0},{"$f":"ССЗ!L104","v":0},{"$f":"ССЗ!M104","v":0},{"$f":"ССЗ!N104","v":0},{"$f":"ССЗ!O104","v":0},{"$f":"ССЗ!P104","v":0},{"$f":"ССЗ!Q104","v":0},{"$f":"ССЗ!R104","v":0},{"$f":"ССЗ!S104","v":0},{"$f":"ССЗ!T104","v":0},{"$f":"ССЗ!U104","v":0},{"$f":"ССЗ!V104","v":0},{"$f":"ССЗ!W104","v":0},{"$f":"ССЗ!X104","v":0},{"$f":"ССЗОтч!N101","v":0},{"$f":"ССЗОтч!O101","v":0},{"$f":"ССЗОтч!P101","v":0},{"$f":"ССЗОтч!Q101","v":0},{"$f":"ССЗОтч!R101","v":0},{"$f":"ССЗОтч!S101","v":0},{"$f":"ССЗОтч!T101","v":0},{"$f":"ССЗОтч!U101","v":0},{"$f":"ССЗОтч!V101","v":0},{"$f":"ССЗОтч!W101","v":0},{"$f":"ССЗОтч!X101","v":0},{"$f":"ССЗОтч!Y101","v":0},{"$f":"ССЗОтч!Z101","v":0},{"$f":"ССЗОтч!AC101","v":""},{"$f":"ССЗОтч!AD101","v":0}]
[{"$f":"VLOOKUP(ТитГЗ!$A$17,'Служебный 1'!$C$3:$E$61,3,FALSE)","v":{"$error":"#N/A"}},{"$f":"ССЗ!$A$4","v":"Реализация образовательных программ среднего профессионального образования - программ подготовки специалистов среднего звена"},{"$f":"ССЗ!B105","v":0},{"$f":"ССЗ!D105","v":0},{"$f":"ССЗ!E105","v":0},{"$f":"ССЗ!J105","v":0},{"$f":"ССЗ!K105","v":0},{"$f":"ССЗ!L105","v":0},{"$f":"ССЗ!M105","v":0},{"$f":"ССЗ!N105","v":0},{"$f":"ССЗ!O105","v":0},{"$f":"ССЗ!P105","v":0},{"$f":"ССЗ!Q105","v":0},{"$f":"ССЗ!R105","v":0},{"$f":"ССЗ!S105","v":0},{"$f":"ССЗ!T105","v":0},{"$f":"ССЗ!U105","v":0},{"$f":"ССЗ!V105","v":0},{"$f":"ССЗ!W105","v":0},{"$f":"ССЗ!X105","v":0},{"$f":"ССЗОтч!N102","v":0},{"$f":"ССЗОтч!O102","v":0},{"$f":"ССЗОтч!P102","v":0},{"$f":"ССЗОтч!Q102","v":0},{"$f":"ССЗОтч!R102","v":0},{"$f":"ССЗОтч!S102","v":0},{"$f":"ССЗОтч!T102","v":0},{"$f":"ССЗОтч!U102","v":0},{"$f":"ССЗОтч!V102","v":0},{"$f":"ССЗОтч!W102","v":0},{"$f":"ССЗОтч!X102","v":0},{"$f":"ССЗОтч!Y102","v":0},{"$f":"ССЗОтч!Z102","v":0},{"$f":"ССЗОтч!AC102","v":""},{"$f":"ССЗОтч!AD102","v":0}]
[{"$f":"VLOOKUP(ТитГЗ!$A$17,'Служебный 1'!$C$3:$E$61,3,FALSE)","v":{"$error":"#N/A"}},{"$f":"ССЗ!$A$4","v":"Реализация образовательных программ среднего профессионального образования - программ подготовки специалистов среднего звена"},{"$f":"ССЗ!B106","v":0},{"$f":"ССЗ!D106","v":0},{"$f":"ССЗ!E106","v":0},{"$f":"ССЗ!J106","v":0},{"$f":"ССЗ!K106","v":0},{"$f":"ССЗ!L106","v":0},{"$f":"ССЗ!M106","v":0},{"$f":"ССЗ!N106","v":0},{"$f":"ССЗ!O106","v":0},{"$f":"ССЗ!P106","v":0},{"$f":"ССЗ!Q106","v":0},{"$f":"ССЗ!R106","v":0},{"$f":"ССЗ!S106","v":0},{"$f":"ССЗ!T106","v":0},{"$f":"ССЗ!U106","v":0},{"$f":"ССЗ!V106","v":0},{"$f":"ССЗ!W106","v":0},{"$f":"ССЗ!X106","v":0},{"$f":"ССЗОтч!N103","v":0},{"$f":"ССЗОтч!O103","v":0},{"$f":"ССЗОтч!P103","v":0},{"$f":"ССЗОтч!Q103","v":0},{"$f":"ССЗОтч!R103","v":0},{"$f":"ССЗОтч!S103","v":0},{"$f":"ССЗОтч!T103","v":0},{"$f":"ССЗОтч!U103","v":0},{"$f":"ССЗОтч!V103","v":0},{"$f":"ССЗОтч!W103","v":0},{"$f":"ССЗОтч!X103","v":0},{"$f":"ССЗОтч!Y103","v":0},{"$f":"ССЗОтч!Z103","v":0},{"$f":"ССЗОтч!AC103","v":""},{"$f":"ССЗОтч!AD103","v":0}]
[{"$f":"VLOOKUP(ТитГЗ!$A$17,'Служебный 1'!$C$3:$E$61,3,FALSE)","v":{"$error":"#N/A"}},{"$f":"ССЗ!$A$4","v":"Реализация образовательных программ среднего профессионального образования - программ подготовки специалистов среднего звена"},{"$f":"ССЗ!B107","v":0},{"$f":"ССЗ!D107","v":0},{"$f":"ССЗ!E107","v":0},{"$f":"ССЗ!J107","v":0},{"$f":"ССЗ!K107","v":0},{"$f":"ССЗ!L107","v":0},{"$f":"ССЗ!M107","v":0},{"$f":"ССЗ!N107","v":0},{"$f":"ССЗ!O107","v":0},{"$f":"ССЗ!P107","v":0},{"$f":"ССЗ!Q107","v":0},{"$f":"ССЗ!R107","v":0},{"$f":"ССЗ!S107","v":0},{"$f":"ССЗ!T107","v":0},{"$f":"ССЗ!U107","v":0},{"$f":"ССЗ!V107","v":0},{"$f":"ССЗ!W107","v":0},{"$f":"ССЗ!X107","v":0},{"$f":"ССЗОтч!N104","v":0},{"$f":"ССЗОтч!O104","v":0},{"$f":"ССЗОтч!P104","v":0},{"$f":"ССЗОтч!Q104","v":0},{"$f":"ССЗОтч!R104","v":0},{"$f":"ССЗОтч!S104","v":0},{"$f":"ССЗОтч!T104","v":0},{"$f":"ССЗОтч!U104","v":0},{"$f":"ССЗОтч!V104","v":0},{"$f":"ССЗОтч!W104","v":0},{"$f":"ССЗОтч!X104","v":0},{"$f":"ССЗОтч!Y104","v":0},{"$f":"ССЗОтч!Z104","v":0},{"$f":"ССЗОтч!AC104","v":""},{"$f":"ССЗОтч!AD104","v":0}]
[{"$f":"VLOOKUP(ТитГЗ!$A$17,'Служебный 1'!$C$3:$E$61,3,FALSE)","v":{"$error":"#N/A"}},{"$f":"ССЗ!$A$4","v":"Реализация образовательных программ среднего профессионального образования - программ подготовки специалистов среднего звена"},{"$f":"ССЗ!B108","v":0},{"$f":"ССЗ!D108","v":0},{"$f":"ССЗ!E108","v":0},{"$f":"ССЗ!J108","v":0},{"$f":"ССЗ!K108","v":0},{"$f":"ССЗ!L108","v":0},{"$f":"ССЗ!M108","v":0},{"$f":"ССЗ!N108","v":0},{"$f":"ССЗ!O108","v":0},{"$f":"ССЗ!P108","v":0},{"$f":"ССЗ!Q108","v":0},{"$f":"ССЗ!R108","v":0},{"$f":"ССЗ!S108","v":0},{"$f":"ССЗ!T108","v":0},{"$f":"ССЗ!U108","v":0},{"$f":"ССЗ!V108","v":0},{"$f":"ССЗ!W108","v":0},{"$f":"ССЗ!X108","v":0},{"$f":"ССЗОтч!N105","v":0},{"$f":"ССЗОтч!O105","v":0},{"$f":"ССЗОтч!P105","v":0},{"$f":"ССЗОтч!Q105","v":0},{"$f":"ССЗОтч!R105","v":0},{"$f":"ССЗОтч!S105","v":0},{"$f":"ССЗОтч!T105","v":0},{"$f":"ССЗОтч!U105","v":0},{"$f":"ССЗОтч!V105","v":0},{"$f":"ССЗОтч!W105","v":0},{"$f":"ССЗОтч!X105","v":0},{"$f":"ССЗОтч!Y105","v":0},{"$f":"ССЗОтч!Z105","v":0},{"$f":"ССЗОтч!AC105","v":""},{"$f":"ССЗОтч!AD105","v":0}]
[{"$f":"VLOOKUP(ТитГЗ!$A$17,'Служебный 1'!$C$3:$E$61,3,FALSE)","v":{"$error":"#N/A"}},{"$f":"ССЗ!$A$4","v":"Реализация образовательных программ среднего профессионального образования - программ подготовки специалистов среднего звена"},{"$f":"ССЗ!B109","v":0},{"$f":"ССЗ!D109","v":0},{"$f":"ССЗ!E109","v":0},{"$f":"ССЗ!J109","v":0},{"$f":"ССЗ!K109","v":0},{"$f":"ССЗ!L109","v":0},{"$f":"ССЗ!M109","v":0},{"$f":"ССЗ!N109","v":0},{"$f":"ССЗ!O109","v":0},{"$f":"ССЗ!P109","v":0},{"$f":"ССЗ!Q109","v":0},{"$f":"ССЗ!R109","v":0},{"$f":"ССЗ!S109","v":0},{"$f":"ССЗ!T109","v":0},{"$f":"ССЗ!U109","v":0},{"$f":"ССЗ!V109","v":0},{"$f":"ССЗ!W109","v":0},{"$f":"ССЗ!X109","v":0},{"$f":"ССЗОтч!N106","v":0},{"$f":"ССЗОтч!O106","v":0},{"$f":"ССЗОтч!P106","v":0},{"$f":"ССЗОтч!Q106","v":0},{"$f":"ССЗОтч!R106","v":0},{"$f":"ССЗОтч!S106","v":0},{"$f":"ССЗОтч!T106","v":0},{"$f":"ССЗОтч!U106","v":0},{"$f":"ССЗОтч!V106","v":0},{"$f":"ССЗОтч!W106","v":0},{"$f":"ССЗОтч!X106","v":0},{"$f":"ССЗОтч!Y106","v":0},{"$f":"ССЗОтч!Z106","v":0},{"$f":"ССЗОтч!AC106","v":""},{"$f":"ССЗОтч!AD106","v":0}]
[{"$f":"VLOOKUP(ТитГЗ!$A$17,'Служебный 1'!$C$3:$E$61,3,FALSE)","v":{"$error":"#N/A"}},{"$f":"ССЗ!$A$4","v":"Реализация образовательных программ среднего профессионального образования - программ подготовки специалистов среднего звена"},{"$f":"ССЗ!B110","v":0},{"$f":"ССЗ!D110","v":0},{"$f":"ССЗ!E110","v":0},{"$f":"ССЗ!J110","v":0},{"$f":"ССЗ!K110","v":0},{"$f":"ССЗ!L110","v":0},{"$f":"ССЗ!M110","v":0},{"$f":"ССЗ!N110","v":0},{"$f":"ССЗ!O110","v":0},{"$f":"ССЗ!P110","v":0},{"$f":"ССЗ!Q110","v":0},{"$f":"ССЗ!R110","v":0},{"$f":"ССЗ!S110","v":0},{"$f":"ССЗ!T110","v":0},{"$f":"ССЗ!U110","v":0},{"$f":"ССЗ!V110","v":0},{"$f":"ССЗ!W110","v":0},{"$f":"ССЗ!X110","v":0},{"$f":"ССЗОтч!N107","v":0},{"$f":"ССЗОтч!O107","v":0},{"$f":"ССЗОтч!P107","v":0},{"$f":"ССЗОтч!Q107","v":0},{"$f":"ССЗОтч!R107","v":0},{"$f":"ССЗОтч!S107","v":0},{"$f":"ССЗОтч!T107","v":0},{"$f":"ССЗОтч!U107","v":0},{"$f":"ССЗОтч!V107","v":0},{"$f":"ССЗОтч!W107","v":0},{"$f":"ССЗОтч!X107","v":0},{"$f":"ССЗОтч!Y107","v":0},{"$f":"ССЗОтч!Z107","v":0},{"$f":"ССЗОтч!AC107","v":""},{"$f":"ССЗОтч!AD107","v":0}]
[{"$f":"VLOOKUP(ТитГЗ!$A$17,'Служебный 1'!$C$3:$E$61,3,FALSE)","v":{"$error":"#N/A"}},{"$f":"ССЗ!$A$4","v":"Реализация образовательных программ среднего профессионального образования - программ подготовки специалистов среднего звена"},{"$f":"ССЗ!B111","v":0},{"$f":"ССЗ!D111","v":0},{"$f":"ССЗ!E111","v":0},{"$f":"ССЗ!J111","v":0},{"$f":"ССЗ!K111","v":0},{"$f":"ССЗ!L111","v":0},{"$f":"ССЗ!M111","v":0},{"$f":"ССЗ!N111","v":0},{"$f":"ССЗ!O111","v":0},{"$f":"ССЗ!P111","v":0},{"$f":"ССЗ!Q111","v":0},{"$f":"ССЗ!R111","v":0},{"$f":"ССЗ!S111","v":0},{"$f":"ССЗ!T111","v":0},{"$f":"ССЗ!U111","v":0},{"$f":"ССЗ!V111","v":0},{"$f":"ССЗ!W111","v":0},{"$f":"ССЗ!X111","v":0},{"$f":"ССЗОтч!N108","v":0},{"$f":"ССЗОтч!O108","v":0},{"$f":"ССЗОтч!P108","v":0},{"$f":"ССЗОтч!Q108","v":0},{"$f":"ССЗОтч!R108","v":0},{"$f":"ССЗОтч!S108","v":0},{"$f":"ССЗОтч!T108","v":0},{"$f":"ССЗОтч!U108","v":0},{"$f":"ССЗОтч!V108","v":0},{"$f":"ССЗОтч!W108","v":0},{"$f":"ССЗОтч!X108","v":0},{"$f":"ССЗОтч!Y108","v":0},{"$f":"ССЗОтч!Z108","v":0},{"$f":"ССЗОтч!AC108","v":""},{"$f":"ССЗОтч!AD108","v":0}]
[{"$f":"VLOOKUP(ТитГЗ!$A$17,'Служебный 1'!$C$3:$E$61,3,FALSE)","v":{"$error":"#N/A"}},{"$f":"ССЗ!$A$4","v":"Реализация образовательных программ среднего профессионального образования - программ подготовки специалистов среднего звена"},{"$f":"ССЗ!B112","v":0},{"$f":"ССЗ!D112","v":0},{"$f":"ССЗ!E112","v":0},{"$f":"ССЗ!J112","v":0},{"$f":"ССЗ!K112","v":0},{"$f":"ССЗ!L112","v":0},{"$f":"ССЗ!M112","v":0},{"$f":"ССЗ!N112","v":0},{"$f":"ССЗ!O112","v":0},{"$f":"ССЗ!P112","v":0},{"$f":"ССЗ!Q112","v":0},{"$f":"ССЗ!R112","v":0},{"$f":"ССЗ!S112","v":0},{"$f":"ССЗ!T112","v":0},{"$f":"ССЗ!U112","v":0},{"$f":"ССЗ!V112","v":0},{"$f":"ССЗ!W112","v":0},{"$f":"ССЗ!X112","v":0},{"$f":"ССЗОтч!N109","v":0},{"$f":"ССЗОтч!O109","v":0},{"$f":"ССЗОтч!P109","v":0},{"$f":"ССЗОтч!Q109","v":0},{"$f":"ССЗОтч!R109","v":0},{"$f":"ССЗОтч!S109","v":0},{"$f":"ССЗОтч!T109","v":0},{"$f":"ССЗОтч!U109","v":0},{"$f":"ССЗОтч!V109","v":0},{"$f":"ССЗОтч!W109","v":0},{"$f":"ССЗОтч!X109","v":0},{"$f":"ССЗОтч!Y109","v":0},{"$f":"ССЗОтч!Z109","v":0},{"$f":"ССЗОтч!AC109","v":""},{"$f":"ССЗОтч!AD109","v":0}]
[{"$f":"VLOOKUP(ТитГЗ!$A$17,'Служебный 1'!$C$3:$E$61,3,FALSE)","v":{"$error":"#N/A"}},{"$f":"ССЗ!$A$4","v":"Реализация образовательных программ среднего профессионального образования - программ подготовки специалистов среднего звена"},{"$f":"ССЗ!B113","v":0},{"$f":"ССЗ!D113","v":0},{"$f":"ССЗ!E113","v":0},{"$f":"ССЗ!J113","v":0},{"$f":"ССЗ!K113","v":0},{"$f":"ССЗ!L113","v":0},{"$f":"ССЗ!M113","v":0},{"$f":"ССЗ!N113","v":0},{"$f":"ССЗ!O113","v":0},{"$f":"ССЗ!P113","v":0},{"$f":"ССЗ!Q113","v":0},{"$f":"ССЗ!R113","v":0},{"$f":"ССЗ!S113","v":0},{"$f":"ССЗ!T113","v":0},{"$f":"ССЗ!U113","v":0},{"$f":"ССЗ!V113","v":0},{"$f":"ССЗ!W113","v":0},{"$f":"ССЗ!X113","v":0},{"$f":"ССЗОтч!N110","v":0},{"$f":"ССЗОтч!O110","v":0},{"$f":"ССЗОтч!P110","v":0},{"$f":"ССЗОтч!Q110","v":0},{"$f":"ССЗОтч!R110","v":0},{"$f":"ССЗОтч!S110","v":0},{"$f":"ССЗОтч!T110","v":0},{"$f":"ССЗОтч!U110","v":0},{"$f":"ССЗОтч!V110","v":0},{"$f":"ССЗОтч!W110","v":0},{"$f":"ССЗОтч!X110","v":0},{"$f":"ССЗОтч!Y110","v":0},{"$f":"ССЗОтч!Z110","v":0},{"$f":"ССЗОтч!AC110","v":""},{"$f":"ССЗОтч!AD110","v":0}]
[{"$f":"VLOOKUP(ТитГЗ!$A$17,'Служебный 1'!$C$3:$E$61,3,FALSE)","v":{"$error":"#N/A"}},{"$f":"ССЗ!$A$4","v":"Реализация образовательных программ среднего профессионального образования - программ подготовки специалистов среднего звена"},{"$f":"ССЗ!B114","v":0},{"$f":"ССЗ!D114","v":0},{"$f":"ССЗ!E114","v":0},{"$f":"ССЗ!J114","v":0},{"$f":"ССЗ!K114","v":0},{"$f":"ССЗ!L114","v":0},{"$f":"ССЗ!M114","v":0},{"$f":"ССЗ!N114","v":0},{"$f":"ССЗ!O114","v":0},{"$f":"ССЗ!P114","v":0},{"$f":"ССЗ!Q114","v":0},{"$f":"ССЗ!R114","v":0},{"$f":"ССЗ!S114","v":0},{"$f":"ССЗ!T114","v":0},{"$f":"ССЗ!U114","v":0},{"$f":"ССЗ!V114","v":0},{"$f":"ССЗ!W114","v":0},{"$f":"ССЗ!X114","v":0},{"$f":"ССЗОтч!N111","v":0},{"$f":"ССЗОтч!O111","v":0},{"$f":"ССЗОтч!P111","v":0},{"$f":"ССЗОтч!Q111","v":0},{"$f":"ССЗОтч!R111","v":0},{"$f":"ССЗОтч!S111","v":0},{"$f":"ССЗОтч!T111","v":0},{"$f":"ССЗОтч!U111","v":0},{"$f":"ССЗОтч!V111","v":0},{"$f":"ССЗОтч!W111","v":0},{"$f":"ССЗОтч!X111","v":0},{"$f":"ССЗОтч!Y111","v":0},{"$f":"ССЗОтч!Z111","v":0},{"$f":"ССЗОтч!AC111","v":""},{"$f":"ССЗОтч!AD111","v":0}]
[{"$f":"VLOOKUP(ТитГЗ!$A$17,'Служебный 1'!$C$3:$E$61,3,FALSE)","v":{"$error":"#N/A"}},{"$f":"ССЗ!$A$4","v":"Реализация образовательных программ среднего профессионального образования - программ подготовки специалистов среднего звена"},{"$f":"ССЗ!B115","v":0},{"$f":"ССЗ!D115","v":0},{"$f":"ССЗ!E115","v":0},{"$f":"ССЗ!J115","v":0},{"$f":"ССЗ!K115","v":0},{"$f":"ССЗ!L115","v":0},{"$f":"ССЗ!M115","v":0},{"$f":"ССЗ!N115","v":0},{"$f":"ССЗ!O115","v":0},{"$f":"ССЗ!P115","v":0},{"$f":"ССЗ!Q115","v":0},{"$f":"ССЗ!R115","v":0},{"$f":"ССЗ!S115","v":0},{"$f":"ССЗ!T115","v":0},{"$f":"ССЗ!U115","v":0},{"$f":"ССЗ!V115","v":0},{"$f":"ССЗ!W115","v":0},{"$f":"ССЗ!X115","v":0},{"$f":"ССЗОтч!N112","v":0},{"$f":"ССЗОтч!O112","v":0},{"$f":"ССЗОтч!P112","v":0},{"$f":"ССЗОтч!Q112","v":0},{"$f":"ССЗОтч!R112","v":0},{"$f":"ССЗОтч!S112","v":0},{"$f":"ССЗОтч!T112","v":0},{"$f":"ССЗОтч!U112","v":0},{"$f":"ССЗОтч!V112","v":0},{"$f":"ССЗОтч!W112","v":0},{"$f":"ССЗОтч!X112","v":0},{"$f":"ССЗОтч!Y112","v":0},{"$f":"ССЗОтч!Z112","v":0},{"$f":"ССЗОтч!AC112","v":""},{"$f":"ССЗОтч!AD112","v":0}]
[{"$f":"VLOOKUP(ТитГЗ!$A$17,'Служебный 1'!$C$3:$E$61,3,FALSE)","v":{"$error":"#N/A"}},{"$f":"ССЗ!$A$4","v":"Реализация образовательных программ среднего профессионального образования - программ подготовки специалистов среднего звена"},{"$f":"ССЗ!B116","v":0},{"$f":"ССЗ!D116","v":0},{"$f":"ССЗ!E116","v":0},{"$f":"ССЗ!J116","v":0},{"$f":"ССЗ!K116","v":0},{"$f":"ССЗ!L116","v":0},{"$f":"ССЗ!M116","v":0},{"$f":"ССЗ!N116","v":0},{"$f":"ССЗ!O116","v":0},{"$f":"ССЗ!P116","v":0},{"$f":"ССЗ!Q116","v":0},{"$f":"ССЗ!R116","v":0},{"$f":"ССЗ!S116","v":0},{"$f":"ССЗ!T116","v":0},{"$f":"ССЗ!U116","v":0},{"$f":"ССЗ!V116","v":0},{"$f":"ССЗ!W116","v":0},{"$f":"ССЗ!X116","v":0},{"$f":"ССЗОтч!N113","v":0},{"$f":"ССЗОтч!O113","v":0},{"$f":"ССЗОтч!P113","v":0},{"$f":"ССЗОтч!Q113","v":0},{"$f":"ССЗОтч!R113","v":0},{"$f":"ССЗОтч!S113","v":0},{"$f":"ССЗОтч!T113","v":0},{"$f":"ССЗОтч!U113","v":0},{"$f":"ССЗОтч!V113","v":0},{"$f":"ССЗОтч!W113","v":0},{"$f":"ССЗОтч!X113","v":0},{"$f":"ССЗОтч!Y113","v":0},{"$f":"ССЗОтч!Z113","v":0},{"$f":"ССЗОтч!AC113","v":""},{"$f":"ССЗОтч!AD113","v":0}]
[{"$f":"VLOOKUP(ТитГЗ!$A$17,'Служебный 1'!$C$3:$E$61,3,FALSE)","v":{"$error":"#N/A"}},{"$f":"ССЗ!$A$4","v":"Реализация образовательных программ среднего профессионального образования - программ подготовки специалистов среднего звена"},{"$f":"ССЗ!B117","v":0},{"$f":"ССЗ!D117","v":0},{"$f":"ССЗ!E117","v":0},{"$f":"ССЗ!J117","v":0},{"$f":"ССЗ!K117","v":0},{"$f":"ССЗ!L117","v":0},{"$f":"ССЗ!M117","v":0},{"$f":"ССЗ!N117","v":0},{"$f":"ССЗ!O117","v":0},{"$f":"ССЗ!P117","v":0},{"$f":"ССЗ!Q117","v":0},{"$f":"ССЗ!R117","v":0},{"$f":"ССЗ!S117","v":0},{"$f":"ССЗ!T117","v":0},{"$f":"ССЗ!U117","v":0},{"$f":"ССЗ!V117","v":0},{"$f":"ССЗ!W117","v":0},{"$f":"ССЗ!X117","v":0},{"$f":"ССЗОтч!N114","v":0},{"$f":"ССЗОтч!O114","v":0},{"$f":"ССЗОтч!P114","v":0},{"$f":"ССЗОтч!Q114","v":0},{"$f":"ССЗОтч!R114","v":0},{"$f":"ССЗОтч!S114","v":0},{"$f":"ССЗОтч!T114","v":0},{"$f":"ССЗОтч!U114","v":0},{"$f":"ССЗОтч!V114","v":0},{"$f":"ССЗОтч!W114","v":0},{"$f":"ССЗОтч!X114","v":0},{"$f":"ССЗОтч!Y114","v":0},{"$f":"ССЗОтч!Z114","v":0},{"$f":"ССЗОтч!AC114","v":""},{"$f":"ССЗОтч!AD114","v":0}]
[{"$f":"VLOOKUP(ТитГЗ!$A$17,'Служебный 1'!$C$3:$E$61,3,FALSE)","v":{"$error":"#N/A"}},{"$f":"ССЗ!$A$4","v":"Реализация образовательных программ среднего профессионального образования - программ подготовки специалистов среднего звена"},{"$f":"ССЗ!B118","v":0},{"$f":"ССЗ!D118","v":0},{"$f":"ССЗ!E118","v":0},{"$f":"ССЗ!J118","v":0},{"$f":"ССЗ!K118","v":0},{"$f":"ССЗ!L118","v":0},{"$f":"ССЗ!M118","v":0},{"$f":"ССЗ!N118","v":0},{"$f":"ССЗ!O118","v":0},{"$f":"ССЗ!P118","v":0},{"$f":"ССЗ!Q118","v":0},{"$f":"ССЗ!R118","v":0},{"$f":"ССЗ!S118","v":0},{"$f":"ССЗ!T118","v":0},{"$f":"ССЗ!U118","v":0},{"$f":"ССЗ!V118","v":0},{"$f":"ССЗ!W118","v":0},{"$f":"ССЗ!X118","v":0},{"$f":"ССЗОтч!N115","v":0},{"$f":"ССЗОтч!O115","v":0},{"$f":"ССЗОтч!P115","v":0},{"$f":"ССЗОтч!Q115","v":0},{"$f":"ССЗОтч!R115","v":0},{"$f":"ССЗОтч!S115","v":0},{"$f":"ССЗОтч!T115","v":0},{"$f":"ССЗОтч!U115","v":0},{"$f":"ССЗОтч!V115","v":0},{"$f":"ССЗОтч!W115","v":0},{"$f":"ССЗОтч!X115","v":0},{"$f":"ССЗОтч!Y115","v":0},{"$f":"ССЗОтч!Z115","v":0},{"$f":"ССЗОтч!AC115","v":""},{"$f":"ССЗОтч!AD115","v":0}]
[{"$f":"VLOOKUP(ТитГЗ!$A$17,'Служебный 1'!$C$3:$E$61,3,FALSE)","v":{"$error":"#N/A"}},{"$f":"ССЗ!$A$4","v":"Реализация образовательных программ среднего профессионального образования - программ подготовки специалистов среднего звена"},{"$f":"ССЗ!B119","v":0},{"$f":"ССЗ!D119","v":0},{"$f":"ССЗ!E119","v":0},{"$f":"ССЗ!J119","v":0},{"$f":"ССЗ!K119","v":0},{"$f":"ССЗ!L119","v":0},{"$f":"ССЗ!M119","v":0},{"$f":"ССЗ!N119","v":0},{"$f":"ССЗ!O119","v":0},{"$f":"ССЗ!P119","v":0},{"$f":"ССЗ!Q119","v":0},{"$f":"ССЗ!R119","v":0},{"$f":"ССЗ!S119","v":0},{"$f":"ССЗ!T119","v":0},{"$f":"ССЗ!U119","v":0},{"$f":"ССЗ!V119","v":0},{"$f":"ССЗ!W119","v":0},{"$f":"ССЗ!X119","v":0},{"$f":"ССЗОтч!N116","v":0},{"$f":"ССЗОтч!O116","v":0},{"$f":"ССЗОтч!P116","v":0},{"$f":"ССЗОтч!Q116","v":0},{"$f":"ССЗОтч!R116","v":0},{"$f":"ССЗОтч!S116","v":0},{"$f":"ССЗОтч!T116","v":0},{"$f":"ССЗОтч!U116","v":0},{"$f":"ССЗОтч!V116","v":0},{"$f":"ССЗОтч!W116","v":0},{"$f":"ССЗОтч!X116","v":0},{"$f":"ССЗОтч!Y116","v":0},{"$f":"ССЗОтч!Z116","v":0},{"$f":"ССЗОтч!AC116","v":""},{"$f":"ССЗОтч!AD116","v":0}]
[{"$f":"VLOOKUP(ТитГЗ!$A$17,'Служебный 1'!$C$3:$E$61,3,FALSE)","v":{"$error":"#N/A"}},{"$f":"ССЗ!$A$4","v":"Реализация образовательных программ среднего профессионального образования - программ подготовки специалистов среднего звена"},{"$f":"ССЗ!B120","v":0},{"$f":"ССЗ!D120","v":0},{"$f":"ССЗ!E120","v":0},{"$f":"ССЗ!J120","v":0},{"$f":"ССЗ!K120","v":0},{"$f":"ССЗ!L120","v":0},{"$f":"ССЗ!M120","v":0},{"$f":"ССЗ!N120","v":0},{"$f":"ССЗ!O120","v":0},{"$f":"ССЗ!P120","v":0},{"$f":"ССЗ!Q120","v":0},{"$f":"ССЗ!R120","v":0},{"$f":"ССЗ!S120","v":0},{"$f":"ССЗ!T120","v":0},{"$f":"ССЗ!U120","v":0},{"$f":"ССЗ!V120","v":0},{"$f":"ССЗ!W120","v":0},{"$f":"ССЗ!X120","v":0},{"$f":"ССЗОтч!N117","v":0},{"$f":"ССЗОтч!O117","v":0},{"$f":"ССЗОтч!P117","v":0},{"$f":"ССЗОтч!Q117","v":0},{"$f":"ССЗОтч!R117","v":0},{"$f":"ССЗОтч!S117","v":0},{"$f":"ССЗОтч!T117","v":0},{"$f":"ССЗОтч!U117","v":0},{"$f":"ССЗОтч!V117","v":0},{"$f":"ССЗОтч!W117","v":0},{"$f":"ССЗОтч!X117","v":0},{"$f":"ССЗОтч!Y117","v":0},{"$f":"ССЗОтч!Z117","v":0},{"$f":"ССЗОтч!AC117","v":""},{"$f":"ССЗОтч!AD117","v":0}]
[{"$f":"VLOOKUP(ТитГЗ!$A$17,'Служебный 1'!$C$3:$E$61,3,FALSE)","v":{"$error":"#N/A"}},{"$f":"ССЗ!$A$4","v":"Реализация образовательных программ среднего профессионального образования - программ подготовки специалистов среднего звена"},{"$f":"ССЗ!B121","v":0},{"$f":"ССЗ!D121","v":0},{"$f":"ССЗ!E121","v":0},{"$f":"ССЗ!J121","v":0},{"$f":"ССЗ!K121","v":0},{"$f":"ССЗ!L121","v":0},{"$f":"ССЗ!M121","v":0},{"$f":"ССЗ!N121","v":0},{"$f":"ССЗ!O121","v":0},{"$f":"ССЗ!P121","v":0},{"$f":"ССЗ!Q121","v":0},{"$f":"ССЗ!R121","v":0},{"$f":"ССЗ!S121","v":0},{"$f":"ССЗ!T121","v":0},{"$f":"ССЗ!U121","v":0},{"$f":"ССЗ!V121","v":0},{"$f":"ССЗ!W121","v":0},{"$f":"ССЗ!X121","v":0},{"$f":"ССЗОтч!N118","v":0},{"$f":"ССЗОтч!O118","v":0},{"$f":"ССЗОтч!P118","v":0},{"$f":"ССЗОтч!Q118","v":0},{"$f":"ССЗОтч!R118","v":0},{"$f":"ССЗОтч!S118","v":0},{"$f":"ССЗОтч!T118","v":0},{"$f":"ССЗОтч!U118","v":0},{"$f":"ССЗОтч!V118","v":0},{"$f":"ССЗОтч!W118","v":0},{"$f":"ССЗОтч!X118","v":0},{"$f":"ССЗОтч!Y118","v":0},{"$f":"ССЗОтч!Z118","v":0},{"$f":"ССЗОтч!AC118","v":""},{"$f":"ССЗОтч!AD118","v":0}]
[{"$f":"VLOOKUP(ТитГЗ!$A$17,'Служебный 1'!$C$3:$E$61,3,FALSE)","v":{"$error":"#N/A"}},{"$f":"ССЗ!$A$4","v":"Реализация образовательных программ среднего профессионального образования - программ подготовки специалистов среднего звена"},{"$f":"ССЗ!B122","v":0},{"$f":"ССЗ!D122","v":0},{"$f":"ССЗ!E122","v":0},{"$f":"ССЗ!J122","v":0},{"$f":"ССЗ!K122","v":0},{"$f":"ССЗ!L122","v":0},{"$f":"ССЗ!M122","v":0},{"$f":"ССЗ!N122","v":0},{"$f":"ССЗ!O122","v":0},{"$f":"ССЗ!P122","v":0},{"$f":"ССЗ!Q122","v":0},{"$f":"ССЗ!R122","v":0},{"$f":"ССЗ!S122","v":0},{"$f":"ССЗ!T122","v":0},{"$f":"ССЗ!U122","v":0},{"$f":"ССЗ!V122","v":0},{"$f":"ССЗ!W122","v":0},{"$f":"ССЗ!X122","v":0},{"$f":"ССЗОтч!N119","v":0},{"$f":"ССЗОтч!O119","v":0},{"$f":"ССЗОтч!P119","v":0},{"$f":"ССЗОтч!Q119","v":0},{"$f":"ССЗОтч!R119","v":0},{"$f":"ССЗОтч!S119","v":0},{"$f":"ССЗОтч!T119","v":0},{"$f":"ССЗОтч!U119","v":0},{"$f":"ССЗОтч!V119","v":0},{"$f":"ССЗОтч!W119","v":0},{"$f":"ССЗОтч!X119","v":0},{"$f":"ССЗОтч!Y119","v":0},{"$f":"ССЗОтч!Z119","v":0},{"$f":"ССЗОтч!AC119","v":""},{"$f":"ССЗОтч!AD119","v":0}]
[{"$f":"VLOOKUP(ТитГЗ!$A$17,'Служебный 1'!$C$3:$E$61,3,FALSE)","v":{"$error":"#N/A"}},{"$f":"ССЗ!$A$4","v":"Реализация образовательных программ среднего профессионального образования - программ подготовки специалистов среднего звена"},{"$f":"ССЗ!B123","v":0},{"$f":"ССЗ!D123","v":0},{"$f":"ССЗ!E123","v":0},{"$f":"ССЗ!J123","v":0},{"$f":"ССЗ!K123","v":0},{"$f":"ССЗ!L123","v":0},{"$f":"ССЗ!M123","v":0},{"$f":"ССЗ!N123","v":0},{"$f":"ССЗ!O123","v":0},{"$f":"ССЗ!P123","v":0},{"$f":"ССЗ!Q123","v":0},{"$f":"ССЗ!R123","v":0},{"$f":"ССЗ!S123","v":0},{"$f":"ССЗ!T123","v":0},{"$f":"ССЗ!U123","v":0},{"$f":"ССЗ!V123","v":0},{"$f":"ССЗ!W123","v":0},{"$f":"ССЗ!X123","v":0},{"$f":"ССЗОтч!N120","v":0},{"$f":"ССЗОтч!O120","v":0},{"$f":"ССЗОтч!P120","v":0},{"$f":"ССЗОтч!Q120","v":0},{"$f":"ССЗОтч!R120","v":0},{"$f":"ССЗОтч!S120","v":0},{"$f":"ССЗОтч!T120","v":0},{"$f":"ССЗОтч!U120","v":0},{"$f":"ССЗОтч!V120","v":0},{"$f":"ССЗОтч!W120","v":0},{"$f":"ССЗОтч!X120","v":0},{"$f":"ССЗОтч!Y120","v":0},{"$f":"ССЗОтч!Z120","v":0},{"$f":"ССЗОтч!AC120","v":""},{"$f":"ССЗОтч!AD120","v":0}]
[{"$f":"VLOOKUP(ТитГЗ!$A$17,'Служебный 1'!$C$3:$E$61,3,FALSE)","v":{"$error":"#N/A"}},{"$f":"ССЗ!$A$4","v":"Реализация образовательных программ среднего профессионального образования - программ подготовки специалистов среднего звена"},{"$f":"ССЗ!B124","v":0},{"$f":"ССЗ!D124","v":0},{"$f":"ССЗ!E124","v":0},{"$f":"ССЗ!J124","v":0},{"$f":"ССЗ!K124","v":0},{"$f":"ССЗ!L124","v":0},{"$f":"ССЗ!M124","v":0},{"$f":"ССЗ!N124","v":0},{"$f":"ССЗ!O124","v":0},{"$f":"ССЗ!P124","v":0},{"$f":"ССЗ!Q124","v":0},{"$f":"ССЗ!R124","v":0},{"$f":"ССЗ!S124","v":0},{"$f":"ССЗ!T124","v":0},{"$f":"ССЗ!U124","v":0},{"$f":"ССЗ!V124","v":0},{"$f":"ССЗ!W124","v":0},{"$f":"ССЗ!X124","v":0},{"$f":"ССЗОтч!N121","v":0},{"$f":"ССЗОтч!O121","v":0},{"$f":"ССЗОтч!P121","v":0},{"$f":"ССЗОтч!Q121","v":0},{"$f":"ССЗОтч!R121","v":0},{"$f":"ССЗОтч!S121","v":0},{"$f":"ССЗОтч!T121","v":0},{"$f":"ССЗОтч!U121","v":0},{"$f":"ССЗОтч!V121","v":0},{"$f":"ССЗОтч!W121","v":0},{"$f":"ССЗОтч!X121","v":0},{"$f":"ССЗОтч!Y121","v":0},{"$f":"ССЗОтч!Z121","v":0},{"$f":"ССЗОтч!AC121","v":""},{"$f":"ССЗОтч!AD121","v":0}]
[{"$f":"VLOOKUP(ТитГЗ!$A$17,'Служебный 1'!$C$3:$E$61,3,FALSE)","v":{"$error":"#N/A"}},{"$f":"ПО!A4","v":"Реализация основных профессиональных образовательных программ профессионального обучения - программ профессиональной подготовки по профессиям рабочих, должностям служащих"},{"$f":"ПО!B25","v":0},null,{"$f":"ПО!E25","v":{"$error":"#N/A"}},{"$f":"ПО!K25","v":0},{"$f":"ПО!L25","v":0},{"$f":"ПО!M25","v":0},{"$f":"ПО!N25","v":0},{"$f":"ПО!O25","v":0},{"$f":"ПО!P25","v":0},{"$f":"ПО!Q25","v":0},{"$f":"ПО!R25","v":0},{"$f":"ПО!S25","v":0},{"$f":"ПО!T25","v":0},{"$f":"ПО!U25","v":0},{"$f":"ПО!V25","v":0},{"$f":"ПО!W25","v":0},{"$f":"ПО!X25","v":0},{"$f":"ПО!Y25","v":0},{"$f":"ПООтч!O22","v":0},{"$f":"ПООтч!P22","v":0},{"$f":"ПООтч!Q22","v":0},{"$f":"ПООтч!R22","v":0},{"$f":"ПООтч!S22","v":0},{"$f":"ПООтч!T22","v":0},{"$f":"ПООтч!U22","v":0},{"$f":"ПООтч!V22","v":0},{"$f":"ПООтч!W22","v":0},{"$f":"ПООтч!X22","v":0},{"$f":"ПООтч!Y22","v":0},{"$f":"ПООтч!Z22","v":0},{"$f":"ПООтч!AA22","v":0},{"$f":"ПООтч!AD22","v":""},{"$f":"ПООтч!AE22","v":0}]
[{"$f":"VLOOKUP(ТитГЗ!$A$17,'Служебный 1'!$C$3:$E$61,3,FALSE)","v":{"$error":"#N/A"}},{"$f":"ПО!A4","v":"Реализация основных профессиональных образовательных программ профессионального обучения - программ профессиональной подготовки по профессиям рабочих, должностям служащих"},{"$f":"ПО!J26","v":0},null,null,{"$f":"ПО!K26","v":0},{"$f":"ПО!L26","v":0},{"$f":"ПО!M26","v":0},{"$f":"ПО!N26","v":0},{"$f":"ПО!O26","v":0},{"$f":"ПО!P26","v":0},{"$f":"ПО!Q26","v":0},{"$f":"ПО!R26","v":0},{"$f":"ПО!S26","v":0},{"$f":"ПО!T26","v":0},{"$f":"ПО!U26","v":0},{"$f":"ПО!V26","v":0},null,null,null,{"$f":"ПООтч!O23","v":0},{"$f":"ПООтч!P23","v":0},{"$f":"ПООтч!Q23","v":0},{"$f":"ПООтч!R23","v":0},{"$f":"ПООтч!S23","v":0},{"$f":"ПООтч!T23","v":0},{"$f":"ПООтч!U23","v":0},{"$f":"ПООтч!V23","v":0},{"$f":"ПООтч!W23","v":0},{"$f":"ПООтч!X23","v":0},{"$f":"ПООтч!Y23","v":0},{"$f":"ПООтч!Z23","v":0}]
[{"$f":"VLOOKUP(ТитГЗ!$A$17,'Служебный 1'!$C$3:$E$61,3,FALSE)","v":{"$error":"#N/A"}},{"$f":"ПО!A4","v":"Реализация основных профессиональных образовательных программ профессионального обучения - программ профессиональной подготовки по профессиям рабочих, должностям служащих"},{"$f":"ПО!J27","v":0},null,null,{"$f":"ПО!K27","v":0},{"$f":"ПО!L27","v":0},{"$f":"ПО!M27","v":0},{"$f":"ПО!N27","v":0},{"$f":"ПО!O27","v":0},{"$f":"ПО!P27","v":0},{"$f":"ПО!Q27","v":0},{"$f":"ПО!R27","v":0},{"$f":"ПО!S27","v":0},{"$f":"ПО!T27","v":0},{"$f":"ПО!U27","v":0},{"$f":"ПО!V27","v":0},null,null,null,{"$f":"ПООтч!O24","v":0},{"$f":"ПООтч!P24","v":0},{"$f":"ПООтч!Q24","v":0},{"$f":"ПООтч!R24","v":0},{"$f":"ПООтч!S24","v":0},{"$f":"ПООтч!T24","v":0},{"$f":"ПООтч!U24","v":0},{"$f":"ПООтч!V24","v":0},{"$f":"ПООтч!W24","v":0},{"$f":"ПООтч!X24","v":0},{"$f":"ПООтч!Y24","v":0},{"$f":"ПООтч!Z24","v":0}]
[{"$f":"VLOOKUP(ТитГЗ!$A$17,'Служебный 1'!$C$3:$E$61,3,FALSE)","v":{"$error":"#N/A"}},{"$f":"ПО!A4","v":"Реализация основных профессиональных образовательных программ профессионального обучения - программ профессиональной подготовки по профессиям рабочих, должностям служащих"},{"$f":"ПО!J28","v":0},null,null,{"$f":"ПО!K28","v":0},{"$f":"ПО!L28","v":0},{"$f":"ПО!M28","v":0},{"$f":"ПО!N28","v":0},{"$f":"ПО!O28","v":0},{"$f":"ПО!P28","v":0},{"$f":"ПО!Q28","v":0},{"$f":"ПО!R28","v":0},{"$f":"ПО!S28","v":0},{"$f":"ПО!T28","v":0},{"$f":"ПО!U28","v":0},{"$f":"ПО!V28","v":0},null,null,null,{"$f":"ПООтч!O25","v":0},{"$f":"ПООтч!P25","v":0},{"$f":"ПООтч!Q25","v":0},{"$f":"ПООтч!R25","v":0},{"$f":"ПООтч!S25","v":0},{"$f":"ПООтч!T25","v":0},{"$f":"ПООтч!U25","v":0},{"$f":"ПООтч!V25","v":0},{"$f":"ПООтч!W25","v":0},{"$f":"ПООтч!X25","v":0},{"$f":"ПООтч!Y25","v":0},{"$f":"ПООтч!Z25","v":0}]
[{"$f":"VLOOKUP(ТитГЗ!$A$17,'Служебный 1'!$C$3:$E$61,3,FALSE)","v":{"$error":"#N/A"}},{"$f":"ПО!A4","v":"Реализация основных профессиональных образовательных программ профессионального обучения - программ профессиональной подготовки по профессиям рабочих, должностям служащих"},{"$f":"ПО!J29","v":0},null,null,{"$f":"ПО!K29","v":0},{"$f":"ПО!L29","v":0},{"$f":"ПО!M29","v":0},{"$f":"ПО!N29","v":0},{"$f":"ПО!O29","v":0},{"$f":"ПО!P29","v":0},{"$f":"ПО!Q29","v":0},{"$f":"ПО!R29","v":0},{"$f":"ПО!S29","v":0},{"$f":"ПО!T29","v":0},{"$f":"ПО!U29","v":0},{"$f":"ПО!V29","v":0},null,null,null,{"$f":"ПООтч!O26","v":0},{"$f":"ПООтч!P26","v":0},{"$f":"ПООтч!Q26","v":0},{"$f":"ПООтч!R26","v":0},{"$f":"ПООтч!S26","v":0},{"$f":"ПООтч!T26","v":0},{"$f":"ПООтч!U26","v":0},{"$f":"ПООтч!V26","v":0},{"$f":"ПООтч!W26","v":0},{"$f":"ПООтч!X26","v":0},{"$f":"ПООтч!Y26","v":0},{"$f":"ПООтч!Z26","v":0}]
[{"$f":"VLOOKUP(ТитГЗ!$A$17,'Служебный 1'!$C$3:$E$61,3,FALSE)","v":{"$error":"#N/A"}},{"$f":"ПО!A4","v":"Реализация основных профессиональных образовательных программ профессионального обучения - программ профессиональной подготовки по профессиям рабочих, должностям служащих"},{"$f":"ПО!J30","v":0},null,null,{"$f":"ПО!K30","v":0},{"$f":"ПО!L30","v":0},{"$f":"ПО!M30","v":0},{"$f":"ПО!N30","v":0},{"$f":"ПО!O30","v":0},{"$f":"ПО!P30","v":0},{"$f":"ПО!Q30","v":0},{"$f":"ПО!R30","v":0},{"$f":"ПО!S30","v":0},{"$f":"ПО!T30","v":0},{"$f":"ПО!U30","v":0},{"$f":"ПО!V30","v":0},null,null,null,{"$f":"ПООтч!O27","v":0},{"$f":"ПООтч!P27","v":0},{"$f":"ПООтч!Q27","v":0},{"$f":"ПООтч!R27","v":0},{"$f":"ПООтч!S27","v":0},{"$f":"ПООтч!T27","v":0},{"$f":"ПООтч!U27","v":0},{"$f":"ПООтч!V27","v":0},{"$f":"ПООтч!W27","v":0},{"$f":"ПООтч!X27","v":0},{"$f":"ПООтч!Y27","v":0},{"$f":"ПООтч!Z27","v":0}]
[{"$f":"VLOOKUP(ТитГЗ!$A$17,'Служебный 1'!$C$3:$E$61,3,FALSE)","v":{"$error":"#N/A"}},{"$f":"ПО!A4","v":"Реализация основных профессиональных образовательных программ профессионального обучения - программ профессиональной подготовки по профессиям рабочих, должностям служащих"},{"$f":"ПО!B31","v":0},null,{"$f":"ПО!E31","v":{"$error":"#N/A"}},{"$f":"ПО!K31","v":0},{"$f":"ПО!L31","v":0},{"$f":"ПО!M31","v":0},{"$f":"ПО!N31","v":0},{"$f":"ПО!O31","v":0},{"$f":"ПО!P31","v":0},{"$f":"ПО!Q31","v":0},{"$f":"ПО!R31","v":0},{"$f":"ПО!S31","v":0},{"$f":"ПО!T31","v":0},{"$f":"ПО!U31","v":0},{"$f":"ПО!V31","v":0},{"$f":"ПО!W31","v":0},{"$f":"ПО!X31","v":0},{"$f":"ПО!Y31","v":0},{"$f":"ПООтч!O28","v":0},{"$f":"ПООтч!P28","v":0},{"$f":"ПООтч!Q28","v":0},{"$f":"ПООтч!R28","v":0},{"$f":"ПООтч!S28","v":0},{"$f":"ПООтч!T28","v":0},{"$f":"ПООтч!U28","v":0},{"$f":"ПООтч!V28","v":0},{"$f":"ПООтч!W28","v":0},{"$f":"ПООтч!X28","v":0},{"$f":"ПООтч!Y28","v":0},{"$f":"ПООтч!Z28","v":0},{"$f":"ПООтч!AA28","v":0},{"$f":"ПООтч!AD28","v":""},{"$f":"ПООтч!AE28","v":0}]
[{"$f":"VLOOKUP(ТитГЗ!$A$17,'Служебный 1'!$C$3:$E$61,3,FALSE)","v":{"$error":"#N/A"}},{"$f":"ПО!A4","v":"Реализация основных профессиональных образовательных программ профессионального обучения - программ профессиональной подготовки по профессиям рабочих, должностям служащих"},{"$f":"ПО!J32","v":0},null,null,{"$f":"ПО!K32","v":0},{"$f":"ПО!L32","v":0},{"$f":"ПО!M32","v":0},{"$f":"ПО!N32","v":0},{"$f":"ПО!O32","v":0},{"$f":"ПО!P32","v":0},{"$f":"ПО!Q32","v":0},{"$f":"ПО!R32","v":0},{"$f":"ПО!S32","v":0},{"$f":"ПО!T32","v":0},{"$f":"ПО!U32","v":0},{"$f":"ПО!V32","v":0},null,null,null,{"$f":"ПООтч!O29","v":0},{"$f":"ПООтч!P29","v":0},{"$f":"ПООтч!Q29","v":0},{"$f":"ПООтч!R29","v":0},{"$f":"ПООтч!S29","v":0},{"$f":"ПООтч!T29","v":0},{"$f":"ПООтч!U29","v":0},{"$f":"ПООтч!V29","v":0},{"$f":"ПООтч!W29","v":0},{"$f":"ПООтч!X29","v":0},{"$f":"ПООтч!Y29","v":0},{"$f":"ПООтч!Z29","v":0}]
[{"$f":"VLOOKUP(ТитГЗ!$A$17,'Служебный 1'!$C$3:$E$61,3,FALSE)","v":{"$error":"#N/A"}},{"$f":"ПО!A4","v":"Реализация основных профессиональных образовательных программ профессионального обучения - программ профессиональной подготовки по профессиям рабочих, должностям служащих"},{"$f":"ПО!J33","v":0},null,null,{"$f":"ПО!K33","v":0},{"$f":"ПО!L33","v":0},{"$f":"ПО!M33","v":0},{"$f":"ПО!N33","v":0},{"$f":"ПО!O33","v":0},{"$f":"ПО!P33","v":0},{"$f":"ПО!Q33","v":0},{"$f":"ПО!R33","v":0},{"$f":"ПО!S33","v":0},{"$f":"ПО!T33","v":0},{"$f":"ПО!U33","v":0},{"$f":"ПО!V33","v":0},null,null,null,{"$f":"ПООтч!O30","v":0},{"$f":"ПООтч!P30","v":0},{"$f":"ПООтч!Q30","v":0},{"$f":"ПООтч!R30","v":0},{"$f":"ПООтч!S30","v":0},{"$f":"ПООтч!T30","v":0},{"$f":"ПООтч!U30","v":0},{"$f":"ПООтч!V30","v":0},{"$f":"ПООтч!W30","v":0},{"$f":"ПООтч!X30","v":0},{"$f":"ПООтч!Y30","v":0},{"$f":"ПООтч!Z30","v":0}]
[{"$f":"VLOOKUP(ТитГЗ!$A$17,'Служебный 1'!$C$3:$E$61,3,FALSE)","v":{"$error":"#N/A"}},{"$f":"ПО!A4","v":"Реализация основных профессиональных образовательных программ профессионального обучения - программ профессиональной подготовки по профессиям рабочих, должностям служащих"},{"$f":"ПО!J34","v":0},null,null,{"$f":"ПО!K34","v":0},{"$f":"ПО!L34","v":0},{"$f":"ПО!M34","v":0},{"$f":"ПО!N34","v":0},{"$f":"ПО!O34","v":0},{"$f":"ПО!P34","v":0},{"$f":"ПО!Q34","v":0},{"$f":"ПО!R34","v":0},{"$f":"ПО!S34","v":0},{"$f":"ПО!T34","v":0},{"$f":"ПО!U34","v":0},{"$f":"ПО!V34","v":0},null,null,null,{"$f":"ПООтч!O31","v":0},{"$f":"ПООтч!P31","v":0},{"$f":"ПООтч!Q31","v":0},{"$f":"ПООтч!R31","v":0},{"$f":"ПООтч!S31","v":0},{"$f":"ПООтч!T31","v":0},{"$f":"ПООтч!U31","v":0},{"$f":"ПООтч!V31","v":0},{"$f":"ПООтч!W31","v":0},{"$f":"ПООтч!X31","v":0},{"$f":"ПООтч!Y31","v":0},{"$f":"ПООтч!Z31","v":0}]
[{"$f":"VLOOKUP(ТитГЗ!$A$17,'Служебный 1'!$C$3:$E$61,3,FALSE)","v":{"$error":"#N/A"}},{"$f":"ПО!A4","v":"Реализация основных профессиональных образовательных программ профессионального обучения - программ профессиональной подготовки по профессиям рабочих, должностям служащих"},{"$f":"ПО!J35","v":0},null,null,{"$f":"ПО!K35","v":0},{"$f":"ПО!L35","v":0},{"$f":"ПО!M35","v":0},{"$f":"ПО!N35","v":0},{"$f":"ПО!O35","v":0},{"$f":"ПО!P35","v":0},{"$f":"ПО!Q35","v":0},{"$f":"ПО!R35","v":0},{"$f":"ПО!S35","v":0},{"$f":"ПО!T35","v":0},{"$f":"ПО!U35","v":0},{"$f":"ПО!V35","v":0},null,null,null,{"$f":"ПООтч!O32","v":0},{"$f":"ПООтч!P32","v":0},{"$f":"ПООтч!Q32","v":0},{"$f":"ПООтч!R32","v":0},{"$f":"ПООтч!S32","v":0},{"$f":"ПООтч!T32","v":0},{"$f":"ПООтч!U32","v":0},{"$f":"ПООтч!V32","v":0},{"$f":"ПООтч!W32","v":0},{"$f":"ПООтч!X32","v":0},{"$f":"ПООтч!Y32","v":0},{"$f":"ПООтч!Z32","v":0}]
[{"$f":"VLOOKUP(ТитГЗ!$A$17,'Служебный 1'!$C$3:$E$61,3,FALSE)","v":{"$error":"#N/A"}},{"$f":"ПО!A4","v":"Реализация основных профессиональных образовательных программ профессионального обучения - программ профессиональной подготовки по профессиям рабочих, должностям служащих"},{"$f":"ПО!J36","v":0},null,null,{"$f":"ПО!K36","v":0},{"$f":"ПО!L36","v":0},{"$f":"ПО!M36","v":0},{"$f":"ПО!N36","v":0},{"$f":"ПО!O36","v":0},{"$f":"ПО!P36","v":0},{"$f":"ПО!Q36","v":0},{"$f":"ПО!R36","v":0},{"$f":"ПО!S36","v":0},{"$f":"ПО!T36","v":0},{"$f":"ПО!U36","v":0},{"$f":"ПО!V36","v":0},null,null,null,{"$f":"ПООтч!O33","v":0},{"$f":"ПООтч!P33","v":0},{"$f":"ПООтч!Q33","v":0},{"$f":"ПООтч!R33","v":0},{"$f":"ПООтч!S33","v":0},{"$f":"ПООтч!T33","v":0},{"$f":"ПООтч!U33","v":0},{"$f":"ПООтч!V33","v":0},{"$f":"ПООтч!W33","v":0},{"$f":"ПООтч!X33","v":0},{"$f":"ПООтч!Y33","v":0},{"$f":"ПООтч!Z33","v":0}]
[{"$f":"VLOOKUP(ТитГЗ!$A$17,'Служебный 1'!$C$3:$E$61,3,FALSE)","v":{"$error":"#N/A"}},{"$f":"Общеж!A4","v":"Заключение договоров найма специализированного жилого помещения"},null,null,null,{"$f":"Общеж!J28","v":240},{"$f":"Общеж!K28","v":240},{"$f":"Общеж!L28","v":240},{"$f":"Общеж!M28","v":240},{"$f":"Общеж!N28","v":240},{"$f":"Общеж!O28","v":240},{"$f":"Общеж!P28","v":180},{"$f":"Общеж!Q28","v":180},{"$f":"Общеж!R28","v":240},{"$f":"Общеж!S28","v":240},{"$f":"Общеж!T28","v":240},{"$f":"Общеж!U28","v":240},{"$f":"Общеж!V28","v":1380},{"$f":"Общеж!W28","v":1380},{"$f":"Общеж!X28","v":1380},{"$f":"ОбщежОтч!N23","v":232},{"$f":"ОбщежОтч!O23","v":229},{"$f":"ОбщежОтч!P23","v":229},{"$f":"ОбщежОтч!Q23","v":229},{"$f":"ОбщежОтч!R23","v":229},{"$f":"ОбщежОтч!S23","v":229},{"$f":"ОбщежОтч!T23","v":180},{"$f":"ОбщежОтч!U23","v":180},{"$f":"ОбщежОтч!V23","v":220},{"$f":"ОбщежОтч!W23","v":220},{"$f":"ОбщежОтч!X23","v":222},{"$f":"ОбщежОтч!Y23","v":222},{"$f":"ОбщежОтч!Z23","v":1310.4000000000001},{"$f":"ОбщежОтч!AC23","v":""},{"$f":"ОбщежОтч!AD23","v":0}]
[{"$f":"VLOOKUP(ТитГЗ!$A$17,'Служебный 1'!$C$3:$E$61,3,FALSE)","v":{"$error":"#N/A"}},{"$f":"Общеж!A4","v":"Заключение договоров найма специализированного жилого помещения"},{"$f":"Общеж!G17","v":"Соблюдение сроков выполнения работ"},null,null,null,null,null,null,null,null,null,null,null,null,null,null,{"$f":"Общеж!Z17","v":100},{"$f":"Общеж!AA17","v":100},{"$f":"Общеж!AB17","v":100},null,null,null,null,null,null,null,null,null,null,null,null,{"$f":"ОбщежОтч!AE14","v":100},{"$f":"ОбщежОтч!AG14","v":""},{"$f":"ОбщежОтч!AH14","v":0}]
[{"$f":"VLOOKUP(ТитГЗ!$A$17,'Служебный 1'!$C$3:$E$61,3,FALSE)","v":{"$error":"#N/A"}},{"$f":"Общеж!A4","v":"Заключение договоров найма специализированного жилого помещения"},{"$f":"Общеж!G18","v":"Количество письменных жалоб на качество предоставленных услуг"},null,null,null,null,null,null,null,null,null,null,null,null,null,null,{"$f":"Общеж!Z18","v":0},{"$f":"Общеж!AA18","v":0},{"$f":"Общеж!AB18","v":0},null,null,null,null,null,null,null,null,null,null,null,null,{"$f":"ОбщежОтч!AE15","v":0},{"$f":"ОбщежОтч!AG15","v":""},{"$f":"ОбщежОтч!AH15","v":0}]
[{"$f":"VLOOKUP(ТитГЗ!$A$17,'Служебный 1'!$C$3:$E$61,3,FALSE)","v":{"$error":"#N/A"}},{"$f":"Питание!A3","v":"Предоставление питания"},null,null,null,{"$f":"Питание!J24","v":0},{"$f":"Питание!K24","v":0},{"$f":"Питание!L24","v":0},{"$f":"Питание!M24","v":0},{"$f":"Питание!N24","v":0},{"$f":"Питание!O24","v":0},{"$f":"Питание!P24","v":0},{"$f":"Питание!Q24","v":0},{"$f":"Питание!R24","v":0},{"$f":"Питание!S24","v":0},{"$f":"Питание!T24","v":0},{"$f":"Питание!U24","v":0},{"$f":"Питание!V24","v":0},{"$f":"Питание!W24","v":0},{"$f":"Питание!X24","v":0},{"$f":"ПитаниеОтч!N22","v":0},{"$f":"ПитаниеОтч!O22","v":0},{"$f":"ПитаниеОтч!P22","v":0},{"$f":"ПитаниеОтч!Q22","v":0},{"$f":"ПитаниеОтч!R22","v":0},{"$f":"ПитаниеОтч!S22","v":0},{"$f":"ПитаниеОтч!T22","v":0},{"$f":"ПитаниеОтч!U22","v":0},{"$f":"ПитаниеОтч!V22","v":0},{"$f":"ПитаниеОтч!W22","v":0},{"$f":"ПитаниеОтч!X22","v":0},{"$f":"ПитаниеОтч!Y22","v":0},{"$f":"ПитаниеОтч!Z22","v":0},{"$f":"ПитаниеОтч!AC22","v":""},{"$f":"ПитаниеОтч!AD22","v":0}]

{"sheet":"ТитОтчет","index":12,"n_rows":28,"n_cols":12,"rows_kept":28,"cut":false,"hidden":false,"merged":[[0,9,0,12],[3,4,3,8],[5,3,5,9],[2,4,2,8],[9,10,10,10],[7,3,7,9],[8,11,8,12],[27,2,27,3],[9,11,10,12],[17,0,18,8],[11,11,11,12],[21,0,22,8],[19,0,20,8],[10,0,12,8],[18,11,18,12],[12,11,14,12],[15,11,15,12],[17,11,17,12],[12,10,14,10],[15,0,16,8],[16,11,16,12]]}
[]
[]
[null,null,null,null,"ОТЧЕТ О ВЫПОЛНЕНИИ"]
[null,null,null,null,"ГОСУДАРСТВЕННОГО ЗАДАНИЯ № "]
[]
[null,null,null,{"$f":"ТитГЗ!D14","v":"на 2018 год и плановый период 2019 и 2020 годов"}]
[]
[null,null,null,{"$f":"\"от \"&ТитГЗ!J9","v":"от \"_____\" _______________ 2018 г."}]
[null,null,null,null,null,null,null,null,null,null,null,"Коды"]
["Наименование государственного учреждения (Волгоградской области)",null,null,null,null,null,null,null,null,null,"Форма по ОКУД","0506001"]
[{"$f":"ТитГЗ!A17","v":"государственное бюджетное профессиональное образовательное учреждение \"Волгоградский колледж управления и новых технологий имени Юрия Гагарина\""}]
[null,null,null,null,null,null,null,null,null,null,"Дата",{"$f":"IF(ТитГЗ!L18=\"\",\"\",ТитГЗ!L18)","v":""}]
[null,null,null,null,null,null,null,null,null,null,"Код по сводному реестру",{"$f":"IF(ТитГЗ!L19=\"\",\"\",ТитГЗ!L19)","v":""}]
[]
["Виды деятельности государственного учреждения (Волгоградской области)"]
[{"$f":"ТитГЗ!A22","v":"Управление эксплуатацией жилого фонда"},null,null,null,null,null,null,null,null,null,"По ОКВЭД",{"$f":"ТитГЗ!L22","v":"70.32.1"}]
[null,null,null,null,null,null,null,null,null,null,"По ОКВЭД",{"$f":"ТитГЗ!L23","v":"85.21"}]
[{"$f":"ТитГЗ!A24","v":"Среднее профессиональное образование"},null,null,null,null,null,null,null,null,null,"По ОКВЭД",{"$f":"ТитГЗ!L24","v":"85.21"}]
[null,null,null,null,null,null,null,null,null,null,null,{"$f":"ТитГЗ!L25","v":"85.21"}]
[{"$f":"ТитГЗ!A26","v":"Среднее профессиональное образование"}]
[]
[{"$f":"ТитГЗ!A28","v":"Среднее профессиональное образование"}]
[]
[]
[]
[]
[]
["Периодичность",null,"ежегодно"]

{"sheet":"КРСОтч","index":13,"n_rows":127,"n_cols":34,"rows_kept":127,"cut":false,"hidden":false,"merged":[[118,29,118,30],[119,29,119,30],[120,29,120,30],[103,29,103,30],[104,29,104,30],[105,29,105,30],[106,29,106,30],[115,29,115,30],[116,29,116,30],[117,29,117,30],[107,29,107,30],[108,29,108,30],[109,29,109,30],[112,29,112,30],[113,29,113,30],[114,29,114,30],[110,29,110,30],[111,29,111,30],[94,29,94,30],[95,29,95,30],[96,29,96,30],[97,29,97,30],[98,29,98,30],[99,29,99,30],[100,29,100,30],[101,29,101,30],[77,29,77,30],[78,29,78,30],[79,29,79,30],[80,29,80,30],[81,29,81,30],[82,29,82,30],[119,25,119,26],[120,25,120,26],[69,29,69,30],[70,29,70,30],[71,29,71,30],[72,29,72,30],[73,29,73,30],[74,29,74,30],[75,29,75,30],[76,29,76,30],[115,25,115,26],[116,25,116,26],[117,25,117,26],[118,25,118,26],[102,29,102,30],[85,29,85,30],[86,29,86,30],[87,29,87,30],[83,29,83,30],[84,29,84,30],[93,25,93,26],[94,25,94,26],[85,25,85,26],[90,29,90,30],[91,29,91,30],[92,29,92,30],[100,25,100,26],[88,29,88,30],[89,29,89,30],[93,29,93,30],[117,9,117,12],[118,9,118,12],[119,9,119,12],[114,25,114,26],[86,25,86,26],[87,25,87,26],[88,25,88,26],[120,9,120,12],[114,9,114,12],[115,9,115,12],[91,25,91,26],[108,25,108,26],[112,25,112,26],[111,9,111,12],[112,9,112,12],[116,9,116,12],[106,9,106,12],[107,9,107,12],[108,9,108,12],[109,9,109,12],[113,25,113,26],[89,25,89,26],[90,25,90,26],[95,25,95,26],[113,9,113,12],[96,9,96,12],[97,9,97,12],[98,9,98,12],[99,9,99,12],[91,9,91,12],[90,9,90,12],[79,25,79,26],[80,25,80,26],[92,25,92,26],[96,25,96,26],[97,25,97,26],[98,25,98,26],[99,25,99,26],[101,25,101,26],[102,25,102,26],[103,25,103,26],[109,25,109,26],[110,25,110,26],[111,25,111,26],[100,9,100,12],[101,9,101,12],[105,9,105,12],[104,25,104,26],[105,25,105,26],[106,25,106,26],[107,25,107,26],[92,9,92,12],[84,9,84,12],[87,9,87,12],[110,9,110,12],[93,9,93,12],[102,9,102,12],[103,9,103,12],[104,9,104,12],[89,9,89,12],[82,9,82,12],[83,9,83,12],[85,9,85,12],[88,9,88,12],[67,25,67,26],[81,25,81,26],[82,25,82,26],[83,25,83,26],[84,25,84,26],[76,9,76,12],[77,9,77,12],[69,25,69,26],[70,25,70,26],[71,25,71,26],[72,25,72,26],[73,25,73,26],[74,25,74,26],[68,25,68,26],[68,29,68,30],[63,9,63,12],[63,25,63,26],[63,29,63,30],[74,9,74,12],[75,9,75,12],[81,9,81,12],[64,25,64,26],[64,29,64,30],[65,9,65,12],[66,9,66,12],[66,25,66,26],[66,29,66,30],[75,25,75,26],[76,25,76,26],[77,25,77,26],[78,25,78,26],[67,29,67,30],[69,9,69,12],[70,9,70,12],[71,9,71,12],[72,9,72,12],[80,9,80,12],[65,25,65,26],[65,29,65,30],[60,9,60,12],[60,25,60,26],[60,29,60,30],[61,25,61,26],[61,29,61,30],[62,9,62,12],[62,25,62,26],[62,29,62,30],[57,9,57,12],[57,25,57,26],[57,29,57,30],[58,9,58,12],[58,25,58,26],[58,29,58,30],[59,9,59,12],[59,25,59,26],[59,29,59,30],[56,25,56,26],[56,29,56,30],[51,9,51,12],[51,25,51,26],[51,29,51,30],[52,9,52,12],[52,25,52,26],[52,29,52,30],[53,9,53,12],[54,9,54,12],[54,25,54,26],[54,29,54,30],[55,9,55,12],[55,25,55,26],[55,29,55,30],[10,33,11,33],[11,26,11,27],[10,26,10,28],[10,29,11,29],[53,25,53,26],[53,29,53,30],[10,6,11,25],[45,25,45,26],[46,25,46,26],[47,25,47,26],[45,9,45,12],[43,9,43,12],[44,9,44,12],[42,29,42,30],[49,29,49,30],[50,29,50,30],[35,29,35,30],[36,29,36,30],[37,29,37,30],[38,29,38,30],[43,29,43,30],[44,29,44,30],[45,29,45,30],[47,29,47,30],[48,29,48,30],[46,29,46,30],[40,29,40,30],[41,29,41,30],[38,25,38,26],[39,25,39,26],[28,29,28,30],[43,25,43,26],[22,29,22,30],[23,29,23,30],[24,29,24,30],[25,29,25,30],[26,29,26,30],[39,29,39,30],[32,29,32,30],[33,29,33,30],[34,29,34,30],[27,29,27,30],[29,29,29,30],[30,29,30,30],[31,29,31,30],[41,25,41,26],[42,25,42,26],[36,25,36,26],[30,25,30,26],[31,25,31,26],[33,25,33,26],[32,25,32,26],[40,25,40,26],[48,25,48,26],[49,25,49,26],[28,25,28,26],[27,25,27,26],[44,25,44,26],[34,25,34,26],[35,25,35,26],[48,9,48,12],[40,9,40,12],[41,9,41,12],[38,9,38,12],[39,9,39,12],[50,25,50,26],[37,25,37,26],[42,9,42,12],[36,9,36,12],[22,25,22,26],[23,25,23,26],[24,25,24,26],[25,25,25,26],[24,9,24,12],[25,9,25,12],[27,9,27,12],[28,9,28,12],[29,9,29,12],[26,9,26,12],[23,9,23,12],[26,25,26,26],[29,25,29,26],[47,9,47,12],[22,9,22,12],[49,9,49,12],[124,4,124,6],[37,9,37,12],[46,9,46,12],[94,9,94,12],[95,9,95,12],[78,9,78,12],[79,9,79,12],[64,9,64,12],[67,9,67,12],[73,9,73,12],[30,9,30,12],[56,9,56,12],[61,9,61,12],[35,9,35,12],[50,9,50,12],[32,9,32,12],[34,9,34,12],[31,9,31,12],[33,9,33,12],[68,9,68,12],[86,9,86,12],[0,0,0,33],[17,31,19,31],[20,29,20,30],[9,6,9,33],[10,30,11,30],[17,0,19,0],[18,9,19,12],[20,9,20,12],[18,13,18,24],[18,28,19,28],[18,27,19,27],[18,5,19,5],[18,2,19,2],[18,3,19,3],[18,4,19,4],[10,1,11,1],[10,2,11,2],[10,3,11,3],[10,4,11,4],[12,6,12,25],[13,6,13,25],[12,26,12,27],[10,31,11,31],[10,32,11,32],[21,25,21,26],[9,0,11,0],[13,26,13,27],[18,6,19,6],[18,7,18,8],[17,6,17,30],[20,25,20,26],[21,29,21,30],[18,25,19,26],[18,29,19,30],[21,9,21,12],[126,2,126,3],[2,0,2,3],[9,1,9,3],[9,4,9,5],[4,0,4,5],[17,1,17,3],[17,4,17,5],[10,5,11,5],[18,1,19,1],[125,2,125,3],[124,2,124,3]]}
[{"$f":"КРС!A2","v":"Раздел 1"}]
["1. Наименование государственной услуги"]
[{"$f":"КРС!A4:D4","v":"Реализация образовательных программ среднего профессионального образования - программ подготовки квалифицированных рабочих, служащих"},null,null,null,"Уникальный номер реестровой записи из общероссийских перечней либо регионального перечня",{"$f":"КРС!F4","v":"11.Д57.0"}]
["2. Категория потребителей государственной услуги"]
[{"$f":"КРС!A6:F6","v":"Физические лица, имеющие основное общее образование"}]
["3.  Сведения  о фактическом достижении показателей, характеризующих объем и (или) качество государственной услуги:"]
[]
["3.1.   Сведения   о  фактическом  достижении  показателей,  характеризующих качество государственной услуги:"]
[]
[{"$f":"КРС!A11","v":"Уникальный номер реестровой записи"},{"$f":"КРС!B11","v":"Показатель, характеризущий содержание государственной услуги"},null,null,{"$f":"КРС!E11","v":"Показатель, характеризущий условия (формы) оказания государственной услуги"},null,{"$f":"КРС!G11","v":"Показатель качества государственной услуги"}]
[null,{"$f":"КРС!B12","v":"Профессии и укрупненные группы"},{"$f":"КРС!C12","v":"Категория потребителей"},{"$f":"КРС!D12","v":"Уровень образования, необходимый для приема на обучение"},{"$f":"КРС!E12","v":"Формы обучения и формы реализации образовательных программ"},{"$f":"КРС!F12","v":"(наименование показателя)"},{"$f":"КРС!G12","v":"наименование показателя"},null,null,null,null,null,null,null,null,null,null,null,null,null,null,null,null,null,null,null,{"$f":"КРС!W12","v":"единица измерения по ОКЕИ"},null,null,"утверждено в государственном задании на год","исполнено на отчетную дату","допустимое (возможное) отклонение","отклонение, превышающее допустимое (возможное) значение","причина отклонения"]
[null,null,null,null,null,null,null,null,null,null,null,null,null,null,null,null,null,null,null,null,null,null,null,null,null,null,{"$f":"SUBSTITUTE(КРС!W13,\"-\",,1)","v":"наименование"},null,{"$f":"КРС!Y13","v":"код"}]
[1,2,3,4,5,6,7,null,null,null,null,null,null,null,null,null,null,null,null,null,null,null,null,null,null,null,8,null,9,10,11,12,13,14]
[]
[]
["3.2.  Сведения  о фактическом достижении показателей, характеризующих объем государственной услуги:"]
[]
[{"$f":"КРС!A21","v":"Уникальный номер реестровой записи"},{"$f":"КРС!B21","v":"Показатель, характеризущий содержание государственной услуги"},null,null,{"$f":"КРС!E21","v":"Показатель, характеризущий условия (форму) оказания государственной услуги"},null,"Показатель объема государственной услуги",null,null,null,null,null,null,null,null,null,null,null,null,null,null,null,null,null,null,null,null,null,null,null,null,"Средний размер платы (цена, тариф)"]
[null,{"$f":"КРС!B22","v":"Профессии и укрупненные группы"},{"$f":"КРС!C22","v":"Категория потребителей"},{"$f":"КРС!D22","v":"Уровень образования, необходимый для приема на обучение"},{"$f":"КРС!E22","v":"Формы обучения и формы реализации образовательных программ"},{"$f":"КРС!F22","v":"(наименование показателя)"},{"$f":"КРС!G22","v":"наименование показателя"},{"$f":"КРС!H22","v":"единица измерения по ОКЕИ"},null,"утверждено в государственном задании на год",null,null,null,"Количество студентов, получающих образовательные услуги за счет областного бюджета, на первое число каждого месяца 2018 года, чел",null,null,null,null,null,null,null,null,null,null,null,"исполнено на отчетную дату",null,"допустимое (возможное) отклонение","отклонение, превышающее допустимое (возможное) значение","причина отклонения"]
[null,null,null,null,null,null,null,{"$f":"КРС!H23","v":"наименование"},{"$f":"КРС!I23","v":"код"},null,null,null,null,"январь","февраль","март","апрель","май","июнь","июль","август","сентябрь","октябрь","ноябрь","декабрь"]
[1,2,3,4,5,6,7,8,9,10,null,null,null,null,null,null,null,null,null,null,null,null,null,null,null,11,null,12,13,14,null,15]
[{"$f":"КРС!A25","v":"11Д57001101000101008100"},{"$f":"КРС!B25","v":"08.01.08 Мастер отделочных строительных работ"},{"$f":"КРС!C25","v":"не указано"},{"$f":"КРС!D25","v":"Основное общее образование"},{"$f":"КРС!E25","v":"Очная"},null,{"$f":"КРС!G25","v":"Численность обучающихся"},{"$f":"КРС!H25","v":"Человек"},{"$f":"КРС!I25","v":792},{"$f":"КРС!V25","v":51.5},null,null,null,49,49,49,49,49,49,41,41,53,65,64,61,{"$f":"ROUND(SUM(N22:Y22)/12,1)","v":51.6},null,{"$f":"КРС!$F$126","v":0.05},{"$f":"IF(ISERROR(IF(ABS(ROUND((Z22/J22)-1,3))>AB22,ROUND((Z22/J22)-1,3),\"\")),\"\",IF(ABS(ROUND((Z22/J22)-1,3))>AB22,ROUND((Z22/J22)-1,3),\"\"))","v":""}]
[{"$f":"КРС!A26","v":"11Д57006401000101004100"},{"$f":"КРС!B26","v":"13.01.10 Электромонтер по ремонту и обслуживанию электрооборудования (по отраслям)"},{"$f":"КРС!C26","v":"не указано"},{"$f":"КРС!D26","v":"Основное общее образование"},{"$f":"КРС!E26","v":"Очная"},null,{"$f":"КРС!G26","v":"Численность обучающихся"},{"$f":"КРС!H26","v":"Человек"},{"$f":"КРС!I26","v":792},{"$f":"КРС!V26","v":59.2},null,null,null,62,62,61,61,61,59,41,39,64,63,63,63,{"$f":"ROUND(SUM(N23:Y23)/12,1)","v":58.3},null,{"$f":"КРС!$F$126","v":0.05},{"$f":"IF(ISERROR(IF(ABS(ROUND((Z23/J23)-1,3))>AB23,ROUND((Z23/J23)-1,3),\"\")),\"\",IF(ABS(ROUND((Z23/J23)-1,3))>AB23,ROUND((Z23/J23)-1,3),\"\"))","v":""}]
[{"$f":"КРС!A27","v":"11Д57006401000201003100"},{"$f":"КРС!B27","v":"13.01.10 Электромонтер по ремонту и обслуживанию электрооборудования (по отраслям)"},{"$f":"КРС!C27","v":"не указано"},{"$f":"КРС!D27","v":"Среднее общее образование"},{"$f":"КРС!E27","v":"Очная"},null,{"$f":"КРС!G27","v":"Численность обучающихся"},{"$f":"КРС!H27","v":"Человек"},{"$f":"КРС!I27","v":792},{"$f":"КРС!V27","v":16.8},null,null,null,18,18,18,18,18,17,2,2,27,27,26,26,18.100000000000001,null,{"$f":"КРС!$F$126","v":0.05},7.6999999999999999E-2,"С 1 сентября 2018 года в соответствии с КЦП принято на обучение 25 человек. В то же время,в академическом отпуске с предыдущего учебного года находились 2 студента. Таким образом, превышение ГЗ произошло по техническим причинам"]
[{"$f":"КРС!A28","v":"11Д57007401000101002100"},{"$f":"КРС!B28","v":"15.01.05 Сварщик (ручной и частично механизированной сварки (наплавки)"},{"$f":"КРС!C28","v":"не указано"},{"$f":"КРС!D28","v":"Основное общее образование"},{"$f":"КРС!E28","v":"Очная"},null,{"$f":"КРС!G28","v":"Численность обучающихся"},{"$f":"КРС!H28","v":"Человек"},{"$f":"КРС!I28","v":792},{"$f":"КРС!V28","v":145.30000000000001},null,null,null,145,143,143,142,142,139,105,105,156,151,149,148,139,null,{"$f":"КРС!$F$126","v":0.05},""]
[{"$f":"КРС!A29","v":"11Д57009401000101008100"},{"$f":"КРС!B29","v":"15.01.25 Станочник (металлообработка)"},{"$f":"КРС!C29","v":"не указано"},{"$f":"КРС!D29","v":"Основное общее образование"},{"$f":"КРС!E29","v":"Очная"},null,{"$f":"КРС!G29","v":"Численность обучающихся"},{"$f":"КРС!H29","v":"Человек"},{"$f":"КРС!I29","v":792},{"$f":"КРС!V29","v":54},null,null,null,63,63,63,63,62,61,40,39,39,39,42,42,51.3,null,{"$f":"КРС!$F$126","v":0.05},""]
[{"$f":"КРС!A30","v":"11Д57009901000101003100"},{"$f":"КРС!B30","v":"15.01.30 Слесарь"},{"$f":"КРС!C30","v":"не указано"},{"$f":"КРС!D30","v":"Основное общее образование"},{"$f":"КРС!E30","v":"Очная"},null,{"$f":"КРС!G30","v":"Численность обучающихся"},{"$f":"КРС!H30","v":"Человек"},{"$f":"КРС!I30","v":792},{"$f":"КРС!V30","v":8},null,null,null,16,16,16,16,16,16,0,0,0,0,0,0,8,null,{"$f":"КРС!$F$126","v":0.05},""]
[{"$f":"КРС!A31","v":"11Д57015001000101009100"},{"$f":"КРС!B31","v":"19.01.17 Повар, кондитер"},{"$f":"КРС!C31","v":"не указано"},{"$f":"КРС!D31","v":"Основное общее образование"},{"$f":"КРС!E31","v":"Очная"},null,{"$f":"КРС!G31","v":"Численность обучающихся"},{"$f":"КРС!H31","v":"Человек"},{"$f":"КРС!I31","v":792},{"$f":"КРС!V31","v":8.5},null,null,null,17,17,17,16,16,15,2,2,2,2,2,2,9.1999999999999993,null,{"$f":"КРС!$F$126","v":0.05},8.2000000000000003E-2,"Две студентки находятся в академическом отпуске (по уходу за ребёнком)"]
[{"$f":"КРС!A32","v":"11Д57018901000101004100"},{"$f":"КРС!B32","v":"23.01.08 Слесарь по ремонту строительных машин"},{"$f":"КРС!C32","v":"не указано"},{"$f":"КРС!D32","v":"Основное общее образование"},{"$f":"КРС!E32","v":"Очная"},null,{"$f":"КРС!G32","v":"Численность обучающихся"},{"$f":"КРС!H32","v":"Человек"},{"$f":"КРС!I32","v":792},{"$f":"КРС!V32","v":62.6},null,null,null,62,62,60,60,60,58,45,43,65,67,67,65,59.5,null,{"$f":"КРС!$F$126","v":0.05},""]
[{"$f":"КРС!A33","v":"11Д57018901000201003100"},{"$f":"КРС!B33","v":"23.01.08 Слесарь по ремонту строительных машин"},{"$f":"КРС!C33","v":"не указано"},{"$f":"КРС!D33","v":"Среднее общее образование"},{"$f":"КРС!E33","v":"Очная"},null,{"$f":"КРС!G33","v":"Численность обучающихся"},{"$f":"КРС!H33","v":"Человек"},{"$f":"КРС!I33","v":792},{"$f":"КРС!V33","v":9.5},null,null,null,22,21,20,20,20,19,3,3,3,2,2,1,11.3,null,{"$f":"КРС!$F$126","v":0.05},0.189,"3 студента оформили академический отпуск. Впоследствии один студент восстановился из академического отпуска с переводом на другую программу обучения, а одна студентка - отчислилась из колледжа по собственному желанию. "]
[{"$f":"КРС!A34","v":"11Д57028901000101003100"},{"$f":"КРС!B34","v":"43.01.02 Парикмахер"},{"$f":"КРС!C34","v":"не указано"},{"$f":"КРС!D34","v":"Основное общее образование"},{"$f":"КРС!E34","v":"Очная"},null,{"$f":"КРС!G34","v":"Численность обучающихся"},{"$f":"КРС!H34","v":"Человек"},{"$f":"КРС!I34","v":792},{"$f":"КРС!V34","v":55.5},null,null,null,68,68,68,68,67,66,46,46,45,45,44,44,56.3,null,{"$f":"КРС!$F$126","v":0.05},""]
[{"$f":"КРС!A35","v":0},{"$f":"КРС!B35","v":"15.01.32 Оператор станков с программным управлением"},{"$f":"КРС!C35","v":"не указано"},{"$f":"КРС!D35","v":"Основное общее образование"},{"$f":"КРС!E35","v":"Очная"},null,{"$f":"КРС!G35","v":"Численность обучающихся"},{"$f":"КРС!H35","v":"Человек"},{"$f":"КРС!I35","v":792},{"$f":"КРС!V35","v":16.3},null,null,null,0,0,0,0,0,0,0,0,50,50,50,49,16.600000000000001,null,{"$f":"КРС!$F$126","v":0.05},""]
[{"$f":"КРС!A36","v":0},{"$f":"КРС!B36","v":"43.01.09 Повар, кондитер"},{"$f":"КРС!C36","v":"не указано"},{"$f":"КРС!D36","v":"Основное общее образование"},{"$f":"КРС!E36","v":"Очная"},null,{"$f":"КРС!G36","v":"Численность обучающихся"},{"$f":"КРС!H36","v":"Человек"},{"$f":"КРС!I36","v":792},{"$f":"КРС!V36","v":8.3000000000000007},null,null,null,0,0,0,0,0,0,0,0,25,25,24,24,8.1999999999999993,null,{"$f":"КРС!$F$126","v":0.05},""]
[{"$f":"КРС!A37","v":{"$error":"#N/A"}},{"$f":"КРС!B37","v":0},{"$f":"КРС!C37","v":"не указано"},{"$f":"КРС!D37","v":0},{"$f":"КРС!E37","v":0},null,{"$f":"КРС!G37","v":"Численность обучающихся"},{"$f":"КРС!H37","v":"Человек"},{"$f":"КРС!I37","v":792},{"$f":"КРС!V37","v":0},null,null,null,null,null,null,null,null,null,null,null,null,null,null,null,0,null,{"$f":"КРС!$F$126","v":0.05},""]
[{"$f":"КРС!A38","v":{"$error":"#N/A"}},{"$f":"КРС!B38","v":0},{"$f":"КРС!C38","v":"не указано"},{"$f":"КРС!D38","v":0},{"$f":"КРС!E38","v":0},null,{"$f":"КРС!G38","v":"Численность обучающихся"},{"$f":"КРС!H38","v":"Человек"},{"$f":"КРС!I38","v":792},{"$f":"КРС!V38","v":0},null,null,null,null,null,null,null,null,null,null,null,null,null,null,null,0,null,{"$f":"КРС!$F$126","v":0.05},""]
[{"$f":"КРС!A39","v":{"$error":"#N/A"}},{"$f":"КРС!B39","v":0},{"$f":"КРС!C39","v":"не указано"},{"$f":"КРС!D39","v":0},{"$f":"КРС!E39","v":0},null,{"$f":"КРС!G39","v":"Численность обучающихся"},{"$f":"КРС!H39","v":"Человек"},{"$f":"КРС!I39","v":792},{"$f":"КРС!V39","v":0},null,null,null,null,null,null,null,null,null,null,null,null,null,null,null,0,null,{"$f":"КРС!$F$126","v":0.05},""]
[{"$f":"КРС!A40","v":{"$error":"#N/A"}},{"$f":"КРС!B40","v":0},{"$f":"КРС!C40","v":"не указано"},{"$f":"КРС!D40","v":0},{"$f":"КРС!E40","v":0},null,{"$f":"КРС!G40","v":"Численность обучающихся"},{"$f":"КРС!H40","v":"Человек"},{"$f":"КРС!I40","v":792},{"$f":"КРС!V40","v":0},null,null,null,null,null,null,null,null,null,null,null,null,null,null,null,0,null,{"$f":"КРС!$F$126","v":0.05},""]
[{"$f":"КРС!A41","v":{"$error":"#N/A"}},{"$f":"КРС!B41","v":0},{"$f":"КРС!C41","v":"не указано"},{"$f":"КРС!D41","v":0},{"$f":"КРС!E41","v":0},null,{"$f":"КРС!G41","v":"Численность обучающихся"},{"$f":"КРС!H41","v":"Человек"},{"$f":"КРС!I41","v":792},{"$f":"КРС!V41","v":0},null,null,null,null,null,null,null,null,null,null,null,null,null,null,null,0,null,{"$f":"КРС!$F$126","v":0.05},""]
[{"$f":"КРС!A42","v":{"$error":"#N/A"}},{"$f":"КРС!B42","v":0},{"$f":"КРС!C42","v":"не указано"},{"$f":"КРС!D42","v":0},{"$f":"КРС!E42","v":0},null,{"$f":"КРС!G42","v":"Численность обучающихся"},{"$f":"КРС!H42","v":"Человек"},{"$f":"КРС!I42","v":792},{"$f":"КРС!V42","v":0},null,null,null,null,null,null,null,null,null,null,null,null,null,null,null,0,null,{"$f":"КРС!$F$126","v":0.05},""]
[{"$f":"КРС!A43","v":{"$error":"#N/A"}},{"$f":"КРС!B43","v":0},{"$f":"КРС!C43","v":"не указано"},{"$f":"КРС!D43","v":0},{"$f":"КРС!E43","v":0},null,{"$f":"КРС!G43","v":"Численность обучающихся"},{"$f":"КРС!H43","v":"Человек"},{"$f":"КРС!I43","v":792},{"$f":"КРС!V43","v":0},null,null,null,null,null,null,null,null,null,null,null,null,null,null,null,0,null,{"$f":"КРС!$F$126","v":0.05},""]
[{"$f":"КРС!A44","v":{"$error":"#N/A"}},{"$f":"КРС!B44","v":0},{"$f":"КРС!C44","v":"не указано"},{"$f":"КРС!D44","v":0},{"$f":"КРС!E44","v":0},null,{"$f":"КРС!G44","v":"Численность обучающихся"},{"$f":"КРС!H44","v":"Человек"},{"$f":"КРС!I44","v":792},{"$f":"КРС!V44","v":0},null,null,null,null,null,null,null,null,null,null,null,null,null,null,null,0,null,{"$f":"КРС!$F$126","v":0.05},""]
[{"$f":"КРС!A45","v":{"$error":"#N/A"}},{"$f":"КРС!B45","v":0},{"$f":"КРС!C45","v":"не указано"},{"$f":"КРС!D45","v":0},{"$f":"КРС!E45","v":0},null,{"$f":"КРС!G45","v":"Численность обучающихся"},{"$f":"КРС!H45","v":"Человек"},{"$f":"КРС!I45","v":792},{"$f":"КРС!V45","v":0},null,null,null,null,null,null,null,null,null,null,null,null,null,null,null,0,null,{"$f":"КРС!$F$126","v":0.05},""]
[{"$f":"КРС!A46","v":{"$error":"#N/A"}},{"$f":"КРС!B46","v":0},{"$f":"КРС!C46","v":"не указано"},{"$f":"КРС!D46","v":0},{"$f":"КРС!E46","v":0},null,{"$f":"КРС!G46","v":"Численность обучающихся"},{"$f":"КРС!H46","v":"Человек"},{"$f":"КРС!I46","v":792},{"$f":"КРС!V46","v":0},null,null,null,null,null,null,null,null,null,null,null,null,null,null,null,0,null,{"$f":"КРС!$F$126","v":0.05},""]
[{"$f":"КРС!A47","v":{"$error":"#N/A"}},{"$f":"КРС!B47","v":0},{"$f":"КРС!C47","v":"не указано"},{"$f":"КРС!D47","v":0},{"$f":"КРС!E47","v":0},null,{"$f":"КРС!G47","v":"Численность обучающихся"},{"$f":"КРС!H47","v":"Человек"},{"$f":"КРС!I47","v":792},{"$f":"КРС!V47","v":0},null,null,null,null,null,null,null,null,null,null,null,null,null,null,null,0,null,{"$f":"КРС!$F$126","v":0.05},""]
[{"$f":"КРС!A48","v":{"$error":"#N/A"}},{"$f":"КРС!B48","v":0},{"$f":"КРС!C48","v":"не указано"},{"$f":"КРС!D48","v":0},{"$f":"КРС!E48","v":0},null,{"$f":"КРС!G48","v":"Численность обучающихся"},{"$f":"КРС!H48","v":"Человек"},{"$f":"КРС!I48","v":792},{"$f":"КРС!V48","v":0},null,null,null,null,null,null,null,null,null,null,null,null,null,null,null,0,null,{"$f":"КРС!$F$126","v":0.05},""]
[{"$f":"КРС!A49","v":{"$error":"#N/A"}},{"$f":"КРС!B49","v":0},{"$f":"КРС!C49","v":"не указано"},{"$f":"КРС!D49","v":0},{"$f":"КРС!E49","v":0},null,{"$f":"КРС!G49","v":"Численность обучающихся"},{"$f":"КРС!H49","v":"Человек"},{"$f":"КРС!I49","v":792},{"$f":"КРС!V49","v":0},null,null,null,null,null,null,null,null,null,null,null,null,null,null,null,0,null,{"$f":"КРС!$F$126","v":0.05},""]
[{"$f":"КРС!A50","v":{"$error":"#N/A"}},{"$f":"КРС!B50","v":0},{"$f":"КРС!C50","v":"не указано"},{"$f":"КРС!D50","v":0},{"$f":"КРС!E50","v":0},null,{"$f":"КРС!G50","v":"Численность обучающихся"},{"$f":"КРС!H50","v":"Человек"},{"$f":"КРС!I50","v":792},{"$f":"КРС!V50","v":0},null,null,null,null,null,null,null,null,null,null,null,null,null,null,null,0,null,{"$f":"КРС!$F$126","v":0.05},""]
[{"$f":"КРС!A51","v":{"$error":"#N/A"}},{"$f":"КРС!B51","v":0},{"$f":"КРС!C51","v":"не указано"},{"$f":"КРС!D51","v":0},{"$f":"КРС!E51","v":0},null,{"$f":"КРС!G51","v":"Численность обучающихся"},{"$f":"КРС!H51","v":"Человек"},{"$f":"КРС!I51","v":792},{"$f":"КРС!V51","v":0},null,null,null,null,null,null,null,null,null,null,null,null,null,null,null,0,null,{"$f":"КРС!$F$126","v":0.05},""]
[{"$f":"КРС!A52","v":{"$error":"#N/A"}},{"$f":"КРС!B52","v":0},{"$f":"КРС!C52","v":"не указано"},{"$f":"КРС!D52","v":0},{"$f":"КРС!E52","v":0},null,{"$f":"КРС!G52","v":"Численность обучающихся"},{"$f":"КРС!H52","v":"Человек"},{"$f":"КРС!I52","v":792},{"$f":"КРС!V52","v":0},null,null,null,null,null,null,null,null,null,null,null,null,null,null,null,0,null,{"$f":"КРС!$F$126","v":0.05},""]
[{"$f":"КРС!A53","v":{"$error":"#N/A"}},{"$f":"КРС!B53","v":0},{"$f":"КРС!C53","v":"не указано"},{"$f":"КРС!D53","v":0},{"$f":"КРС!E53","v":0},null,{"$f":"КРС!G53","v":"Численность обучающихся"},{"$f":"КРС!H53","v":"Человек"},{"$f":"КРС!I53","v":792},{"$f":"КРС!V53","v":0},null,null,null,null,null,null,null,null,null,null,null,null,null,null,null,0,null,{"$f":"КРС!$F$126","v":0.05},""]
[{"$f":"КРС!A54","v":{"$error":"#N/A"}},{"$f":"КРС!B54","v":0},{"$f":"КРС!C54","v":"не указано"},{"$f":"КРС!D54","v":0},{"$f":"КРС!E54","v":0},null,{"$f":"КРС!G54","v":"Численность обучающихся"},{"$f":"КРС!H54","v":"Человек"},{"$f":"КРС!I54","v":792},{"$f":"КРС!V54","v":0},null,null,null,null,null,null,null,null,null,null,null,null,null,null,null,{"$f":"ROUND(SUM(N51:Y51)/12,1)","v":0},null,{"$f":"КРС!$F$126","v":0.05},""]
[{"$f":"КРС!A55","v":{"$error":"#N/A"}},{"$f":"КРС!B55","v":0},{"$f":"КРС!C55","v":"не указано"},{"$f":"КРС!D55","v":0},{"$f":"КРС!E55","v":0},null,{"$f":"КРС!G55","v":"Численность обучающихся"},{"$f":"КРС!H55","v":"Человек"},{"$f":"КРС!I55","v":792},{"$f":"КРС!V55","v":0},null,null,null,null,null,null,null,null,null,null,null,null,null,null,null,{"$f":"ROUND(SUM(N52:Y52)/12,1)","v":0},null,{"$f":"КРС!$F$126","v":0.05},""]
[{"$f":"КРС!A56","v":{"$error":"#N/A"}},{"$f":"КРС!B56","v":0},{"$f":"КРС!C56","v":"не указано"},{"$f":"КРС!D56","v":0},{"$f":"КРС!E56","v":0},null,{"$f":"КРС!G56","v":"Численность обучающихся"},{"$f":"КРС!H56","v":"Человек"},{"$f":"КРС!I56","v":792},{"$f":"КРС!V56","v":0},null,null,null,null,null,null,null,null,null,null,null,null,null,null,null,{"$f":"ROUND(SUM(N53:Y53)/12,1)","v":0},null,{"$f":"КРС!$F$126","v":0.05},""]
[{"$f":"КРС!A57","v":{"$error":"#N/A"}},{"$f":"КРС!B57","v":0},{"$f":"КРС!C57","v":"не указано"},{"$f":"КРС!D57","v":0},{"$f":"КРС!E57","v":0},null,{"$f":"КРС!G57","v":"Численность обучающихся"},{"$f":"КРС!H57","v":"Человек"},{"$f":"КРС!I57","v":792},{"$f":"КРС!V57","v":0},null,null,null,null,null,null,null,null,null,null,null,null,null,null,null,0,null,{"$f":"КРС!$F$126","v":0.05},""]
[{"$f":"КРС!A58","v":{"$error":"#N/A"}},{"$f":"КРС!B58","v":0},{"$f":"КРС!C58","v":"не указано"},{"$f":"КРС!D58","v":0},{"$f":"КРС!E58","v":0},null,{"$f":"КРС!G58","v":"Численность обучающихся"},{"$f":"КРС!H58","v":"Человек"},{"$f":"КРС!I58","v":792},{"$f":"КРС!V58","v":0},null,null,null,null,null,null,null,null,null,null,null,null,null,null,null,0,null,{"$f":"КРС!$F$126","v":0.05},""]
[{"$f":"КРС!A59","v":{"$error":"#N/A"}},{"$f":"КРС!B59","v":0},{"$f":"КРС!C59","v":"не указано"},{"$f":"КРС!D59","v":0},{"$f":"КРС!E59","v":0},null,{"$f":"КРС!G59","v":"Численность обучающихся"},{"$f":"КРС!H59","v":"Человек"},{"$f":"КРС!I59","v":792},{"$f":"КРС!V59","v":0},null,null,null,null,null,null,null,null,null,null,null,null,null,null,null,0,null,{"$f":"КРС!$F$126","v":0.05},""]
[{"$f":"КРС!A60","v":{"$error":"#N/A"}},{"$f":"КРС!B60","v":0},{"$f":"КРС!C60","v":"не указано"},{"$f":"КРС!D60","v":0},{"$f":"КРС!E60","v":0},null,{"$f":"КРС!G60","v":"Численность обучающихся"},{"$f":"КРС!H60","v":"Человек"},{"$f":"КРС!I60","v":792},{"$f":"КРС!V60","v":0},null,null,null,null,null,null,null,null,null,null,null,null,null,null,null,0,null,{"$f":"КРС!$F$126","v":0.05},""]
[{"$f":"КРС!A61","v":{"$error":"#N/A"}},{"$f":"КРС!B61","v":0},{"$f":"КРС!C61","v":"не указано"},{"$f":"КРС!D61","v":0},{"$f":"КРС!E61","v":0},null,{"$f":"КРС!G61","v":"Численность обучающихся"},{"$f":"КРС!H61","v":"Человек"},{"$f":"КРС!I61","v":792},{"$f":"КРС!V61","v":0},null,null,null,null,null,null,null,null,null,null,null,null,null,null,null,0,null,{"$f":"КРС!$F$126","v":0.05},""]
[{"$f":"КРС!A62","v":{"$error":"#N/A"}},{"$f":"КРС!B62","v":0},{"$f":"КРС!C62","v":"не указано"},{"$f":"КРС!D62","v":0},{"$f":"КРС!E62","v":0},null,{"$f":"КРС!G62","v":"Численность обучающихся"},{"$f":"КРС!H62","v":"Человек"},{"$f":"КРС!I62","v":792},{"$f":"КРС!V62","v":0},null,null,null,null,null,null,null,null,null,null,null,null,null,null,null,0,null,{"$f":"КРС!$F$126","v":0.05},""]
[{"$f":"КРС!A63","v":{"$error":"#N/A"}},{"$f":"КРС!B63","v":0},{"$f":"КРС!C63","v":"не указано"},{"$f":"КРС!D63","v":0},{"$f":"КРС!E63","v":0},null,{"$f":"КРС!G63","v":"Численность обучающихся"},{"$f":"КРС!H63","v":"Человек"},{"$f":"КРС!I63","v":792},{"$f":"КРС!V63","v":0},null,null,null,null,null,null,null,null,null,null,null,null,null,null,null,0,null,{"$f":"КРС!$F$126","v":0.05},""]
[{"$f":"КРС!A64","v":{"$error":"#N/A"}},{"$f":"КРС!B64","v":0},{"$f":"КРС!C64","v":"не указано"},{"$f":"КРС!D64","v":0},{"$f":"КРС!E64","v":0},null,{"$f":"КРС!G64","v":"Численность обучающихся"},{"$f":"КРС!H64","v":"Человек"},{"$f":"КРС!I64","v":792},{"$f":"КРС!V64","v":0},null,null,null,null,null,null,null,null,null,null,null,null,null,null,null,0,null,{"$f":"КРС!$F$126","v":0.05},""]
[{"$f":"КРС!A65","v":{"$error":"#N/A"}},{"$f":"КРС!B65","v":0},{"$f":"КРС!C65","v":"не указано"},{"$f":"КРС!D65","v":0},{"$f":"КРС!E65","v":0},null,{"$f":"КРС!G65","v":"Численность обучающихся"},{"$f":"КРС!H65","v":"Человек"},{"$f":"КРС!I65","v":792},{"$f":"КРС!V65","v":0},null,null,null,null,null,null,null,null,null,null,null,null,null,null,null,0,null,{"$f":"КРС!$F$126","v":0.05},""]
[{"$f":"КРС!A66","v":{"$error":"#N/A"}},{"$f":"КРС!B66","v":0},{"$f":"КРС!C66","v":"не указано"},{"$f":"КРС!D66","v":0},{"$f":"КРС!E66","v":0},null,{"$f":"КРС!G66","v":"Численность обучающихся"},{"$f":"КРС!H66","v":"Человек"},{"$f":"КРС!I66","v":792},{"$f":"КРС!V66","v":0},null,null,null,null,null,null,null,null,null,null,null,null,null,null,null,0,null,{"$f":"КРС!$F$126","v":0.05},""]
[{"$f":"КРС!A67","v":{"$error":"#N/A"}},{"$f":"КРС!B67","v":0},{"$f":"КРС!C67","v":"не указано"},{"$f":"КРС!D67","v":0},{"$f":"КРС!E67","v":0},null,{"$f":"КРС!G67","v":"Численность обучающихся"},{"$f":"КРС!H67","v":"Человек"},{"$f":"КРС!I67","v":792},{"$f":"КРС!V67","v":0},null,null,null,null,null,null,null,null,null,null,null,null,null,null,null,0,null,{"$f":"КРС!$F$126","v":0.05},""]
[{"$f":"КРС!A68","v":{"$error":"#N/A"}},{"$f":"КРС!B68","v":0},{"$f":"КРС!C68","v":"не указано"},{"$f":"КРС!D68","v":0},{"$f":"КРС!E68","v":0},null,{"$f":"КРС!G68","v":"Численность обучающихся"},{"$f":"КРС!H68","v":"Человек"},{"$f":"КРС!I68","v":792},{"$f":"КРС!V68","v":0},null,null,null,null,null,null,null,null,null,null,null,null,null,null,null,0,null,{"$f":"КРС!$F$126","v":0.05},""]
[{"$f":"КРС!A69","v":{"$error":"#N/A"}},{"$f":"КРС!B69","v":0},{"$f":"КРС!C69","v":"не указано"},{"$f":"КРС!D69","v":0},{"$f":"КРС!E69","v":0},null,{"$f":"КРС!G69","v":"Численность обучающихся"},{"$f":"КРС!H69","v":"Человек"},{"$f":"КРС!I69","v":792},{"$f":"КРС!V69","v":0},null,null,null,null,null,null,null,null,null,null,null,null,null,null,null,0,null,{"$f":"КРС!$F$126","v":0.05},""]
[{"$f":"КРС!A70","v":{"$error":"#N/A"}},{"$f":"КРС!B70","v":0},{"$f":"КРС!C70","v":"не указано"},{"$f":"КРС!D70","v":0},{"$f":"КРС!E70","v":0},null,{"$f":"КРС!G70","v":"Численность обучающихся"},{"$f":"КРС!H70","v":"Человек"},{"$f":"КРС!I70","v":792},{"$f":"КРС!V70","v":0},null,null,null,null,null,null,null,null,null,null,null,null,null,null,null,0,null,{"$f":"КРС!$F$126","v":0.05},""]
[{"$f":"КРС!A71","v":{"$error":"#N/A"}},{"$f":"КРС!B71","v":0},{"$f":"КРС!C71","v":"не указано"},{"$f":"КРС!D71","v":0},{"$f":"КРС!E71","v":0},null,{"$f":"КРС!G71","v":"Численность обучающихся"},{"$f":"КРС!H71","v":"Человек"},{"$f":"КРС!I71","v":792},{"$f":"КРС!V71","v":0},null,null,null,null,null,null,null,null,null,null,null,null,null,null,null,0,null,{"$f":"КРС!$F$126","v":0.05},""]
[{"$f":"КРС!A72","v":{"$error":"#N/A"}},{"$f":"КРС!B72","v":0},{"$f":"КРС!C72","v":"не указано"},{"$f":"КРС!D72","v":0},{"$f":"КРС!E72","v":0},null,{"$f":"КРС!G72","v":"Численность обучающихся"},{"$f":"КРС!H72","v":"Человек"},{"$f":"КРС!I72","v":792},{"$f":"КРС!V72","v":0},null,null,null,null,null,null,null,null,null,null,null,null,null,null,null,0,null,{"$f":"КРС!$F$126","v":0.05},""]
[{"$f":"КРС!A73","v":{"$error":"#N/A"}},{"$f":"КРС!B73","v":0},{"$f":"КРС!C73","v":"не указано"},{"$f":"КРС!D73","v":0},{"$f":"КРС!E73","v":0},null,{"$f":"КРС!G73","v":"Численность обучающихся"},{"$f":"КРС!H73","v":"Человек"},{"$f":"КРС!I73","v":792},{"$f":"КРС!V73","v":0},null,null,null,null,null,null,null,null,null,null,null,null,null,null,null,0,null,{"$f":"КРС!$F$126","v":0.05},""]
[{"$f":"КРС!A74","v":{"$error":"#N/A"}},{"$f":"КРС!B74","v":0},{"$f":"КРС!C74","v":"не указано"},{"$f":"КРС!D74","v":0},{"$f":"КРС!E74","v":0},null,{"$f":"КРС!G74","v":"Численность обучающихся"},{"$f":"КРС!H74","v":"Человек"},{"$f":"КРС!I74","v":792},{"$f":"КРС!V74","v":0},null,null,null,null,null,null,null,null,null,null,null,null,null,null,null,0,null,{"$f":"КРС!$F$126","v":0.05},""]
[{"$f":"КРС!A75","v":{"$error":"#N/A"}},{"$f":"КРС!B75","v":0},{"$f":"КРС!C75","v":"не указано"},{"$f":"КРС!D75","v":0},{"$f":"КРС!E75","v":0},null,{"$f":"КРС!G75","v":"Численность обучающихся"},{"$f":"КРС!H75","v":"Человек"},{"$f":"КРС!I75","v":792},{"$f":"КРС!V75","v":0},null,null,null,null,null,null,null,null,null,null,null,null,null,null,null,0,null,{"$f":"КРС!$F$126","v":0.05},""]
[{"$f":"КРС!A76","v":{"$error":"#N/A"}},{"$f":"КРС!B76","v":0},{"$f":"КРС!C76","v":"не указано"},{"$f":"КРС!D76","v":0},{"$f":"КРС!E76","v":0},null,{"$f":"КРС!G76","v":"Численность обучающихся"},{"$f":"КРС!H76","v":"Человек"},{"$f":"КРС!I76","v":792},{"$f":"КРС!V76","v":0},null,null,null,null,null,null,null,null,null,null,null,null,null,null,null,0,null,{"$f":"КРС!$F$126","v":0.05},""]
[{"$f":"КРС!A77","v":{"$error":"#N/A"}},{"$f":"КРС!B77","v":0},{"$f":"КРС!C77","v":"не указано"},{"$f":"КРС!D77","v":0},{"$f":"КРС!E77","v":0},null,{"$f":"КРС!G77","v":"Численность обучающихся"},{"$f":"КРС!H77","v":"Человек"},{"$f":"КРС!I77","v":792},{"$f":"КРС!V77","v":0},null,null,null,null,null,null,null,null,null,null,null,null,null,null,null,0,null,{"$f":"КРС!$F$126","v":0.05},""]
[{"$f":"КРС!A78","v":{"$error":"#N/A"}},{"$f":"КРС!B78","v":0},{"$f":"КРС!C78","v":"не указано"},{"$f":"КРС!D78","v":0},{"$f":"КРС!E78","v":0},null,{"$f":"КРС!G78","v":"Численность обучающихся"},{"$f":"КРС!H78","v":"Человек"},{"$f":"КРС!I78","v":792},{"$f":"КРС!V78","v":0},null,null,null,null,null,null,null,null,null,null,null,null,null,null,null,0,null,{"$f":"КРС!$F$126","v":0.05},""]
[{"$f":"КРС!A79","v":{"$error":"#N/A"}},{"$f":"КРС!B79","v":0},{"$f":"КРС!C79","v":"не указано"},{"$f":"КРС!D79","v":0},{"$f":"КРС!E79","v":0},null,{"$f":"КРС!G79","v":"Численность обучающихся"},{"$f":"КРС!H79","v":"Человек"},{"$f":"КРС!I79","v":792},{"$f":"КРС!V79","v":0},null,null,null,null,null,null,null,null,null,null,null,null,null,null,null,0,null,{"$f":"КРС!$F$126","v":0.05},""]
[{"$f":"КРС!A80","v":{"$error":"#N/A"}},{"$f":"КРС!B80","v":0},{"$f":"КРС!C80","v":"не указано"},{"$f":"КРС!D80","v":0},{"$f":"КРС!E80","v":0},null,{"$f":"КРС!G80","v":"Численность обучающихся"},{"$f":"КРС!H80","v":"Человек"},{"$f":"КРС!I80","v":792},{"$f":"КРС!V80","v":0},null,null,null,null,null,null,null,null,null,null,null,null,null,null,null,0,null,{"$f":"КРС!$F$126","v":0.05},""]
[{"$f":"КРС!A81","v":{"$error":"#N/A"}},{"$f":"КРС!B81","v":0},{"$f":"КРС!C81","v":"не указано"},{"$f":"КРС!D81","v":0},{"$f":"КРС!E81","v":0},null,{"$f":"КРС!G81","v":"Численность обучающихся"},{"$f":"КРС!H81","v":"Человек"},{"$f":"КРС!I81","v":792},{"$f":"КРС!V81","v":0},null,null,null,null,null,null,null,null,null,null,null,null,null,null,null,0,null,{"$f":"КРС!$F$126","v":0.05},""]
[{"$f":"КРС!A82","v":{"$error":"#N/A"}},{"$f":"КРС!B82","v":0},{"$f":"КРС!C82","v":"не указано"},{"$f":"КРС!D82","v":0},{"$f":"КРС!E82","v":0},null,{"$f":"КРС!G82","v":"Численность обучающихся"},{"$f":"КРС!H82","v":"Человек"},{"$f":"КРС!I82","v":792},{"$f":"КРС!V82","v":0},null,null,null,null,null,null,null,null,null,null,null,null,null,null,null,0,null,{"$f":"КРС!$F$126","v":0.05},""]
[{"$f":"КРС!A83","v":{"$error":"#N/A"}},{"$f":"КРС!B83","v":0},{"$f":"КРС!C83","v":"не указано"},{"$f":"КРС!D83","v":0},{"$f":"КРС!E83","v":0},null,{"$f":"КРС!G83","v":"Численность обучающихся"},{"$f":"КРС!H83","v":"Человек"},{"$f":"КРС!I83","v":792},{"$f":"КРС!V83","v":0},null,null,null,null,null,null,null,null,null,null,null,null,null,null,null,0,null,{"$f":"КРС!$F$126","v":0.05},""]
[{"$f":"КРС!A84","v":{"$error":"#N/A"}},{"$f":"КРС!B84","v":0},{"$f":"КРС!C84","v":"не указано"},{"$f":"КРС!D84","v":0},{"$f":"КРС!E84","v":0},null,{"$f":"КРС!G84","v":"Численность обучающихся"},{"$f":"КРС!H84","v":"Человек"},{"$f":"КРС!I84","v":792},{"$f":"КРС!V84","v":0},null,null,null,null,null,null,null,null,null,null,null,null,null,null,null,0,null,{"$f":"КРС!$F$126","v":0.05},""]
[{"$f":"КРС!A85","v":{"$error":"#N/A"}},{"$f":"КРС!B85","v":0},{"$f":"КРС!C85","v":"не указано"},{"$f":"КРС!D85","v":0},{"$f":"КРС!E85","v":0},null,{"$f":"КРС!G85","v":"Численность обучающихся"},{"$f":"КРС!H85","v":"Человек"},{"$f":"КРС!I85","v":792},{"$f":"КРС!V85","v":0},null,null,null,null,null,null,null,null,null,null,null,null,null,null,null,0,null,{"$f":"КРС!$F$126","v":0.05},""]
[{"$f":"КРС!A86","v":{"$error":"#N/A"}},{"$f":"КРС!B86","v":0},{"$f":"КРС!C86","v":"не указано"},{"$f":"КРС!D86","v":0},{"$f":"КРС!E86","v":0},null,{"$f":"КРС!G86","v":"Численность обучающихся"},{"$f":"КРС!H86","v":"Человек"},{"$f":"КРС!I86","v":792},{"$f":"КРС!V86","v":0},null,null,null,null,null,null,null,null,null,null,null,null,null,null,null,0,null,{"$f":"КРС!$F$126","v":0.05},""]
[{"$f":"КРС!A87","v":{"$error":"#N/A"}},{"$f":"КРС!B87","v":0},{"$f":"КРС!C87","v":"не указано"},{"$f":"КРС!D87","v":0},{"$f":"КРС!E87","v":0},null,{"$f":"КРС!G87","v":"Численность обучающихся"},{"$f":"КРС!H87","v":"Человек"},{"$f":"КРС!I87","v":792},{"$f":"КРС!V87","v":0},null,null,null,null,null,null,null,null,null,null,null,null,null,null,null,0,null,{"$f":"КРС!$F$126","v":0.05},""]
[{"$f":"КРС!A88","v":{"$error":"#N/A"}},{"$f":"КРС!B88","v":0},{"$f":"КРС!C88","v":"не указано"},{"$f":"КРС!D88","v":0},{"$f":"КРС!E88","v":0},null,{"$f":"КРС!G88","v":"Численность обучающихся"},{"$f":"КРС!H88","v":"Человек"},{"$f":"КРС!I88","v":792},{"$f":"КРС!V88","v":0},null,null,null,null,null,null,null,null,null,null,null,null,null,null,null,0,null,{"$f":"КРС!$F$126","v":0.05},""]
[{"$f":"КРС!A89","v":{"$error":"#N/A"}},{"$f":"КРС!B89","v":0},{"$f":"КРС!C89","v":"не указано"},{"$f":"КРС!D89","v":0},{"$f":"КРС!E89","v":0},null,{"$f":"КРС!G89","v":"Численность обучающихся"},{"$f":"КРС!H89","v":"Человек"},{"$f":"КРС!I89","v":792},{"$f":"КРС!V89","v":0},null,null,null,null,null,null,null,null,null,null,null,null,null,null,null,0,null,{"$f":"КРС!$F$126","v":0.05},""]
[{"$f":"КРС!A90","v":{"$error":"#N/A"}},{"$f":"КРС!B90","v":0},{"$f":"КРС!C90","v":"не указано"},{"$f":"КРС!D90","v":0},{"$f":"КРС!E90","v":0},null,{"$f":"КРС!G90","v":"Численность обучающихся"},{"$f":"КРС!H90","v":"Человек"},{"$f":"КРС!I90","v":792},{"$f":"КРС!V90","v":0},null,null,null,null,null,null,null,null,null,null,null,null,null,null,null,0,null,{"$f":"КРС!$F$126","v":0.05},{"$f":"IF(ISERROR(IF(ABS(ROUND((Z87/J87)-1,3))>AB87,ROUND((Z87/J87)-1,3),\"\")),\"\",IF(ABS(ROUND((Z87/J87)-1,3))>AB87,ROUND((Z87/J87)-1,3),\"\"))","v":""}]
[{"$f":"КРС!A91","v":{"$error":"#N/A"}},{"$f":"КРС!B91","v":0},{"$f":"КРС!C91","v":"не указано"},{"$f":"КРС!D91","v":0},{"$f":"КРС!E91","v":0},null,{"$f":"КРС!G91","v":"Численность обучающихся"},{"$f":"КРС!H91","v":"Человек"},{"$f":"КРС!I91","v":792},{"$f":"КРС!V91","v":0},null,null,null,null,null,null,null,null,null,null,null,null,null,null,null,0,null,{"$f":"КРС!$F$126","v":0.05},""]
[{"$f":"КРС!A92","v":{"$error":"#N/A"}},{"$f":"КРС!B92","v":0},{"$f":"КРС!C92","v":"не указано"},{"$f":"КРС!D92","v":0},{"$f":"КРС!E92","v":0},null,{"$f":"КРС!G92","v":"Численность обучающихся"},{"$f":"КРС!H92","v":"Человек"},{"$f":"КРС!I92","v":792},{"$f":"КРС!V92","v":0},null,null,null,null,null,null,null,null,null,null,null,null,null,null,null,0,null,{"$f":"КРС!$F$126","v":0.05},""]
[{"$f":"КРС!A93","v":{"$error":"#N/A"}},{"$f":"КРС!B93","v":0},{"$f":"КРС!C93","v":"не указано"},{"$f":"КРС!D93","v":0},{"$f":"КРС!E93","v":0},null,{"$f":"КРС!G93","v":"Численность обучающихся"},{"$f":"КРС!H93","v":"Человек"},{"$f":"КРС!I93","v":792},{"$f":"КРС!V93","v":0},null,null,null,null,null,null,null,null,null,null,null,null,null,null,null,0,null,{"$f":"КРС!$F$126","v":0.05},""]
[{"$f":"КРС!A94","v":{"$error":"#N/A"}},{"$f":"КРС!B94","v":0},{"$f":"КРС!C94","v":"не указано"},{"$f":"КРС!D94","v":0},{"$f":"КРС!E94","v":0},null,{"$f":"КРС!G94","v":"Численность обучающихся"},{"$f":"КРС!H94","v":"Человек"},{"$f":"КРС!I94","v":792},{"$f":"КРС!V94","v":0},null,null,null,null,null,null,null,null,null,null,null,null,null,null,null,0,null,{"$f":"КРС!$F$126","v":0.05},""]
[{"$f":"КРС!A95","v":{"$error":"#N/A"}},{"$f":"КРС!B95","v":0},{"$f":"КРС!C95","v":"не указано"},{"$f":"КРС!D95","v":0},{"$f":"КРС!E95","v":0},null,{"$f":"КРС!G95","v":"Численность обучающихся"},{"$f":"КРС!H95","v":"Человек"},{"$f":"КРС!I95","v":792},{"$f":"КРС!V95","v":0},null,null,null,null,null,null,null,null,null,null,null,null,null,null,null,0,null,{"$f":"КРС!$F$126","v":0.05},""]
[{"$f":"КРС!A96","v":{"$error":"#N/A"}},{"$f":"КРС!B96","v":0},{"$f":"КРС!C96","v":"не указано"},{"$f":"КРС!D96","v":0},{"$f":"КРС!E96","v":0},null,{"$f":"КРС!G96","v":"Численность обучающихся"},{"$f":"КРС!H96","v":"Человек"},{"$f":"КРС!I96","v":792},{"$f":"КРС!V96","v":0},null,null,null,null,null,null,null,null,null,null,null,null,null,null,null,0,null,{"$f":"КРС!$F$126","v":0.05},""]
[{"$f":"КРС!A97","v":{"$error":"#N/A"}},{"$f":"КРС!B97","v":0},{"$f":"КРС!C97","v":"не указано"},{"$f":"КРС!D97","v":0},{"$f":"КРС!E97","v":0},null,{"$f":"КРС!G97","v":"Численность обучающихся"},{"$f":"КРС!H97","v":"Человек"},{"$f":"КРС!I97","v":792},{"$f":"КРС!V97","v":0},null,null,null,null,null,null,null,null,null,null,null,null,null,null,null,0,null,{"$f":"КРС!$F$126","v":0.05},""]
[{"$f":"КРС!A98","v":{"$error":"#N/A"}},{"$f":"КРС!B98","v":0},{"$f":"КРС!C98","v":"не указано"},{"$f":"КРС!D98","v":0},{"$f":"КРС!E98","v":0},null,{"$f":"КРС!G98","v":"Численность обучающихся"},{"$f":"КРС!H98","v":"Человек"},{"$f":"КРС!I98","v":792},{"$f":"КРС!V98","v":0},null,null,null,null,null,null,null,null,null,null,null,null,null,null,null,0,null,{"$f":"КРС!$F$126","v":0.05},""]
[{"$f":"КРС!A99","v":{"$error":"#N/A"}},{"$f":"КРС!B99","v":0},{"$f":"КРС!C99","v":"не указано"},{"$f":"КРС!D99","v":0},{"$f":"КРС!E99","v":0},null,{"$f":"КРС!G99","v":"Численность обучающихся"},{"$f":"КРС!H99","v":"Человек"},{"$f":"КРС!I99","v":792},{"$f":"КРС!V99","v":0},null,null,null,null,null,null,null,null,null,null,null,null,null,null,null,0,null,{"$f":"КРС!$F$126","v":0.05},""]
[{"$f":"КРС!A100","v":{"$error":"#N/A"}},{"$f":"КРС!B100","v":0},{"$f":"КРС!C100","v":"не указано"},{"$f":"КРС!D100","v":0},{"$f":"КРС!E100","v":0},null,{"$f":"КРС!G100","v":"Численность обучающихся"},{"$f":"КРС!H100","v":"Человек"},{"$f":"КРС!I100","v":792},{"$f":"КРС!V100","v":0},null,null,null,null,null,null,null,null,null,null,null,null,null,null,null,0,null,{"$f":"КРС!$F$126","v":0.05},""]
[{"$f":"КРС!A101","v":{"$error":"#N/A"}},{"$f":"КРС!B101","v":0},{"$f":"КРС!C101","v":"не указано"},{"$f":"КРС!D101","v":0},{"$f":"КРС!E101","v":0},null,{"$f":"КРС!G101","v":"Численность обучающихся"},{"$f":"КРС!H101","v":"Человек"},{"$f":"КРС!I101","v":792},{"$f":"КРС!V101","v":0},null,null,null,null,null,null,null,null,null,null,null,null,null,null,null,0,null,{"$f":"КРС!$F$126","v":0.05},""]
[{"$f":"КРС!A102","v":{"$error":"#N/A"}},{"$f":"КРС!B102","v":0},{"$f":"КРС!C102","v":"не указано"},{"$f":"КРС!D102","v":0},{"$f":"КРС!E102","v":0},null,{"$f":"КРС!G102","v":"Численность обучающихся"},{"$f":"КРС!H102","v":"Человек"},{"$f":"КРС!I102","v":792},{"$f":"КРС!V102","v":0},null,null,null,null,null,null,null,null,null,null,null,null,null,null,null,0,null,{"$f":"КРС!$F$126","v":0.05},""]
[{"$f":"КРС!A103","v":{"$error":"#N/A"}},{"$f":"КРС!B103","v":0},{"$f":"КРС!C103","v":"не указано"},{"$f":"КРС!D103","v":0},{"$f":"КРС!E103","v":0},null,{"$f":"КРС!G103","v":"Численность обучающихся"},{"$f":"КРС!H103","v":"Человек"},{"$f":"КРС!I103","v":792},{"$f":"КРС!V103","v":0},null,null,null,null,null,null,null,null,null,null,null,null,null,null,null,0,null,{"$f":"КРС!$F$126","v":0.05},""]
[{"$f":"КРС!A104","v":{"$error":"#N/A"}},{"$f":"КРС!B104","v":0},{"$f":"КРС!C104","v":"не указано"},{"$f":"КРС!D104","v":0},{"$f":"КРС!E104","v":0},null,{"$f":"КРС!G104","v":"Численность обучающихся"},{"$f":"КРС!H104","v":"Человек"},{"$f":"КРС!I104","v":792},{"$f":"КРС!V104","v":0},null,null,null,null,null,null,null,null,null,null,null,null,null,null,null,0,null,{"$f":"КРС!$F$126","v":0.05},""]
[{"$f":"КРС!A105","v":{"$error":"#N/A"}},{"$f":"КРС!B105","v":0},{"$f":"КРС!C105","v":"не указано"},{"$f":"КРС!D105","v":0},{"$f":"КРС!E105","v":0},null,{"$f":"КРС!G105","v":"Численность обучающихся"},{"$f":"КРС!H105","v":"Человек"},{"$f":"КРС!I105","v":792},{"$f":"КРС!V105","v":0},null,null,null,null,null,null,null,null,null,null,null,null,null,null,null,0,null,{"$f":"КРС!$F$126","v":0.05},""]
[{"$f":"КРС!A106","v":{"$error":"#N/A"}},{"$f":"КРС!B106","v":0},{"$f":"КРС!C106","v":"не указано"},{"$f":"КРС!D106","v":0},{"$f":"КРС!E106","v":0},null,{"$f":"КРС!G106","v":"Численность обучающихся"},{"$f":"КРС!H106","v":"Человек"},{"$f":"КРС!I106","v":792},{"$f":"КРС!V106","v":0},null,null,null,null,null,null,null,null,null,null,null,null,null,null,null,0,null,{"$f":"КРС!$F$126","v":0.05},""]
[{"$f":"КРС!A107","v":{"$error":"#N/A"}},{"$f":"КРС!B107","v":0},{"$f":"КРС!C107","v":"не указано"},{"$f":"КРС!D107","v":0},{"$f":"КРС!E107","v":0},null,{"$f":"КРС!G107","v":"Численность обучающихся"},{"$f":"КРС!H107","v":"Человек"},{"$f":"КРС!I107","v":792},{"$f":"КРС!V107","v":0},null,null,null,null,null,null,null,null,null,null,null,null,null,null,null,0,null,{"$f":"КРС!$F$126","v":0.05},""]
[{"$f":"КРС!A108","v":{"$error":"#N/A"}},{"$f":"КРС!B108","v":0},{"$f":"КРС!C108","v":"не указано"},{"$f":"КРС!D108","v":0},{"$f":"КРС!E108","v":0},null,{"$f":"КРС!G108","v":"Численность обучающихся"},{"$f":"КРС!H108","v":"Человек"},{"$f":"КРС!I108","v":792},{"$f":"КРС!V108","v":0},null,null,null,null,null,null,null,null,null,null,null,null,null,null,null,0,null,{"$f":"КРС!$F$126","v":0.05},""]
[{"$f":"КРС!A109","v":{"$error":"#N/A"}},{"$f":"КРС!B109","v":0},{"$f":"КРС!C109","v":"не указано"},{"$f":"КРС!D109","v":0},{"$f":"КРС!E109","v":0},null,{"$f":"КРС!G109","v":"Численность обучающихся"},{"$f":"КРС!H109","v":"Человек"},{"$f":"КРС!I109","v":792},{"$f":"КРС!V109","v":0},null,null,null,null,null,null,null,null,null,null,null,null,null,null,null,0,null,{"$f":"КРС!$F$126","v":0.05},""]
[{"$f":"КРС!A110","v":{"$error":"#N/A"}},{"$f":"КРС!B110","v":0},{"$f":"КРС!C110","v":"не указано"},{"$f":"КРС!D110","v":0},{"$f":"КРС!E110","v":0},null,{"$f":"КРС!G110","v":"Численность обучающихся"},{"$f":"КРС!H110","v":"Человек"},{"$f":"КРС!I110","v":792},{"$f":"КРС!V110","v":0},null,null,null,null,null,null,null,null,null,null,null,null,null,null,null,0,null,{"$f":"КРС!$F$126","v":0.05},""]
[{"$f":"КРС!A111","v":{"$error":"#N/A"}},{"$f":"КРС!B111","v":0},{"$f":"КРС!C111","v":"не указано"},{"$f":"КРС!D111","v":0},{"$f":"КРС!E111","v":0},null,{"$f":"КРС!G111","v":"Численность обучающихся"},{"$f":"КРС!H111","v":"Человек"},{"$f":"КРС!I111","v":792},{"$f":"КРС!V111","v":0},null,null,null,null,null,null,null,null,null,null,null,null,null,null,null,0,null,{"$f":"КРС!$F$126","v":0.05},""]
[{"$f":"КРС!A112","v":{"$error":"#N/A"}},{"$f":"КРС!B112","v":0},{"$f":"КРС!C112","v":"не указано"},{"$f":"КРС!D112","v":0},{"$f":"КРС!E112","v":0},null,{"$f":"КРС!G112","v":"Численность обучающихся"},{"$f":"КРС!H112","v":"Человек"},{"$f":"КРС!I112","v":792},{"$f":"КРС!V112","v":0},null,null,null,null,null,null,null,null,null,null,null,null,null,null,null,0,null,{"$f":"КРС!$F$126","v":0.05},""]
[{"$f":"КРС!A113","v":{"$error":"#N/A"}},{"$f":"КРС!B113","v":0},{"$f":"КРС!C113","v":"не указано"},{"$f":"КРС!D113","v":0},{"$f":"КРС!E113","v":0},null,{"$f":"КРС!G113","v":"Численность обучающихся"},{"$f":"КРС!H113","v":"Человек"},{"$f":"КРС!I113","v":792},{"$f":"КРС!V113","v":0},null,null,null,null,null,null,null,null,null,null,null,null,null,null,null,0,null,{"$f":"КРС!$F$126","v":0.05},""]
[{"$f":"КРС!A114","v":{"$error":"#N/A"}},{"$f":"КРС!B114","v":0},{"$f":"КРС!C114","v":"не указано"},{"$f":"КРС!D114","v":0},{"$f":"КРС!E114","v":0},null,{"$f":"КРС!G114","v":"Численность обучающихся"},{"$f":"КРС!H114","v":"Человек"},{"$f":"КРС!I114","v":792},{"$f":"КРС!V114","v":0},null,null,null,null,null,null,null,null,null,null,null,null,null,null,null,0,null,{"$f":"КРС!$F$126","v":0.05},""]
[{"$f":"КРС!A115","v":{"$error":"#N/A"}},{"$f":"КРС!B115","v":0},{"$f":"КРС!C115","v":"не указано"},{"$f":"КРС!D115","v":0},{"$f":"КРС!E115","v":0},null,{"$f":"КРС!G115","v":"Численность обучающихся"},{"$f":"КРС!H115","v":"Человек"},{"$f":"КРС!I115","v":792},{"$f":"КРС!V115","v":0},null,null,null,null,null,null,null,null,null,null,null,null,null,null,null,0,null,{"$f":"КРС!$F$126","v":0.05},""]
[{"$f":"КРС!A116","v":{"$error":"#N/A"}},{"$f":"КРС!B116","v":0},{"$f":"КРС!C116","v":"не указано"},{"$f":"КРС!D116","v":0},{"$f":"КРС!E116","v":0},null,{"$f":"КРС!G116","v":"Численность обучающихся"},{"$f":"КРС!H116","v":"Человек"},{"$f":"КРС!I116","v":792},{"$f":"КРС!V116","v":0},null,null,null,null,null,null,null,null,null,null,null,null,null,null,null,0,null,{"$f":"КРС!$F$126","v":0.05},""]
[{"$f":"КРС!A117","v":{"$error":"#N/A"}},{"$f":"КРС!B117","v":0},{"$f":"КРС!C117","v":"не указано"},{"$f":"КРС!D117","v":0},{"$f":"КРС!E117","v":0},null,{"$f":"КРС!G117","v":"Численность обучающихся"},{"$f":"КРС!H117","v":"Человек"},{"$f":"КРС!I117","v":792},{"$f":"КРС!V117","v":0},null,null,null,null,null,null,null,null,null,null,null,null,null,null,null,0,null,{"$f":"КРС!$F$126","v":0.05},""]
[{"$f":"КРС!A118","v":{"$error":"#N/A"}},{"$f":"КРС!B118","v":0},{"$f":"КРС!C118","v":"не указано"},{"$f":"КРС!D118","v":0},{"$f":"КРС!E118","v":0},null,{"$f":"КРС!G118","v":"Численность обучающихся"},{"$f":"КРС!H118","v":"Человек"},{"$f":"КРС!I118","v":792},{"$f":"КРС!V118","v":0},null,null,null,null,null,null,null,null,null,null,null,null,null,null,null,0,null,{"$f":"КРС!$F$126","v":0.05},""]
[{"$f":"КРС!A119","v":{"$error":"#N/A"}},{"$f":"КРС!B119","v":0},{"$f":"КРС!C119","v":"не указано"},{"$f":"КРС!D119","v":0},{"$f":"КРС!E119","v":0},null,{"$f":"КРС!G119","v":"Численность обучающихся"},{"$f":"КРС!H119","v":"Человек"},{"$f":"КРС!I119","v":792},{"$f":"КРС!V119","v":0},null,null,null,null,null,null,null,null,null,null,null,null,null,null,null,0,null,{"$f":"КРС!$F$126","v":0.05},""]
[{"$f":"КРС!A120","v":{"$error":"#N/A"}},{"$f":"КРС!B120","v":0},{"$f":"КРС!C120","v":"не указано"},{"$f":"КРС!D120","v":0},{"$f":"КРС!E120","v":0},null,{"$f":"КРС!G120","v":"Численность обучающихся"},{"$f":"КРС!H120","v":"Человек"},{"$f":"КРС!I120","v":792},{"$f":"КРС!V120","v":0},null,null,null,null,null,null,null,null,null,null,null,null,null,null,null,{"$f":"ROUND(SUM(N117:Y117)/12,1)","v":0},null,{"$f":"КРС!$F$126","v":0.05},""]
[{"$f":"КРС!A121","v":{"$error":"#N/A"}},{"$f":"КРС!B121","v":0},{"$f":"КРС!C121","v":"не указано"},{"$f":"КРС!D121","v":0},{"$f":"КРС!E121","v":0},null,{"$f":"КРС!G121","v":"Численность обучающихся"},{"$f":"КРС!H121","v":"Человек"},{"$f":"КРС!I121","v":792},{"$f":"КРС!V121","v":0},null,null,null,null,null,null,null,null,null,null,null,null,null,null,null,{"$f":"ROUND(SUM(N118:Y118)/12,1)","v":0},null,{"$f":"КРС!$F$126","v":0.05},""]
[{"$f":"КРС!A122","v":{"$error":"#N/A"}},{"$f":"КРС!B122","v":0},{"$f":"КРС!C122","v":"не указано"},{"$f":"КРС!D122","v":0},{"$f":"КРС!E122","v":0},null,{"$f":"КРС!G122","v":"Численность обучающихся"},{"$f":"КРС!H122","v":"Человек"},{"$f":"КРС!I122","v":792},{"$f":"КРС!V122","v":0},null,null,null,null,null,null,null,null,null,null,null,null,null,null,null,{"$f":"ROUND(SUM(N119:Y119)/12,1)","v":0},null,{"$f":"КРС!$F$126","v":0.05},""]
[{"$f":"КРС!A123","v":{"$error":"#N/A"}},{"$f":"КРС!B123","v":0},{"$f":"КРС!C123","v":"не указано"},{"$f":"КРС!D123","v":0},{"$f":"КРС!E123","v":0},null,{"$f":"КРС!G123","v":"Численность обучающихся"},{"$f":"КРС!H123","v":"Человек"},{"$f":"КРС!I123","v":792},{"$f":"КРС!V123","v":0},null,null,null,null,null,null,null,null,null,null,null,null,null,null,null,{"$f":"ROUND(SUM(N120:Y120)/12,1)","v":0},null,{"$f":"КРС!$F$126","v":0.05},""]
[{"$f":"КРС!A124","v":{"$error":"#N/A"}},{"$f":"КРС!B124","v":0},{"$f":"КРС!C124","v":"не указано"},{"$f":"КРС!D124","v":0},{"$f":"КРС!E124","v":0},null,{"$f":"КРС!G124","v":"Численность обучающихся"},{"$f":"КРС!H124","v":"Человек"},{"$f":"КРС!I124","v":792},{"$f":"КРС!V124","v":0},null,null,null,null,null,null,null,null,null,null,null,null,null,null,null,{"$f":"ROUND(SUM(N121:Y121)/12,1)","v":0},null,{"$f":"КРС!$F$126","v":0.05},""]
[]
[]
[]
[null,"Директор","___________________________",null,{"$f":"VLOOKUP(ТитГЗ!A17,'Служебный 1'!C3:D61,2,FALSE)","v":{"$error":"#N/A"}}]
[null,null,"подпись"]
[null,null,{"$f":"NOW()","v":"2024-08-25T04:12:59.650"}]

{"sheet":"ССЗОтч","index":14,"n_rows":127,"n_cols":34,"rows_kept":127,"cut":false,"hidden":false,"merged":[[124,2,124,3],[124,4,124,6],[125,2,125,3],[118,9,118,12],[118,25,118,26],[118,29,118,30],[119,9,119,12],[119,25,119,26],[119,29,119,30],[120,9,120,12],[120,25,120,26],[120,29,120,30],[115,9,115,12],[115,25,115,26],[115,29,115,30],[116,9,116,12],[116,25,116,26],[116,29,116,30],[117,9,117,12],[117,25,117,26],[117,29,117,30],[112,9,112,12],[112,25,112,26],[112,29,112,30],[113,9,113,12],[113,25,113,26],[113,29,113,30],[114,9,114,12],[114,25,114,26],[114,29,114,30],[109,9,109,12],[109,25,109,26],[109,29,109,30],[110,9,110,12],[110,25,110,26],[110,29,110,30],[111,9,111,12],[111,25,111,26],[111,29,111,30],[106,9,106,12],[106,25,106,26],[106,29,106,30],[107,9,107,12],[107,25,107,26],[107,29,107,30],[108,9,108,12],[108,25,108,26],[108,29,108,30],[103,9,103,12],[103,25,103,26],[103,29,103,30],[104,9,104,12],[104,25,104,26],[104,29,104,30],[105,9,105,12],[105,25,105,26],[105,29,105,30],[100,9,100,12],[100,25,100,26],[100,29,100,30],[101,9,101,12],[101,25,101,26],[101,29,101,30],[102,9,102,12],[102,25,102,26],[102,29,102,30],[97,9,97,12],[97,25,97,26],[97,29,97,30],[98,9,98,12],[98,25,98,26],[98,29,98,30],[99,9,99,12],[99,25,99,26],[99,29,99,30],[94,9,94,12],[94,25,94,26],[94,29,94,30],[95,9,95,12],[95,25,95,26],[95,29,95,30],[96,9,96,12],[96,25,96,26],[96,29,96,30],[91,9,91,12],[91,25,91,26],[91,29,91,30],[92,9,92,12],[92,25,92,26],[92,29,92,30],[93,9,93,12],[93,25,93,26],[93,29,93,30],[88,9,88,12],[88,25,88,26],[88,29,88,30],[89,9,89,12],[89,25,89,26],[89,29,89,30],[90,9,90,12],[90,25,90,26],[90,29,90,30],[85,9,85,12],[85,25,85,26],[85,29,85,30],[86,9,86,12],[86,25,86,26],[86,29,86,30],[87,9,87,12],[87,25,87,26],[87,29,87,30],[82,9,82,12],[82,25,82,26],[82,29,82,30],[83,9,83,12],[83,25,83,26],[83,29,83,30],[84,9,84,12],[84,25,84,26],[84,29,84,30],[79,9,79,12],[79,25,79,26],[79,29,79,30],[80,9,80,12],[80,25,80,26],[80,29,80,30],[81,9,81,12],[81,25,81,26],[81,29,81,30],[76,9,76,12],[76,25,76,26],[76,29,76,30],[77,9,77,12],[77,25,77,26],[77,29,77,30],[78,9,78,12],[78,25,78,26],[78,29,78,30],[73,9,73,12],[73,25,73,26],[73,29,73,30],[74,9,74,12],[74,25,74,26],[74,29,74,30],[75,9,75,12],[75,25,75,26],[75,29,75,30],[70,9,70,12],[70,25,70,26],[70,29,70,30],[71,9,71,12],[71,25,71,26],[71,29,71,30],[72,9,72,12],[72,25,72,26],[72,29,72,30],[67,9,67,12],[67,25,67,26],[67,29,67,30],[68,9,68,12],[68,25,68,26],[68,29,68,30],[69,9,69,12],[69,25,69,26],[69,29,69,30],[64,9,64,12],[64,25,64,26],[64,29,64,30],[65,9,65,12],[65,25,65,26],[65,29,65,30],[66,9,66,12],[66,25,66,26],[66,29,66,30],[61,9,61,12],[61,25,61,26],[61,29,61,30],[62,9,62,12],[62,25,62,26],[62,29,62,30],[63,9,63,12],[63,25,63,26],[63,29,63,30],[58,9,58,12],[58,25,58,26],[58,29,58,30],[59,9,59,12],[59,25,59,26],[59,29,59,30],[60,9,60,12],[60,25,60,26],[60,29,60,30],[55,9,55,12],[55,25,55,26],[55,29,55,30],[56,9,56,12],[56,25,56,26],[56,29,56,30],[57,9,57,12],[57,25,57,26],[57,29,57,30],[52,9,52,12],[52,25,52,26],[52,29,52,30],[53,9,53,12],[53,25,53,26],[53,29,53,30],[54,9,54,12],[54,25,54,26],[54,29,54,30],[49,9,49,12],[49,25,49,26],[49,29,49,30],[50,9,50,12],[50,25,50,26],[50,29,50,30],[51,9,51,12],[51,25,51,26],[51,29,51,30],[46,9,46,12],[46,25,46,26],[46,29,46,30],[47,9,47,12],[47,25,47,26],[47,29,47,30],[48,9,48,12],[48,25,48,26],[48,29,48,30],[43,9,43,12],[43,25,43,26],[43,29,43,30],[44,9,44,12],[44,25,44,26],[44,29,44,30],[45,9,45,12],[45,25,45,26],[45,29,45,30],[40,9,40,12],[40,25,40,26],[40,29,40,30],[41,9,41,12],[41,25,41,26],[41,29,41,30],[42,9,42,12],[42,25,42,26],[42,29,42,30],[37,9,37,12],[37,25,37,26],[37,29,37,30],[38,9,38,12],[38,25,38,26],[38,29,38,30],[39,9,39,12],[39,25,39,26],[39,29,39,30],[34,9,34,12],[34,25,34,26],[34,29,34,30],[35,9,35,12],[35,25,35,26],[35,29,35,30],[36,9,36,12],[36,25,36,26],[36,29,36,30],[31,9,31,12],[31,25,31,26],[31,29,31,30],[32,9,32,12],[32,25,32,26],[32,29,32,30],[33,9,33,12],[33,25,33,26],[33,29,33,30],[28,9,28,12],[28,25,28,26],[28,29,28,30],[29,9,29,12],[29,25,29,26],[29,29,29,30],[30,9,30,12],[30,25,30,26],[30,29,30,30],[25,9,25,12],[25,25,25,26],[25,29,25,30],[26,9,26,12],[26,25,26,26],[26,29,26,30],[27,9,27,12],[27,25,27,26],[27,29,27,30],[22,9,22,12],[22,25,22,26],[22,29,22,30],[23,9,23,12],[23,25,23,26],[23,29,23,30],[24,9,24,12],[24,25,24,26],[24,29,24,30],[21,9,21,12],[21,25,21,26],[21,29,21,30],[17,31,19,31],[18,1,19,1],[18,2,19,2],[18,3,19,3],[18,4,19,4],[18,5,19,5],[18,6,19,6],[12,6,12,25],[12,26,12,27],[13,6,13,25],[13,26,13,27],[18,7,18,8],[18,9,19,12],[18,13,18,24],[17,0,19,0],[17,1,17,3],[17,4,17,5],[17,6,17,30],[18,25,19,26],[18,27,19,27],[18,28,19,28],[18,29,19,30],[126,2,126,3],[10,31,11,31],[10,32,11,32],[10,33,11,33],[11,26,11,27],[0,0,0,33],[2,0,2,3],[4,0,4,5],[9,0,11,0],[9,1,9,3],[9,4,9,5],[9,6,9,33],[10,1,11,1],[10,2,11,2],[10,3,11,3],[10,4,11,4],[10,5,11,5],[10,6,11,25],[10,26,10,28],[10,29,11,29],[10,30,11,30],[20,9,20,12],[20,25,20,26],[20,29,20,30]]}
[{"$f":"КРС!A2","v":"Раздел 1"}]
["1. Наименование государственной услуги"]
[{"$f":"ССЗ!A4:D4","v":"Реализация образовательных программ среднего профессионального образования - программ подготовки специалистов среднего звена"},null,null,null,"Уникальный номер реестровой записи из общероссийских перечней либо регионального перечня",{"$f":"ССЗ!F4","v":"11.Д56.0"}]
["2. Категория потребителей государственной услуги"]
[{"$f":"ССЗ!A6:F6","v":"Физические лица, имеющие основное общее образование"}]
["3.  Сведения  о фактическом достижении показателей, характеризующих объем и (или) качество государственной услуги:"]
[]
["3.1.   Сведения   о  фактическом  достижении  показателей,  характеризующих качество государственной услуги:"]
[]
[{"$f":"ССЗ!A11","v":"Уникальный номер реестровой записи"},{"$f":"ССЗ!B11","v":"Показатель, характеризущий содержание государственной услуги"},null,null,{"$f":"ССЗ!E11","v":"Показатель, характеризущий условия (формы) оказания государственной услуги"},null,{"$f":"ССЗ!G11","v":"Показатель качества государственной услуги"}]
[null,{"$f":"ССЗ!B12","v":"Специальности и укрупненные группы"},{"$f":"ССЗ!C12","v":"Категория потребителей"},{"$f":"ССЗ!D12","v":"Уровень образования, необходимый для приема на обучение"},{"$f":"ССЗ!E12","v":"Формы обучения и формы реализации образовательных программ"},{"$f":"ССЗ!F12","v":"(наименование показателя)"},{"$f":"ССЗ!G12","v":"наименование показателя"},null,null,null,null,null,null,null,null,null,null,null,null,null,null,null,null,null,null,null,{"$f":"ССЗ!W12","v":"единица измерения по ОКЕИ"},null,null,"утверждено в государственном задании на год","исполнено на отчетную дату","допустимое (возможное) отклонение","отклонение, превышающее допустимое (возможное) значение","причина отклонения"]
[null,null,null,null,null,null,null,null,null,null,null,null,null,null,null,null,null,null,null,null,null,null,null,null,null,null,{"$f":"SUBSTITUTE(ССЗ!W13,\"-\",,1)","v":"наименование"},null,{"$f":"ССЗ!Y13","v":"код"}]
[1,2,3,4,5,6,7,null,null,null,null,null,null,null,null,null,null,null,null,null,null,null,null,null,null,null,8,null,9,10,11,12,13,14]
[]
[]
["3.2.  Сведения  о фактическом достижении показателей, характеризующих объем государственной услуги:"]
[]
[{"$f":"ССЗ!A21","v":"Уникальный номер реестровой записи"},{"$f":"ССЗ!B21","v":"Показатель, характеризущий содержание государственной услуги"},null,null,{"$f":"ССЗ!E21","v":"Показатель, характеризущий условия (форму) оказания государственной услуги"},null,"Показатель объема государственной услуги",null,null,null,null,null,null,null,null,null,null,null,null,null,null,null,null,null,null,null,null,null,null,null,null,"Средний размер платы (цена, тариф)"]
[null,{"$f":"ССЗ!B22","v":"Специальности и укрупненные группы"},{"$f":"ССЗ!C22","v":"Категория потребителей"},{"$f":"ССЗ!D22","v":"Уровень образования, необходимый для приема на обучение"},{"$f":"ССЗ!E22","v":"Формы обучения и формы реализации образовательных программ"},{"$f":"ССЗ!F22","v":"(наименование показателя)"},{"$f":"ССЗ!G22","v":"наименование показателя"},{"$f":"ССЗ!H22","v":"единица измерения по ОКЕИ"},null,"утверждено в государственном задании на год",null,null,null,"Количество студентов, получающих образовательные услуги за счет областного бюджета, на первое число каждого месяца 2018 года, чел",null,null,null,null,null,null,null,null,null,null,null,"исполнено на отчетную дату",null,"допустимое (возможное) отклонение","отклонение, превышающее допустимое (возможное) значение","причина отклонения"]
[null,null,null,null,null,null,null,{"$f":"ССЗ!H23","v":"наименование"},{"$f":"ССЗ!I23","v":"код"},null,null,null,null,"январь","февраль","март","апрель","май","июнь","июль","август","сентябрь","октябрь","ноябрь","декабрь"]
[1,2,3,4,5,6,7,8,9,10,null,null,null,null,null,null,null,null,null,null,null,null,null,null,null,11,null,12,13,14,null,15]
[{"$f":"ССЗ!A25","v":"11Д56002201000101006100"},{"$f":"ССЗ!B25","v":"09.02.03 Программирование в компьютерных системах"},{"$f":"ССЗ!C25","v":"не указано"},{"$f":"ССЗ!D25","v":"Основное общее образование"},{"$f":"ССЗ!E25","v":"Очная"},null,{"$f":"ССЗ!G25","v":"Численность обучающихся"},{"$f":"ССЗ!H25","v":"Человек"},{"$f":"ССЗ!I25","v":792},{"$f":"ССЗ!V25","v":98.8},null,null,null,106,106,106,106,106,105,80,80,103,103,102,101,{"$f":"ROUND(SUM(N22:Y22)/12,1)","v":100.3},null,{"$f":"ССЗ!$F$126","v":0.05},{"$f":"IF(ISERROR(IF(ABS(ROUND((Z22/J22)-1,3))>AB22,ROUND((Z22/J22)-1,3),\"\")),\"\",IF(ABS(ROUND((Z22/J22)-1,3))>AB22,ROUND((Z22/J22)-1,3),\"\"))","v":""}]
[{"$f":"ССЗ!A26","v":"11Д56003001000101006100"},{"$f":"ССЗ!B26","v":"11.02.01 Радиоаппаратостроение"},{"$f":"ССЗ!C26","v":"не указано"},{"$f":"ССЗ!D26","v":"Основное общее образование"},{"$f":"ССЗ!E26","v":"Очная"},null,{"$f":"ССЗ!G26","v":"Численность обучающихся"},{"$f":"ССЗ!H26","v":"Человек"},{"$f":"ССЗ!I26","v":792},{"$f":"ССЗ!V26","v":55},null,null,null,48,48,47,47,47,47,47,45,70,69,64,63,{"$f":"ROUND(SUM(N23:Y23)/12,1)","v":53.5},null,{"$f":"ССЗ!$F$126","v":0.05},{"$f":"IF(ISERROR(IF(ABS(ROUND((Z23/J23)-1,3))>AB23,ROUND((Z23/J23)-1,3),\"\")),\"\",IF(ABS(ROUND((Z23/J23)-1,3))>AB23,ROUND((Z23/J23)-1,3),\"\"))","v":""}]
[{"$f":"ССЗ!A27","v":"11Д56007701000101000100"},{"$f":"ССЗ!B27","v":"15.02.08 Технология машиностроения"},{"$f":"ССЗ!C27","v":"не указано"},{"$f":"ССЗ!D27","v":"Основное общее образование"},{"$f":"ССЗ!E27","v":"Очная"},null,{"$f":"ССЗ!G27","v":"Численность обучающихся"},{"$f":"ССЗ!H27","v":"Человек"},{"$f":"ССЗ!I27","v":792},{"$f":"ССЗ!V27","v":174},null,null,null,184,184,184,184,184,184,146,146,168,169,171,170,172.8,null,{"$f":"ССЗ!$F$126","v":0.05},""]
[{"$f":"ССЗ!A28","v":"11Д56007701000217001100"},{"$f":"ССЗ!B28","v":"15.02.08 Технология машиностроения"},{"$f":"ССЗ!C28","v":"не указано"},{"$f":"ССЗ!D28","v":"Среднее общее образование"},{"$f":"ССЗ!E28","v":"Заочная"},null,{"$f":"ССЗ!G28","v":"Численность обучающихся"},{"$f":"ССЗ!H28","v":"Человек"},{"$f":"ССЗ!I28","v":792},{"$f":"ССЗ!V28","v":7.5},null,null,null,11,11,11,11,11,11,9,9,9,9,3,3,9,null,{"$f":"ССЗ!$F$126","v":0.05},0.2,"В контингенте заочной формы остаются студенты, обучающиеся на бюджетной основе: находящиеся в академическом отпуске, либо восстановившиеся из академического отпуска  (на конец года - три таких студента)."]
[{"$f":"ССЗ!A29","v":"11Д56012801000201008100"},{"$f":"ССЗ!B29","v":"22.02.02 Металлургия цветных металлов"},{"$f":"ССЗ!C29","v":"не указано"},{"$f":"ССЗ!D29","v":"Среднее общее образование"},{"$f":"ССЗ!E29","v":"Очная"},null,{"$f":"ССЗ!G29","v":"Численность обучающихся"},{"$f":"ССЗ!H29","v":"Человек"},{"$f":"ССЗ!I29","v":792},{"$f":"ССЗ!V29","v":32.200000000000003},null,null,null,23,23,23,23,22,22,22,22,47,45,49,46,30.6,null,{"$f":"ССЗ!$F$126","v":0.05},""]
[{"$f":"ССЗ!A30","v":"11Д56013201000101003100"},{"$f":"ССЗ!B30","v":"22.02.06 Сварочное производство"},{"$f":"ССЗ!C30","v":"не указано"},{"$f":"ССЗ!D30","v":"Основное общее образование"},{"$f":"ССЗ!E30","v":"Очная"},null,{"$f":"ССЗ!G30","v":"Численность обучающихся"},{"$f":"ССЗ!H30","v":"Человек"},{"$f":"ССЗ!I30","v":792},{"$f":"ССЗ!V30","v":105.5},null,null,null,106,105,105,105,105,105,86,86,110,109,108,108,103.2,null,{"$f":"ССЗ!$F$126","v":0.05},""]
[{"$f":"ССЗ!A31","v":"11Д56013601000101009100"},{"$f":"ССЗ!B31","v":"23.02.02 Автомобиле- и тракторостроение"},{"$f":"ССЗ!C31","v":"не указано"},{"$f":"ССЗ!D31","v":"Основное общее образование"},{"$f":"ССЗ!E31","v":"Очная"},null,{"$f":"ССЗ!G31","v":"Численность обучающихся"},{"$f":"ССЗ!H31","v":"Человек"},{"$f":"ССЗ!I31","v":792},{"$f":"ССЗ!V31","v":91},null,null,null,91,91,91,89,87,85,68,66,92,92,93,93,86.5,null,{"$f":"ССЗ!$F$126","v":0.05},""]
[{"$f":"ССЗ!A32","v":"11Д56013701000101008100"},{"$f":"ССЗ!B32","v":"23.02.03 Техническое обслуживание и ремонт автомобильного транспорта"},{"$f":"ССЗ!C32","v":"не указано"},{"$f":"ССЗ!D32","v":"Основное общее образование"},{"$f":"ССЗ!E32","v":"Очная"},null,{"$f":"ССЗ!G32","v":"Численность обучающихся"},{"$f":"ССЗ!H32","v":"Человек"},{"$f":"ССЗ!I32","v":792},{"$f":"ССЗ!V32","v":186.5},null,null,null,202,200,200,200,197,194,134,131,182,175,174,174,180.3,null,{"$f":"ССЗ!$F$126","v":0.05},""]
[{"$f":"ССЗ!A33","v":"11Д56013701000217009100"},{"$f":"ССЗ!B33","v":"23.02.03 Техническое обслуживание и ремонт автомобильного транспорта"},{"$f":"ССЗ!C33","v":"не указано"},{"$f":"ССЗ!D33","v":"Среднее общее образование"},{"$f":"ССЗ!E33","v":"Заочная"},null,{"$f":"ССЗ!G33","v":"Численность обучающихся"},{"$f":"ССЗ!H33","v":"Человек"},{"$f":"ССЗ!I33","v":792},{"$f":"ССЗ!V33","v":0.5},null,null,null,1,1,1,1,1,0,0,0,0,0,0,0,0.4,null,{"$f":"ССЗ!$F$126","v":0.05},-0.2,"В течение отчётного переиода восстановился из академического отпуска и выпустился один студент, обучающийся на бюджетной основе. Отклонение от ГЗ носит технический характер."]
[{"$f":"ССЗ!A34","v":"11Д56020701000101003100"},{"$f":"ССЗ!B34","v":"38.02.01 Экономика и бухгалтерский учет (по отраслям)"},{"$f":"ССЗ!C34","v":"не указано"},{"$f":"ССЗ!D34","v":"Основное общее образование"},{"$f":"ССЗ!E34","v":"Очная"},null,{"$f":"ССЗ!G34","v":"Численность обучающихся"},{"$f":"ССЗ!H34","v":"Человек"},{"$f":"ССЗ!I34","v":792},{"$f":"ССЗ!V34","v":23},null,null,null,23,23,23,22,20,18,18,18,18,16,21,21,20.100000000000001,null,{"$f":"ССЗ!$F$126","v":0.05},-0.126,"На 4 курсе заканчивает обучение группа, обучающаяся на бюджетной основе по программам углубленной подготовки. По семейным обстоятельствам 7 студентов перешли на заочную форму обучения, в то же время, в ноябре контингент был частично восстановлен за счёт перехода обучающихся с платного обучения на бесплатное."]
[{"$f":"ССЗ!A35","v":"11Д56021801000101000100"},{"$f":"ССЗ!B35","v":"40.02.01 Право и организация социального обеспечения"},{"$f":"ССЗ!C35","v":"не указано"},{"$f":"ССЗ!D35","v":"Основное общее образование"},{"$f":"ССЗ!E35","v":"Очная"},null,{"$f":"ССЗ!G35","v":"Численность обучающихся"},{"$f":"ССЗ!H35","v":"Человек"},{"$f":"ССЗ!I35","v":792},{"$f":"ССЗ!V35","v":0.5},null,null,null,1,1,1,1,1,1,1,1,1,1,1,1,1,null,{"$f":"ССЗ!$F$126","v":0.05},1,"Одна студентка, находящаяся ранее в академическом отпуске, вновь оформила академический отпуск по семейным обстоятельствам. Отклонение (превышение ГЗ) носит технический характер."]
[{"$f":"ССЗ!A36","v":"11Д56021901000217000100"},{"$f":"ССЗ!B36","v":"40.02.02 Правоохранительная деятельность"},{"$f":"ССЗ!C36","v":"не указано"},{"$f":"ССЗ!D36","v":"Среднее общее образование"},{"$f":"ССЗ!E36","v":"Заочная"},null,{"$f":"ССЗ!G36","v":"Численность обучающихся"},{"$f":"ССЗ!H36","v":"Человек"},{"$f":"ССЗ!I36","v":792},{"$f":"ССЗ!V36","v":0.2},null,null,null,0,0,0,0,0,0,0,0,0,0,0,0,0,null,{"$f":"ССЗ!$F$126","v":0.05},-1,"Одна студентка, находящаяся ранее в академическом отпуске, отчислилась из колледжа по собственному желанию. Отклонение от ГЗ носит технический характер."]
[{"$f":"ССЗ!A37","v":"11Д56022601000101000100"},{"$f":"ССЗ!B37","v":"43.02.02 Парикмахерское искусство"},{"$f":"ССЗ!C37","v":"не указано"},{"$f":"ССЗ!D37","v":"Основное общее образование"},{"$f":"ССЗ!E37","v":"Очная"},null,{"$f":"ССЗ!G37","v":"Численность обучающихся"},{"$f":"ССЗ!H37","v":"Человек"},{"$f":"ССЗ!I37","v":792},{"$f":"ССЗ!V37","v":34.5},null,null,null,47,47,47,47,47,45,27,27,25,25,25,25,36.200000000000003,null,{"$f":"ССЗ!$F$126","v":0.05},""]
[{"$f":"ССЗ!A38","v":"11Д56023501000101009100"},{"$f":"ССЗ!B38","v":"43.02.11 Гостиничный сервис"},{"$f":"ССЗ!C38","v":"не указано"},{"$f":"ССЗ!D38","v":"Основное общее образование"},{"$f":"ССЗ!E38","v":"Очная"},null,{"$f":"ССЗ!G38","v":"Численность обучающихся"},{"$f":"ССЗ!H38","v":"Человек"},{"$f":"ССЗ!I38","v":792},{"$f":"ССЗ!V38","v":62},null,null,null,72,72,72,72,72,71,52,50,51,51,52,52,61.6,null,{"$f":"ССЗ!$F$126","v":0.05},""]
[{"$f":"ССЗ!A39","v":0},{"$f":"ССЗ!B39","v":"09.02.07 Информационные системы и программирование"},{"$f":"ССЗ!C39","v":"не указано"},{"$f":"ССЗ!D39","v":"Основное общее образование"},{"$f":"ССЗ!E39","v":"Очная"},null,{"$f":"ССЗ!G39","v":"Численность обучающихся"},{"$f":"ССЗ!H39","v":"Человек"},{"$f":"ССЗ!I39","v":792},{"$f":"ССЗ!V39","v":8.3000000000000007},null,null,null,0,0,0,0,0,0,0,0,25,25,25,25,8.3000000000000007,null,{"$f":"ССЗ!$F$126","v":0.05},""]
[{"$f":"ССЗ!A40","v":"11Д56007801000101009100"},{"$f":"ССЗ!B40","v":"15.02.09 Аддитивные технологии"},{"$f":"ССЗ!C40","v":"не указано"},{"$f":"ССЗ!D40","v":"Основное общее образование"},{"$f":"ССЗ!E40","v":"Очная"},null,{"$f":"ССЗ!G40","v":"Численность обучающихся"},{"$f":"ССЗ!H40","v":"Человек"},{"$f":"ССЗ!I40","v":792},{"$f":"ССЗ!V40","v":8.3000000000000007},null,null,null,0,0,0,0,0,0,0,0,25,25,25,25,8.3000000000000007,null,{"$f":"ССЗ!$F$126","v":0.05},""]
[{"$f":"ССЗ!A41","v":0},{"$f":"ССЗ!B41","v":"15.02.15 Технология металлообрабатывающего производства"},{"$f":"ССЗ!C41","v":"не указано"},{"$f":"ССЗ!D41","v":"Основное общее образование"},{"$f":"ССЗ!E41","v":"Очная"},null,{"$f":"ССЗ!G41","v":"Численность обучающихся"},{"$f":"ССЗ!H41","v":"Человек"},{"$f":"ССЗ!I41","v":792},{"$f":"ССЗ!V41","v":8.3000000000000007},null,null,null,0,0,0,0,0,0,0,0,25,25,25,25,8.3000000000000007,null,{"$f":"ССЗ!$F$126","v":0.05},""]
[{"$f":"ССЗ!A42","v":0},{"$f":"ССЗ!B42","v":"43.02.13 Технология парикмахерского искусства"},{"$f":"ССЗ!C42","v":"не указано"},{"$f":"ССЗ!D42","v":"Основное общее образование"},{"$f":"ССЗ!E42","v":"Очная"},null,{"$f":"ССЗ!G42","v":"Численность обучающихся"},{"$f":"ССЗ!H42","v":"Человек"},{"$f":"ССЗ!I42","v":792},{"$f":"ССЗ!V42","v":16.5},null,null,null,0,0,0,0,0,0,0,0,50,49,50,49,16.5,null,{"$f":"ССЗ!$F$126","v":0.05},""]
[{"$f":"ССЗ!A43","v":0},{"$f":"ССЗ!B43","v":"43.02.14 Гостиничное дело"},{"$f":"ССЗ!C43","v":"не указано"},{"$f":"ССЗ!D43","v":"Основное общее образование"},{"$f":"ССЗ!E43","v":"Очная"},null,{"$f":"ССЗ!G43","v":"Численность обучающихся"},{"$f":"ССЗ!H43","v":"Человек"},{"$f":"ССЗ!I43","v":792},{"$f":"ССЗ!V43","v":8.3000000000000007},null,null,null,0,0,0,0,0,0,0,0,25,24,24,23,8,null,{"$f":"ССЗ!$F$126","v":0.05},""]
[{"$f":"ССЗ!A44","v":{"$error":"#N/A"}},{"$f":"ССЗ!B44","v":0},{"$f":"ССЗ!C44","v":"не указано"},{"$f":"ССЗ!D44","v":0},{"$f":"ССЗ!E44","v":0},null,{"$f":"ССЗ!G44","v":"Численность обучающихся"},{"$f":"ССЗ!H44","v":"Человек"},{"$f":"ССЗ!I44","v":792},{"$f":"ССЗ!V44","v":0},null,null,null,null,null,null,null,null,null,null,null,null,null,null,null,0,null,{"$f":"ССЗ!$F$126","v":0.05},""]
[{"$f":"ССЗ!A45","v":{"$error":"#N/A"}},{"$f":"ССЗ!B45","v":0},{"$f":"ССЗ!C45","v":"не указано"},{"$f":"ССЗ!D45","v":0},{"$f":"ССЗ!E45","v":0},null,{"$f":"ССЗ!G45","v":"Численность обучающихся"},{"$f":"ССЗ!H45","v":"Человек"},{"$f":"ССЗ!I45","v":792},{"$f":"ССЗ!V45","v":0},null,null,null,null,null,null,null,null,null,null,null,null,null,null,null,0,null,{"$f":"ССЗ!$F$126","v":0.05},""]
[{"$f":"ССЗ!A46","v":{"$error":"#N/A"}},{"$f":"ССЗ!B46","v":0},{"$f":"ССЗ!C46","v":"не указано"},{"$f":"ССЗ!D46","v":0},{"$f":"ССЗ!E46","v":0},null,{"$f":"ССЗ!G46","v":"Численность обучающихся"},{"$f":"ССЗ!H46","v":"Человек"},{"$f":"ССЗ!I46","v":792},{"$f":"ССЗ!V46","v":0},null,null,null,null,null,null,null,null,null,null,null,null,null,null,null,0,null,{"$f":"ССЗ!$F$126","v":0.05},""]
[{"$f":"ССЗ!A47","v":{"$error":"#N/A"}},{"$f":"ССЗ!B47","v":0},{"$f":"ССЗ!C47","v":"не указано"},{"$f":"ССЗ!D47","v":0},{"$f":"ССЗ!E47","v":0},null,{"$f":"ССЗ!G47","v":"Численность обучающихся"},{"$f":"ССЗ!H47","v":"Человек"},{"$f":"ССЗ!I47","v":792},{"$f":"ССЗ!V47","v":0},null,null,null,null,null,null,null,null,null,null,null,null,null,null,null,0,null,{"$f":"ССЗ!$F$126","v":0.05},""]
[{"$f":"ССЗ!A48","v":{"$error":"#N/A"}},{"$f":"ССЗ!B48","v":0},{"$f":"ССЗ!C48","v":"не указано"},{"$f":"ССЗ!D48","v":0},{"$f":"ССЗ!E48","v":0},null,{"$f":"ССЗ!G48","v":"Численность обучающихся"},{"$f":"ССЗ!H48","v":"Человек"},{"$f":"ССЗ!I48","v":792},{"$f":"ССЗ!V48","v":0},null,null,null,null,null,null,null,null,null,null,null,null,null,null,null,0,null,{"$f":"ССЗ!$F$126","v":0.05},""]
[{"$f":"ССЗ!A49","v":{"$error":"#N/A"}},{"$f":"ССЗ!B49","v":0},{"$f":"ССЗ!C49","v":"не указано"},{"$f":"ССЗ!D49","v":0},{"$f":"ССЗ!E49","v":0},null,{"$f":"ССЗ!G49","v":"Численность обучающихся"},{"$f":"ССЗ!H49","v":"Человек"},{"$f":"ССЗ!I49","v":792},{"$f":"ССЗ!V49","v":0},null,null,null,null,null,null,null,null,null,null,null,null,null,null,null,0,null,{"$f":"ССЗ!$F$126","v":0.05},""]
[{"$f":"ССЗ!A50","v":{"$error":"#N/A"}},{"$f":"ССЗ!B50","v":0},{"$f":"ССЗ!C50","v":"не указано"},{"$f":"ССЗ!D50","v":0},{"$f":"ССЗ!E50","v":0},null,{"$f":"ССЗ!G50","v":"Численность обучающихся"},{"$f":"ССЗ!H50","v":"Человек"},{"$f":"ССЗ!I50","v":792},{"$f":"ССЗ!V50","v":0},null,null,null,null,null,null,null,null,null,null,null,null,null,null,null,0,null,{"$f":"ССЗ!$F$126","v":0.05},""]
[{"$f":"ССЗ!A51","v":{"$error":"#N/A"}},{"$f":"ССЗ!B51","v":0},{"$f":"ССЗ!C51","v":"не указано"},{"$f":"ССЗ!D51","v":0},{"$f":"ССЗ!E51","v":0},null,{"$f":"ССЗ!G51","v":"Численность обучающихся"},{"$f":"ССЗ!H51","v":"Человек"},{"$f":"ССЗ!I51","v":792},{"$f":"ССЗ!V51","v":0},null,null,null,null,null,null,null,null,null,null,null,null,null,null,null,0,null,{"$f":"ССЗ!$F$126","v":0.05},""]
[{"$f":"ССЗ!A52","v":{"$error":"#N/A"}},{"$f":"ССЗ!B52","v":0},{"$f":"ССЗ!C52","v":"не указано"},{"$f":"ССЗ!D52","v":0},{"$f":"ССЗ!E52","v":0},null,{"$f":"ССЗ!G52","v":"Численность обучающихся"},{"$f":"ССЗ!H52","v":"Человек"},{"$f":"ССЗ!I52","v":792},{"$f":"ССЗ!V52","v":0},null,null,null,null,null,null,null,null,null,null,null,null,null,null,null,0,null,{"$f":"ССЗ!$F$126","v":0.05},""]
[{"$f":"ССЗ!A53","v":{"$error":"#N/A"}},{"$f":"ССЗ!B53","v":0},{"$f":"ССЗ!C53","v":"не указано"},{"$f":"ССЗ!D53","v":0},{"$f":"ССЗ!E53","v":0},null,{"$f":"ССЗ!G53","v":"Численность обучающихся"},{"$f":"ССЗ!H53","v":"Человек"},{"$f":"ССЗ!I53","v":792},{"$f":"ССЗ!V53","v":0},null,null,null,null,null,null,null,null,null,null,null,null,null,null,null,0,null,{"$f":"ССЗ!$F$126","v":0.05},""]
[{"$f":"ССЗ!A54","v":{"$error":"#N/A"}},{"$f":"ССЗ!B54","v":0},{"$f":"ССЗ!C54","v":"не указано"},{"$f":"ССЗ!D54","v":0},{"$f":"ССЗ!E54","v":0},null,{"$f":"ССЗ!G54","v":"Численность обучающихся"},{"$f":"ССЗ!H54","v":"Человек"},{"$f":"ССЗ!I54","v":792},{"$f":"ССЗ!V54","v":0},null,null,null,null,null,null,null,null,null,null,null,null,null,null,null,0,null,{"$f":"ССЗ!$F$126","v":0.05},""]
[{"$f":"ССЗ!A55","v":{"$error":"#N/A"}},{"$f":"ССЗ!B55","v":0},{"$f":"ССЗ!C55","v":"не указано"},{"$f":"ССЗ!D55","v":0},{"$f":"ССЗ!E55","v":0},null,{"$f":"ССЗ!G55","v":"Численность обучающихся"},{"$f":"ССЗ!H55","v":"Человек"},{"$f":"ССЗ!I55","v":792},{"$f":"ССЗ!V55","v":0},null,null,null,null,null,null,null,null,null,null,null,null,null,null,null,{"$f":"ROUND(SUM(N52:Y52)/12,1)","v":0},null,{"$f":"ССЗ!$F$126","v":0.05},""]
[{"$f":"ССЗ!A56","v":{"$error":"#N/A"}},{"$f":"ССЗ!B56","v":0},{"$f":"ССЗ!C56","v":"не указано"},{"$f":"ССЗ!D56","v":0},{"$f":"ССЗ!E56","v":0},null,{"$f":"ССЗ!G56","v":"Численность обучающихся"},{"$f":"ССЗ!H56","v":"Человек"},{"$f":"ССЗ!I56","v":792},{"$f":"ССЗ!V56","v":0},null,null,null,null,null,null,null,null,null,null,null,null,null,null,null,0,null,{"$f":"ССЗ!$F$126","v":0.05},""]
[{"$f":"ССЗ!A57","v":{"$error":"#N/A"}},{"$f":"ССЗ!B57","v":0},{"$f":"ССЗ!C57","v":"не указано"},{"$f":"ССЗ!D57","v":0},{"$f":"ССЗ!E57","v":0},null,{"$f":"ССЗ!G57","v":"Численность обучающихся"},{"$f":"ССЗ!H57","v":"Человек"},{"$f":"ССЗ!I57","v":792},{"$f":"ССЗ!V57","v":0},null,null,null,null,null,null,null,null,null,null,null,null,null,null,null,0,null,{"$f":"ССЗ!$F$126","v":0.05},""]
[{"$f":"ССЗ!A58","v":{"$error":"#N/A"}},{"$f":"ССЗ!B58","v":0},{"$f":"ССЗ!C58","v":"не указано"},{"$f":"ССЗ!D58","v":0},{"$f":"ССЗ!E58","v":0},null,{"$f":"ССЗ!G58","v":"Численность обучающихся"},{"$f":"ССЗ!H58","v":"Человек"},{"$f":"ССЗ!I58","v":792},{"$f":"ССЗ!V58","v":0},null,null,null,null,null,null,null,null,null,null,null,null,null,null,null,0,null,{"$f":"ССЗ!$F$126","v":0.05},""]
[{"$f":"ССЗ!A59","v":{"$error":"#N/A"}},{"$f":"ССЗ!B59","v":0},{"$f":"ССЗ!C59","v":"не указано"},{"$f":"ССЗ!D59","v":0},{"$f":"ССЗ!E59","v":0},null,{"$f":"ССЗ!G59","v":"Численность обучающихся"},{"$f":"ССЗ!H59","v":"Человек"},{"$f":"ССЗ!I59","v":792},{"$f":"ССЗ!V59","v":0},null,null,null,null,null,null,null,null,null,null,null,null,null,null,null,0,null,{"$f":"ССЗ!$F$126","v":0.05},""]
[{"$f":"ССЗ!A60","v":{"$error":"#N/A"}},{"$f":"ССЗ!B60","v":0},{"$f":"ССЗ!C60","v":"не указано"},{"$f":"ССЗ!D60","v":0},{"$f":"ССЗ!E60","v":0},null,{"$f":"ССЗ!G60","v":"Численность обучающихся"},{"$f":"ССЗ!H60","v":"Человек"},{"$f":"ССЗ!I60","v":792},{"$f":"ССЗ!V60","v":0},null,null,null,null,null,null,null,null,null,null,null,null,null,null,null,0,null,{"$f":"ССЗ!$F$126","v":0.05},""]
[{"$f":"ССЗ!A61","v":{"$error":"#N/A"}},{"$f":"ССЗ!B61","v":0},{"$f":"ССЗ!C61","v":"не указано"},{"$f":"ССЗ!D61","v":0},{"$f":"ССЗ!E61","v":0},null,{"$f":"ССЗ!G61","v":"Численность обучающихся"},{"$f":"ССЗ!H61","v":"Человек"},{"$f":"ССЗ!I61","v":792},{"$f":"ССЗ!V61","v":0},null,null,null,null,null,null,null,null,null,null,null,null,null,null,null,0,null,{"$f":"ССЗ!$F$126","v":0.05},""]
[{"$f":"ССЗ!A62","v":{"$error":"#N/A"}},{"$f":"ССЗ!B62","v":0},{"$f":"ССЗ!C62","v":"не указано"},{"$f":"ССЗ!D62","v":0},{"$f":"ССЗ!E62","v":0},null,{"$f":"ССЗ!G62","v":"Численность обучающихся"},{"$f":"ССЗ!H62","v":"Человек"},{"$f":"ССЗ!I62","v":792},{"$f":"ССЗ!V62","v":0},null,null,null,null,null,null,null,null,null,null,null,null,null,null,null,0,null,{"$f":"ССЗ!$F$126","v":0.05},""]
[{"$f":"ССЗ!A63","v":{"$error":"#N/A"}},{"$f":"ССЗ!B63","v":0},{"$f":"ССЗ!C63","v":"не указано"},{"$f":"ССЗ!D63","v":0},{"$f":"ССЗ!E63","v":0},null,{"$f":"ССЗ!G63","v":"Численность обучающихся"},{"$f":"ССЗ!H63","v":"Человек"},{"$f":"ССЗ!I63","v":792},{"$f":"ССЗ!V63","v":0},null,null,null,null,null,null,null,null,null,null,null,null,null,null,null,0,null,{"$f":"ССЗ!$F$126","v":0.05},""]
[{"$f":"ССЗ!A64","v":{"$error":"#N/A"}},{"$f":"ССЗ!B64","v":0},{"$f":"ССЗ!C64","v":"не указано"},{"$f":"ССЗ!D64","v":0},{"$f":"ССЗ!E64","v":0},null,{"$f":"ССЗ!G64","v":"Численность обучающихся"},{"$f":"ССЗ!H64","v":"Человек"},{"$f":"ССЗ!I64","v":792},{"$f":"ССЗ!V64","v":0},null,null,null,null,null,null,null,null,null,null,null,null,null,null,null,0,null,{"$f":"ССЗ!$F$126","v":0.05},""]
[{"$f":"ССЗ!A65","v":{"$error":"#N/A"}},{"$f":"ССЗ!B65","v":0},{"$f":"ССЗ!C65","v":"не указано"},{"$f":"ССЗ!D65","v":0},{"$f":"ССЗ!E65","v":0},null,{"$f":"ССЗ!G65","v":"Численность обучающихся"},{"$f":"ССЗ!H65","v":"Человек"},{"$f":"ССЗ!I65","v":792},{"$f":"ССЗ!V65","v":0},null,null,null,null,null,null,null,null,null,null,null,null,null,null,null,0,null,{"$f":"ССЗ!$F$126","v":0.05},""]
[{"$f":"ССЗ!A66","v":{"$error":"#N/A"}},{"$f":"ССЗ!B66","v":0},{"$f":"ССЗ!C66","v":"не указано"},{"$f":"ССЗ!D66","v":0},{"$f":"ССЗ!E66","v":0},null,{"$f":"ССЗ!G66","v":"Численность обучающихся"},{"$f":"ССЗ!H66","v":"Человек"},{"$f":"ССЗ!I66","v":792},{"$f":"ССЗ!V66","v":0},null,null,null,null,null,null,null,null,null,null,null,null,null,null,null,0,null,{"$f":"ССЗ!$F$126","v":0.05},""]
[{"$f":"ССЗ!A67","v":{"$error":"#N/A"}},{"$f":"ССЗ!B67","v":0},{"$f":"ССЗ!C67","v":"не указано"},{"$f":"ССЗ!D67","v":0},{"$f":"ССЗ!E67","v":0},null,{"$f":"ССЗ!G67","v":"Численность обучающихся"},{"$f":"ССЗ!H67","v":"Человек"},{"$f":"ССЗ!I67","v":792},{"$f":"ССЗ!V67","v":0},null,null,null,null,null,null,null,null,null,null,null,null,null,null,null,0,null,{"$f":"ССЗ!$F$126","v":0.05},""]
[{"$f":"ССЗ!A68","v":{"$error":"#N/A"}},{"$f":"ССЗ!B68","v":0},{"$f":"ССЗ!C68","v":"не указано"},{"$f":"ССЗ!D68","v":0},{"$f":"ССЗ!E68","v":0},null,{"$f":"ССЗ!G68","v":"Численность обучающихся"},{"$f":"ССЗ!H68","v":"Человек"},{"$f":"ССЗ!I68","v":792},{"$f":"ССЗ!V68","v":0},null,null,null,null,null,null,null,null,null,null,null,null,null,null,null,0,null,{"$f":"ССЗ!$F$126","v":0.05},""]
[{"$f":"ССЗ!A69","v":{"$error":"#N/A"}},{"$f":"ССЗ!B69","v":0},{"$f":"ССЗ!C69","v":"не указано"},{"$f":"ССЗ!D69","v":0},{"$f":"ССЗ!E69","v":0},null,{"$f":"ССЗ!G69","v":"Численность обучающихся"},{"$f":"ССЗ!H69","v":"Человек"},{"$f":"ССЗ!I69","v":792},{"$f":"ССЗ!V69","v":0},null,null,null,null,null,null,null,null,null,null,null,null,null,null,null,0,null,{"$f":"ССЗ!$F$126","v":0.05},""]
[{"$f":"ССЗ!A70","v":{"$error":"#N/A"}},{"$f":"ССЗ!B70","v":0},{"$f":"ССЗ!C70","v":"не указано"},{"$f":"ССЗ!D70","v":0},{"$f":"ССЗ!E70","v":0},null,{"$f":"ССЗ!G70","v":"Численность обучающихся"},{"$f":"ССЗ!H70","v":"Человек"},{"$f":"ССЗ!I70","v":792},{"$f":"ССЗ!V70","v":0},null,null,null,null,null,null,null,null,null,null,null,null,null,null,null,0,null,{"$f":"ССЗ!$F$126","v":0.05},""]
[{"$f":"ССЗ!A71","v":{"$error":"#N/A"}},{"$f":"ССЗ!B71","v":0},{"$f":"ССЗ!C71","v":"не указано"},{"$f":"ССЗ!D71","v":0},{"$f":"ССЗ!E71","v":0},null,{"$f":"ССЗ!G71","v":"Численность обучающихся"},{"$f":"ССЗ!H71","v":"Человек"},{"$f":"ССЗ!I71","v":792},{"$f":"ССЗ!V71","v":0},null,null,null,null,null,null,null,null,null,null,null,null,null,null,null,0,null,{"$f":"ССЗ!$F$126","v":0.05},""]
[{"$f":"ССЗ!A72","v":{"$error":"#N/A"}},{"$f":"ССЗ!B72","v":0},{"$f":"ССЗ!C72","v":"не указано"},{"$f":"ССЗ!D72","v":0},{"$f":"ССЗ!E72","v":0},null,{"$f":"ССЗ!G72","v":"Численность обучающихся"},{"$f":"ССЗ!H72","v":"Человек"},{"$f":"ССЗ!I72","v":792},{"$f":"ССЗ!V72","v":0},null,null,null,null,null,null,null,null,null,null,null,null,null,null,null,0,null,{"$f":"ССЗ!$F$126","v":0.05},""]
[{"$f":"ССЗ!A73","v":{"$error":"#N/A"}},{"$f":"ССЗ!B73","v":0},{"$f":"ССЗ!C73","v":"не указано"},{"$f":"ССЗ!D73","v":0},{"$f":"ССЗ!E73","v":0},null,{"$f":"ССЗ!G73","v":"Численность обучающихся"},{"$f":"ССЗ!H73","v":"Человек"},{"$f":"ССЗ!I73","v":792},{"$f":"ССЗ!V73","v":0},null,null,null,null,null,null,null,null,null,null,null,null,null,null,null,0,null,{"$f":"ССЗ!$F$126","v":0.05},""]
[{"$f":"ССЗ!A74","v":{"$error":"#N/A"}},{"$f":"ССЗ!B74","v":0},{"$f":"ССЗ!C74","v":"не указано"},{"$f":"ССЗ!D74","v":0},{"$f":"ССЗ!E74","v":0},null,{"$f":"ССЗ!G74","v":"Численность обучающихся"},{"$f":"ССЗ!H74","v":"Человек"},{"$f":"ССЗ!I74","v":792},{"$f":"ССЗ!V74","v":0},null,null,null,null,null,null,null,null,null,null,null,null,null,null,null,0,null,{"$f":"ССЗ!$F$126","v":0.05},""]
[{"$f":"ССЗ!A75","v":{"$error":"#N/A"}},{"$f":"ССЗ!B75","v":0},{"$f":"ССЗ!C75","v":"не указано"},{"$f":"ССЗ!D75","v":0},{"$f":"ССЗ!E75","v":0},null,{"$f":"ССЗ!G75","v":"Численность обучающихся"},{"$f":"ССЗ!H75","v":"Человек"},{"$f":"ССЗ!I75","v":792},{"$f":"ССЗ!V75","v":0},null,null,null,null,null,null,null,null,null,null,null,null,null,null,null,0,null,{"$f":"ССЗ!$F$126","v":0.05},""]
[{"$f":"ССЗ!A76","v":{"$error":"#N/A"}},{"$f":"ССЗ!B76","v":0},{"$f":"ССЗ!C76","v":"не указано"},{"$f":"ССЗ!D76","v":0},{"$f":"ССЗ!E76","v":0},null,{"$f":"ССЗ!G76","v":"Численность обучающихся"},{"$f":"ССЗ!H76","v":"Человек"},{"$f":"ССЗ!I76","v":792},{"$f":"ССЗ!V76","v":0},null,null,null,null,null,null,null,null,null,null,null,null,null,null,null,0,null,{"$f":"ССЗ!$F$126","v":0.05},""]
[{"$f":"ССЗ!A77","v":{"$error":"#N/A"}},{"$f":"ССЗ!B77","v":0},{"$f":"ССЗ!C77","v":"не указано"},{"$f":"ССЗ!D77","v":0},{"$f":"ССЗ!E77","v":0},null,{"$f":"ССЗ!G77","v":"Численность обучающихся"},{"$f":"ССЗ!H77","v":"Человек"},{"$f":"ССЗ!I77","v":792},{"$f":"ССЗ!V77","v":0},null,null,null,null,null,null,null,null,null,null,null,null,null,null,null,0,null,{"$f":"ССЗ!$F$126","v":0.05},""]
[{"$f":"ССЗ!A78","v":{"$error":"#N/A"}},{"$f":"ССЗ!B78","v":0},{"$f":"ССЗ!C78","v":"не указано"},{"$f":"ССЗ!D78","v":0},{"$f":"ССЗ!E78","v":0},null,{"$f":"ССЗ!G78","v":"Численность обучающихся"},{"$f":"ССЗ!H78","v":"Человек"},{"$f":"ССЗ!I78","v":792},{"$f":"ССЗ!V78","v":0},null,null,null,null,null,null,null,null,null,null,null,null,null,null,null,0,null,{"$f":"ССЗ!$F$126","v":0.05},""]
[{"$f":"ССЗ!A79","v":{"$error":"#N/A"}},{"$f":"ССЗ!B79","v":0},{"$f":"ССЗ!C79","v":"не указано"},{"$f":"ССЗ!D79","v":0},{"$f":"ССЗ!E79","v":0},null,{"$f":"ССЗ!G79","v":"Численность обучающихся"},{"$f":"ССЗ!H79","v":"Человек"},{"$f":"ССЗ!I79","v":792},{"$f":"ССЗ!V79","v":0},null,null,null,null,null,null,null,null,null,null,null,null,null,null,null,0,null,{"$f":"ССЗ!$F$126","v":0.05},""]
[{"$f":"ССЗ!A80","v":{"$error":"#N/A"}},{"$f":"ССЗ!B80","v":0},{"$f":"ССЗ!C80","v":"не указано"},{"$f":"ССЗ!D80","v":0},{"$f":"ССЗ!E80","v":0},null,{"$f":"ССЗ!G80","v":"Численность обучающихся"},{"$f":"ССЗ!H80","v":"Человек"},{"$f":"ССЗ!I80","v":792},{"$f":"ССЗ!V80","v":0},null,null,null,null,null,null,null,null,null,null,null,null,null,null,null,0,null,{"$f":"ССЗ!$F$126","v":0.05},""]
[{"$f":"ССЗ!A81","v":{"$error":"#N/A"}},{"$f":"ССЗ!B81","v":0},{"$f":"ССЗ!C81","v":"не указано"},{"$f":"ССЗ!D81","v":0},{"$f":"ССЗ!E81","v":0},null,{"$f":"ССЗ!G81","v":"Численность обучающихся"},{"$f":"ССЗ!H81","v":"Человек"},{"$f":"ССЗ!I81","v":792},{"$f":"ССЗ!V81","v":0},null,null,null,null,null,null,null,null,null,null,null,null,null,null,null,0,null,{"$f":"ССЗ!$F$126","v":0.05},""]
[{"$f":"ССЗ!A82","v":{"$error":"#N/A"}},{"$f":"ССЗ!B82","v":0},{"$f":"ССЗ!C82","v":"не указано"},{"$f":"ССЗ!D82","v":0},{"$f":"ССЗ!E82","v":0},null,{"$f":"ССЗ!G82","v":"Численность обучающихся"},{"$f":"ССЗ!H82","v":"Человек"},{"$f":"ССЗ!I82","v":792},{"$f":"ССЗ!V82","v":0},null,null,null,null,null,null,null,null,null,null,null,null,null,null,null,0,null,{"$f":"ССЗ!$F$126","v":0.05},""]
[{"$f":"ССЗ!A83","v":{"$error":"#N/A"}},{"$f":"ССЗ!B83","v":0},{"$f":"ССЗ!C83","v":"не указано"},{"$f":"ССЗ!D83","v":0},{"$f":"ССЗ!E83","v":0},null,{"$f":"ССЗ!G83","v":"Численность обучающихся"},{"$f":"ССЗ!H83","v":"Человек"},{"$f":"ССЗ!I83","v":792},{"$f":"ССЗ!V83","v":0},null,null,null,null,null,null,null,null,null,null,null,null,null,null,null,0,null,{"$f":"ССЗ!$F$126","v":0.05},""]
[{"$f":"ССЗ!A84","v":{"$error":"#N/A"}},{"$f":"ССЗ!B84","v":0},{"$f":"ССЗ!C84","v":"не указано"},{"$f":"ССЗ!D84","v":0},{"$f":"ССЗ!E84","v":0},null,{"$f":"ССЗ!G84","v":"Численность обучающихся"},{"$f":"ССЗ!H84","v":"Человек"},{"$f":"ССЗ!I84","v":792},{"$f":"ССЗ!V84","v":0},null,null,null,null,null,null,null,null,null,null,null,null,null,null,null,0,null,{"$f":"ССЗ!$F$126","v":0.05},""]
[{"$f":"ССЗ!A85","v":{"$error":"#N/A"}},{"$f":"ССЗ!B85","v":0},{"$f":"ССЗ!C85","v":"не указано"},{"$f":"ССЗ!D85","v":0},{"$f":"ССЗ!E85","v":0},null,{"$f":"ССЗ!G85","v":"Численность обучающихся"},{"$f":"ССЗ!H85","v":"Человек"},{"$f":"ССЗ!I85","v":792},{"$f":"ССЗ!V85","v":0},null,null,null,null,null,null,null,null,null,null,null,null,null,null,null,0,null,{"$f":"ССЗ!$F$126","v":0.05},""]
[{"$f":"ССЗ!A86","v":{"$error":"#N/A"}},{"$f":"ССЗ!B86","v":0},{"$f":"ССЗ!C86","v":"не указано"},{"$f":"ССЗ!D86","v":0},{"$f":"ССЗ!E86","v":0},null,{"$f":"ССЗ!G86","v":"Численность обучающихся"},{"$f":"ССЗ!H86","v":"Человек"},{"$f":"ССЗ!I86","v":792},{"$f":"ССЗ!V86","v":0},null,null,null,null,null,null,null,null,null,null,null,null,null,null,null,0,null,{"$f":"ССЗ!$F$126","v":0.05},""]
[{"$f":"ССЗ!A87","v":{"$error":"#N/A"}},{"$f":"ССЗ!B87","v":0},{"$f":"ССЗ!C87","v":"не указано"},{"$f":"ССЗ!D87","v":0},{"$f":"ССЗ!E87","v":0},null,{"$f":"ССЗ!G87","v":"Численность обучающихся"},{"$f":"ССЗ!H87","v":"Человек"},{"$f":"ССЗ!I87","v":792},{"$f":"ССЗ!V87","v":0},null,null,null,null,null,null,null,null,null,null,null,null,null,null,null,0,null,{"$f":"ССЗ!$F$126","v":0.05},""]
[{"$f":"ССЗ!A88","v":{"$error":"#N/A"}},{"$f":"ССЗ!B88","v":0},{"$f":"ССЗ!C88","v":"не указано"},{"$f":"ССЗ!D88","v":0},{"$f":"ССЗ!E88","v":0},null,{"$f":"ССЗ!G88","v":"Численность обучающихся"},{"$f":"ССЗ!H88","v":"Человек"},{"$f":"ССЗ!I88","v":792},{"$f":"ССЗ!V88","v":0},null,null,null,null,null,null,null,null,null,null,null,null,null,null,null,0,null,{"$f":"ССЗ!$F$126","v":0.05},""]
[{"$f":"ССЗ!A89","v":{"$error":"#N/A"}},{"$f":"ССЗ!B89","v":0},{"$f":"ССЗ!C89","v":"не указано"},{"$f":"ССЗ!D89","v":0},{"$f":"ССЗ!E89","v":0},null,{"$f":"ССЗ!G89","v":"Численность обучающихся"},{"$f":"ССЗ!H89","v":"Человек"},{"$f":"ССЗ!I89","v":792},{"$f":"ССЗ!V89","v":0},null,null,null,null,null,null,null,null,null,null,null,null,null,null,null,0,null,{"$f":"ССЗ!$F$126","v":0.05},""]
[{"$f":"ССЗ!A90","v":{"$error":"#N/A"}},{"$f":"ССЗ!B90","v":0},{"$f":"ССЗ!C90","v":"не указано"},{"$f":"ССЗ!D90","v":0},{"$f":"ССЗ!E90","v":0},null,{"$f":"ССЗ!G90","v":"Численность обучающихся"},{"$f":"ССЗ!H90","v":"Человек"},{"$f":"ССЗ!I90","v":792},{"$f":"ССЗ!V90","v":0},null,null,null,null,null,null,null,null,null,null,null,null,null,null,null,0,null,{"$f":"ССЗ!$F$126","v":0.05},{"$f":"IF(ISERROR(IF(ABS(ROUND((Z87/J87)-1,3))>AB87,ROUND((Z87/J87)-1,3),\"\")),\"\",IF(ABS(ROUND((Z87/J87)-1,3))>AB87,ROUND((Z87/J87)-1,3),\"\"))","v":""}]
[{"$f":"ССЗ!A91","v":{"$error":"#N/A"}},{"$f":"ССЗ!B91","v":0},{"$f":"ССЗ!C91","v":"не указано"},{"$f":"ССЗ!D91","v":0},{"$f":"ССЗ!E91","v":0},null,{"$f":"ССЗ!G91","v":"Численность обучающихся"},{"$f":"ССЗ!H91","v":"Человек"},{"$f":"ССЗ!I91","v":792},{"$f":"ССЗ!V91","v":0},null,null,null,null,null,null,null,null,null,null,null,null,null,null,null,0,null,{"$f":"ССЗ!$F$126","v":0.05},""]
[{"$f":"ССЗ!A92","v":{"$error":"#N/A"}},{"$f":"ССЗ!B92","v":0},{"$f":"ССЗ!C92","v":"не указано"},{"$f":"ССЗ!D92","v":0},{"$f":"ССЗ!E92","v":0},null,{"$f":"ССЗ!G92","v":"Численность обучающихся"},{"$f":"ССЗ!H92","v":"Человек"},{"$f":"ССЗ!I92","v":792},{"$f":"ССЗ!V92","v":0},null,null,null,null,null,null,null,null,null,null,null,null,null,null,null,0,null,{"$f":"ССЗ!$F$126","v":0.05},""]
[{"$f":"ССЗ!A93","v":{"$error":"#N/A"}},{"$f":"ССЗ!B93","v":0},{"$f":"ССЗ!C93","v":"не указано"},{"$f":"ССЗ!D93","v":0},{"$f":"ССЗ!E93","v":0},null,{"$f":"ССЗ!G93","v":"Численность обучающихся"},{"$f":"ССЗ!H93","v":"Человек"},{"$f":"ССЗ!I93","v":792},{"$f":"ССЗ!V93","v":0},null,null,null,null,null,null,null,null,null,null,null,null,null,null,null,0,null,{"$f":"ССЗ!$F$126","v":0.05},""]
[{"$f":"ССЗ!A94","v":{"$error":"#N/A"}},{"$f":"ССЗ!B94","v":0},{"$f":"ССЗ!C94","v":"не указано"},{"$f":"ССЗ!D94","v":0},{"$f":"ССЗ!E94","v":0},null,{"$f":"ССЗ!G94","v":"Численность обучающихся"},{"$f":"ССЗ!H94","v":"Человек"},{"$f":"ССЗ!I94","v":792},{"$f":"ССЗ!V94","v":0},null,null,null,null,null,null,null,null,null,null,null,null,null,null,null,0,null,{"$f":"ССЗ!$F$126","v":0.05},""]
[{"$f":"ССЗ!A95","v":{"$error":"#N/A"}},{"$f":"ССЗ!B95","v":0},{"$f":"ССЗ!C95","v":"не указано"},{"$f":"ССЗ!D95","v":0},{"$f":"ССЗ!E95","v":0},null,{"$f":"ССЗ!G95","v":"Численность обучающихся"},{"$f":"ССЗ!H95","v":"Человек"},{"$f":"ССЗ!I95","v":792},{"$f":"ССЗ!V95","v":0},null,null,null,null,null,null,null,null,null,null,null,null,null,null,null,0,null,{"$f":"ССЗ!$F$126","v":0.05},""]
[{"$f":"ССЗ!A96","v":{"$error":"#N/A"}},{"$f":"ССЗ!B96","v":0},{"$f":"ССЗ!C96","v":"не указано"},{"$f":"ССЗ!D96","v":0},{"$f":"ССЗ!E96","v":0},null,{"$f":"ССЗ!G96","v":"Численность обучающихся"},{"$f":"ССЗ!H96","v":"Человек"},{"$f":"ССЗ!I96","v":792},{"$f":"ССЗ!V96","v":0},null,null,null,null,null,null,null,null,null,null,null,null,null,null,null,0,null,{"$f":"ССЗ!$F$126","v":0.05},""]
[{"$f":"ССЗ!A97","v":{"$error":"#N/A"}},{"$f":"ССЗ!B97","v":0},{"$f":"ССЗ!C97","v":"не указано"},{"$f":"ССЗ!D97","v":0},{"$f":"ССЗ!E97","v":0},null,{"$f":"ССЗ!G97","v":"Численность обучающихся"},{"$f":"ССЗ!H97","v":"Человек"},{"$f":"ССЗ!I97","v":792},{"$f":"ССЗ!V97","v":0},null,null,null,null,null,null,null,null,null,null,null,null,null,null,null,0,null,{"$f":"ССЗ!$F$126","v":0.05},""]
[{"$f":"ССЗ!A98","v":{"$error":"#N/A"}},{"$f":"ССЗ!B98","v":0},{"$f":"ССЗ!C98","v":"не указано"},{"$f":"ССЗ!D98","v":0},{"$f":"ССЗ!E98","v":0},null,{"$f":"ССЗ!G98","v":"Численность обучающихся"},{"$f":"ССЗ!H98","v":"Человек"},{"$f":"ССЗ!I98","v":792},{"$f":"ССЗ!V98","v":0},null,null,null,null,null,null,null,null,null,null,null,null,null,null,null,0,null,{"$f":"ССЗ!$F$126","v":0.05},""]
[{"$f":"ССЗ!A99","v":{"$error":"#N/A"}},{"$f":"ССЗ!B99","v":0},{"$f":"ССЗ!C99","v":"не указано"},{"$f":"ССЗ!D99","v":0},{"$f":"ССЗ!E99","v":0},null,{"$f":"ССЗ!G99","v":"Численность обучающихся"},{"$f":"ССЗ!H99","v":"Человек"},{"$f":"ССЗ!I99","v":792},{"$f":"ССЗ!V99","v":0},null,null,null,null,null,null,null,null,null,null,null,null,null,null,null,0,null,{"$f":"ССЗ!$F$126","v":0.05},""]
[{"$f":"ССЗ!A100","v":{"$error":"#N/A"}},{"$f":"ССЗ!B100","v":0},{"$f":"ССЗ!C100","v":"не указано"},{"$f":"ССЗ!D100","v":0},{"$f":"ССЗ!E100","v":0},null,{"$f":"ССЗ!G100","v":"Численность обучающихся"},{"$f":"ССЗ!H100","v":"Человек"},{"$f":"ССЗ!I100","v":792},{"$f":"ССЗ!V100","v":0},null,null,null,null,null,null,null,null,null,null,null,null,null,null,null,0,null,{"$f":"ССЗ!$F$126","v":0.05},""]
[{"$f":"ССЗ!A101","v":{"$error":"#N/A"}},{"$f":"ССЗ!B101","v":0},{"$f":"ССЗ!C101","v":"не указано"},{"$f":"ССЗ!D101","v":0},{"$f":"ССЗ!E101","v":0},null,{"$f":"ССЗ!G101","v":"Численность обучающихся"},{"$f":"ССЗ!H101","v":"Человек"},{"$f":"ССЗ!I101","v":792},{"$f":"ССЗ!V101","v":0},null,null,null,null,null,null,null,null,null,null,null,null,null,null,null,0,null,{"$f":"ССЗ!$F$126","v":0.05},""]
[{"$f":"ССЗ!A102","v":{"$error":"#N/A"}},{"$f":"ССЗ!B102","v":0},{"$f":"ССЗ!C102","v":"не указано"},{"$f":"ССЗ!D102","v":0},{"$f":"ССЗ!E102","v":0},null,{"$f":"ССЗ!G102","v":"Численность обучающихся"},{"$f":"ССЗ!H102","v":"Человек"},{"$f":"ССЗ!I102","v":792},{"$f":"ССЗ!V102","v":0},null,null,null,null,null,null,null,null,null,null,null,null,null,null,null,0,null,{"$f":"ССЗ!$F$126","v":0.05},""]
[{"$f":"ССЗ!A103","v":{"$error":"#N/A"}},{"$f":"ССЗ!B103","v":0},{"$f":"ССЗ!C103","v":"не указано"},{"$f":"ССЗ!D103","v":0},{"$f":"ССЗ!E103","v":0},null,{"$f":"ССЗ!G103","v":"Численность обучающихся"},{"$f":"ССЗ!H103","v":"Человек"},{"$f":"ССЗ!I103","v":792},{"$f":"ССЗ!V103","v":0},null,null,null,null,null,null,null,null,null,null,null,null,null,null,null,0,null,{"$f":"ССЗ!$F$126","v":0.05},""]
[{"$f":"ССЗ!A104","v":{"$error":"#N/A"}},{"$f":"ССЗ!B104","v":0},{"$f":"ССЗ!C104","v":"не указано"},{"$f":"ССЗ!D104","v":0},{"$f":"ССЗ!E104","v":0},null,{"$f":"ССЗ!G104","v":"Численность обучающихся"},{"$f":"ССЗ!H104","v":"Человек"},{"$f":"ССЗ!I104","v":792},{"$f":"ССЗ!V104","v":0},null,null,null,null,null,null,null,null,null,null,null,null,null,null,null,0,null,{"$f":"ССЗ!$F$126","v":0.05},""]
[{"$f":"ССЗ!A105","v":{"$error":"#N/A"}},{"$f":"ССЗ!B105","v":0},{"$f":"ССЗ!C105","v":"не указано"},{"$f":"ССЗ!D105","v":0},{"$f":"ССЗ!E105","v":0},null,{"$f":"ССЗ!G105","v":"Численность обучающихся"},{"$f":"ССЗ!H105","v":"Человек"},{"$f":"ССЗ!I105","v":792},{"$f":"ССЗ!V105","v":0},null,null,null,null,null,null,null,null,null,null,null,null,null,null,null,0,null,{"$f":"ССЗ!$F$126","v":0.05},""]
[{"$f":"ССЗ!A106","v":{"$error":"#N/A"}},{"$f":"ССЗ!B106","v":0},{"$f":"ССЗ!C106","v":"не указано"},{"$f":"ССЗ!D106","v":0},{"$f":"ССЗ!E106","v":0},null,{"$f":"ССЗ!G106","v":"Численность обучающихся"},{"$f":"ССЗ!H106","v":"Человек"},{"$f":"ССЗ!I106","v":792},{"$f":"ССЗ!V106","v":0},null,null,null,null,null,null,null,null,null,null,null,null,null,null,null,0,null,{"$f":"ССЗ!$F$126","v":0.05},""]
[{"$f":"ССЗ!A107","v":{"$error":"#N/A"}},{"$f":"ССЗ!B107","v":0},{"$f":"ССЗ!C107","v":"не указано"},{"$f":"ССЗ!D107","v":0},{"$f":"ССЗ!E107","v":0},null,{"$f":"ССЗ!G107","v":"Численность обучающихся"},{"$f":"ССЗ!H107","v":"Человек"},{"$f":"ССЗ!I107","v":792},{"$f":"ССЗ!V107","v":0},null,null,null,null,null,null,null,null,null,null,null,null,null,null,null,0,null,{"$f":"ССЗ!$F$126","v":0.05},""]
[{"$f":"ССЗ!A108","v":{"$error":"#N/A"}},{"$f":"ССЗ!B108","v":0},{"$f":"ССЗ!C108","v":"не указано"},{"$f":"ССЗ!D108","v":0},{"$f":"ССЗ!E108","v":0},null,{"$f":"ССЗ!G108","v":"Численность обучающихся"},{"$f":"ССЗ!H108","v":"Человек"},{"$f":"ССЗ!I108","v":792},{"$f":"ССЗ!V108","v":0},null,null,null,null,null,null,null,null,null,null,null,null,null,null,null,0,null,{"$f":"ССЗ!$F$126","v":0.05},""]
[{"$f":"ССЗ!A109","v":{"$error":"#N/A"}},{"$f":"ССЗ!B109","v":0},{"$f":"ССЗ!C109","v":"не указано"},{"$f":"ССЗ!D109","v":0},{"$f":"ССЗ!E109","v":0},null,{"$f":"ССЗ!G109","v":"Численность обучающихся"},{"$f":"ССЗ!H109","v":"Человек"},{"$f":"ССЗ!I109","v":792},{"$f":"ССЗ!V109","v":0},null,null,null,null,null,null,null,null,null,null,null,null,null,null,null,0,null,{"$f":"ССЗ!$F$126","v":0.05},""]
[{"$f":"ССЗ!A110","v":{"$error":"#N/A"}},{"$f":"ССЗ!B110","v":0},{"$f":"ССЗ!C110","v":"не указано"},{"$f":"ССЗ!D110","v":0},{"$f":"ССЗ!E110","v":0},null,{"$f":"ССЗ!G110","v":"Численность обучающихся"},{"$f":"ССЗ!H110","v":"Человек"},{"$f":"ССЗ!I110","v":792},{"$f":"ССЗ!V110","v":0},null,null,null,null,null,null,null,null,null,null,null,null,null,null,null,0,null,{"$f":"ССЗ!$F$126","v":0.05},""]
[{"$f":"ССЗ!A111","v":{"$error":"#N/A"}},{"$f":"ССЗ!B111","v":0},{"$f":"ССЗ!C111","v":"не указано"},{"$f":"ССЗ!D111","v":0},{"$f":"ССЗ!E111","v":0},null,{"$f":"ССЗ!G111","v":"Численность обучающихся"},{"$f":"ССЗ!H111","v":"Человек"},{"$f":"ССЗ!I111","v":792},{"$f":"ССЗ!V111","v":0},null,null,null,null,null,null,null,null,null,null,null,null,null,null,null,0,null,{"$f":"ССЗ!$F$126","v":0.05},""]
[{"$f":"ССЗ!A112","v":{"$error":"#N/A"}},{"$f":"ССЗ!B112","v":0},{"$f":"ССЗ!C112","v":"не указано"},{"$f":"ССЗ!D112","v":0},{"$f":"ССЗ!E112","v":0},null,{"$f":"ССЗ!G112","v":"Численность обучающихся"},{"$f":"ССЗ!H112","v":"Человек"},{"$f":"ССЗ!I112","v":792},{"$f":"ССЗ!V112","v":0},null,null,null,null,null,null,null,null,null,null,null,null,null,null,null,0,null,{"$f":"ССЗ!$F$126","v":0.05},""]
[{"$f":"ССЗ!A113","v":{"$error":"#N/A"}},{"$f":"ССЗ!B113","v":0},{"$f":"ССЗ!C113","v":"не указано"},{"$f":"ССЗ!D113","v":0},{"$f":"ССЗ!E113","v":0},null,{"$f":"ССЗ!G113","v":"Численность обучающихся"},{"$f":"ССЗ!H113","v":"Человек"},{"$f":"ССЗ!I113","v":792},{"$f":"ССЗ!V113","v":0},null,null,null,null,null,null,null,null,null,null,null,null,null,null,null,0,null,{"$f":"ССЗ!$F$126","v":0.05},""]
[{"$f":"ССЗ!A114","v":{"$error":"#N/A"}},{"$f":"ССЗ!B114","v":0},{"$f":"ССЗ!C114","v":"не указано"},{"$f":"ССЗ!D114","v":0},{"$f":"ССЗ!E114","v":0},null,{"$f":"ССЗ!G114","v":"Численность обучающихся"},{"$f":"ССЗ!H114","v":"Человек"},{"$f":"ССЗ!I114","v":792},{"$f":"ССЗ!V114","v":0},null,null,null,null,null,null,null,null,null,null,null,null,null,null,null,0,null,{"$f":"ССЗ!$F$126","v":0.05},""]
[{"$f":"ССЗ!A115","v":{"$error":"#N/A"}},{"$f":"ССЗ!B115","v":0},{"$f":"ССЗ!C115","v":"не указано"},{"$f":"ССЗ!D115","v":0},{"$f":"ССЗ!E115","v":0},null,{"$f":"ССЗ!G115","v":"Численность обучающихся"},{"$f":"ССЗ!H115","v":"Человек"},{"$f":"ССЗ!I115","v":792},{"$f":"ССЗ!V115","v":0},null,null,null,null,null,null,null,null,null,null,null,null,null,null,null,0,null,{"$f":"ССЗ!$F$126","v":0.05},""]
[{"$f":"ССЗ!A116","v":{"$error":"#N/A"}},{"$f":"ССЗ!B116","v":0},{"$f":"ССЗ!C116","v":"не указано"},{"$f":"ССЗ!D116","v":0},{"$f":"ССЗ!E116","v":0},null,{"$f":"ССЗ!G116","v":"Численность обучающихся"},{"$f":"ССЗ!H116","v":"Человек"},{"$f":"ССЗ!I116","v":792},{"$f":"ССЗ!V116","v":0},null,null,null,null,null,null,null,null,null,null,null,null,null,null,null,0,null,{"$f":"ССЗ!$F$126","v":0.05},""]
[{"$f":"ССЗ!A117","v":{"$error":"#N/A"}},{"$f":"ССЗ!B117","v":0},{"$f":"ССЗ!C117","v":"не указано"},{"$f":"ССЗ!D117","v":0},{"$f":"ССЗ!E117","v":0},null,{"$f":"ССЗ!G117","v":"Численность обучающихся"},{"$f":"ССЗ!H117","v":"Человек"},{"$f":"ССЗ!I117","v":792},{"$f":"ССЗ!V117","v":0},null,null,null,null,null,null,null,null,null,null,null,null,null,null,null,0,null,{"$f":"ССЗ!$F$126","v":0.05},""]
[{"$f":"ССЗ!A118","v":{"$error":"#N/A"}},{"$f":"ССЗ!B118","v":0},{"$f":"ССЗ!C118","v":"не указано"},{"$f":"ССЗ!D118","v":0},{"$f":"ССЗ!E118","v":0},null,{"$f":"ССЗ!G118","v":"Численность обучающихся"},{"$f":"ССЗ!H118","v":"Человек"},{"$f":"ССЗ!I118","v":792},{"$f":"ССЗ!V118","v":0},null,null,null,null,null,null,null,null,null,null,null,null,null,null,null,0,null,{"$f":"ССЗ!$F$126","v":0.05},""]
[{"$f":"ССЗ!A119","v":{"$error":"#N/A"}},{"$f":"ССЗ!B119","v":0},{"$f":"ССЗ!C119","v":"не указано"},{"$f":"ССЗ!D119","v":0},{"$f":"ССЗ!E119","v":0},null,{"$f":"ССЗ!G119","v":"Численность обучающихся"},{"$f":"ССЗ!H119","v":"Человек"},{"$f":"ССЗ!I119","v":792},{"$f":"ССЗ!V119","v":0},null,null,null,null,null,null,null,null,null,null,null,null,null,null,null,{"$f":"ROUND(SUM(N116:Y116)/12,1)","v":0},null,{"$f":"ССЗ!$F$126","v":0.05},""]
[{"$f":"ССЗ!A120","v":{"$error":"#N/A"}},{"$f":"ССЗ!B120","v":0},{"$f":"ССЗ!C120","v":"не указано"},{"$f":"ССЗ!D120","v":0},{"$f":"ССЗ!E120","v":0},null,{"$f":"ССЗ!G120","v":"Численность обучающихся"},{"$f":"ССЗ!H120","v":"Человек"},{"$f":"ССЗ!I120","v":792},{"$f":"ССЗ!V120","v":0},null,null,null,null,null,null,null,null,null,null,null,null,null,null,null,0,null,{"$f":"ССЗ!$F$126","v":0.05},""]
[{"$f":"ССЗ!A121","v":{"$error":"#N/A"}},{"$f":"ССЗ!B121","v":0},{"$f":"ССЗ!C121","v":"не указано"},{"$f":"ССЗ!D121","v":0},{"$f":"ССЗ!E121","v":0},null,{"$f":"ССЗ!G121","v":"Численность обучающихся"},{"$f":"ССЗ!H121","v":"Человек"},{"$f":"ССЗ!I121","v":792},{"$f":"ССЗ!V121","v":0},null,null,null,null,null,null,null,null,null,null,null,null,null,null,null,0,null,{"$f":"ССЗ!$F$126","v":0.05},""]
[{"$f":"ССЗ!A122","v":{"$error":"#N/A"}},{"$f":"ССЗ!B122","v":0},{"$f":"ССЗ!C122","v":"не указано"},{"$f":"ССЗ!D122","v":0},{"$f":"ССЗ!E122","v":0},null,{"$f":"ССЗ!G122","v":"Численность обучающихся"},{"$f":"ССЗ!H122","v":"Человек"},{"$f":"ССЗ!I122","v":792},{"$f":"ССЗ!V122","v":0},null,null,null,null,null,null,null,null,null,null,null,null,null,null,null,0,null,{"$f":"ССЗ!$F$126","v":0.05},""]
[{"$f":"ССЗ!A123","v":{"$error":"#N/A"}},{"$f":"ССЗ!B123","v":0},{"$f":"ССЗ!C123","v":"не указано"},{"$f":"ССЗ!D123","v":0},{"$f":"ССЗ!E123","v":0},null,{"$f":"ССЗ!G123","v":"Численность обучающихся"},{"$f":"ССЗ!H123","v":"Человек"},{"$f":"ССЗ!I123","v":792},{"$f":"ССЗ!V123","v":0},null,null,null,null,null,null,null,null,null,null,null,null,null,null,null,0,null,{"$f":"ССЗ!$F$126","v":0.05},""]
[{"$f":"ССЗ!A124","v":{"$error":"#N/A"}},{"$f":"ССЗ!B124","v":0},{"$f":"ССЗ!C124","v":"не указано"},{"$f":"ССЗ!D124","v":0},{"$f":"ССЗ!E124","v":0},null,{"$f":"ССЗ!G124","v":"Численность обучающихся"},{"$f":"ССЗ!H124","v":"Человек"},{"$f":"ССЗ!I124","v":792},{"$f":"ССЗ!V124","v":0},null,null,null,null,null,null,null,null,null,null,null,null,null,null,null,0,null,{"$f":"ССЗ!$F$126","v":0.05},""]
[]
[]
[]
[null,"Директор","___________________________",null,{"$f":"VLOOKUP(ТитГЗ!A17,'Служебный 1'!C3:D61,2,FALSE)","v":{"$error":"#N/A"}}]
[null,null,"подпись"]
[null,null,{"$f":"NOW()","v":"2024-08-25T04:12:59.650"}]

{"sheet":"ПООтч","index":15,"n_rows":39,"n_cols":35,"rows_kept":39,"cut":false,"hidden":true,"merged":[[27,0,32,0],[27,1,32,1],[27,2,32,2],[27,3,32,3],[21,0,26,0],[21,1,26,1],[21,2,26,2],[21,3,26,3],[37,2,37,3],[21,8,26,8],[27,6,32,6],[27,7,32,7],[27,8,32,8],[27,5,32,5],[21,6,26,6],[21,7,26,7],[27,4,32,4],[36,2,36,3],[36,4,36,6],[21,5,26,5],[21,9,26,12],[21,28,26,28],[27,9,32,12],[27,26,32,27],[27,28,32,28],[21,26,26,27],[21,4,26,4],[27,32,32,32],[21,29,26,29],[21,30,26,31],[18,29,19,29],[18,30,19,31],[21,32,26,32],[17,32,19,32],[27,29,32,29],[27,30,32,31],[20,9,20,12],[20,26,20,27],[20,30,20,31],[18,13,19,13],[18,6,19,6],[18,7,18,8],[18,28,19,28],[18,14,18,25],[18,26,19,27],[17,0,19,0],[17,1,17,3],[17,4,17,5],[17,6,17,31],[12,27,12,28],[18,1,19,1],[18,2,19,2],[18,3,19,3],[18,5,19,5],[13,6,13,26],[0,0,0,33],[2,0,2,3],[4,0,4,5],[9,0,11,0],[9,1,9,3],[9,4,9,5],[10,32,11,32],[10,31,11,31],[10,4,11,4],[10,5,11,5],[13,27,13,28],[18,4,19,4],[12,6,12,26],[18,9,19,12],[11,27,11,28],[10,6,11,26],[10,27,10,29],[10,30,11,30],[9,6,9,34],[10,1,11,1],[10,2,11,2],[10,3,11,3],[10,33,11,33],[10,34,11,34]]}
[{"$f":"ПО!A2","v":"Раздел 0"}]
["1. Наименование государственной услуги"]
[{"$f":"ПО!A4","v":"Реализация основных профессиональных образовательных программ профессионального обучения - программ профессиональной подготовки по профессиям рабочих, должностям служащих"},null,null,null,"Уникальный номер по базовому (отраслевому) перечню",{"$f":"ПО!F4","v":"11.Г51.0"}]
["2. Категория потребителей государственной услуги"]
[{"$f":"ПО!A6","v":"Физические лица, ранее не имевшие профессии рабочего или должности служащего"}]
["3.  Сведения  о фактическом достижении показателей, характеризующих объем и (или) качество государственной услуги:"]
[]
["3.1.   Сведения   о  фактическом  достижении  показателей,  характеризующих качество государственной услуги:"]
[]
[{"$f":"ПО!A11","v":"Уникальный номер реестровой записи"},{"$f":"ПО!B11","v":"Показатель, характеризущий содержание государственной услуги"},null,null,{"$f":"ПО!E11","v":"Показатель, характеризущий условия (формы) оказания государственной услуги"},null,{"$f":"ПО!G11","v":"Показатель качества государственной услуги"}]
[null,{"$f":"ПО!B12","v":"Виды образовательных программ"},{"$f":"ПО!C12","v":"Категория потребителей"},{"$f":"ПО!D12","v":"Место обучения"},{"$f":"ПО!E12","v":"Формы образования и формы реализации образовательных программ"},{"$f":"ПО!F12","v":"(наименование показателя)"},{"$f":"ПО!G12","v":"наименование показателя"},null,null,null,null,null,null,null,null,null,null,null,null,null,null,null,null,null,null,null,null,{"$f":"ПО!X12","v":"единица измерения по ОКЕИ"},null,null,"утверждено в государственном задании на год","исполнено на отчетную дату","допустимое (возможное) отклонение","отклонение, превышающее допустимое (возможное) значение","причина отклонения"]
[null,null,null,null,null,null,null,null,null,null,null,null,null,null,null,null,null,null,null,null,null,null,null,null,null,null,null,{"$f":"ПО!X13","v":"наименование"},null,{"$f":"ПО!Z13","v":"код"}]
[1,2,3,4,5,6,7,null,null,null,null,null,null,null,null,null,null,null,null,null,null,null,null,null,null,null,null,8,null,9,10,11,12,13,14]
[]
[]
["3.2.  Сведения  о фактическом достижении показателей, характеризующих объем государственной услуги:"]
[]
[{"$f":"ПО!A21","v":"Уникальный номер реестровой записи"},{"$f":"ПО!B21","v":"Показатель, характеризущий содержание государственной услуги"},null,null,{"$f":"ПО!E21","v":"Показатель, характеризущий условия (форму) оказания государственной услуги"},null,{"$f":"ПО!G21","v":"Показатель объема государственной услуги"},null,null,null,null,null,null,null,null,null,null,null,null,null,null,null,null,null,null,null,null,null,null,null,null,null,"Средний размер платы (цена, тариф)"]
[null,{"$f":"ПО!B22","v":"Виды образовательных программ"},{"$f":"ПО!C22","v":"Категория потребителей"},{"$f":"ПО!D22","v":"Место обучения"},{"$f":"ПО!E22","v":"Формы образования и формы реализации образовательных программ"},{"$f":"ПО!F22","v":"(наименование показателя)"},{"$f":"ПО!G22","v":"наименование показателя"},{"$f":"ПО!H22","v":"единица измерения по ОКЕИ"},null,"утверждено в государственном задании на год",null,null,null,"Наименование профессии","Количество студентов, получающих образовательные услуги за счет областного бюджета, на первое число каждого месяца 2016 года, чел",null,null,null,null,null,null,null,null,null,null,null,"исполнено на отчетную дату",null,"допустимое (возможное) отклонение","отклонение, превышающее допустимое (возможное) значение","причина отклонения"]
[null,null,null,null,null,null,null,{"$f":"ПО!G22","v":"наименование показателя"},{"$f":"ПО!I23","v":"код"},null,null,null,null,null,"январь","февраль","март","апрель","май","июнь","июль","август","сентябрь","октябрь","ноябрь","декабрь"]
[1,2,3,4,5,6,7,8,9,10,null,null,null,null,null,null,null,null,null,null,null,null,null,null,null,null,11,null,12,13,14,null,15]
[{"$f":"ПО!A25","v":{"$error":"#N/A"}},{"$f":"ПО!B25","v":0},{"$f":"ПО!C25","v":{"$error":"#N/A"}},{"$f":"ПО!D25","v":{"$error":"#N/A"}},{"$f":"ПО!E25","v":{"$error":"#N/A"}},null,{"$f":"ПО!G25","v":"Количество человеко-часов"},{"$f":"ПО!H25","v":"Человеко-час"},{"$f":"ПО!I25","v":539},{"$f":"ПО!W25","v":0},null,null,null,null,{"$f":"SUM(O23:O27)","v":0},{"$f":"SUM(P23:P27)","v":0},0,0,0,0,0,0,0,0,0,0,{"$f":"ROUND(SUM(O22:Z22)/12,1)*1479","v":0},null,{"$f":"ПО!F39","v":0.05},{"$f":"IF(ISERROR(IF(ABS(ROUND((AA22/J22)-1,3))>AC22,ROUND((AA22/J22)-1,3),\"\")),\"\",IF(ABS(ROUND((AA22/J22)-1,3))>AC22,ROUND((AA22/J22)-1,3),\"\"))","v":""}]
[null,null,null,null,null,null,null,null,null,null,null,null,null,{"$f":"ПО!J26","v":0}]
[null,null,null,null,null,null,null,null,null,null,null,null,null,{"$f":"ПО!J27","v":0}]
[null,null,null,null,null,null,null,null,null,null,null,null,null,{"$f":"ПО!J28","v":0}]
[null,null,null,null,null,null,null,null,null,null,null,null,null,{"$f":"ПО!J29","v":0}]
[null,null,null,null,null,null,null,null,null,null,null,null,null,{"$f":"ПО!J30","v":0}]
[{"$f":"ПО!A31","v":{"$error":"#N/A"}},{"$f":"ПО!B31","v":0},{"$f":"ПО!C31","v":{"$error":"#N/A"}},{"$f":"ПО!D31","v":{"$error":"#N/A"}},{"$f":"ПО!E31","v":{"$error":"#N/A"}},null,{"$f":"ПО!G31","v":"Количество человеко-часов"},{"$f":"ПО!H31","v":"Человеко-час"},{"$f":"ПО!I31","v":539},{"$f":"ПО!W31","v":0},null,null,null,null,{"$f":"SUM(O29:O33)","v":0},0,0,0,0,0,0,0,0,0,0,0,{"$f":"ROUND(SUM(O28:Z28)/12,1)*1479","v":0},null,{"$f":"ПО!F39","v":0.05},{"$f":"IF(ISERROR(IF(ABS(ROUND((AA28/J28)-1,3))>AC28,ROUND((AA28/J28)-1,3),\"\")),\"\",IF(ABS(ROUND((AA28/J28)-1,3))>AC28,ROUND((AA28/J28)-1,3),\"\"))","v":""}]
[null,null,null,null,null,null,null,null,null,null,null,null,null,{"$f":"ПО!J32","v":0}]
[null,null,null,null,null,null,null,null,null,null,null,null,null,{"$f":"ПО!J33","v":0}]
[null,null,null,null,null,null,null,null,null,null,null,null,null,{"$f":"ПО!J34","v":0}]
[null,null,null,null,null,null,null,null,null,null,null,null,null,{"$f":"ПО!J35","v":0}]
[null,null,null,null,null,null,null,null,null,null,null,null,null,{"$f":"ПО!J36","v":0}]
[]
[]
[]
[null,"Директор","___________________________",null,{"$f":"VLOOKUP(ТитГЗ!A17,'Служебный 1'!C3:D61,2,FALSE)","v":{"$error":"#N/A"}}]
[null,null,"подпись"]
[null,null,null,{"$f":"NOW()","v":"2024-08-25T04:12:59.650"}]

{"sheet":"ОбщежОтч","index":16,"n_rows":29,"n_cols":34,"rows_kept":29,"cut":false,"hidden":false,"merged":[[9,6,9,33],[10,1,11,1],[10,2,11,2],[10,3,11,3],[10,4,11,4],[2,0,2,3],[4,0,4,5],[9,0,11,0],[9,1,9,3],[9,4,9,5],[10,5,11,5],[10,6,11,25],[10,26,10,28],[10,29,11,29],[10,30,11,30],[10,32,11,32],[10,33,11,33],[11,26,11,27],[12,6,12,25],[12,26,12,27],[10,31,11,31],[18,0,20,0],[18,1,18,3],[18,4,18,5],[18,6,18,30],[14,6,14,25],[14,26,14,27],[13,0,14,0],[13,1,14,1],[13,2,14,2],[13,3,14,3],[13,6,13,25],[13,26,13,27],[0,0,0,33],[26,2,26,3],[26,4,26,6],[27,2,27,3],[19,28,20,28],[19,29,20,30],[21,9,21,12],[21,25,21,26],[21,29,21,30],[22,9,22,12],[13,4,14,4],[13,5,14,5],[19,25,20,26],[19,27,20,27],[18,31,20,31],[19,1,20,1],[28,2,28,3],[22,25,22,26],[22,29,22,30],[19,6,20,6],[19,7,19,8],[19,9,20,12],[19,13,19,24],[19,2,20,2],[19,3,20,3],[19,4,20,4],[19,5,20,5]]}
[{"$f":"Общеж!A2","v":"Раздел 3"}]
["1. Наименование государственной услуги"]
[{"$f":"Общеж!A4","v":"Заключение договоров найма специализированного жилого помещения"},null,null,null,"Уникальный номер реестровой записи из общероссийских перечней либо регионального перечня",{"$f":"Общеж!F4","v":"28.006.0"}]
["2. Категория потребителей государственной услуги"]
[{"$f":"Общеж!A6","v":"Физические лица"}]
["3.  Сведения  о фактическом достижении показателей, характеризующих объем и (или) качество государственной услуги:"]
[]
["3.1.   Сведения   о  фактическом  достижении  показателей,  характеризующих качество государственной услуги:"]
[]
[{"$f":"Общеж!A13","v":"Уникальный номер реестровой записи"},{"$f":"Общеж!B13","v":"Показатель, характеризущий содержание государственной услуги"},null,null,{"$f":"Общеж!E13","v":"Показатель, характеризущий условия (формы) оказания государственной услуги"},null,{"$f":"Общеж!G13","v":"Показатель качества государственной услуги"}]
[null,{"$f":"Общеж!B14","v":"(наименование показателя)"},{"$f":"Общеж!C14","v":"(наименование показателя)"},{"$f":"Общеж!D14","v":"(наименование показателя)"},{"$f":"Общеж!E14","v":"(наименование показателя)"},{"$f":"Общеж!F14","v":"(наименование показателя)"},{"$f":"Общеж!G14","v":"наименование показателя"},null,null,null,null,null,null,null,null,null,null,null,null,null,null,null,null,null,null,null,{"$f":"Общеж!W14","v":"единица измерения по ОКЕИ"},null,null,"утверждено в государственном задании на год","исполнено на отчетную дату","допустимое (возможное) отклонение","отклонение, превышающее допустимое (возможное) значение","причина отклонения"]
[null,null,null,null,null,null,null,null,null,null,null,null,null,null,null,null,null,null,null,null,null,null,null,null,null,null,{"$f":"Общеж!W15","v":"наименование"},null,{"$f":"Общеж!Y15","v":"код"}]
[1,2,3,4,5,6,7,null,null,null,null,null,null,null,null,null,null,null,null,null,null,null,null,null,null,null,8,null,9,10,11,12,13,14]
[{"$f":"Общеж!A17","v":"28006000000000000005102"},null,null,null,null,null,{"$f":"Общеж!G17","v":"Соблюдение сроков выполнения работ"},null,null,null,null,null,null,null,null,null,null,null,null,null,null,null,null,null,null,null,{"$f":"Общеж!W17","v":"Процент"},null,{"$f":"Общеж!Y17","v":744},{"$f":"Общеж!Z17","v":100},100,{"$f":"Общеж!F20","v":0.05},{"$f":"IF(ISERROR(IF(ABS(ROUND((AE14/AD14)-1,3))>AF14,ROUND((AE14/AD14)-1,3),\"\")),\"\",IF(ABS(ROUND((AE14/AD14)-1,3))>AF14,ROUND((AE14/AD14)-1,3),\"\"))","v":""}]
[null,null,null,null,null,null,{"$f":"Общеж!G18","v":"Количество письменных жалоб на качество предоставленных услуг"},null,null,null,null,null,null,null,null,null,null,null,null,null,null,null,null,null,null,null,{"$f":"Общеж!W18","v":"Штука"},null,{"$f":"Общеж!Y18","v":796},{"$f":"Общеж!Z18","v":0},0,{"$f":"Общеж!F20","v":0.05},{"$f":"IF(AE15>AD15,AE15,\"\")","v":""}]
[]
["3.2.  Сведения  о фактическом достижении показателей, характеризующих объем государственной услуги:"]
[]
[{"$f":"Общеж!A24","v":"Уникальный номер реестровой записи"},{"$f":"Общеж!B24","v":"Показатель, характеризущий содержание государственной услуги"},null,null,{"$f":"Общеж!E24","v":"Показатель, характеризущий условия (форму) оказания государственной услуги"},null,"Показатель объема государственной услуги",null,null,null,null,null,null,null,null,null,null,null,null,null,null,null,null,null,null,null,null,null,null,null,null,"Средний размер платы (цена, тариф)"]
[null,{"$f":"Общеж!B25","v":"(наименование показателя)"},{"$f":"Общеж!C25","v":"(наименование показателя)"},{"$f":"Общеж!D25","v":"(наименование показателя)"},{"$f":"Общеж!E25","v":"(наименование показателя)"},{"$f":"Общеж!F25","v":"(наименование показателя)"},{"$f":"Общеж!G25","v":"наименование показателя"},{"$f":"Общеж!H25","v":"единица измерения по ОКЕИ"},null,"утверждено в государственном задании на год",null,null,null,"Количество студентов, получающих услугу \"Заключение договоров найма специализированного жилого помещения\" за счет областного бюджета, на первое число каждого месяца 2018 года, чел",null,null,null,null,null,null,null,null,null,null,null,"исполнено на отчетную дату",null,"допустимое (возможное) отклонение","отклонение, превышающее допустимое (возможное) значение","причина отклонения"]
[null,null,null,null,null,null,null,{"$f":"Общеж!H26","v":"наименование"},{"$f":"Общеж!I26","v":"код"},null,null,null,null,"январь","февраль","март","апрель","май","июнь","июль","август","сентябрь","октябрь","ноябрь","декабрь"]
[1,2,3,4,5,6,7,8,9,10,null,null,null,null,null,null,null,null,null,null,null,null,null,null,null,11,null,12,13,14,null,15]
[{"$f":"A14","v":"28006000000000000005102"},null,null,null,null,null,{"$f":"Общеж!G28","v":"Площадь муниципального жилого фонда"},{"$f":"Общеж!H28","v":"Квадратный метр"},{"$f":"Общеж!I28","v":"055"},{"$f":"Общеж!V28","v":1380},null,null,null,232,229,229,229,229,229,180,180,220,220,222,222,{"$f":"ROUND(SUM(N23:Y23)/12,1)*6","v":1310.4000000000001},null,{"$f":"Общеж!F30","v":0.05},{"$f":"IF(ISERROR(IF(ABS(ROUND((Z23/J23)-1,3))>AB23,ROUND((Z23/J23)-1,3),\"\")),\"\",IF(ABS(ROUND((Z23/J23)-1,3))>AB23,ROUND((Z23/J23)-1,3),\"\"))","v":""}]
[]
[]
[]
[null,"Директор","___________________________",null,{"$f":"VLOOKUP(ТитГЗ!A17,'Служебный 1'!C3:D61,2,FALSE)","v":{"$error":"#N/A"}}]
[null,null,"подпись"]
[null,null,{"$f":"NOW()","v":"2024-08-25T04:12:59.650"}]

{"sheet":"ПитаниеОтч","index":17,"n_rows":28,"n_cols":34,"rows_kept":28,"cut":false,"hidden":true,"merged":[[26,2,26,3],[20,9,20,12],[20,25,20,26],[18,3,19,3],[18,4,19,4],[18,5,19,5],[21,9,21,12],[21,25,21,26],[17,31,19,31],[18,29,19,30],[10,26,10,28],[25,2,25,3],[25,4,25,6],[18,13,18,24],[20,29,20,30],[18,9,19,12],[10,2,11,2],[10,3,11,3],[17,0,19,0],[17,1,17,3],[17,4,17,5],[17,6,17,30],[18,25,19,26],[18,27,19,27],[18,28,19,28],[10,1,11,1],[12,26,12,27],[10,33,11,33],[10,31,11,31],[13,26,13,27],[10,29,11,29],[10,5,11,5],[12,6,12,25],[10,32,11,32],[10,30,11,30],[21,29,21,30],[18,6,19,6],[18,7,18,8],[0,0,0,33],[2,0,2,3],[4,0,4,5],[9,0,11,0],[9,1,9,3],[13,6,13,25],[9,6,9,33],[9,4,9,5],[10,4,11,4],[11,26,11,27],[10,6,11,25],[18,1,19,1],[18,2,19,2]]}
["Раздел ____"]
["1. Наименование государственной услуги"]
[{"$f":"Питание!A3","v":"Предоставление питания"},null,null,null,"Уникальный номер по базовому (отраслевому) перечню",{"$f":"Питание!F3","v":"11.Д07.0"}]
["2. Категория потребителей государственной услуги"]
[{"$f":"Питание!A5","v":"Физические лица"}]
["3.  Сведения  о фактическом достижении показателей, характеризующих объем и (или) качество государственной услуги:"]
[]
["3.1.   Сведения   о  фактическом  достижении  показателей,  характеризующих качество государственной услуги:"]
[]
[{"$f":"Питание!A10","v":"Уникальный номер реестровой записи"},{"$f":"Питание!B10","v":"Показатель, характеризущий содержание государственной услуги"},null,null,{"$f":"Питание!E10","v":"Показатель, характеризущий условия (формы) оказания государственной услуги"},null,{"$f":"Питание!G10","v":"Показатель качества государственной услуги"}]
[null,{"$f":"Питание!B11","v":"(наименование показателя)"},{"$f":"Питание!C11","v":"(наименование показателя)"},{"$f":"Питание!D11","v":"(наименование показателя)"},{"$f":"Питание!E11","v":"(наименование показателя)"},{"$f":"Питание!F11","v":"(наименование показателя)"},{"$f":"Питание!G11","v":"наименование показателя"},null,null,null,null,null,null,null,null,null,null,null,null,null,null,null,null,null,null,null,{"$f":"Питание!W11","v":"единица измерения по ОКЕИ"},null,null,"утверждено в государственном задании на год","исполнено на отчетную дату","допустимое (возможное) отклонение","отклонение, превышающее допустимое (возможное) значение","причина отклонения"]
[null,null,null,null,null,null,null,null,null,null,null,null,null,null,null,null,null,null,null,null,null,null,null,null,null,null,{"$f":"Питание!W12","v":"наименование"},null,{"$f":"Питание!Y12","v":"код"}]
[1,2,3,4,5,6,7,null,null,null,null,null,null,null,null,null,null,null,null,null,null,null,null,null,null,null,8,null,9,10,11,12,13,14]
[]
[]
["3.2.  Сведения  о фактическом достижении показателей, характеризующих объем государственной услуги:"]
[]
[{"$f":"Питание!A20","v":"Уникальный номер реестровой записи"},{"$f":"Питание!B20","v":"Показатель, характеризущий содержание государственной услуги"},null,null,{"$f":"Питание!E20","v":"Показатель, характеризущий условия (форму) оказания государственной услуги"},null,"Показатель объема государственной услуги",null,null,null,null,null,null,null,null,null,null,null,null,null,null,null,null,null,null,null,null,null,null,null,null,"Средний размер платы (цена, тариф)"]
[null,{"$f":"Питание!B21","v":"(наименование показателя)"},{"$f":"Питание!C21","v":"(наименование показателя)"},{"$f":"Питание!D21","v":"(наименование показателя)"},{"$f":"Питание!E21","v":"(наименование показателя)"},{"$f":"Питание!F21","v":"(наименование показателя)"},{"$f":"Питание!G21","v":"наименование показателя"},{"$f":"Питание!H21","v":"единица измерения по ОКЕИ"},null,"утверждено в государственном задании на год",null,null,null,"Количество студентов, получающих услугу \"Предоставление питания\" за счет областного бюджета, на первое число каждого месяца 2016 года, чел",null,null,null,null,null,null,null,null,null,null,null,"исполнено на отчетную дату",null,"допустимое (возможное) отклонение","отклонение, превышающее допустимое (возможное) значение","причина отклонения"]
[null,null,null,null,null,null,null,{"$f":"Питание!H22","v":"наименование"},{"$f":"Питание!I22","v":"код"},null,null,null,null,"январь","февраль","март","апрель","май","июнь","июль","август","сентябрь","октябрь","ноябрь","декабрь"]
[1,2,3,4,5,6,7,8,9,10,null,null,null,null,null,null,null,null,null,null,null,null,null,null,null,11,null,12,13,14,null,15]
[{"$f":"Питание!A24","v":"11Д07000000000000005100"},null,null,null,null,null,{"$f":"Питание!G24","v":"Число обучающихся"},{"$f":"Питание!H24","v":"Человек"},{"$f":"Питание!I24","v":792},{"$f":"Питание!V24","v":0},null,null,null,null,null,null,null,null,null,null,null,null,null,null,null,{"$f":"ROUND(SUM(N22:Y22)/12,1)","v":0},null,{"$f":"Питание!F26","v":0.1},{"$f":"IF(ISERROR(IF(ABS(ROUND((Z22/J22)-1,3))>AB22,ROUND((Z22/J22)-1,3),\"\")),\"\",IF(ABS(ROUND((Z22/J22)-1,3))>AB22,ROUND((Z22/J22)-1,3),\"\"))","v":""}]
[]
[]
[]
[null,"Директор","___________________________",null,{"$f":"VLOOKUP(ТитГЗ!A17,'Служебный 1'!C3:D61,2,FALSE)","v":{"$error":"#N/A"}}]
[null,null,"подпись"]
[null,null,null,{"$f":"NOW()","v":"2024-08-25T04:12:59.650"}]