Workbook

Sheet Форма 1
A1: Не допускается предоставление отчета в адрес Минпросвещения России образовательными организациями. Данные подаются региональным органом исполнительной власти по всем ОО СПО, расположенным на территории субъекта Российской Федерации, вне зависимости от ведомственной принадлежности Ячейки не объединяются. Ячейки с числовыми данными, одновременно содержащими текст или другие числовые значения, учитываться не будут. Формат ячеек с числовыми данными - только "Числовой" Графы "ПРОВЕРКА" не удаляются и не редактируются Формулы логического контроля: стр.03 <= стр.02 стр.02 и стр.04 и стр.05 < стр.01 гр.09 и гр.10 <= гр.08 сумма по видам деятельности (кроме граф "в том числе") равна суммарному выпуску (гр.07 = гр.08 + сумма(с гр.11 по гр.32))
A2: Федеральный округ (указывается в каждой строке) | B2: Субъект Российской Федерации (указывается в каждой строке)) | C2: Код профессии, специальности в формате хх.хх.хх в соответствии с приказом Минобрнауки России от 29 октября 2013 г. № 1199 (выбрать из раскрывающегося списка, проверить графу 04) | D2: Наименование профессии, специальности (добавляется автоматически при корректном вводе кода) | E2: Номер строки | F2: Наименование показателей (категория выпускников) (редактирование наименования не допускается) | G2: Суммарный выпуск в 2022 году (человек) | H2: Распределение выпускников по каналам занятости и иным видам деятельности, человек (каждый выпускник учитывается один раз. Единица измерения - человек) | AG2: Принимаемые меры по содействию занятости (тезисно - вид меры, охват выпускников мерой) | AH2: ПРОВЕРКА (сумма по всем категориям выпускников, распределенных по видам занятости, должна равняться сумме выпускников всего)
H3: Занятые выпускники | N3: Потенциальная занятость (не относится к занятости по итогам обучения, требует дополнительных мер) | Q3: Зона риска (требует оперативных мер и адресной работы) | U3: Прочее, редкие жизненные обстоятельства | AA3: Профессиональные намерения выпускников, ожидаемый эффект от работы по содействию занятости (на ближайшую перспективу - порядка 3-х месяцев)
H4: Трудоустроены (по трудовому договору, договору ГПХ в соответствии с трудовым законодательством, законодательством об обязательном пенсионном страховании) | I4: В том числе (из трудоустроенных): в соответствии с освоенной профессией, специальностью (исходя из осуществляемой трудовой функции) | J4: В том числе (из трудоустроенных): работают на протяжении не менее 4-х месяцев на последнем месте работы | K4: Индиви-дуальные предприни-матели | L4: Самозанятые (перешедшие на специальный налоговый режим - налог на профессио-нальный доход) | M4: Продолжили обучение | N4: Проходят службу в армии по призыву | O4: Проходят службу в армии на контрактной основе, в органах внутренних дел, Государственной противопожарной службе, органах по контролю за оборотом наркотических средств и психотропных веществ, учреждениях и органах уголовно-исполнительной системы, войсках национальной гвардии Российской Федерации, органах принудительного исполнения Российской Федерации* | P4: Находятся в отпуске по уходу за ребенком | Q4: Неформальная занятость (нелегальная) | R4: Зарегистрированы в центрах занятости в качестве безработных (получают пособие по безработице) и не планируют трудоустраиваться | S4: Не имеют мотивации к трудоустройству (кроме зарегистрированных в качестве безработных) и не планируют трудоустраиваться, в том числе по причинам получения иных социальных льгот | T4: Иные причины нахождения под риском нетрудоустройства | U4: Смерть, тяжелое состояние здоровья | V4: Находятся под следствием, отбывают наказание | W4: Переезд за пределы Российской Федерации (кроме переезда в иные регионы - по ним регион должен располагать сведениями) | X4: Не могут трудоустраиваться в связи с уходом за больными родственниками, в связи с иными семейными обстоятельствами | Y4: Выпускники из числа иностранных граждан, которые не имеют СНИЛС | Z4: Иное (в первую очередь выпускники распределяются по всем остальным графам. Данная графа предназначена для очень редких случаев. Если в нее включено более 1 из 200 выпускников - укажите причины в гр. 33 | AA4: будут трудоустроены | AB4: будут осуществлять предприни-мательскую деятельность | AC4: будут самозанятыми | AD4: будут призваны в армию | AE4: будут в армии на контрактной основе, в органах внутренних дел, Государственной противопожарной службе, органах по контролю за оборотом наркотических средств и психотропных веществ, учреждениях и органах уголовно-исполнительной системы, войсках национальной гвардии Российской Федерации, органах принудительного исполнения Российской Федерации* | AF4: будут продолжать обучение
A5: 01 | B5: 02 | C5: 03 | D5: 04 | E5: 05 | F5: 06 | G5: 07 | H5: 08 | I5: 09 | J5: 10 | K5: 11 | L5: 12 | M5: 13 | N5: 14 | O5: 15 | P5: 16 | Q5: 17 | R5: 18 | S5: 19 | T5: 20 | U5: 21 | V5: 22 | W5: 23 | X5: 24 | Y5: 25 | Z5: 26 | AA5: 27 | AB5: 28 | AC5: 29 | AD5: 30 | AE5: 31 | AF5: 32 | AG5: 33 | AH5: 34
A6: ЮФО | B6: Волгоградская область | C6: 09.02.03 | D6: =VLOOKUP(C6,'Коды программ'!$A$2:$B$578,2,FALSE) -> Программирование в компьютерных системах | E6: 01 | F6: Всего (общая численность выпускников) | G6: 20 | H6: 13 | I6: 5 | J6: 9 | K6: 0 | L6: 0 | M6: 0 | N6: 4 | O6: 0 | P6: 0 | Q6: 0 | R6: 0 | S6: 0 | T6: 0 | U6: 0 | V6: 0 | W6: 0 | X6: 0 | Y6: 0 | Z6: 0 | AA6: 3 | AB6: 0 | AC6: 0 | AD6: 0 | AE6: 0 | AF6: 0 | AG6: ознакомлены с банком вакансий, предложена помощь в трудоустройстве | AH6: =IF(G6=H6+K6+L6+M6+N6+O6+P6+Q6+R6+S6+T6+U6+V6+W6+X6+Y6+Z6+AA6+AB6+AC6+AD6+AE6+AF6,"проверка пройдена","ВНИМАНИЕ! Сумма по строке не сходится с общей численностью выпускников! Исправьте ошибку в расчетах, пока это сообщение не исчезнет!") -> проверка пройдена
A7: ЮФО | B7: Волгоградская область | C7: 09.02.03 | D7: =VLOOKUP(C7,'Коды программ'!$A$2:$B$578,2,FALSE) -> Программирование в компьютерных системах | E7: 02 | F7: из общей численности выпускников (из строки 01): лица с ОВЗ | G7: 0 | H7: 0 | I7: 0 | J7: 0 | K7: 0 | L7: 0 | M7: 0 | N7: 0 | O7: 0 | P7: 0 | Q7: 0 | R7: 0 | S7: 0 | T7: 0 | U7: 0 | V7: 0 | W7: 0 | X7: 0 | Y7: 0 | Z7: 0 | AA7: 0 | AB7: 0 | AC7: 0 | AD7: 0 | AE7: 0 | AF7: 0 | AG7: 0 | AH7: =IF(G7=H7+K7+L7+M7+N7+O7+P7+Q7+R7+S7+T7+U7+V7+W7+X7+Y7+Z7+AA7+AB7+AC7+AD7+AE7+AF7,"проверка пройдена","ВНИМАНИЕ! Сумма по строке не сходится с общей численностью выпускников! Исправьте ошибку в расчетах, пока это сообщение не исчезнет!") -> проверка пройдена
A8: ЮФО | B8: Волгоградская область | C8: 09.02.03 | D8: =VLOOKUP(C8,'Коды программ'!$A$2:$B$578,2,FALSE) -> Программирование в компьютерных системах | E8: 03 | F8: из числа лиц с ОВЗ (из строки 02): инвалиды и дети-инвалиды | G8: 0 | H8: 0 | I8: 0 | J8: 0 | K8: 0 | L8: 0 | M8: 0 | N8: 0 | O8: 0 | P8: 0 | Q8: 0 | R8: 0 | S8: 0 | T8: 0 | U8: 0 | V8: 0 | W8: 0 | X8: 0 | Y8: 0 | Z8: 0 | AA8: 0 | AB8: 0 | AC8: 0 | AD8: 0 | AE8: 0 | AF8: 0 | AG8: 0 | AH8: =IF(G8=H8+K8+L8+M8+N8+O8+P8+Q8+R8+S8+T8+U8+V8+W8+X8+Y8+Z8+AA8+AB8+AC8+AD8+AE8+AF8,"проверка пройдена","ВНИМАНИЕ! Сумма по строке не сходится с общей численностью выпускников! Исправьте ошибку в расчетах, пока это сообщение не исчезнет!") -> проверка пройдена
A9: ЮФО | B9: Волгоградская область | C9: 09.02.03 | D9: =VLOOKUP(C9,'Коды программ'!$A$2:$B$578,2,FALSE) -> Программирование в компьютерных системах | E9: 04 | F9: Инвалиды и дети-инвалиды (кроме учтенных в строке 03) | G9: 0 | H9: 0 | I9: 0 | J9: 0 | K9: 0 | L9: 0 | M9: 0 | N9: 0 | O9: 0 | P9: 0 | Q9: 0 | R9: 0 | S9: 0 | T9: 0 | U9: 0 | V9: 0 | W9: 0 | X9: 0 | Y9: 0 | Z9: 0 | AA9: 0 | AB9: 0 | AC9: 0 | AD9: 0 | AE9: 0 | AF9: 0 | AG9: 0 | AH9: =IF(G9=H9+K9+L9+M9+N9+O9+P9+Q9+R9+S9+T9+U9+V9+W9+X9+Y9+Z9+AA9+AB9+AC9+AD9+AE9+AF9,"проверка пройдена","ВНИМАНИЕ! Сумма по строке не сходится с общей численностью выпускников! Исправьте ошибку в расчетах, пока это сообщение не исчезнет!") -> проверка пройдена
A10: ЮФО | B10: Волгоградская область | C10: 09.02.03 | D10: =VLOOKUP(C10,'Коды программ'!$A$2:$B$578,2,FALSE) -> Программирование в компьютерных системах | E10: 05 | F10: Имеют договор о целевом обучении | G10: 0 | H10: 0 | I10: 0 | J10: 0 | K10: 0 | L10: 0 | M10: 0 | N10: 0 | O10: 0 | P10: 0 | Q10: 0 | R10: 0 | S10: 0 | T10: 0 | U10: 0 | V10: 0 | W10: 0 | X10: 0 | Y10: 0 | Z10: 0 | AA10: 0 | AB10: 0 | AC10: 0 | AD10: 0 | AE10: 0 | AF10: 0 | AG10: 0 | AH10: =IF(G10=H10+K10+L10+M10+N10+O10+P10+Q10+R10+S10+T10+U10+V10+W10+X10+Y10+Z10+AA10+AB10+AC10+AD10+AE10+AF10,"проверка пройдена","ВНИМАНИЕ! Сумма по строке не сходится с общей численностью выпускников! Исправьте ошибку в расчетах, пока это сообщение не исчезнет!") -> проверка пройдена
A11: ЮФО | B11: Волгоградская область | C11: 09.02.07 | D11: =VLOOKUP(C11,'Коды программ'!$A$2:$B$578,2,FALSE) -> Информационные системы и программирование | E11: 01 | F11: Всего (общая численность выпускников) | G11: 23 | H11: 11 | I11: 5 | J11: 8 | K11: 0 | L11: 0 | M11: 0 | N11: 7 | O11: 0 | P11: 0 | Q11: 0 | R11: 0 | S11: 0 | T11: 1 | U11: 0 | V11: 0 | W11: 0 | X11: 0 | Y11: 0 | Z11: 0 | AA11: 4 | AB11: 0 | AC11: 0 | AD11: 0 | AE11: 0 | AF11: 0 | AG11: ознакомлены с банком вакансий, предложена помощь в трудоустройстве | AH11: =IF(G11=H11+K11+L11+M11+N11+O11+P11+Q11+R11+S11+T11+U11+V11+W11+X11+Y11+Z11+AA11+AB11+AC11+AD11+AE11+AF11,"проверка пройдена","ВНИМАНИЕ! Сумма по строке не сходится с общей численностью выпускников! Исправьте ошибку в расчетах, пока это сообщение не исчезнет!") -> проверка пройдена
A12: ЮФО | B12: Волгоградская область | C12: 09.02.07 | D12: =VLOOKUP(C12,'Коды программ'!$A$2:$B$578,2,FALSE) -> Информационные системы и программирование | E12: 02 | F12: из общей численности выпускников (из строки 01): лица с ОВЗ | G12: 1 | H12: 0 | I12: 0 | J12: 0 | K12: 0 | L12: 0 | M12: 0 | N12: 0 | O12: 0 | P12: 0 | Q12: 0 | R12: 0 | S12: 0 | T12: 1 | U12: 0 | V12: 0 | W12: 0 | X12: 0 | Y12: 0 | Z12: 0 | AA12: 0 | AB12: 0 | AC12: 0 | AD12: 0 | AE12: 0 | AF12: 0 | AG12: ознакомлены с банком вакансий, предложена помощь в трудоустройстве | AH12: =IF(G12=H12+K12+L12+M12+N12+O12+P12+Q12+R12+S12+T12+U12+V12+W12+X12+Y12+Z12+AA12+AB12+AC12+AD12+AE12+AF12,"проверка пройдена","ВНИМАНИЕ! Сумма по строке не сходится с общей численностью выпускников! Исправьте ошибку в расчетах, пока это сообщение не исчезнет!") -> проверка пройдена
A13: ЮФО | B13: Волгоградская область | C13: 09.02.07 | D13: =VLOOKUP(C13,'Коды программ'!$A$2:$B$578,2,FALSE) -> Информационные системы и программирование | E13: 03 | F13: из числа лиц с ОВЗ (из строки 02): инвалиды и дети-инвалиды | G13: 1 | H13: 0 | I13: 0 | J13: 0 | K13: 0 | L13: 0 | M13: 0 | N13: 0 | O13: 0 | P13: 0 | Q13: 0 | R13: 0 | S13: 0 | T13: 1 | U13: 0 | V13: 0 | W13: 0 | X13: 0 | Y13: 0 | Z13: 0 | AA13: 0 | AB13: 0 | AC13: 0 | AD13: 0 | AE13: 0 | AF13: 0 | AG13: ознакомлены с банком вакансий, предложена помощь в трудоустройстве | AH13: =IF(G13=H13+K13+L13+M13+N13+O13+P13+Q13+R13+S13+T13+U13+V13+W13+X13+Y13+Z13+AA13+AB13+AC13+AD13+AE13+AF13,"проверка пройдена","ВНИМАНИЕ! Сумма по строке не сходится с общей численностью выпускников! Исправьте ошибку в расчетах, пока это сообщение не исчезнет!") -> проверка пройдена
A14: ЮФО | B14: Волгоградская область | C14: 09.02.07 | D14: =VLOOKUP(C14,'Коды программ'!$A$2:$B$578,2,FALSE) -> Информационные системы и программирование | E14: 04 | F14: Инвалиды и дети-инвалиды (кроме учтенных в строке 03) | G14: 0 | H14: 0 | I14: 0 | J14: 0 | K14: 0 | L14: 0 | M14: 0 | N14: 0 | O14: 0 | P14: 0 | Q14: 0 | R14: 0 | S14: 0 | T14: 0 | U14: 0 | V14: 0 | W14: 0 | X14: 0 | Y14: 0 | Z14: 0 | AA14: 0 | AB14: 0 | AC14: 0 | AD14: 0 | AE14: 0 | AF14: 0 | AG14: 0 | AH14: =IF(G14=H14+K14+L14+M14+N14+O14+P14+Q14+R14+S14+T14+U14+V14+W14+X14+Y14+Z14+AA14+AB14+AC14+AD14+AE14+AF14,"проверка пройдена","ВНИМАНИЕ! Сумма по строке не сходится с общей численностью выпускников! Исправьте ошибку в расчетах, пока это сообщение не исчезнет!") -> проверка пройдена
A15: ЮФО | B15: Волгоградская область | C15: 09.02.07 | D15: =VLOOKUP(C15,'Коды программ'!$A$2:$B$578,2,FALSE) -> Информационные системы и программирование | E15: 05 | F15: Имеют договор о целевом обучении | G15: 0 | H15: 0 | I15: 0 | J15: 0 | K15: 0 | L15: 0 | M15: 0 | N15: 0 | O15: 0 | P15: 0 | Q15: 0 | R15: 0 | S15: 0 | T15: 0 | U15: 0 | V15: 0 | W15: 0 | X15: 0 | Y15: 0 | Z15: 0 | AA15: 0 | AB15: 0 | AC15: 0 | AD15: 0 | AE15: 0 | AF15: 0 | AG15: 0 | AH15: =IF(G15=H15+K15+L15+M15+N15+O15+P15+Q15+R15+S15+T15+U15+V15+W15+X15+Y15+Z15+AA15+AB15+AC15+AD15+AE15+AF15,"проверка пройдена","ВНИМАНИЕ! Сумма по строке не сходится с общей численностью выпускников! Исправьте ошибку в расчетах, пока это сообщение не исчезнет!") -> проверка пройдена
A16: ЮФО | B16: Волгоградская область | C16: 11.02.01 | D16: =VLOOKUP(C16,'Коды программ'!$A$2:$B$578,2,FALSE) -> Радиоаппаратостроение | E16: 01 | F16: Всего (общая численность выпускников) | G16: 18 | H16: 11 | I16: 4 | J16: 9 | K16: 0 | L16: 0 | M16: 0 | N16: 5 | O16: 0 | P16: 0 | Q16: 0 | R16: 0 | S16: 0 | T16: 0 | U16: 0 | V16: 0 | W16: 0 | X16: 0 | Y16: 0 | Z16: 0 | AA16: 2 | AB16: 0 | AC16: 0 | AD16: 0 | AE16: 0 | AF16: 0 | AG16: ознакомлены с банком вакансий, предложена помощь в трудоустройстве | AH16: =IF(G16=H16+K16+L16+M16+N16+O16+P16+Q16+R16+S16+T16+U16+V16+W16+X16+Y16+Z16+AA16+AB16+AC16+AD16+AE16+AF16,"проверка пройдена","ВНИМАНИЕ! Сумма по строке не сходится с общей численностью выпускников! Исправьте ошибку в расчетах, пока это сообщение не исчезнет!") -> проверка пройдена
A17: ЮФО | B17: Волгоградская область | C17: 11.02.01 | D17: =VLOOKUP(C17,'Коды программ'!$A$2:$B$578,2,FALSE) -> Радиоаппаратостроение | E17: 02 | F17: из общей численности выпускников (из строки 01): лица с ОВЗ | G17: 0 | H17: 0 | I17: 0 | J17: 0 | K17: 0 | L17: 0 | M17: 0 | N17: 0 | O17: 0 | P17: 0 | Q17: 0 | R17: 0 | S17: 0 | T17: 0 | U17: 0 | V17: 0 | W17: 0 | X17: 0 | Y17: 0 | Z17: 0 | AA17: 0 | AB17: 0 | AC17: 0 | AD17: 0 | AE17: 0 | AF17: 0 | AG17: 0 | AH17: =IF(G17=H17+K17+L17+M17+N17+O17+P17+Q17+R17+S17+T17+U17+V17+W17+X17+Y17+Z17+AA17+AB17+AC17+AD17+AE17+AF17,"проверка пройдена","ВНИМАНИЕ! Сумма по строке не сходится с общей численностью выпускников! Исправьте ошибку в расчетах, пока это сообщение не исчезнет!") -> проверка пройдена
A18: ЮФО | B18: Волгоградская область | C18: 11.02.01 | D18: =VLOOKUP(C18,'Коды программ'!$A$2:$B$578,2,FALSE) -> Радиоаппаратостроение | E18: 03 | F18: из числа лиц с ОВЗ (из строки 02): инвалиды и дети-инвалиды | G18: 0 | H18: 0 | I18: 0 | J18: 0 | K18: 0 | L18: 0 | M18: 0 | N18: 0 | O18: 0 | P18: 0 | Q18: 0 | R18: 0 | S18: 0 | T18: 0 | U18: 0 | V18: 0 | W18: 0 | X18: 0 | Y18: 0 | Z18: 0 | AA18: 0 | AB18: 0 | AC18: 0 | AD18: 0 | AE18: 0 | AF18: 0 | AG18: 0 | AH18: =IF(G18=H18+K18+L18+M18+N18+O18+P18+Q18+R18+S18+T18+U18+V18+W18+X18+Y18+Z18+AA18+AB18+AC18+AD18+AE18+AF18,"проверка пройдена","ВНИМАНИЕ! Сумма по строке не сходится с общей численностью выпускников! Исправьте ошибку в расчетах, пока это сообщение не исчезнет!") -> проверка пройдена
A19: ЮФО | B19: Волгоградская область | C19: 11.02.01 | D19: =VLOOKUP(C19,'Коды программ'!$A$2:$B$578,2,FALSE) -> Радиоаппаратостроение | E19: 04 | F19: Инвалиды и дети-инвалиды (кроме учтенных в строке 03) | G19: 0 | H19: 0 | I19: 0 | J19: 0 | K19: 0 | L19: 0 | M19: 0 | N19: 0 | O19: 0 | P19: 0 | Q19: 0 | R19: 0 | S19: 0 | T19: 0 | U19: 0 | V19: 0 | W19: 0 | X19: 0 | Y19: 0 | Z19: 0 | AA19: 0 | AB19: 0 | AC19: 0 | AD19: 0 | AE19: 0 | AF19: 0 | AG19: 0 | AH19: =IF(G19=H19+K19+L19+M19+N19+O19+P19+Q19+R19+S19+T19+U19+V19+W19+X19+Y19+Z19+AA19+AB19+AC19+AD19+AE19+AF19,"проверка пройдена","ВНИМАНИЕ! Сумма по строке не сходится с общей численностью выпускников! Исправьте ошибку в расчетах, пока это сообщение не исчезнет!") -> проверка пройдена
A20: ЮФО | B20: Волгоградская область | C20: 11.02.01 | D20: =VLOOKUP(C20,'Коды программ'!$A$2:$B$578,2,FALSE) -> Радиоаппаратостроение | E20: 05 | F20: Имеют договор о целевом обучении | G20: 0 | H20: 0 | I20: 0 | J20: 0 | K20: 0 | L20: 0 | M20: 0 | N20: 0 | O20: 0 | P20: 0 | Q20: 0 | R20: 0 | S20: 0 | T20: 0 | U20: 0 | V20: 0 | W20: 0 | X20: 0 | Y20: 0 | Z20: 0 | AA20: 0 | AB20: 0 | AC20: 0 | AD20: 0 | AE20: 0 | AF20: 0 | AG20: 0 | AH20: =IF(G20=H20+K20+L20+M20+N20+O20+P20+Q20+R20+S20+T20+U20+V20+W20+X20+Y20+Z20+AA20+AB20+AC20+AD20+AE20+AF20,"проверка пройдена","ВНИМАНИЕ! Сумма по строке не сходится с общей численностью выпускников! Исправьте ошибку в расчетах, пока это сообщение не исчезнет!") -> проверка пройдена
A21: ЮФО | B21: Волгоградская область | C21: 15.01.05 | D21: =VLOOKUP(C21,'Коды программ'!$A$2:$B$578,2,FALSE) -> Сварщик (ручной и частично механизированной сварки (наплавки) | E21: 01 | F21: Всего (общая численность выпускников) | G21: 21 | H21: 7 | I21: 2 | J21: 3 | K21: 0 | L21: 0 | M21: 0 | N21: 7 | O21: 0 | P21: 0 | Q21: 0 | R21: 0 | S21: 0 | T21: 0 | U21: 0 | V21: 0 | W21: 0 | X21: 0 | Y21: 0 | Z21: 0 | AA21: 7 | AB21: 0 | AC21: 0 | AD21: 0 | AE21: 0 | AF21: 0 | AG21: ознакомлены с банком вакансий, предложена помощь в трудоустройстве | AH21: =IF(G21=H21+K21+L21+M21+N21+O21+P21+Q21+R21+S21+T21+U21+V21+W21+X21+Y21+Z21+AA21+AB21+AC21+AD21+AE21+AF21,"проверка пройдена","ВНИМАНИЕ! Сумма по строке не сходится с общей численностью выпускников! Исправьте ошибку в расчетах, пока это сообщение не исчезнет!") -> проверка пройдена
A22: ЮФО | B22: Волгоградская область | C22: 15.01.05 | D22: =VLOOKUP(C22,'Коды программ'!$A$2:$B$578,2,FALSE) -> Сварщик (ручной и частично механизированной сварки (наплавки) | E22: 02 | F22: из общей численности выпускников (из строки 01): лица с ОВЗ | G22: 0 | H22: 0 | I22: 0 | J22: 0 | K22: 0 | L22: 0 | M22: 0 | N22: 0 | O22: 0 | P22: 0 | Q22: 0 | R22: 0 | S22: 0 | T22: 0 | U22: 0 | V22: 0 | W22: 0 | X22: 0 | Y22: 0 | Z22: 0 | AA22: 0 | AB22: 0 | AC22: 0 | AD22: 0 | AE22: 0 | AF22: 0 | AG22: 0 | AH22: =IF(G22=H22+K22+L22+M22+N22+O22+P22+Q22+R22+S22+T22+U22+V22+W22+X22+Y22+Z22+AA22+AB22+AC22+AD22+AE22+AF22,"проверка пройдена","ВНИМАНИЕ! Сумма по строке не сходится с общей численностью выпускников! Исправьте ошибку в расчетах, пока это сообщение не исчезнет!") -> проверка пройдена
A23: ЮФО | B23: Волгоградская область | C23: 15.01.05 | D23: =VLOOKUP(C23,'Коды программ'!$A$2:$B$578,2,FALSE) -> Сварщик (ручной и частично механизированной сварки (наплавки) | E23: 03 | F23: из числа лиц с ОВЗ (из строки 02): инвалиды и дети-инвалиды | G23: 0 | H23: 0 | I23: 0 | J23: 0 | K23: 0 | L23: 0 | M23: 0 | N23: 0 | O23: 0 | P23: 0 | Q23: 0 | R23: 0 | S23: 0 | T23: 0 | U23: 0 | V23: 0 | W23: 0 | X23: 0 | Y23: 0 | Z23: 0 | AA23: 0 | AB23: 0 | AC23: 0 | AD23: 0 | AE23: 0 | AF23: 0 | AG23: 0 | AH23: =IF(G23=H23+K23+L23+M23+N23+O23+P23+Q23+R23+S23+T23+U23+V23+W23+X23+Y23+Z23+AA23+AB23+AC23+AD23+AE23+AF23,"проверка пройдена","ВНИМАНИЕ! Сумма по строке не сходится с общей численностью выпускников! Исправьте ошибку в расчетах, пока это сообщение не исчезнет!") -> проверка пройдена
A24: ЮФО | B24: Волгоградская область | C24: 15.01.05 | D24: =VLOOKUP(C24,'Коды программ'!$A$2:$B$578,2,FALSE) -> Сварщик (ручной и частично механизированной сварки (наплавки) | E24: 04 | F24: Инвалиды и дети-инвалиды (кроме учтенных в строке 03) | G24: 0 | H24: 0 | I24: 0 | J24: 0 | K24: 0 | L24: 0 | M24: 0 | N24: 0 | O24: 0 | P24: 0 | Q24: 0 | R24: 0 | S24: 0 | T24: 0 | U24: 0 | V24: 0 | W24: 0 | X24: 0 | Y24: 0 | Z24: 0 | AA24: 0 | AB24: 0 | AC24: 0 | AD24: 0 | AE24: 0 | AF24: 0 | AG24: 0 | AH24: =IF(G24=H24+K24+L24+M24+N24+O24+P24+Q24+R24+S24+T24+U24+V24+W24+X24+Y24+Z24+AA24+AB24+AC24+AD24+AE24+AF24,"проверка пройдена","ВНИМАНИЕ! Сумма по строке не сходится с общей численностью выпускников! Исправьте ошибку в расчетах, пока это сообщение не исчезнет!") -> проверка пройдена
A25: ЮФО | B25: Волгоградская область | C25: 15.01.05 | D25: =VLOOKUP(C25,'Коды программ'!$A$2:$B$578,2,FALSE) -> Сварщик (ручной и частично механизированной сварки (наплавки) | E25: 05 | F25: Имеют договор о целевом обучении | G25: 0 | H25: 0 | I25: 0 | J25: 0 | K25: 0 | L25: 0 | M25: 0 | N25: 0 | O25: 0 | P25: 0 | Q25: 0 | R25: 0 | S25: 0 | T25: 0 | U25: 0 | V25: 0 | W25: 0 | X25: 0 | Y25: 0 | Z25: 0 | AA25: 0 | AB25: 0 | AC25: 0 | AD25: 0 | AE25: 0 | AF25: 0 | AG25: 0 | AH25: =IF(G25=H25+K25+L25+M25+N25+O25+P25+Q25+R25+S25+T25+U25+V25+W25+X25+Y25+Z25+AA25+AB25+AC25+AD25+AE25+AF25,"проверка пройдена","ВНИМАНИЕ! Сумма по строке не сходится с общей численностью выпускников! Исправьте ошибку в расчетах, пока это сообщение не исчезнет!") -> проверка пройдена
A26: ЮФО | B26: Волгоградская область | C26: 15.01.32 | D26: =VLOOKUP(C26,'Коды программ'!$A$2:$B$578,2,FALSE) -> Оператор станков с программным управлением | E26: 01 | F26: Всего (общая численность выпускников) | G26: 19 | H26: 10 | I26: 4 | J26: 6 | K26: 0 | L26: 0 | M26: 0 | N26: 5 | O26: 0 | P26: 0 | Q26: 0 | R26: 0 | S26: 0 | T26: 0 | U26: 0 | V26: 0 | W26: 0 | X26: 0 | Y26: 0 | Z26: 0 | AA26: 4 | AB26: 0 | AC26: 0 | AD26: 0 | AE26: 0 | AF26: 0 | AG26: ознакомлены с банком вакансий, предложена помощь в трудоустройстве | AH26: =IF(G26=H26+K26+L26+M26+N26+O26+P26+Q26+R26+S26+T26+U26+V26+W26+X26+Y26+Z26+AA26+AB26+AC26+AD26+AE26+AF26,"проверка пройдена","ВНИМАНИЕ! Сумма по строке не сходится с общей численностью выпускников! Исправьте ошибку в расчетах, пока это сообщение не исчезнет!") -> проверка пройдена
A27: ЮФО | B27: Волгоградская область | C27: 15.01.32 | D27: =VLOOKUP(C27,'Коды программ'!$A$2:$B$578,2,FALSE) -> Оператор станков с программным управлением | E27: 02 | F27: из общей численности выпускников (из строки 01): лица с ОВЗ | G27: 0 | H27: 0 | I27: 0 | J27: 0 | K27: 0 | L27: 0 | M27: 0 | N27: 0 | O27: 0 | P27: 0 | Q27: 0 | R27: 0 | S27: 0 | T27: 0 | U27: 0 | V27: 0 | W27: 0 | X27: 0 | Y27: 0 | Z27: 0 | AA27: 0 | AB27: 0 | AC27: 0 | AD27: 0 | AE27: 0 | AF27: 0 | AG27: 0 | AH27: =IF(G27=H27+K27+L27+M27+N27+O27+P27+Q27+R27+S27+T27+U27+V27+W27+X27+Y27+Z27+AA27+AB27+AC27+AD27+AE27+AF27,"проверка пройдена","ВНИМАНИЕ! Сумма по строке не сходится с общей численностью выпускников! Исправьте ошибку в расчетах, пока это сообщение не исчезнет!") -> проверка пройдена
A28: ЮФО | B28: Волгоградская область | C28: 15.01.32 | D28: =VLOOKUP(C28,'Коды программ'!$A$2:$B$578,2,FALSE) -> Оператор станков с программным управлением | E28: 03 | F28: из числа лиц с ОВЗ (из строки 02): инвалиды и дети-инвалиды | G28: 0 | H28: 0 | I28: 0 | J28: 0 | K28: 0 | L28: 0 | M28: 0 | N28: 0 | O28: 0 | P28: 0 | Q28: 0 | R28: 0 | S28: 0 | T28: 0 | U28: 0 | V28: 0 | W28: 0 | X28: 0 | Y28: 0 | Z28: 0 | AA28: 0 | AB28: 0 | AC28: 0 | AD28: 0 | AE28: 0 | AF28: 0 | AG28: 0 | AH28: =IF(G28=H28+K28+L28+M28+N28+O28+P28+Q28+R28+S28+T28+U28+V28+W28+X28+Y28+Z28+AA28+AB28+AC28+AD28+AE28+AF28,"проверка пройдена","ВНИМАНИЕ! Сумма по строке не сходится с общей численностью выпускников! Исправьте ошибку в расчетах, пока это сообщение не исчезнет!") -> проверка пройдена
A29: ЮФО | B29: Волгоградская область | C29: 15.01.32 | D29: =VLOOKUP(C29,'Коды программ'!$A$2:$B$578,2,FALSE) -> Оператор станков с программным управлением | E29: 04 | F29: Инвалиды и дети-инвалиды (кроме учтенных в строке 03) | G29: 0 | H29: 0 | I29: 0 | J29: 0 | K29: 0 | L29: 0 | M29: 0 | N29: 0 | O29: 0 | P29: 0 | Q29: 0 | R29: 0 | S29: 0 | T29: 0 | U29: 0 | V29: 0 | W29: 0 | X29: 0 | Y29: 0 | Z29: 0 | AA29: 0 | AB29: 0 | AC29: 0 | AD29: 0 | AE29: 0 | AF29: 0 | AG29: 0 | AH29: =IF(G29=H29+K29+L29+M29+N29+O29+P29+Q29+R29+S29+T29+U29+V29+W29+X29+Y29+Z29+AA29+AB29+AC29+AD29+AE29+AF29,"проверка пройдена","ВНИМАНИЕ! Сумма по строке не сходится с общей численностью выпускников! Исправьте ошибку в расчетах, пока это сообщение не исчезнет!") -> проверка пройдена
A30: ЮФО | B30: Волгоградская область | C30: 15.01.32 | D30: =VLOOKUP(C30,'Коды программ'!$A$2:$B$578,2,FALSE) -> Оператор станков с программным управлением | E30: 05 | F30: Имеют договор о целевом обучении | G30: 0 | H30: 0 | I30: 0 | J30: 0 | K30: 0 | L30: 0 | M30: 0 | N30: 0 | O30: 0 | P30: 0 | Q30: 0 | R30: 0 | S30: 0 | T30: 0 | U30: 0 | V30: 0 | W30: 0 | X30: 0 | Y30: 0 | Z30: 0 | AA30: 0 | AB30: 0 | AC30: 0 | AD30: 0 | AE30: 0 | AF30: 0 | AG30: 0 | AH30: =IF(G30=H30+K30+L30+M30+N30+O30+P30+Q30+R30+S30+T30+U30+V30+W30+X30+Y30+Z30+AA30+AB30+AC30+AD30+AE30+AF30,"проверка пройдена","ВНИМАНИЕ! Сумма по строке не сходится с общей численностью выпускников! Исправьте ошибку в расчетах, пока это сообщение не исчезнет!") -> проверка пройдена
A31: ЮФО | B31: Волгоградская область | C31: 15.02.08 | D31: =VLOOKUP(C31,'Коды программ'!$A$2:$B$578,2,FALSE) -> Технология машиностроения | E31: 01 | F31: Всего (общая численность выпускников) | G31: 26 | H31: 16 | I31: 8 | J31: 14 | K31: 0 | L31: 0 | M31: 0 | N31: 7 | O31: 0 | P31: 0 | Q31: 0 | R31: 0 | S31: 0 | T31: 0 | U31: 0 | V31: 0 | W31: 0 | X31: 0 | Y31: 0 | Z31: 0 | AA31: 3 | AB31: 0 | AC31: 0 | AD31: 0 | AE31: 0 | AF31: 0 | AG31: ознакомлены с банком вакансий, предложена помощь в трудоустройстве | AH31: =IF(G31=H31+K31+L31+M31+N31+O31+P31+Q31+R31+S31+T31+U31+V31+W31+X31+Y31+Z31+AA31+AB31+AC31+AD31+AE31+AF31,"проверка пройдена","ВНИМАНИЕ! Сумма по строке не сходится с общей численностью выпускников! Исправьте ошибку в расчетах, пока это сообщение не исчезнет!") -> проверка пройдена
A32: ЮФО | B32: Волгоградская область | C32: 15.02.08 | D32: =VLOOKUP(C32,'Коды программ'!$A$2:$B$578,2,FALSE) -> Технология машиностроения | E32: 02 | F32: из общей численности выпускников (из строки 01): лица с ОВЗ | G32: 1 | H32: 1 | I32: 0 | J32: 0 | K32: 0 | L32: 0 | M32: 0 | N32: 0 | O32: 0 | P32: 0 | Q32: 0 | R32: 0 | S32: 0 | T32: 0 | U32: 0 | V32: 0 | W32: 0 | X32: 0 | Y32: 0 | Z32: 0 | AA32: 0 | AB32: 0 | AC32: 0 | AD32: 0 | AE32: 0 | AF32: 0 | AG32: ознакомлены с банком вакансий, предложена помощь в трудоустройстве | AH32: =IF(G32=H32+K32+L32+M32+N32+O32+P32+Q32+R32+S32+T32+U32+V32+W32+X32+Y32+Z32+AA32+AB32+AC32+AD32+AE32+AF32,"проверка пройдена","ВНИМАНИЕ! Сумма по строке не сходится с общей численностью выпускников! Исправьте ошибку в расчетах, пока это сообщение не исчезнет!") -> проверка пройдена
A33: ЮФО | B33: Волгоградская область | C33: 15.02.08 | D33: =VLOOKUP(C33,'Коды программ'!$A$2:$B$578,2,FALSE) -> Технология машиностроения | E33: 03 | F33: из числа лиц с ОВЗ (из строки 02): инвалиды и дети-инвалиды | G33: 1 | H33: 1 | I33: 0 | J33: 0 | K33: 0 | L33: 0 | M33: 0 | N33: 0 | O33: 0 | P33: 0 | Q33: 0 | R33: 0 | S33: 0 | T33: 0 | U33: 0 | V33: 0 | W33: 0 | X33: 0 | Y33: 0 | Z33: 0 | AA33: 0 | AB33: 0 | AC33: 0 | AD33: 0 | AE33: 0 | AF33: 0 | AG33: ознакомлены с банком вакансий, предложена помощь в трудоустройстве | AH33: =IF(G33=H33+K33+L33+M33+N33+O33+P33+Q33+R33+S33+T33+U33+V33+W33+X33+Y33+Z33+AA33+AB33+AC33+AD33+AE33+AF33,"проверка пройдена","ВНИМАНИЕ! Сумма по строке не сходится с общей численностью выпускников! Исправьте ошибку в расчетах, пока это сообщение не исчезнет!") -> проверка пройдена
A34: ЮФО | B34: Волгоградская область | C34: 15.02.08 | D34: =VLOOKUP(C34,'Коды программ'!$A$2:$B$578,2,FALSE) -> Технология машиностроения | E34: 04 | F34: Инвалиды и дети-инвалиды (кроме учтенных в строке 03) | G34: 0 | H34: 0 | I34: 0 | J34: 0 | K34: 0 | L34: 0 | M34: 0 | N34: 0 | O34: 0 | P34: 0 | Q34: 0 | R34: 0 | S34: 0 | T34: 0 | U34: 0 | V34: 0 | W34: 0 | X34: 0 | Y34: 0 | Z34: 0 | AA34: 0 | AB34: 0 | AC34: 0 | AD34: 0 | AE34: 0 | AF34: 0 | AG34: 0 | AH34: =IF(G34=H34+K34+L34+M34+N34+O34+P34+Q34+R34+S34+T34+U34+V34+W34+X34+Y34+Z34+AA34+AB34+AC34+AD34+AE34+AF34,"проверка пройдена","ВНИМАНИЕ! Сумма по строке не сходится с общей численностью выпускников! Исправьте ошибку в расчетах, пока это сообщение не исчезнет!") -> проверка пройдена
A35: ЮФО | B35: Волгоградская область | C35: 15.02.08 | D35: =VLOOKUP(C35,'Коды программ'!$A$2:$B$578,2,FALSE) -> Технология машиностроения | E35: 05 | F35: Имеют договор о целевом обучении | G35: 0 | H35: 0 | I35: 0 | J35: 0 | K35: 0 | L35: 0 | M35: 0 | N35: 0 | O35: 0 | P35: 0 | Q35: 0 | R35: 0 | S35: 0 | T35: 0 | U35: 0 | V35: 0 | W35: 0 | X35: 0 | Y35: 0 | Z35: 0 | AA35: 0 | AB35: 0 | AC35: 0 | AD35: 0 | AE35: 0 | AF35: 0 | AG35: 0 | AH35: =IF(G35=H35+K35+L35+M35+N35+O35+P35+Q35+R35+S35+T35+U35+V35+W35+X35+Y35+Z35+AA35+AB35+AC35+AD35+AE35+AF35,"проверка пройдена","ВНИМАНИЕ! Сумма по строке не сходится с общей численностью выпускников! Исправьте ошибку в расчетах, пока это сообщение не исчезнет!") -> проверка пройдена
A36: ЮФО | B36: Волгоградская область | C36: 15.02.09 | D36: =VLOOKUP(C36,'Коды программ'!$A$2:$B$578,2,FALSE) -> Аддитивные технологии | E36: 01 | F36: Всего (общая численность выпускников) | G36: 22 | H36: 16 | I36: 14 | J36: 16 | K36: 0 | L36: 0 | M36: 3 | N36: 3 | O36: 0 | P36: 0 | Q36: 0 | R36: 0 | S36: 0 | T36: 0 | U36: 0 | V36: 0 | W36: 0 | X36: 0 | Y36: 0 | Z36: 0 | AA36: 0 | AB36: 0 | AC36: 0 | AD36: 0 | AE36: 0 | AF36: 0 | AG36: ознакомлены с банком вакансий, предложена помощь в трудоустройстве | AH36: =IF(G36=H36+K36+L36+M36+N36+O36+P36+Q36+R36+S36+T36+U36+V36+W36+X36+Y36+Z36+AA36+AB36+AC36+AD36+AE36+AF36,"проверка пройдена","ВНИМАНИЕ! Сумма по строке не сходится с общей численностью выпускников! Исправьте ошибку в расчетах, пока это сообщение не исчезнет!") -> проверка пройдена
A37: ЮФО | B37: Волгоградская область | C37: 15.02.09 | D37: =VLOOKUP(C37,'Коды программ'!$A$2:$B$578,2,FALSE) -> Аддитивные технологии | E37: 02 | F37: из общей численности выпускников (из строки 01): лица с ОВЗ | G37: 0 | H37: 0 | I37: 0 | J37: 0 | K37: 0 | L37: 0 | M37: 0 | N37: 0 | O37: 0 | P37: 0 | Q37: 0 | R37: 0 | S37: 0 | T37: 0 | U37: 0 | V37: 0 | W37: 0 | X37: 0 | Y37: 0 | Z37: 0 | AA37: 0 | AB37: 0 | AC37: 0 | AD37: 0 | AE37: 0 | AF37: 0 | AG37: 0 | AH37: =IF(G37=H37+K37+L37+M37+N37+O37+P37+Q37+R37+S37+T37+U37+V37+W37+X37+Y37+Z37+AA37+AB37+AC37+AD37+AE37+AF37,"проверка пройдена","ВНИМАНИЕ! Сумма по строке не сходится с общей численностью выпускников! Исправьте ошибку в расчетах, пока это сообщение не исчезнет!") -> проверка пройдена
A38: ЮФО | B38: Волгоградская область | C38: 15.02.09 | D38: =VLOOKUP(C38,'Коды программ'!$A$2:$B$578,2,FALSE) -> Аддитивные технологии | E38: 03 | F38: из числа лиц с ОВЗ (из строки 02): инвалиды и дети-инвалиды | G38: 0 | H38: 0 | I38: 0 | J38: 0 | K38: 0 | L38: 0 | M38: 0 | N38: 0 | O38: 0 | P38: 0 | Q38: 0 | R38: 0 | S38: 0 | T38: 0 | U38: 0 | V38: 0 | W38: 0 | X38: 0 | Y38: 0 | Z38: 0 | AA38: 0 | AB38: 0 | AC38: 0 | AD38: 0 | AE38: 0 | AF38: 0 | AG38: 0 | AH38: =IF(G38=H38+K38+L38+M38+N38+O38+P38+Q38+R38+S38+T38+U38+V38+W38+X38+Y38+Z38+AA38+AB38+AC38+AD38+AE38+AF38,"проверка пройдена","ВНИМАНИЕ! Сумма по строке не сходится с общей численностью выпускников! Исправьте ошибку в расчетах, пока это сообщение не исчезнет!") -> проверка пройдена
A39: ЮФО | B39: Волгоградская область | C39: 15.02.09 | D39: =VLOOKUP(C39,'Коды программ'!$A$2:$B$578,2,FALSE) -> Аддитивные технологии | E39: 04 | F39: Инвалиды и дети-инвалиды (кроме учтенных в строке 03) | G39: 0 | H39: 0 | I39: 0 | J39: 0 | K39: 0 | L39: 0 | M39: 0 | N39: 0 | O39: 0 | P39: 0 | Q39: 0 | R39: 0 | S39: 0 | T39: 0 | U39: 0 | V39: 0 | W39: 0 | X39: 0 | Y39: 0 | Z39: 0 | AA39: 0 | AB39: 0 | AC39: 0 | AD39: 0 | AE39: 0 | AF39: 0 | AG39: 0 | AH39: =IF(G39=H39+K39+L39+M39+N39+O39+P39+Q39+R39+S39+T39+U39+V39+W39+X39+Y39+Z39+AA39+AB39+AC39+AD39+AE39+AF39,"проверка пройдена","ВНИМАНИЕ! Сумма по строке не сходится с общей численностью выпускников! Исправьте ошибку в расчетах, пока это сообщение не исчезнет!") -> проверка пройдена
A40: ЮФО | B40: Волгоградская область | C40: 15.02.09 | D40: =VLOOKUP(C40,'Коды программ'!$A$2:$B$578,2,FALSE) -> Аддитивные технологии | E40: 05 | F40: Имеют договор о целевом обучении | G40: 0 | H40: 0 | I40: 0 | J40: 0 | K40: 0 | L40: 0 | M40: 0 | N40: 0 | O40: 0 | P40: 0 | Q40: 0 | R40: 0 | S40: 0 | T40: 0 | U40: 0 | V40: 0 | W40: 0 | X40: 0 | Y40: 0 | Z40: 0 | AA40: 0 | AB40: 0 | AC40: 0 | AD40: 0 | AE40: 0 | AF40: 0 | AG40: 0 | AH40: =IF(G40=H40+K40+L40+M40+N40+O40+P40+Q40+R40+S40+T40+U40+V40+W40+X40+Y40+Z40+AA40+AB40+AC40+AD40+AE40+AF40,"проверка пройдена","ВНИМАНИЕ! Сумма по строке не сходится с общей численностью выпускников! Исправьте ошибку в расчетах, пока это сообщение не исчезнет!") -> проверка пройдена
...

Sheet Коды программ
A1: Коды образовательных программ | B1: Наименования образовательных программ | C1: Ведомственная принадлежность | E1: Тип | G1: Регионы | I1: ФО | K1: 1 | L1: 01 | M1: Всего (общая численность выпускников)
A2: 05.01.01 | B2: Гидрометнаблюдатель | C2: федеральная | E2: ПОО | G2: Алтайский край | I2: ДФО | K2: 2 | L2: 02 | M2: из общей численности выпускников (из строки 01): лица с ОВЗ
A3: 05.02.01 | B3: Картография | C3: региональная | E3: ОО ВО | G3: Амурская область | I3: ПФО | K3: 3 | L3: 03 | M3: из числа лиц с ОВЗ (из строки 02): инвалиды и дети-инвалиды
A4: 05.02.02 | B4: Гидрология | C4: муниципальная | G4: Архангельская область | I4: СЗФО | K4: 4 | L4: 04 | M4: Инвалиды и дети-инвалиды (кроме учтенных в строке 03)
A5: 05.02.03 | B5: Метеорология | C5: частная | G5: Астраханская область | I5: СКФО | K5: 5 | L5: 05 | M5: Имеют договор о целевом обучении
A6: 07.02.01 | B6: Архитектура | G6: Белгородская область | I6: СФО | K6: 6 | L6: 06 | M6: Автосумма строк 02 и 04 - Всего (общая численность выпускников из числа лиц с ОВЗ, инвалидов и детей-инвалидов)
A7: 08.01.01 | B7: Изготовитель арматурных сеток и каркасов | G7: Брянская область | I7: УФО | K7: 7 | L7: 07 | M7: из общей численности выпускников из числа лиц с ОВЗ, инвалидов и детей-инвалидов (из строки 06): с нарушениями: зрения
A8: 08.01.02 | B8: Монтажник трубопроводов | G8: Владимирская область | I8: ЦФО | K8: 8 | L8: 08 | M8: слуха
A9: 08.01.03 | B9: Трубоклад | G9: Волгоградская область | I9: ЮФО | K9: 9 | L9: 09 | M9: опорно-двигательного аппарата
A10: 08.01.04 | B10: Кровельщик | G10: Вологодская область | K10: 10 | L10: 10 | M10: тяжелыми нарушениями речи
A11: 08.01.05 | B11: Мастер столярно-плотничных и паркетных работ | G11: Воронежская область | K11: 11 | L11: 11 | M11: задержкой психического развития
A12: 08.01.06 | B12: Мастер сухого строительства | G12: город Москва | K12: 12 | L12: 12 | M12: расстройствами аутистического спектра
A13: 08.01.07 | B13: Мастер общестроительных работ | G13: город Санкт-Петербург | K13: 13 | L13: 13 | M13: с инвалидностью вследствие других причин
A14: 08.01.08 | B14: Мастер отделочных строительных работ | G14: город Севастополь | K14: 14 | L14: 14 | M14: из общей численности выпускников из числа лиц с ОВЗ, инвалидов и детей-инвалидов (из строки 06): имеют договор о целевом обучении
A15: 08.01.09 | B15: Слесарь по строительно-монтажным работам | G15: Еврейская автономная область | K15: 15 | L15: 15 | M15: из общей численности выпускников из числа лиц с ОВЗ, инвалидов и детей-инвалидов (из строки 06): принимали участие в чемпионате «Абилимпикс»
A16: 08.01.10 | B16: Мастер жилищно-коммунального хозяйства | G16: Забайкальский край
A17: 08.01.11 | B17: Машинист машин и оборудования в производстве цемента | G17: Ивановская область
A18: 08.01.12 | B18: Оператор технологического оборудования в производстве стеновых и вяжущих материалов | G18: Иркутская область
A19: 08.01.13 | B19: Изготовитель железобетонных изделий | G19: Кабардино-Балкарская республика
A20: 08.01.14 | B20: Монтажник санитарно-технических, вентиляционных систем и оборудования | G20: Калининградская область
A21: 08.01.15 | B21: Слесарь по изготовлению деталей и узлов технических систем в строительстве | G21: Калужская область
A22: 08.01.16 | B22: Электромонтажник по сигнализации, централизации и блокировке | G22: Камчатский край
A23: 08.01.17 | B23: Электромонтажник-наладчик | G23: Карачаево-Черкесская Республика
A24: 08.01.18 | B24: Электромонтажник электрических сетей и электрооборудования | G24: Кемеровская область - Кузбасс
A25: 08.01.19 | B25: Электромонтажник по силовым сетям и электрооборудованию | G25: Кировская область
A26: 08.01.20 | B26: Электромонтажник по электрическим машинам | G26: Костромская область
A27: 08.01.21 | B27: Монтажник электрических подъемников (лифтов) | G27: Краснодарский край
... A86: 11.02.15 | B86: Инфокоммуникационные сети и системы связи | G86: Ярославская область
A87: 11.02.16 | B87: Монтаж, техническое обслуживание и ремонт электронных приборов и устройств
A88: 12.01.01 | B88: Наладчик оборудования оптического производства
A89: 12.01.02 | B89: Оптик-механик
A90: 12.01.03 | B90: Сборщик очков
A91: 12.01.04 | B91: Электромеханик по ремонту и обслуживанию наркознодыхательной аппаратуры
A92: 12.01.05 | B92: Электромеханик по ремонту и обслуживанию медицинского оборудования
A93: 12.01.06 | B93: Электромеханик по ремонту и обслуживанию медицинских оптических приборов
A94: 12.01.07 | B94: Электромеханик по ремонту и обслуживанию электронной медицинской аппаратуры
A95: 12.01.08 | B95: Механик протезно-ортопедических изделий
A96: 12.01.09 | B96: Мастер по изготовлению и сборке деталей и узлов оптических и оптико-электронных приборов и систем
A97: 12.02.01 | B97: Авиационные приборы и комплексы
A98: 12.02.02 | B98: Акустические приборы и системы
...
