Workbook

Sheet Форма 1
A1: Не допускается предоставление отчета в адрес Минпросвещения России образовательными организациями. Данные подаются региональным органом исполнительной власти по всем ОО СПО, расположенным на территории субъекта Российской Федерации, вне зависимости от ведомственной принадлежности Ячейки не объединяются. Ячейки с числовыми данными, одновременно содержащими текст или другие числовые значения, учитываться не будут. Формат ячеек с числовыми данными - только "Числовой" Графы "ПРОВЕРКА" не удаляются и не редактируются Формулы логического контроля: стр.03 <= стр.02 стр.02 и стр.04 и стр.05 < стр.01 гр.09 и гр.10 <= гр.08 сумма по видам деятельности (кроме граф "в том числе") равна суммарному выпуску (гр.07 = гр.08 + сумма(с гр.11 по гр.32))
A2: Федеральный округ (указывается в каждой строке) | B2: Субъект Российской Федерации (указывается в каждой строке)) | C2: Код профессии, специальности в формате хх.хх.хх в соответствии с приказом Минобрнауки России от 29 октября 2013 г. № 1199 (выбрать из раскрывающегося списка, проверить графу 04) | D2: Наименование профессии, специальности (добавляется автоматически при корректном вводе кода) | E2: Номер строки | F2: Наименование показателей (категория выпускников) (редактирование наименования не допускается) | G2: Суммарный выпуск в 2022 году (человек) | H2: Распределение выпускников по каналам занятости и иным видам деятельности, человек (каждый выпускник учитывается один раз. Единица измерения - человек) | AG2: Принимаемые меры по содействию занятости (тезисно - вид меры, охват выпускников мерой) | AH2: ПРОВЕРКА (сумма по всем категориям выпускников, распределенных по видам занятости, должна равняться сумме выпускников всего)
H3: Занятые выпускники | N3: Потенциальная занятость (не относится к занятости по итогам обучения, требует дополнительных мер) | Q3: Зона риска (требует оперативных мер и адресной работы) | U3: Прочее, редкие жизненные обстоятельства | AA3: Профессиональные намерения выпускников, ожидаемый эффект от работы по содействию занятости (на ближайшую перспективу - порядка 3-х месяцев)
H4: Трудоустроены (по трудовому договору, договору ГПХ в соответствии с трудовым законодательством, законодательством об обязательном пенсионном страховании) | I4: В том числе (из трудоустроенных): в соответствии с освоенной профессией, специальностью (исходя из осуществляемой трудовой функции) | J4: В том числе (из трудоустроенных): работают на протяжении не менее 4-х месяцев на последнем месте работы | K4: Индиви-дуальные предприни-матели | L4: Самозанятые (перешедшие на специальный налоговый режим - налог на профессио-нальный доход) | M4: Продолжили обучение | N4: Проходят службу в армии по призыву | O4: Проходят службу в армии на контрактной основе, в органах внутренних дел, Государственной противопожарной службе, органах по контролю за оборотом наркотических средств и психотропных веществ, учреждениях и органах уголовно-исполнительной системы, войсках национальной гвардии Российской Федерации, органах принудительного исполнения Российской Федерации* | P4: Находятся в отпуске по уходу за ребенком | Q4: Неформальная занятость (нелегальная) | R4: Зарегистрированы в центрах занятости в качестве безработных (получают пособие по безработице) и не планируют трудоустраиваться | S4: Не имеют мотивации к трудоустройству (кроме зарегистрированных в качестве безработных) и не планируют трудоустраиваться, в том числе по причинам получения иных социальных льгот | T4: Иные причины нахождения под риском нетрудоустройства | U4: Смерть, тяжелое состояние здоровья | V4: Находятся под следствием, отбывают наказание | W4: Переезд за пределы Российской Федерации (кроме переезда в иные регионы - по ним регион должен располагать сведениями) | X4: Не могут трудоустраиваться в связи с уходом за больными родственниками, в связи с иными семейными обстоятельствами | Y4: Выпускники из числа иностранных граждан, которые не имеют СНИЛС | Z4: Иное (в первую очередь выпускники распределяются по всем остальным графам. Данная графа предназначена для очень редких случаев. Если в нее включено более 1 из 200 выпускников - укажите причины в гр. 33 | AA4: будут трудоустроены | AB4: будут осуществлять предприни-мательскую деятельность | AC4: будут самозанятыми | AD4: будут призваны в армию | AE4: будут в армии на контрактной основе, в органах внутренних дел, Государственной противопожарной службе, органах по контролю за оборотом наркотических средств и психотропных веществ, учреждениях и органах уголовно-исполнительной системы, войсках национальной гвардии Российской Федерации, органах принудительного исполнения Российской Федерации* | AF4: будут продолжать обучение
A5: 01 | B5: 02 | C5: 03 | D5: 04 | E5: 05 | F5: 06 | G5: 07 | H5: 08 | I5: 09 | J5: 10 | K5: 11 | L5: 12 | M5: 13 | N5: 14 | O5: 15 | P5: 16 | Q5: 17 | R5: 18 | S5: 19 | T5: 20 | U5: 21 | V5: 22 | W5: 23 | X5: 24 | Y5: 25 | Z5: 26 | AA5: 27 | AB5: 28 | AC5: 29 | AD5: 30 | AE5: 31 | AF5: 32 | AG5: 33 | AH5: 34
A6: ЮФО | B6: Волгоградская область | C6: 09.02.03 | D6: =VLOOKUP(C6,'Коды программ'!$A$2:$B$578,2,FALSE) -> Программирование в компьютерных системах | E6: 01 | F6: Всего (общая численность выпускников) | G6: 20 | H6: 13 | I6: 5 | J6: 9 | K6: 0 | L6: 0 | M6: 0 | N6: 4 | O6: 0 | P6: 0 | Q6: 0 | R6: 0 | S6: 0 | T6: 0 | U6: 0 | V6: 0 | W6: 0 | X6: 0 | Y6: 0 | Z6: 0 | AA6: 3 | AB6: 0 | AC6: 0 | AD6: 0 | AE6: 0 | AF6: 0 | AG6: ознакомлены с банком вакансий, предложена помощь в трудоустройстве | AH6: =IF(G6=H6+K6+L6+M6+N6+O6+P6+Q6+R6+S6+T6+U6+V6+W6+X6+Y6+Z6+AA6+AB6+AC6+AD6+AE6+AF6,"проверка пройдена","ВНИМАНИЕ! Сумма по строке не сходится с общей численностью выпускников! Исправьте ошибку в расчетах, пока это сообщение не исчезнет!") -> проверка пройдена
A7: ЮФО | B7: Волгоградская область | C7: 09.02.03 | D7: =VLOOKUP(C7,'Коды программ'!$A$2:$B$578,2,FALSE) -> Программирование в компьютерных системах | E7: 02 | F7: из общей численности выпускников (из строки 01): лица с ОВЗ | G7: 0 | H7: 0 | I7: 0 | J7: 0 | K7: 0 | L7: 0 | M7: 0 | N7: 0 | O7: 0 | P7: 0 | Q7: 0 | R7: 0 | S7: 0 | T7: 0 | U7: 0 | V7: 0 | W7: 0 | X7: 0 | Y7: 0 | Z7: 0 | AA7: 0 | AB7: 0 | AC7: 0 | AD7: 0 | AE7: 0 | AF7: 0 | AG7: 0 | AH7: =IF(G7=H7+K7+L7+M7+N7+O7+P7+Q7+R7+S7+T7+U7+V7+W7+X7+Y7+Z7+AA7+AB7+AC7+AD7+AE7+AF7,"проверка пройдена","ВНИМАНИЕ! Сумма по строке не сходится с общей численностью выпускников! Исправьте ошибку в расчетах, пока это сообщение не исчезнет!") -> проверка пройдена
A8: ЮФО | B8: Волгоградская область | C8: 09.02.03 | D8: =VLOOKUP(C8,'Коды программ'!$A$2:$B$578,2,FALSE) -> Программирование в компьютерных системах | E8: 03 | F8: из числа лиц с ОВЗ (из строки 02): инвалиды и дети-инвалиды | G8: 0 | H8: 0 | I8: 0 | J8: 0 | K8: 0 | L8: 0 | M8: 0 | N8: 0 | O8: 0 | P8: 0 | Q8: 0 | R8: 0 | S8: 0 | T8: 0 | U8: 0 | V8: 0 | W8: 0 | X8: 0 | Y8: 0 | Z8: 0 | AA8: 0 | AB8: 0 | AC8: 0 | AD8: 0 | AE8: 0 | AF8: 0 | AG8: 0 | AH8: =IF(G8=H8+K8+L8+M8+N8+O8+P8+Q8+R8+S8+T8+U8+V8+W8+X8+Y8+Z8+AA8+AB8+AC8+AD8+AE8+AF8,"проверка пройдена","ВНИМАНИЕ! Сумма по строке не сходится с общей численностью выпускников! Исправьте ошибку в расчетах, пока это сообщение не исчезнет!") -> проверка пройдена
A9: ЮФО | B9: Волгоградская область | C9: 09.02.03 | D9: =VLOOKUP(C9,'Коды программ'!$A$2:$B$578,2,FALSE) -> Программирование в компьютерных системах | E9: 04 | F9: Инвалиды и дети-инвалиды (кроме учтенных в строке 03) | G9: 0 | H9: 0 | I9: 0 | J9: 0 | K9: 0 | L9: 0 | M9: 0 | N9: 0 | O9: 0 | P9: 0 | Q9: 0 | R9: 0 | S9: 0 | T9: 0 | U9: 0 | V9: 0 | W9: 0 | X9: 0 | Y9: 0 | Z9: 0 | AA9: 0 | AB9: 0 | AC9: 0 | AD9: 0 | AE9: 0 | AF9: 0 | AG9: 0 | AH9: =IF(G9=H9+K9+L9+M9+N9+O9+P9+Q9+R9+S9+T9+U9+V9+W9+X9+Y9+Z9+AA9+AB9+AC9+AD9+AE9+AF9,"проверка пройдена","ВНИМАНИЕ! Сумма по строке не сходится с общей численностью выпускников! Исправьте ошибку в расчетах, пока это сообщение не исчезнет!") -> проверка пройдена
A10: ЮФО | B10: Волгоградская область | C10: 09.02.03 | D10: =VLOOKUP(C10,'Коды программ'!$A$2:$B$578,2,FALSE) -> Программирование в компьютерных системах | E10: 05 | F10: Имеют договор о целевом обучении | G10: 0 | H10: 0 | I10: 0 | J10: 0 | K10: 0 | L10: 0 | M10: 0 | N10: 0 | O10: 0 | P10: 0 | Q10: 0 | R10: 0 | S10: 0 | T10: 0 | U10: 0 | V10: 0 | W10: 0 | X10: 0 | Y10: 0 | Z10: 0 | AA10: 0 | AB10: 0 | AC10: 0 | AD10: 0 | AE10: 0 | AF10: 0 | AG10: 0 | AH10: =IF(G10=H10+K10+L10+M10+N10+O10+P10+Q10+R10+S10+T10+U10+V10+W10+X10+Y10+Z10+AA10+AB10+AC10+AD10+AE10+AF10,"проверка пройдена","ВНИМАНИЕ! Сумма по строке не сходится с общей численностью выпускников! Исправьте ошибку в расчетах, пока это сообщение не исчезнет!") -> проверка пройдена
A11: ЮФО | B11: Волгоградская область | C11: 09.02.07 | D11: =VLOOKUP(C11,'Коды программ'!$A$2:$B$578,2,FALSE) -> Информационные системы и программирование | E11: 01 | F11: Всего (общая численность выпускников) | G11: 23 | H11: 11 | I11: 5 | J11: 8 | K11: 0 | L11: 0 | M11: 0 | N11: 7 | O11: 0 | P11: 0 | Q11: 0 | R11: 0 | S11: 0 | T11: 1 | U11: 0 | V11: 0 | W11: 0 | X11: 0 | Y11: 0 | Z11: 0 | AA11: 4 | AB11: 0 | AC11: 0 | AD11: 0 | AE11: 0 | AF11: 0 | AG11: ознакомлены с банком вакансий, предложена помощь в трудоустройстве | AH11: =IF(G11=H11+K11+L11+M11+N11+O11+P11+Q11+R11+S11+T11+U11+V11+W11+X11+Y11+Z11+AA11+AB11+AC11+AD11+AE11+AF11,"проверка пройдена","ВНИМАНИЕ! Сумма по строке не сходится с общей численностью выпускников! Исправьте ошибку в расчетах, пока это сообщение не исчезнет!") -> проверка пройдена
A12: ЮФО | B12: Волгоградская область | C12: 09.02.07 | D12: =VLOOKUP(C12,'Коды программ'!$A$2:$B$578,2,FALSE) -> Информационные системы и программирование | E12: 02 | F12: из общей численности выпускников (из строки 01): лица с ОВЗ | G12: 1 | H12: 0 | I12: 0 | J12: 0 | K12: 0 | L12: 0 | M12: 0 | N12: 0 | O12: 0 | P12: 0 | Q12: 0 | R12: 0 | S12: 0 | T12: 1 | U12: 0 | V12: 0 | W12: 0 | X12: 0 | Y12: 0 | Z12: 0 | AA12: 0 | AB12: 0 | AC12: 0 | AD12: 0 | AE12: 0 | AF12: 0 | AG12: ознакомлены с банком вакансий, предложена помощь в трудоустройстве | AH12: =IF(G12=H12+K12+L12+M12+N12+O12+P12+Q12+R12+S12+T12+U12+V12+W12+X12+Y12+Z12+AA12+AB12+AC12+AD12+AE12+AF12,"проверка пройдена","ВНИМАНИЕ! Сумма по строке не сходится с общей численностью выпускников! Исправьте ошибку в расчетах, пока это сообщение не исчезнет!") -> проверка пройдена
A13: ЮФО | B13: Волгоградская область | C13: 09.02.07 | D13: =VLOOKUP(C13,'Коды программ'!$A$2:$B$578,2,FALSE) -> Информационные системы и программирование | E13: 03 | F13: из числа лиц с ОВЗ (из строки 02): инвалиды и дети-инвалиды | G13: 1 | H13: 0 | I13: 0 | J13: 0 | K13: 0 | L13: 0 | M13: 0 | N13: 0 | O13: 0 | P13: 0 | Q13: 0 | R13: 0 | S13: 0 | T13: 1 | U13: 0 | V13: 0 | W13: 0 | X13: 0 | Y13: 0 | Z13: 0 | AA13: 0 | AB13: 0 | AC13: 0 | AD13: 0 | AE13: 0 | AF13: 0 | AG13: ознакомлены с банком вакансий, предложена помощь в трудоустройстве | AH13: =IF(G13=H13+K13+L13+M13+N13+O13+P13+Q13+R13+S13+T13+U13+V13+W13+X13+Y13+Z13+AA13+AB13+AC13+AD13+AE13+AF13,"проверка пройдена","ВНИМАНИЕ! Сумма по строке не сходится с общей численностью выпускников! Исправьте ошибку в расчетах, пока это сообщение не исчезнет!") -> проверка пройдена
A14: ЮФО | B14: Волгоградская область | C14: 09.02.07 | D14: =VLOOKUP(C14,'Коды программ'!$A$2:$B$578,2,FALSE) -> Информационные системы и программирование | E14: 04 | F14: Инвалиды и дети-инвалиды (кроме учтенных в строке 03) | G14: 0 | H14: 0 | I14: 0 | J14: 0 | K14: 0 | L14: 0 | M14: 0 | N14: 0 | O14: 0 | P14: 0 | Q14: 0 | R14: 0 | S14: 0 | T14: 0 | U14: 0 | V14: 0 | W14: 0 | X14: 0 | Y14: 0 | Z14: 0 | AA14: 0 | AB14: 0 | AC14: 0 | AD14: 0 | AE14: 0 | AF14: 0 | AG14: 0 | AH14: =IF(G14=H14+K14+L14+M14+N14+O14+P14+Q14+R14+S14+T14+U14+V14+W14+X14+Y14+Z14+AA14+AB14+AC14+AD14+AE14+AF14,"проверка пройдена","ВНИМАНИЕ! Сумма по строке не сходится с общей численностью выпускников! Исправьте ошибку в расчетах, пока это сообщение не исчезнет!") -> проверка пройдена
A15: ЮФО | B15: Волгоградская область | C15: 09.02.07 | D15: =VLOOKUP(C15,'Коды программ'!$A$2:$B$578,2,FALSE) -> Информационные системы и программирование | E15: 05 | F15: Имеют договор о целевом обучении | G15: 0 | H15: 0 | I15: 0 | J15: 0 | K15: 0 | L15: 0 | M15: 0 | N15: 0 | O15: 0 | P15: 0 | Q15: 0 | R15: 0 | S15: 0 | T15: 0 | U15: 0 | V15: 0 | W15: 0 | X15: 0 | Y15: 0 | Z15: 0 | AA15: 0 | AB15: 0 | AC15: 0 | AD15: 0 | AE15: 0 | AF15: 0 | AG15: 0 | AH15: =IF(G15=H15+K15+L15+M15+N15+O15+P15+Q15+R15+S15+T15+U15+V15+W15+X15+Y15+Z15+AA15+AB15+AC15+AD15+AE15+AF15,"проверка пройдена","ВНИМАНИЕ! Сумма по строке не сходится с общей численностью выпускников! Исправьте ошибку в расчетах, пока это сообщение не исчезнет!") -> проверка пройдена
A16: ЮФО | B16: Волгоградская область | C16: 11.02.01 | D16: =VLOOKUP(C16,'Коды программ'!$A$2:$B$578,2,FALSE) -> Радиоаппаратостроение | E16: 01 | F16: Всего (общая численность выпускников) | G16: 18 | H16: 11 | I16: 4 | J16: 9 | K16: 0 | L16: 0 | M16: 0 | N16: 5 | O16: 0 | P16: 0 | Q16: 0 | R16: 0 | S16: 0 | T16: 0 | U16: 0 | V16: 0 | W16: 0 | X16: 0 | Y16: 0 | Z16: 0 | AA16: 2 | AB16: 0 | AC16: 0 | AD16: 0 | AE16: 0 | AF16: 0 | AG16: ознакомлены с банком вакансий, предложена помощь в трудоустройстве | AH16: =IF(G16=H16+K16+L16+M16+N16+O16+P16+Q16+R16+S16+T16+U16+V16+W16+X16+Y16+Z16+AA16+AB16+AC16+AD16+AE16+AF16,"проверка пройдена","ВНИМАНИЕ! Сумма по строке не сходится с общей численностью выпускников! Исправьте ошибку в расчетах, пока это сообщение не исчезнет!") -> проверка пройдена
A17: ЮФО | B17: Волгоградская область | C17: 11.02.01 | D17: =VLOOKUP(C17,'Коды программ'!$A$2:$B$578,2,FALSE) -> Радиоаппаратостроение | E17: 02 | F17: из общей численности выпускников (из строки 01): лица с ОВЗ | G17: 0 | H17: 0 | I17: 0 | J17: 0 | K17: 0 | L17: 0 | M17: 0 | N17: 0 | O17: 0 | P17: 0 | Q17: 0 | R17: 0 | S17: 0 | T17: 0 | U17: 0 | V17: 0 | W17: 0 | X17: 0 | Y17: 0 | Z17: 0 | AA17: 0 | AB17: 0 | AC17: 0 | AD17: 0 | AE17: 0 | AF17: 0 | AG17: 0 | AH17: =IF(G17=H17+K17+L17+M17+N17+O17+P17+Q17+R17+S17+T17+U17+V17+W17+X17+Y17+Z17+AA17+AB17+AC17+AD17+AE17+AF17,"проверка пройдена","ВНИМАНИЕ! Сумма по строке не сходится с общей численностью выпускников! Исправьте ошибку в расчетах, пока это сообщение не исчезнет!") -> проверка пройдена
A18: ЮФО | B18: Волгоградская область | C18: 11.02.01 | D18: =VLOOKUP(C18,'Коды программ'!$A$2:$B$578,2,FALSE) -> Радиоаппаратостроение | E18: 03 | F18: из числа лиц с ОВЗ (из строки 02): инвалиды и дети-инвалиды | G18: 0 | H18: 0 | I18: 0 | J18: 0 | K18: 0 | L18: 0 | M18: 0 | N18: 0 | O18: 0 | P18: 0 | Q18: 0 | R18: 0 | S18: 0 | T18: 0 | U18: 0 | V18: 0 | W18: 0 | X18: 0 | Y18: 0 | Z18: 0 | AA18: 0 | AB18: 0 | AC18: 0 | AD18: 0 | AE18: 0 | AF18: 0 | AG18: 0 | AH18: =IF(G18=H18+K18+L18+M18+N18+O18+P18+Q18+R18+S18+T18+U18+V18+W18+X18+Y18+Z18+AA18+AB18+AC18+AD18+AE18+AF18,"проверка пройдена","ВНИМАНИЕ! Сумма по строке не сходится с общей численностью выпускников! Исправьте ошибку в расчетах, пока это сообщение не исчезнет!") -> проверка пройдена
A19: ЮФО | B19: Волгоградская область | C19: 11.02.01 | D19: =VLOOKUP(C19,'Коды программ'!$A$2:$B$578,2,FALSE) -> Радиоаппаратостроение | E19: 04 | F19: Инвалиды и дети-инвалиды (кроме учтенных в строке 03) | G19: 0 | H19: 0 | I19: 0 | J19: 0 | K19: 0 | L19: 0 | M19: 0 | N19: 0 | O19: 0 | P19: 0 | Q19: 0 | R19: 0 | S19: 0 | T19: 0 | U19: 0 | V19: 0 | W19: 0 | X19: 0 | Y19: 0 | Z19: 0 | AA19: 0 | AB19: 0 | AC19: 0 | AD19: 0 | AE19: 0 | AF19: 0 | AG19: 0 | AH19: =IF(G19=H19+K19+L19+M19+N19+O19+P19+Q19+R19+S19+T19+U19+V19+W19+X19+Y19+Z19+AA19+AB19+AC19+AD19+AE19+AF19,"проверка пройдена","ВНИМАНИЕ! Сумма по строке не сходится с общей численностью выпускников! Исправьте ошибку в расчетах, пока это сообщение не исчезнет!") -> проверка пройдена
A20: ЮФО | B20: Волгоградская область | C20: 11.02.01 | D20: =VLOOKUP(C20,'Коды программ'!$A$2:$B$578,2,FALSE) -> Радиоаппаратостроение | E20: 05 | F20: Имеют договор о целевом обучении | G20: 0 | H20: 0 | I20: 0 | J20: 0 | K20: 0 | L20: 0 | M20: 0 | N20: 0 | O20: 0 | P20: 0 | Q20: 0 | R20: 0 | S20: 0 | T20: 0 | U20: 0 | V20: 0 | W20: 0 | X20: 0 | Y20: 0 | Z20: 0 | AA20: 0 | AB20: 0 | AC20: 0 | AD20: 0 | AE20: 0 | AF20: 0 | AG20: 0 | AH20: =IF(G20=H20+K20+L20+M20+N20+O20+P20+Q20+R20+S20+T20+U20+V20+W20+X20+Y20+Z20+AA20+AB20+AC20+AD20+AE20+AF20,"проверка пройдена","ВНИМАНИЕ! Сумма по строке не сходится с общей численностью выпускников! Исправьте ошибку в расчетах, пока это сообщение не исчезнет!") -> проверка пройдена
A21: ЮФО | B21: Волгоградская область | C21: 15.01.05 | D21: =VLOOKUP(C21,'Коды программ'!$A$2:$B$578,2,FALSE) -> Сварщик (ручной и частично механизированной сварки (наплавки) | E21: 01 | F21: Всего (общая численность выпускников) | G21: 21 | H21: 7 | I21: 2 | J21: 3 | K21: 0 | L21: 0 | M21: 0 | N21: 7 | O21: 0 | P21: 0 | Q21: 0 | R21: 0 | S21: 0 | T21: 0 | U21: 0 | V21: 0 | W21: 0 | X21: 0 | Y21: 0 | Z21: 0 | AA21: 7 | AB21: 0 | AC21: 0 | AD21: 0 | AE21: 0 | AF21: 0 | AG21: ознакомлены с банком вакансий, предложена помощь в трудоустройстве | AH21: =IF(G21=H21+K21+L21+M21+N21+O21+P21+Q21+R21+S21+T21+U21+V21+W21+X21+Y21+Z21+AA21+AB21+AC21+AD21+AE21+AF21,"проверка пройдена","ВНИМАНИЕ! Сумма по строке не сходится с общей численностью выпускников! Исправьте ошибку в расчетах, пока это сообщение не исчезнет!") -> проверка пройдена
A22: ЮФО | B22: Волгоградская область | C22: 15.01.05 | D22: =VLOOKUP(C22,'Коды программ'!$A$2:$B$578,2,FALSE) -> Сварщик (ручной и частично механизированной сварки (наплавки) | E22: 02 | F22: из общей численности выпускников (из строки 01): лица с ОВЗ | G22: 0 | H22: 0 | I22: 0 | J22: 0 | K22: 0 | L22: 0 | M22: 0 | N22: 0 | O22: 0 | P22: 0 | Q22: 0 | R22: 0 | S22: 0 | T22: 0 | U22: 0 | V22: 0 | W22: 0 | X22: 0 | Y22: 0 | Z22: 0 | AA22: 0 | AB22: 0 | AC22: 0 | AD22: 0 | AE22: 0 | AF22: 0 | AG22: 0 | AH22: =IF(G22=H22+K22+L22+M22+N22+O22+P22+Q22+R22+S22+T22+U22+V22+W22+X22+Y22+Z22+AA22+AB22+AC22+AD22+AE22+AF22,"проверка пройдена","ВНИМАНИЕ! Сумма по строке не сходится с общей численностью выпускников! Исправьте ошибку в расчетах, пока это сообщение не исчезнет!") -> проверка пройдена
A23: ЮФО | B23: Волгоградская область | C23: 15.01.05 | D23: =VLOOKUP(C23,'Коды программ'!$A$2:$B$578,2,FALSE) -> Сварщик (ручной и частично механизированной сварки (наплавки) | E23: 03 | F23: из числа лиц с ОВЗ (из строки 02): инвалиды и дети-инвалиды | G23: 0 | H23: 0 | I23: 0 | J23: 0 | K23: 0 | L23: 0 | M23: 0 | N23: 0 | O23: 0 | P23: 0 | Q23: 0 | R23: 0 | S23: 0 | T23: 0 | U23: 0 | V23: 0 | W23: 0 | X23: 0 | Y23: 0 | Z23: 0 | AA23: 0 | AB23: 0 | AC23: 0 | AD23: 0 | AE23: 0 | AF23: 0 | AG23: 0 | AH23: =IF(G23=H23+K23+L23+M23+N23+O23+P23+Q23+R23+S23+T23+U23+V23+W23+X23+Y23+Z23+AA23+AB23+AC23+AD23+AE23+AF23,"проверка пройдена","ВНИМАНИЕ! Сумма по строке не сходится с общей численностью выпускников! Исправьте ошибку в расчетах, пока это сообщение не исчезнет!") -> проверка пройдена
A24: ЮФО | B24: Волгоградская область | C24: 15.01.05 | D24: =VLOOKUP(C24,'Коды программ'!$A$2:$B$578,2,FALSE) -> Сварщик (ручной и частично механизированной сварки (наплавки) | E24: 04 | F24: Инвалиды и дети-инвалиды (кроме учтенных в строке 03) | G24: 0 | H24: 0 | I24: 0 | J24: 0 | K24: 0 | L24: 0 | M24: 0 | N24: 0 | O24: 0 | P24: 0 | Q24: 0 | R24: 0 | S24: 0 | T24: 0 | U24: 0 | V24: 0 | W24: 0 | X24: 0 | Y24: 0 | Z24: 0 | AA24: 0 | AB24: 0 | AC24: 0 | AD24: 0 | AE24: 0 | AF24: 0 | AG24: 0 | AH24: =IF(G24=H24+K24+L24+M24+N24+O24+P24+Q24+R24+S24+T24+U24+V24+W24+X24+Y24+Z24+AA24+AB24+AC24+AD24+AE24+AF24,"проверка пройдена","ВНИМАНИЕ! Сумма по строке не сходится с общей численностью выпускников! Исправьте ошибку в расчетах, пока это сообщение не исчезнет!") -> проверка пройдена
A25: ЮФО | B25: Волгоградская область | C25: 15.01.05 | D25: =VLOOKUP(C25,'Коды программ'!$A$2:$B$578,2,FALSE) -> Сварщик (ручной и частично механизированной сварки (наплавки) | E25: 05 | F25: Имеют договор о целевом обучении | G25: 0 | H25: 0 | I25: 0 | J25: 0 | K25: 0 | L25: 0 | M25: 0 | N25: 0 | O25: 0 | P25: 0 | Q25: 0 | R25: 0 | S25: 0 | T25: 0 | U25: 0 | V25: 0 | W25: 0 | X25: 0 | Y25: 0 | Z25: 0 | AA25: 0 | AB25: 0 | AC25: 0 | AD25: 0 | AE25: 0 | AF25: 0 | AG25: 0 | AH25: =IF(G25=H25+K25+L25+M25+N25+O25+P25+Q25+R25+S25+T25+U25+V25+W25+X25+Y25+Z25+AA25+AB25+AC25+AD25+AE25+AF25,"проверка пройдена","ВНИМАНИЕ! Сумма по строке не сходится с общей численностью выпускников! Исправьте ошибку в расчетах, пока это сообщение не исчезнет!") -> проверка пройдена
A26: ЮФО | B26: Волгоградская область | C26: 15.01.32 | D26: =VLOOKUP(C26,'Коды программ'!$A$2:$B$578,2,FALSE) -> Оператор станков с программным управлением | E26: 01 | F26: Всего (общая численность выпускников) | G26: 19 | H26: 10 | I26: 4 | J26: 6 | K26: 0 | L26: 0 | M26: 0 | N26: 5 | O26: 0 | P26: 0 | Q26: 0 | R26: 0 | S26: 0 | T26: 0 | U26: 0 | V26: 0 | W26: 0 | X26: 0 | Y26: 0 | Z26: 0 | AA26: 4 | AB26: 0 | AC26: 0 | AD26: 0 | AE26: 0 | AF26: 0 | AG26: ознакомлены с банком вакансий, предложена помощь в трудоустройстве | AH26: =IF(G26=H26+K26+L26+M26+N26+O26+P26+Q26+R26+S26+T26+U26+V26+W26+X26+Y26+Z26+AA26+AB26+AC26+AD26+AE26+AF26,"проверка пройдена","ВНИМАНИЕ! Сумма по строке не сходится с общей численностью выпускников! Исправьте ошибку в расчетах, пока это сообщение не исчезнет!") -> проверка пройдена
A27: ЮФО | B27: Волгоградская область | C27: 15.01.32 | D27: =VLOOKUP(C27,'Коды программ'!$A$2:$B$578,2,FALSE) -> Оператор станков с программным управлением | E27: 02 | F27: из общей численности выпускников (из строки 01): лица с ОВЗ | G27: 0 | H27: 0 | I27: 0 | J27: 0 | K27: 0 | L27: 0 | M27: 0 | N27: 0 | O27: 0 | P27: 0 | Q27: 0 | R27: 0 | S27: 0 | T27: 0 | U27: 0 | V27: 0 | W27: 0 | X27: 0 | Y27: 0 | Z27: 0 | AA27: 0 | AB27: 0 | AC27: 0 | AD27: 0 | AE27: 0 | AF27: 0 | AG27: 0 | AH27: =IF(G27=H27+K27+L27+M27+N27+O27+P27+Q27+R27+S27+T27+U27+V27+W27+X27+Y27+Z27+AA27+AB27+AC27+AD27+AE27+AF27,"проверка пройдена","ВНИМАНИЕ! Сумма по строке не сходится с общей численностью выпускников! Исправьте ошибку в расчетах, пока это сообщение не исчезнет!") -> проверка пройдена
A28: ЮФО | B28: Волгоградская область | C28: 15.01.32 | D28: =VLOOKUP(C28,'Коды программ'!$A$2:$B$578,2,FALSE) -> Оператор станков с программным управлением | E28: 03 | F28: из числа лиц с ОВЗ (из строки 02): инвалиды и дети-инвалиды | G28: 0 | H28: 0 | I28: 0 | J28: 0 | K28: 0 | L28: 0 | M28: 0 | N28: 0 | O28: 0 | P28: 0 | Q28: 0 | R28: 0 | S28: 0 | T28: 0 | U28: 0 | V28: 0 | W28: 0 | X28: 0 | Y28: 0 | Z28: 0 | AA28: 0 | AB28: 0 | AC28: 0 | AD28: 0 | AE28: 0 | AF28: 0 | AG28: 0 | AH28: =IF(G28=H28+K28+L28+M28+N28+O28+P28+Q28+R28+S28+T28+U28+V28+W28+X28+Y28+Z28+AA28+AB28+AC28+AD28+AE28+AF28,"проверка пройдена","ВНИМАНИЕ! Сумма по строке не сходится с общей численностью выпускников! Исправьте ошибку в расчетах, пока это сообщение не исчезнет!") -> проверка пройдена
A29: ЮФО | B29: Волгоградская область | C29: 15.01.32 | D29: =VLOOKUP(C29,'Коды программ'!$A$2:$B$578,2,FALSE) -> Оператор станков с программным управлением | E29: 04 | F29: Инвалиды и дети-инвалиды (кроме учтенных в строке 03) | G29: 0 | H29: 0 | I29: 0 | J29: 0 | K29: 0 | L29: 0 | M29: 0 | N29: 0 | O29: 0 | P29: 0 | Q29: 0 | R29: 0 | S29: 0 | T29: 0 | U29: 0 | V29: 0 | W29: 0 | X29: 0 | Y29: 0 | Z29: 0 | AA29: 0 | AB29: 0 | AC29: 0 | AD29: 0 | AE29: 0 | AF29: 0 | AG29: 0 | AH29: =IF(G29=H29+K29+L29+M29+N29+O29+P29+Q29+R29+S29+T29+U29+V29+W29+X29+Y29+Z29+AA29+AB29+AC29+AD29+AE29+AF29,"проверка пройдена","ВНИМАНИЕ! Сумма по строке не сходится с общей численностью выпускников! Исправьте ошибку в расчетах, пока это сообщение не исчезнет!") -> проверка пройдена
A30: ЮФО | B30: Волгоградская область | C30: 15.01.32 | D30: =VLOOKUP(C30,'Коды программ'!$A$2:$B$578,2,FALSE) -> Оператор станков с программным управлением | E30: 05 | F30: Имеют договор о целевом обучении | G30: 0 | H30: 0 | I30: 0 | J30: 0 | K30: 0 | L30: 0 | M30: 0 | N30: 0 | O30: 0 | P30: 0 | Q30: 0 | R30: 0 | S30: 0 | T30: 0 | U30: 0 | V30: 0 | W30: 0 | X30: 0 | Y30: 0 | Z30: 0 | AA30: 0 | AB30: 0 | AC30: 0 | AD30: 0 | AE30: 0 | AF30: 0 | AG30: 0 | AH30: =IF(G30=H30+K30+L30+M30+N30+O30+P30+Q30+R30+S30+T30+U30+V30+W30+X30+Y30+Z30+AA30+AB30+AC30+AD30+AE30+AF30,"проверка пройдена","ВНИМАНИЕ! Сумма по строке не сходится с общей численностью выпускников! Исправьте ошибку в расчетах, пока это сообщение не исчезнет!") -> проверка пройдена
A31: ЮФО | B31: Волгоградская область | C31: 15.02.08 | D31: =VLOOKUP(C31,'Коды программ'!$A$2:$B$578,2,FALSE) -> Технология машиностроения | E31: 01 | F31: Всего (общая численность выпускников) | G31: 26 | H31: 16 | I31: 8 | J31: 14 | K31: 0 | L31: 0 | M31: 0 | N31: 7 | O31: 0 | P31: 0 | Q31: 0 | R31: 0 | S31: 0 | T31: 0 | U31: 0 | V31: 0 | W31: 0 | X31: 0 | Y31: 0 | Z31: 0 | AA31: 3 | AB31: 0 | AC31: 0 | AD31: 0 | AE31: 0 | AF31: 0 | AG31: ознакомлены с банком вакансий, предложена помощь в трудоустройстве | AH31: =IF(G31=H31+K31+L31+M31+N31+O31+P31+Q31+R31+S31+T31+U31+V31+W31+X31+Y31+Z31+AA31+AB31+AC31+AD31+AE31+AF31,"проверка пройдена","ВНИМАНИЕ! Сумма по строке не сходится с общей численностью выпускников! Исправьте ошибку в расчетах, пока это сообщение не исчезнет!") -> проверка пройдена
A32: ЮФО | B32: Волгоградская область | C32: 15.02.08 | D32: =VLOOKUP(C32,'Коды программ'!$A$2:$B$578,2,FALSE) -> Технология машиностроения | E32: 02 | F32: из общей численности выпускников (из строки 01): лица с ОВЗ | G32: 1 | H32: 1 | I32: 0 | J32: 0 | K32: 0 | L32: 0 | M32: 0 | N32: 0 | O32: 0 | P32: 0 | Q32: 0 | R32: 0 | S32: 0 | T32: 0 | U32: 0 | V32: 0 | W32: 0 | X32: 0 | Y32: 0 | Z32: 0 | AA32: 0 | AB32: 0 | AC32: 0 | AD32: 0 | AE32: 0 | AF32: 0 | AG32: ознакомлены с банком вакансий, предложена помощь в трудоустройстве | AH32: =IF(G32=H32+K32+L32+M32+N32+O32+P32+Q32+R32+S32+T32+U32+V32+W32+X32+Y32+Z32+AA32+AB32+AC32+AD32+AE32+AF32,"проверка пройдена","ВНИМАНИЕ! Сумма по строке не сходится с общей численностью выпускников! Исправьте ошибку в расчетах, пока это сообщение не исчезнет!") -> проверка пройдена
A33: ЮФО | B33: Волгоградская область | C33: 15.02.08 | D33: =VLOOKUP(C33,'Коды программ'!$A$2:$B$578,2,FALSE) -> Технология машиностроения | E33: 03 | F33: из числа лиц с ОВЗ (из строки 02): инвалиды и дети-инвалиды | G33: 1 | H33: 1 | I33: 0 | J33: 0 | K33: 0 | L33: 0 | M33: 0 | N33: 0 | O33: 0 | P33: 0 | Q33: 0 | R33: 0 | S33: 0 | T33: 0 | U33: 0 | V33: 0 | W33: 0 | X33: 0 | Y33: 0 | Z33: 0 | AA33: 0 | AB33: 0 | AC33: 0 | AD33: 0 | AE33: 0 | AF33: 0 | AG33: ознакомлены с банком вакансий, предложена помощь в трудоустройстве | AH33: =IF(G33=H33+K33+L33+M33+N33+O33+P33+Q33+R33+S33+T33+U33+V33+W33+X33+Y33+Z33+AA33+AB33+AC33+AD33+AE33+AF33,"проверка пройдена","ВНИМАНИЕ! Сумма по строке не сходится с общей численностью выпускников! Исправьте ошибку в расчетах, пока это сообщение не исчезнет!") -> проверка пройдена
A34: ЮФО | B34: Волгоградская область | C34: 15.02.08 | D34: =VLOOKUP(C34,'Коды программ'!$A$2:$B$578,2,FALSE) -> Технология машиностроения | E34: 04 | F34: Инвалиды и дети-инвалиды (кроме учтенных в строке 03) | G34: 0 | H34: 0 | I34: 0 | J34: 0 | K34: 0 | L34: 0 | M34: 0 | N34: 0 | O34: 0 | P34: 0 | Q34: 0 | R34: 0 | S34: 0 | T34: 0 | U34: 0 | V34: 0 | W34: 0 | X34: 0 | Y34: 0 | Z34: 0 | AA34: 0 | AB34: 0 | AC34: 0 | AD34: 0 | AE34: 0 | AF34: 0 | AG34: 0 | AH34: =IF(G34=H34+K34+L34+M34+N34+O34+P34+Q34+R34+S34+T34+U34+V34+W34+X34+Y34+Z34+AA34+AB34+AC34+AD34+AE34+AF34,"проверка пройдена","ВНИМАНИЕ! Сумма по строке не сходится с общей численностью выпускников! Исправьте ошибку в расчетах, пока это сообщение не исчезнет!") -> проверка пройдена
A35: ЮФО | B35: Волгоградская область | C35: 15.02.08 | D35: =VLOOKUP(C35,'Коды программ'!$A$2:$B$578,2,FALSE) -> Технология машиностроения | E35: 05 | F35: Имеют договор о целевом обучении | G35: 0 | H35: 0 | I35: 0 | J35: 0 | K35: 0 | L35: 0 | M35: 0 | N35: 0 | O35: 0 | P35: 0 | Q35: 0 | R35: 0 | S35: 0 | T35: 0 | U35: 0 | V35: 0 | W35: 0 | X35: 0 | Y35: 0 | Z35: 0 | AA35: 0 | AB35: 0 | AC35: 0 | AD35: 0 | AE35: 0 | AF35: 0 | AG35: 0 | AH35: =IF(G35=H35+K35+L35+M35+N35+O35+P35+Q35+R35+S35+T35+U35+V35+W35+X35+Y35+Z35+AA35+AB35+AC35+AD35+AE35+AF35,"проверка пройдена","ВНИМАНИЕ! Сумма по строке не сходится с общей численностью выпускников! Исправьте ошибку в расчетах, пока это сообщение не исчезнет!") -> проверка пройдена
A36: ЮФО | B36: Волгоградская область | C36: 15.02.09 | D36: =VLOOKUP(C36,'Коды программ'!$A$2:$B$578,2,FALSE) -> Аддитивные технологии | E36: 01 | F36: Всего (общая численность выпускников) | G36: 22 | H36: 16 | I36: 14 | J36: 16 | K36: 0 | L36: 0 | M36: 3 | N36: 3 | O36: 0 | P36: 0 | Q36: 0 | R36: 0 | S36: 0 | T36: 0 | U36: 0 | V36: 0 | W36: 0 | X36: 0 | Y36: 0 | Z36: 0 | AA36: 0 | AB36: 0 | AC36: 0 | AD36: 0 | AE36: 0 | AF36: 0 | AG36: ознакомлены с банком вакансий, предложена помощь в трудоустройстве | AH36: =IF(G36=H36+K36+L36+M36+N36+O36+P36+Q36+R36+S36+T36+U36+V36+W36+X36+Y36+Z36+AA36+AB36+AC36+AD36+AE36+AF36,"проверка пройдена","ВНИМАНИЕ! Сумма по строке не сходится с общей численностью выпускников! Исправьте ошибку в расчетах, пока это сообщение не исчезнет!") -> проверка пройдена
A37: ЮФО | B37: Волгоградская область | C37: 15.02.09 | D37: =VLOOKUP(C37,'Коды программ'!$A$2:$B$578,2,FALSE) -> Аддитивные технологии | E37: 02 | F37: из общей численности выпускников (из строки 01): лица с ОВЗ | G37: 0 | H37: 0 | I37: 0 | J37: 0 | K37: 0 | L37: 0 | M37: 0 | N37: 0 | O37: 0 | P37: 0 | Q37: 0 | R37: 0 | S37: 0 | T37: 0 | U37: 0 | V37: 0 | W37: 0 | X37: 0 | Y37: 0 | Z37: 0 | AA37: 0 | AB37: 0 | AC37: 0 | AD37: 0 | AE37: 0 | AF37: 0 | AG37: 0 | AH37: =IF(G37=H37+K37+L37+M37+N37+O37+P37+Q37+R37+S37+T37+U37+V37+W37+X37+Y37+Z37+AA37+AB37+AC37+AD37+AE37+AF37,"проверка пройдена","ВНИМАНИЕ! Сумма по строке не сходится с общей численностью выпускников! Исправьте ошибку в расчетах, пока это сообщение не исчезнет!") -> проверка пройдена
A38: ЮФО | B38: Волгоградская область | C38: 15.02.09 | D38: =VLOOKUP(C38,'Коды программ'!$A$2:$B$578,2,FALSE) -> Аддитивные технологии | E38: 03 | F38: из числа лиц с ОВЗ (из строки 02): инвалиды и дети-инвалиды | G38: 0 | H38: 0 | I38: 0 | J38: 0 | K38: 0 | L38: 0 | M38: 0 | N38: 0 | O38: 0 | P38: 0 | Q38: 0 | R38: 0 | S38: 0 | T38: 0 | U38: 0 | V38: 0 | W38: 0 | X38: 0 | Y38: 0 | Z38: 0 | AA38: 0 | AB38: 0 | AC38: 0 | AD38: 0 | AE38: 0 | AF38: 0 | AG38: 0 | AH38: =IF(G38=H38+K38+L38+M38+N38+O38+P38+Q38+R38+S38+T38+U38+V38+W38+X38+Y38+Z38+AA38+AB38+AC38+AD38+AE38+AF38,"проверка пройдена","ВНИМАНИЕ! Сумма по строке не сходится с общей численностью выпускников! Исправьте ошибку в расчетах, пока это сообщение не исчезнет!") -> проверка пройдена
A39: ЮФО | B39: Волгоградская область | C39: 15.02.09 | D39: =VLOOKUP(C39,'Коды программ'!$A$2:$B$578,2,FALSE) -> Аддитивные технологии | E39: 04 | F39: Инвалиды и дети-инвалиды (кроме учтенных в строке 03) | G39: 0 | H39: 0 | I39: 0 | J39: 0 | K39: 0 | L39: 0 | M39: 0 | N39: 0 | O39: 0 | P39: 0 | Q39: 0 | R39: 0 | S39: 0 | T39: 0 | U39: 0 | V39: 0 | W39: 0 | X39: 0 | Y39: 0 | Z39: 0 | AA39: 0 | AB39: 0 | AC39: 0 | AD39: 0 | AE39: 0 | AF39: 0 | AG39: 0 | AH39: =IF(G39=H39+K39+L39+M39+N39+O39+P39+Q39+R39+S39+T39+U39+V39+W39+X39+Y39+Z39+AA39+AB39+AC39+AD39+AE39+AF39,"проверка пройдена","ВНИМАНИЕ! Сумма по строке не сходится с общей численностью выпускников! Исправьте ошибку в расчетах, пока это сообщение не исчезнет!") -> проверка пройдена
A40: ЮФО | B40: Волгоградская область | C40: 15.02.09 | D40: =VLOOKUP(C40,'Коды программ'!$A$2:$B$578,2,FALSE) -> Аддитивные технологии | E40: 05 | F40: Имеют договор о целевом обучении | G40: 0 | H40: 0 | I40: 0 | J40: 0 | K40: 0 | L40: 0 | M40: 0 | N40: 0 | O40: 0 | P40: 0 | Q40: 0 | R40: 0 | S40: 0 | T40: 0 | U40: 0 | V40: 0 | W40: 0 | X40: 0 | Y40: 0 | Z40: 0 | AA40: 0 | AB40: 0 | AC40: 0 | AD40: 0 | AE40: 0 | AF40: 0 | AG40: 0 | AH40: =IF(G40=H40+K40+L40+M40+N40+O40+P40+Q40+R40+S40+T40+U40+V40+W40+X40+Y40+Z40+AA40+AB40+AC40+AD40+AE40+AF40,"проверка пройдена","ВНИМАНИЕ! Сумма по строке не сходится с общей численностью выпускников! Исправьте ошибку в расчетах, пока это сообщение не исчезнет!") -> проверка пройдена
A41: ЮФО | B41: Волгоградская область | C41: 19.01.02 | D41: =VLOOKUP(C41,'Коды программ'!$A$2:$B$578,2,FALSE) -> Лаборант-аналитик | E41: 01 | F41: Всего (общая численность выпускников) | G41: 20 | H41: 18 | I41: 7 | J41: 15 | K41: 0 | L41: 0 | M41: 0 | N41: 2 | O41: 0 | P41: 0 | Q41: 0 | R41: 0 | S41: 0 | T41: 0 | U41: 0 | V41: 0 | W41: 0 | X41: 0 | Y41: 0 | Z41: 0 | AA41: 0 | AB41: 0 | AC41: 0 | AD41: 0 | AE41: 0 | AF41: 0 | AG41: ознакомлены с банком вакансий, предложена помощь в трудоустройстве | AH41: =IF(G41=H41+K41+L41+M41+N41+O41+P41+Q41+R41+S41+T41+U41+V41+W41+X41+Y41+Z41+AA41+AB41+AC41+AD41+AE41+AF41,"проверка пройдена","ВНИМАНИЕ! Сумма по строке не сходится с общей численностью выпускников! Исправьте ошибку в расчетах, пока это сообщение не исчезнет!") -> проверка пройдена
A42: ЮФО | B42: Волгоградская область | C42: 19.01.02 | D42: =VLOOKUP(C42,'Коды программ'!$A$2:$B$578,2,FALSE) -> Лаборант-аналитик | E42: 02 | F42: из общей численности выпускников (из строки 01): лица с ОВЗ | G42: 0 | H42: 0 | I42: 0 | J42: 0 | K42: 0 | L42: 0 | M42: 0 | N42: 0 | O42: 0 | P42: 0 | Q42: 0 | R42: 0 | S42: 0 | T42: 0 | U42: 0 | V42: 0 | W42: 0 | X42: 0 | Y42: 0 | Z42: 0 | AA42: 0 | AB42: 0 | AC42: 0 | AD42: 0 | AE42: 0 | AF42: 0 | AG42: 0 | AH42: =IF(G42=H42+K42+L42+M42+N42+O42+P42+Q42+R42+S42+T42+U42+V42+W42+X42+Y42+Z42+AA42+AB42+AC42+AD42+AE42+AF42,"проверка пройдена","ВНИМАНИЕ! Сумма по строке не сходится с общей численностью выпускников! Исправьте ошибку в расчетах, пока это сообщение не исчезнет!") -> проверка пройдена
A43: ЮФО | B43: Волгоградская область | C43: 19.01.02 | D43: =VLOOKUP(C43,'Коды программ'!$A$2:$B$578,2,FALSE) -> Лаборант-аналитик | E43: 03 | F43: из числа лиц с ОВЗ (из строки 02): инвалиды и дети-инвалиды | G43: 0 | H43: 0 | I43: 0 | J43: 0 | K43: 0 | L43: 0 | M43: 0 | N43: 0 | O43: 0 | P43: 0 | Q43: 0 | R43: 0 | S43: 0 | T43: 0 | U43: 0 | V43: 0 | W43: 0 | X43: 0 | Y43: 0 | Z43: 0 | AA43: 0 | AB43: 0 | AC43: 0 | AD43: 0 | AE43: 0 | AF43: 0 | AG43: 0 | AH43: =IF(G43=H43+K43+L43+M43+N43+O43+P43+Q43+R43+S43+T43+U43+V43+W43+X43+Y43+Z43+AA43+AB43+AC43+AD43+AE43+AF43,"проверка пройдена","ВНИМАНИЕ! Сумма по строке не сходится с общей численностью выпускников! Исправьте ошибку в расчетах, пока это сообщение не исчезнет!") -> проверка пройдена
A44: ЮФО | B44: Волгоградская область | C44: 19.01.02 | D44: =VLOOKUP(C44,'Коды программ'!$A$2:$B$578,2,FALSE) -> Лаборант-аналитик | E44: 04 | F44: Инвалиды и дети-инвалиды (кроме учтенных в строке 03) | G44: 0 | H44: 0 | I44: 0 | J44: 0 | K44: 0 | L44: 0 | M44: 0 | N44: 0 | O44: 0 | P44: 0 | Q44: 0 | R44: 0 | S44: 0 | T44: 0 | U44: 0 | V44: 0 | W44: 0 | X44: 0 | Y44: 0 | Z44: 0 | AA44: 0 | AB44: 0 | AC44: 0 | AD44: 0 | AE44: 0 | AF44: 0 | AG44: 0 | AH44: =IF(G44=H44+K44+L44+M44+N44+O44+P44+Q44+R44+S44+T44+U44+V44+W44+X44+Y44+Z44+AA44+AB44+AC44+AD44+AE44+AF44,"проверка пройдена","ВНИМАНИЕ! Сумма по строке не сходится с общей численностью выпускников! Исправьте ошибку в расчетах, пока это сообщение не исчезнет!") -> проверка пройдена
A45: ЮФО | B45: Волгоградская область | C45: 19.01.02 | D45: =VLOOKUP(C45,'Коды программ'!$A$2:$B$578,2,FALSE) -> Лаборант-аналитик | E45: 05 | F45: Имеют договор о целевом обучении | G45: 0 | H45: 0 | I45: 0 | J45: 0 | K45: 0 | L45: 0 | M45: 0 | N45: 0 | O45: 0 | P45: 0 | Q45: 0 | R45: 0 | S45: 0 | T45: 0 | U45: 0 | V45: 0 | W45: 0 | X45: 0 | Y45: 0 | Z45: 0 | AA45: 0 | AB45: 0 | AC45: 0 | AD45: 0 | AE45: 0 | AF45: 0 | AG45: 0 | AH45: =IF(G45=H45+K45+L45+M45+N45+O45+P45+Q45+R45+S45+T45+U45+V45+W45+X45+Y45+Z45+AA45+AB45+AC45+AD45+AE45+AF45,"проверка пройдена","ВНИМАНИЕ! Сумма по строке не сходится с общей численностью выпускников! Исправьте ошибку в расчетах, пока это сообщение не исчезнет!") -> проверка пройдена
A46: ЮФО | B46: Волгоградская область | C46: 19.02.10 | D46: =VLOOKUP(C46,'Коды программ'!$A$2:$B$578,2,FALSE) -> Технология продукции общественного питания | E46: 01 | F46: Всего (общая численность выпускников) | G46: 14 | H46: 10 | I46: 6 | J46: 9 | K46: 0 | L46: 0 | M46: 0 | N46: 1 | O46: 0 | P46: 0 | Q46: 0 | R46: 0 | S46: 0 | T46: 0 | U46: 0 | V46: 0 | W46: 0 | X46: 0 | Y46: 0 | Z46: 0 | AA46: 3 | AB46: 0 | AC46: 0 | AD46: 0 | AE46: 0 | AF46: 0 | AG46: ознакомлены с банком вакансий, предложена помощь в трудоустройстве | AH46: =IF(G46=H46+K46+L46+M46+N46+O46+P46+Q46+R46+S46+T46+U46+V46+W46+X46+Y46+Z46+AA46+AB46+AC46+AD46+AE46+AF46,"проверка пройдена","ВНИМАНИЕ! Сумма по строке не сходится с общей численностью выпускников! Исправьте ошибку в расчетах, пока это сообщение не исчезнет!") -> проверка пройдена
A47: ЮФО | B47: Волгоградская область | C47: 19.02.10 | D47: =VLOOKUP(C47,'Коды программ'!$A$2:$B$578,2,FALSE) -> Технология продукции общественного питания | E47: 02 | F47: из общей численности выпускников (из строки 01): лица с ОВЗ | G47: 0 | H47: 0 | I47: 0 | J47: 0 | K47: 0 | L47: 0 | M47: 0 | N47: 0 | O47: 0 | P47: 0 | Q47: 0 | R47: 0 | S47: 0 | T47: 0 | U47: 0 | V47: 0 | W47: 0 | X47: 0 | Y47: 0 | Z47: 0 | AA47: 0 | AB47: 0 | AC47: 0 | AD47: 0 | AE47: 0 | AF47: 0 | AG47: 0 | AH47: =IF(G47=H47+K47+L47+M47+N47+O47+P47+Q47+R47+S47+T47+U47+V47+W47+X47+Y47+Z47+AA47+AB47+AC47+AD47+AE47+AF47,"проверка пройдена","ВНИМАНИЕ! Сумма по строке не сходится с общей численностью выпускников! Исправьте ошибку в расчетах, пока это сообщение не исчезнет!") -> проверка пройдена
A48: ЮФО | B48: Волгоградская область | C48: 19.02.10 | D48: =VLOOKUP(C48,'Коды программ'!$A$2:$B$578,2,FALSE) -> Технология продукции общественного питания | E48: 03 | F48: из числа лиц с ОВЗ (из строки 02): инвалиды и дети-инвалиды | G48: 0 | H48: 0 | I48: 0 | J48: 0 | K48: 0 | L48: 0 | M48: 0 | N48: 0 | O48: 0 | P48: 0 | Q48: 0 | R48: 0 | S48: 0 | T48: 0 | U48: 0 | V48: 0 | W48: 0 | X48: 0 | Y48: 0 | Z48: 0 | AA48: 0 | AB48: 0 | AC48: 0 | AD48: 0 | AE48: 0 | AF48: 0 | AG48: 0 | AH48: =IF(G48=H48+K48+L48+M48+N48+O48+P48+Q48+R48+S48+T48+U48+V48+W48+X48+Y48+Z48+AA48+AB48+AC48+AD48+AE48+AF48,"проверка пройдена","ВНИМАНИЕ! Сумма по строке не сходится с общей численностью выпускников! Исправьте ошибку в расчетах, пока это сообщение не исчезнет!") -> проверка пройдена
A49: ЮФО | B49: Волгоградская область | C49: 19.02.10 | D49: =VLOOKUP(C49,'Коды программ'!$A$2:$B$578,2,FALSE) -> Технология продукции общественного питания | E49: 04 | F49: Инвалиды и дети-инвалиды (кроме учтенных в строке 03) | G49: 0 | H49: 0 | I49: 0 | J49: 0 | K49: 0 | L49: 0 | M49: 0 | N49: 0 | O49: 0 | P49: 0 | Q49: 0 | R49: 0 | S49: 0 | T49: 0 | U49: 0 | V49: 0 | W49: 0 | X49: 0 | Y49: 0 | Z49: 0 | AA49: 0 | AB49: 0 | AC49: 0 | AD49: 0 | AE49: 0 | AF49: 0 | AG49: 0 | AH49: =IF(G49=H49+K49+L49+M49+N49+O49+P49+Q49+R49+S49+T49+U49+V49+W49+X49+Y49+Z49+AA49+AB49+AC49+AD49+AE49+AF49,"проверка пройдена","ВНИМАНИЕ! Сумма по строке не сходится с общей численностью выпускников! Исправьте ошибку в расчетах, пока это сообщение не исчезнет!") -> проверка пройдена
A50: ЮФО | B50: Волгоградская область | C50: 19.02.10 | D50: =VLOOKUP(C50,'Коды программ'!$A$2:$B$578,2,FALSE) -> Технология продукции общественного питания | E50: 05 | F50: Имеют договор о целевом обучении | G50: 0 | H50: 0 | I50: 0 | J50: 0 | K50: 0 | L50: 0 | M50: 0 | N50: 0 | O50: 0 | P50: 0 | Q50: 0 | R50: 0 | S50: 0 | T50: 0 | U50: 0 | V50: 0 | W50: 0 | X50: 0 | Y50: 0 | Z50: 0 | AA50: 0 | AB50: 0 | AC50: 0 | AD50: 0 | AE50: 0 | AF50: 0 | AG50: 0 | AH50: =IF(G50=H50+K50+L50+M50+N50+O50+P50+Q50+R50+S50+T50+U50+V50+W50+X50+Y50+Z50+AA50+AB50+AC50+AD50+AE50+AF50,"проверка пройдена","ВНИМАНИЕ! Сумма по строке не сходится с общей численностью выпускников! Исправьте ошибку в расчетах, пока это сообщение не исчезнет!") -> проверка пройдена
A51: ЮФО | B51: Волгоградская область | C51: 22.02.02 | D51: =VLOOKUP(C51,'Коды программ'!$A$2:$B$578,2,FALSE) -> Металлургия цветных металлов | E51: 01 | F51: Всего (общая численность выпускников) | G51: 23 | H51: 15 | I51: 9 | J51: 9 | K51: 0 | L51: 0 | M51: 6 | N51: 1 | O51: 0 | P51: 1 | Q51: 0 | R51: 0 | S51: 0 | T51: 0 | U51: 0 | V51: 0 | W51: 0 | X51: 0 | Y51: 0 | Z51: 0 | AA51: 0 | AB51: 0 | AC51: 0 | AD51: 0 | AE51: 0 | AF51: 0 | AG51: ознакомлены с банком вакансий, предложена помощь в трудоустройстве | AH51: =IF(G51=H51+K51+L51+M51+N51+O51+P51+Q51+R51+S51+T51+U51+V51+W51+X51+Y51+Z51+AA51+AB51+AC51+AD51+AE51+AF51,"проверка пройдена","ВНИМАНИЕ! Сумма по строке не сходится с общей численностью выпускников! Исправьте ошибку в расчетах, пока это сообщение не исчезнет!") -> проверка пройдена
A52: ЮФО | B52: Волгоградская область | C52: 22.02.02 | D52: =VLOOKUP(C52,'Коды программ'!$A$2:$B$578,2,FALSE) -> Металлургия цветных металлов | E52: 02 | F52: из общей численности выпускников (из строки 01): лица с ОВЗ | G52: 0 | H52: 0 | I52: 0 | J52: 0 | K52: 0 | L52: 0 | M52: 0 | N52: 0 | O52: 0 | P52: 0 | Q52: 0 | R52: 0 | S52: 0 | T52: 0 | U52: 0 | V52: 0 | W52: 0 | X52: 0 | Y52: 0 | Z52: 0 | AA52: 0 | AB52: 0 | AC52: 0 | AD52: 0 | AE52: 0 | AF52: 0 | AG52: 0 | AH52: =IF(G52=H52+K52+L52+M52+N52+O52+P52+Q52+R52+S52+T52+U52+V52+W52+X52+Y52+Z52+AA52+AB52+AC52+AD52+AE52+AF52,"проверка пройдена","ВНИМАНИЕ! Сумма по строке не сходится с общей численностью выпускников! Исправьте ошибку в расчетах, пока это сообщение не исчезнет!") -> проверка пройдена
A53: ЮФО | B53: Волгоградская область | C53: 22.02.02 | D53: =VLOOKUP(C53,'Коды программ'!$A$2:$B$578,2,FALSE) -> Металлургия цветных металлов | E53: 03 | F53: из числа лиц с ОВЗ (из строки 02): инвалиды и дети-инвалиды | G53: 0 | H53: 0 | I53: 0 | J53: 0 | K53: 0 | L53: 0 | M53: 0 | N53: 0 | O53: 0 | P53: 0 | Q53: 0 | R53: 0 | S53: 0 | T53: 0 | U53: 0 | V53: 0 | W53: 0 | X53: 0 | Y53: 0 | Z53: 0 | AA53: 0 | AB53: 0 | AC53: 0 | AD53: 0 | AE53: 0 | AF53: 0 | AG53: 0 | AH53: =IF(G53=H53+K53+L53+M53+N53+O53+P53+Q53+R53+S53+T53+U53+V53+W53+X53+Y53+Z53+AA53+AB53+AC53+AD53+AE53+AF53,"проверка пройдена","ВНИМАНИЕ! Сумма по строке не сходится с общей численностью выпускников! Исправьте ошибку в расчетах, пока это сообщение не исчезнет!") -> проверка пройдена
A54: ЮФО | B54: Волгоградская область | C54: 22.02.02 | D54: =VLOOKUP(C54,'Коды программ'!$A$2:$B$578,2,FALSE) -> Металлургия цветных металлов | E54: 04 | F54: Инвалиды и дети-инвалиды (кроме учтенных в строке 03) | G54: 0 | H54: 0 | I54: 0 | J54: 0 | K54: 0 | L54: 0 | M54: 0 | N54: 0 | O54: 0 | P54: 0 | Q54: 0 | R54: 0 | S54: 0 | T54: 0 | U54: 0 | V54: 0 | W54: 0 | X54: 0 | Y54: 0 | Z54: 0 | AA54: 0 | AB54: 0 | AC54: 0 | AD54: 0 | AE54: 0 | AF54: 0 | AG54: 0 | AH54: =IF(G54=H54+K54+L54+M54+N54+O54+P54+Q54+R54+S54+T54+U54+V54+W54+X54+Y54+Z54+AA54+AB54+AC54+AD54+AE54+AF54,"проверка пройдена","ВНИМАНИЕ! Сумма по строке не сходится с общей численностью выпускников! Исправьте ошибку в расчетах, пока это сообщение не исчезнет!") -> проверка пройдена
A55: ЮФО | B55: Волгоградская область | C55: 22.02.02 | D55: =VLOOKUP(C55,'Коды программ'!$A$2:$B$578,2,FALSE) -> Металлургия цветных металлов | E55: 05 | F55: Имеют договор о целевом обучении | G55: 0 | H55: 0 | I55: 0 | J55: 0 | K55: 0 | L55: 0 | M55: 0 | N55: 0 | O55: 0 | P55: 0 | Q55: 0 | R55: 0 | S55: 0 | T55: 0 | U55: 0 | V55: 0 | W55: 0 | X55: 0 | Y55: 0 | Z55: 0 | AA55: 0 | AB55: 0 | AC55: 0 | AD55: 0 | AE55: 0 | AF55: 0 | AG55: 0 | AH55: =IF(G55=H55+K55+L55+M55+N55+O55+P55+Q55+R55+S55+T55+U55+V55+W55+X55+Y55+Z55+AA55+AB55+AC55+AD55+AE55+AF55,"проверка пройдена","ВНИМАНИЕ! Сумма по строке не сходится с общей численностью выпускников! Исправьте ошибку в расчетах, пока это сообщение не исчезнет!") -> проверка пройдена
A56: ЮФО | B56: Волгоградская область | C56: 22.02.06 | D56: =VLOOKUP(C56,'Коды программ'!$A$2:$B$578,2,FALSE) -> Сварочное производство | E56: 01 | F56: Всего (общая численность выпускников) | G56: 14 | H56: 10 | I56: 5 | J56: 5 | K56: 0 | L56: 0 | M56: 0 | N56: 1 | O56: 0 | P56: 0 | Q56: 0 | R56: 0 | S56: 0 | T56: 0 | U56: 0 | V56: 0 | W56: 0 | X56: 0 | Y56: 0 | Z56: 0 | AA56: 3 | AB56: 0 | AC56: 0 | AD56: 0 | AE56: 0 | AF56: 0 | AG56: ознакомлены с банком вакансий, предложена помощь в трудоустройстве | AH56: =IF(G56=H56+K56+L56+M56+N56+O56+P56+Q56+R56+S56+T56+U56+V56+W56+X56+Y56+Z56+AA56+AB56+AC56+AD56+AE56+AF56,"проверка пройдена","ВНИМАНИЕ! Сумма по строке не сходится с общей численностью выпускников! Исправьте ошибку в расчетах, пока это сообщение не исчезнет!") -> проверка пройдена
A57: ЮФО | B57: Волгоградская область | C57: 22.02.06 | D57: =VLOOKUP(C57,'Коды программ'!$A$2:$B$578,2,FALSE) -> Сварочное производство | E57: 02 | F57: из общей численности выпускников (из строки 01): лица с ОВЗ | G57: 0 | H57: 0 | I57: 0 | J57: 0 | K57: 0 | L57: 0 | M57: 0 | N57: 0 | O57: 0 | P57: 0 | Q57: 0 | R57: 0 | S57: 0 | T57: 0 | U57: 0 | V57: 0 | W57: 0 | X57: 0 | Y57: 0 | Z57: 0 | AA57: 0 | AB57: 0 | AC57: 0 | AD57: 0 | AE57: 0 | AF57: 0 | AG57: 0 | AH57: =IF(G57=H57+K57+L57+M57+N57+O57+P57+Q57+R57+S57+T57+U57+V57+W57+X57+Y57+Z57+AA57+AB57+AC57+AD57+AE57+AF57,"проверка пройдена","ВНИМАНИЕ! Сумма по строке не сходится с общей численностью выпускников! Исправьте ошибку в расчетах, пока это сообщение не исчезнет!") -> проверка пройдена
A58: ЮФО | B58: Волгоградская область | C58: 22.02.06 | D58: =VLOOKUP(C58,'Коды программ'!$A$2:$B$578,2,FALSE) -> Сварочное производство | E58: 03 | F58: из числа лиц с ОВЗ (из строки 02): инвалиды и дети-инвалиды | G58: 0 | H58: 0 | I58: 0 | J58: 0 | K58: 0 | L58: 0 | M58: 0 | N58: 0 | O58: 0 | P58: 0 | Q58: 0 | R58: 0 | S58: 0 | T58: 0 | U58: 0 | V58: 0 | W58: 0 | X58: 0 | Y58: 0 | Z58: 0 | AA58: 0 | AB58: 0 | AC58: 0 | AD58: 0 | AE58: 0 | AF58: 0 | AG58: 0 | AH58: =IF(G58=H58+K58+L58+M58+N58+O58+P58+Q58+R58+S58+T58+U58+V58+W58+X58+Y58+Z58+AA58+AB58+AC58+AD58+AE58+AF58,"проверка пройдена","ВНИМАНИЕ! Сумма по строке не сходится с общей численностью выпускников! Исправьте ошибку в расчетах, пока это сообщение не исчезнет!") -> проверка пройдена
A59: ЮФО | B59: Волгоградская область | C59: 22.02.06 | D59: =VLOOKUP(C59,'Коды программ'!$A$2:$B$578,2,FALSE) -> Сварочное производство | E59: 04 | F59: Инвалиды и дети-инвалиды (кроме учтенных в строке 03) | G59: 0 | H59: 0 | I59: 0 | J59: 0 | K59: 0 | L59: 0 | M59: 0 | N59: 0 | O59: 0 | P59: 0 | Q59: 0 | R59: 0 | S59: 0 | T59: 0 | U59: 0 | V59: 0 | W59: 0 | X59: 0 | Y59: 0 | Z59: 0 | AA59: 0 | AB59: 0 | AC59: 0 | AD59: 0 | AE59: 0 | AF59: 0 | AG59: 0 | AH59: =IF(G59=H59+K59+L59+M59+N59+O59+P59+Q59+R59+S59+T59+U59+V59+W59+X59+Y59+Z59+AA59+AB59+AC59+AD59+AE59+AF59,"проверка пройдена","ВНИМАНИЕ! Сумма по строке не сходится с общей численностью выпускников! Исправьте ошибку в расчетах, пока это сообщение не исчезнет!") -> проверка пройдена
A60: ЮФО | B60: Волгоградская область | C60: 22.02.06 | D60: =VLOOKUP(C60,'Коды программ'!$A$2:$B$578,2,FALSE) -> Сварочное производство | E60: 05 | F60: Имеют договор о целевом обучении | G60: 0 | H60: 0 | I60: 0 | J60: 0 | K60: 0 | L60: 0 | M60: 0 | N60: 0 | O60: 0 | P60: 0 | Q60: 0 | R60: 0 | S60: 0 | T60: 0 | U60: 0 | V60: 0 | W60: 0 | X60: 0 | Y60: 0 | Z60: 0 | AA60: 0 | AB60: 0 | AC60: 0 | AD60: 0 | AE60: 0 | AF60: 0 | AG60: 0 | AH60: =IF(G60=H60+K60+L60+M60+N60+O60+P60+Q60+R60+S60+T60+U60+V60+W60+X60+Y60+Z60+AA60+AB60+AC60+AD60+AE60+AF60,"проверка пройдена","ВНИМАНИЕ! Сумма по строке не сходится с общей численностью выпускников! Исправьте ошибку в расчетах, пока это сообщение не исчезнет!") -> проверка пройдена
A61: ЮФО | B61: Волгоградская область | C61: 23.02.02 | D61: =VLOOKUP(C61,'Коды программ'!$A$2:$B$578,2,FALSE) -> Автомобиле- и тракторостроение | E61: 01 | F61: Всего (общая численность выпускников) | G61: 17 | H61: 11 | I61: 5 | J61: 9 | K61: 0 | L61: 0 | M61: 0 | N61: 3 | O61: 0 | P61: 0 | Q61: 0 | R61: 0 | S61: 0 | T61: 0 | U61: 0 | V61: 0 | W61: 0 | X61: 0 | Y61: 0 | Z61: 0 | AA61: 3 | AB61: 0 | AC61: 0 | AD61: 0 | AE61: 0 | AF61: 0 | AG61: ознакомлены с банком вакансий, предложена помощь в трудоустройстве | AH61: =IF(G61=H61+K61+L61+M61+N61+O61+P61+Q61+R61+S61+T61+U61+V61+W61+X61+Y61+Z61+AA61+AB61+AC61+AD61+AE61+AF61,"проверка пройдена","ВНИМАНИЕ! Сумма по строке не сходится с общей численностью выпускников! Исправьте ошибку в расчетах, пока это сообщение не исчезнет!") -> проверка пройдена
A62: ЮФО | B62: Волгоградская область | C62: 23.02.02 | D62: =VLOOKUP(C62,'Коды программ'!$A$2:$B$578,2,FALSE) -> Автомобиле- и тракторостроение | E62: 02 | F62: из общей численности выпускников (из строки 01): лица с ОВЗ | G62: 0 | H62: 0 | I62: 0 | J62: 0 | K62: 0 | L62: 0 | M62: 0 | N62: 0 | O62: 0 | P62: 0 | Q62: 0 | R62: 0 | S62: 0 | T62: 0 | U62: 0 | V62: 0 | W62: 0 | X62: 0 | Y62: 0 | Z62: 0 | AA62: 0 | AB62: 0 | AC62: 0 | AD62: 0 | AE62: 0 | AF62: 0 | AG62: 0 | AH62: =IF(G62=H62+K62+L62+M62+N62+O62+P62+Q62+R62+S62+T62+U62+V62+W62+X62+Y62+Z62+AA62+AB62+AC62+AD62+AE62+AF62,"проверка пройдена","ВНИМАНИЕ! Сумма по строке не сходится с общей численностью выпускников! Исправьте ошибку в расчетах, пока это сообщение не исчезнет!") -> проверка пройдена
A63: ЮФО | B63: Волгоградская область | C63: 23.02.02 | D63: =VLOOKUP(C63,'Коды программ'!$A$2:$B$578,2,FALSE) -> Автомобиле- и тракторостроение | E63: 03 | F63: из числа лиц с ОВЗ (из строки 02): инвалиды и дети-инвалиды | G63: 0 | H63: 0 | I63: 0 | J63: 0 | K63: 0 | L63: 0 | M63: 0 | N63: 0 | O63: 0 | P63: 0 | Q63: 0 | R63: 0 | S63: 0 | T63: 0 | U63: 0 | V63: 0 | W63: 0 | X63: 0 | Y63: 0 | Z63: 0 | AA63: 0 | AB63: 0 | AC63: 0 | AD63: 0 | AE63: 0 | AF63: 0 | AG63: 0 | AH63: =IF(G63=H63+K63+L63+M63+N63+O63+P63+Q63+R63+S63+T63+U63+V63+W63+X63+Y63+Z63+AA63+AB63+AC63+AD63+AE63+AF63,"проверка пройдена","ВНИМАНИЕ! Сумма по строке не сходится с общей численностью выпускников! Исправьте ошибку в расчетах, пока это сообщение не исчезнет!") -> проверка пройдена
A64: ЮФО | B64: Волгоградская область | C64: 23.02.02 | D64: =VLOOKUP(C64,'Коды программ'!$A$2:$B$578,2,FALSE) -> Автомобиле- и тракторостроение | E64: 04 | F64: Инвалиды и дети-инвалиды (кроме учтенных в строке 03) | G64: 0 | H64: 0 | I64: 0 | J64: 0 | K64: 0 | L64: 0 | M64: 0 | N64: 0 | O64: 0 | P64: 0 | Q64: 0 | R64: 0 | S64: 0 | T64: 0 | U64: 0 | V64: 0 | W64: 0 | X64: 0 | Y64: 0 | Z64: 0 | AA64: 0 | AB64: 0 | AC64: 0 | AD64: 0 | AE64: 0 | AF64: 0 | AG64: 0 | AH64: =IF(G64=H64+K64+L64+M64+N64+O64+P64+Q64+R64+S64+T64+U64+V64+W64+X64+Y64+Z64+AA64+AB64+AC64+AD64+AE64+AF64,"проверка пройдена","ВНИМАНИЕ! Сумма по строке не сходится с общей численностью выпускников! Исправьте ошибку в расчетах, пока это сообщение не исчезнет!") -> проверка пройдена
A65: ЮФО | B65: Волгоградская область | C65: 23.02.02 | D65: =VLOOKUP(C65,'Коды программ'!$A$2:$B$578,2,FALSE) -> Автомобиле- и тракторостроение | E65: 05 | F65: Имеют договор о целевом обучении | G65: 0 | H65: 0 | I65: 0 | J65: 0 | K65: 0 | L65: 0 | M65: 0 | N65: 0 | O65: 0 | P65: 0 | Q65: 0 | R65: 0 | S65: 0 | T65: 0 | U65: 0 | V65: 0 | W65: 0 | X65: 0 | Y65: 0 | Z65: 0 | AA65: 0 | AB65: 0 | AC65: 0 | AD65: 0 | AE65: 0 | AF65: 0 | AG65: 0 | AH65: =IF(G65=H65+K65+L65+M65+N65+O65+P65+Q65+R65+S65+T65+U65+V65+W65+X65+Y65+Z65+AA65+AB65+AC65+AD65+AE65+AF65,"проверка пройдена","ВНИМАНИЕ! Сумма по строке не сходится с общей численностью выпускников! Исправьте ошибку в расчетах, пока это сообщение не исчезнет!") -> проверка пройдена
A66: ЮФО | B66: Волгоградская область | C66: 23.02.03 | D66: =VLOOKUP(C66,'Коды программ'!$A$2:$B$578,2,FALSE) -> Техническое обслуживание и ремонт автомобильного транспорта | E66: 01 | F66: Всего (общая численность выпускников) | G66: 62 | H66: 50 | I66: 28 | J66: 41 | K66: 0 | L66: 0 | M66: 0 | N66: 5 | O66: 0 | P66: 0 | Q66: 0 | R66: 0 | S66: 0 | T66: 0 | U66: 0 | V66: 0 | W66: 0 | X66: 0 | Y66: 0 | Z66: 0 | AA66: 7 | AB66: 0 | AC66: 0 | AD66: 0 | AE66: 0 | AF66: 0 | AG66: ознакомлены с банком вакансий, предложена помощь в трудоустройстве | AH66: =IF(G66=H66+K66+L66+M66+N66+O66+P66+Q66+R66+S66+T66+U66+V66+W66+X66+Y66+Z66+AA66+AB66+AC66+AD66+AE66+AF66,"проверка пройдена","ВНИМАНИЕ! Сумма по строке не сходится с общей численностью выпускников! Исправьте ошибку в расчетах, пока это сообщение не исчезнет!") -> проверка пройдена
A67: ЮФО | B67: Волгоградская область | C67: 23.02.03 | D67: =VLOOKUP(C67,'Коды программ'!$A$2:$B$578,2,FALSE) -> Техническое обслуживание и ремонт автомобильного транспорта | E67: 02 | F67: из общей численности выпускников (из строки 01): лица с ОВЗ | G67: 1 | H67: 1 | I67: 0 | J67: 0 | K67: 0 | L67: 0 | M67: 0 | N67: 0 | O67: 0 | P67: 0 | Q67: 0 | R67: 0 | S67: 0 | T67: 0 | U67: 0 | V67: 0 | W67: 0 | X67: 0 | Y67: 0 | Z67: 0 | AA67: 0 | AB67: 0 | AC67: 0 | AD67: 0 | AE67: 0 | AF67: 0 | AG67: ознакомлены с банком вакансий, предложена помощь в трудоустройстве | AH67: =IF(G67=H67+K67+L67+M67+N67+O67+P67+Q67+R67+S67+T67+U67+V67+W67+X67+Y67+Z67+AA67+AB67+AC67+AD67+AE67+AF67,"проверка пройдена","ВНИМАНИЕ! Сумма по строке не сходится с общей численностью выпускников! Исправьте ошибку в расчетах, пока это сообщение не исчезнет!") -> проверка пройдена
A68: ЮФО | B68: Волгоградская область | C68: 23.02.03 | D68: =VLOOKUP(C68,'Коды программ'!$A$2:$B$578,2,FALSE) -> Техническое обслуживание и ремонт автомобильного транспорта | E68: 03 | F68: из числа лиц с ОВЗ (из строки 02): инвалиды и дети-инвалиды | G68: 1 | H68: 1 | I68: 0 | J68: 0 | K68: 0 | L68: 0 | M68: 0 | N68: 0 | O68: 0 | P68: 0 | Q68: 0 | R68: 0 | S68: 0 | T68: 0 | U68: 0 | V68: 0 | W68: 0 | X68: 0 | Y68: 0 | Z68: 0 | AA68: 0 | AB68: 0 | AC68: 0 | AD68: 0 | AE68: 0 | AF68: 0 | AG68: ознакомлены с банком вакансий, предложена помощь в трудоустройстве | AH68: =IF(G68=H68+K68+L68+M68+N68+O68+P68+Q68+R68+S68+T68+U68+V68+W68+X68+Y68+Z68+AA68+AB68+AC68+AD68+AE68+AF68,"проверка пройдена","ВНИМАНИЕ! Сумма по строке не сходится с общей численностью выпускников! Исправьте ошибку в расчетах, пока это сообщение не исчезнет!") -> проверка пройдена
A69: ЮФО | B69: Волгоградская область | C69: 23.02.03 | D69: =VLOOKUP(C69,'Коды программ'!$A$2:$B$578,2,FALSE) -> Техническое обслуживание и ремонт автомобильного транспорта | E69: 04 | F69: Инвалиды и дети-инвалиды (кроме учтенных в строке 03) | G69: 0 | H69: 0 | I69: 0 | J69: 0 | K69: 0 | L69: 0 | M69: 0 | N69: 0 | O69: 0 | P69: 0 | Q69: 0 | R69: 0 | S69: 0 | T69: 0 | U69: 0 | V69: 0 | W69: 0 | X69: 0 | Y69: 0 | Z69: 0 | AA69: 0 | AB69: 0 | AC69: 0 | AD69: 0 | AE69: 0 | AF69: 0 | AG69: 0 | AH69: =IF(G69=H69+K69+L69+M69+N69+O69+P69+Q69+R69+S69+T69+U69+V69+W69+X69+Y69+Z69+AA69+AB69+AC69+AD69+AE69+AF69,"проверка пройдена","ВНИМАНИЕ! Сумма по строке не сходится с общей численностью выпускников! Исправьте ошибку в расчетах, пока это сообщение не исчезнет!") -> проверка пройдена
A70: ЮФО | B70: Волгоградская область | C70: 23.02.03 | D70: =VLOOKUP(C70,'Коды программ'!$A$2:$B$578,2,FALSE) -> Техническое обслуживание и ремонт автомобильного транспорта | E70: 05 | F70: Имеют договор о целевом обучении | G70: 0 | H70: 0 | I70: 0 | J70: 0 | K70: 0 | L70: 0 | M70: 0 | N70: 0 | O70: 0 | P70: 0 | Q70: 0 | R70: 0 | S70: 0 | T70: 0 | U70: 0 | V70: 0 | W70: 0 | X70: 0 | Y70: 0 | Z70: 0 | AA70: 0 | AB70: 0 | AC70: 0 | AD70: 0 | AE70: 0 | AF70: 0 | AG70: 0 | AH70: =IF(G70=H70+K70+L70+M70+N70+O70+P70+Q70+R70+S70+T70+U70+V70+W70+X70+Y70+Z70+AA70+AB70+AC70+AD70+AE70+AF70,"проверка пройдена","ВНИМАНИЕ! Сумма по строке не сходится с общей численностью выпускников! Исправьте ошибку в расчетах, пока это сообщение не исчезнет!") -> проверка пройдена
A71: ЮФО | B71: Волгоградская область | C71: 38.02.01 | D71: =VLOOKUP(C71,'Коды программ'!$A$2:$B$578,2,FALSE) -> Экономика и бухгалтерский учет (по отраслям) | E71: 01 | F71: Всего (общая численность выпускников) | G71: 6 | H71: 6 | I71: 4 | J71: 6 | K71: 0 | L71: 0 | M71: 0 | N71: 0 | O71: 0 | P71: 0 | Q71: 0 | R71: 0 | S71: 0 | T71: 0 | U71: 0 | V71: 0 | W71: 0 | X71: 0 | Y71: 0 | Z71: 0 | AA71: 0 | AB71: 0 | AC71: 0 | AD71: 0 | AE71: 0 | AF71: 0 | AG71: ознакомлены с банком вакансий, предложена помощь в трудоустройстве | AH71: =IF(G71=H71+K71+L71+M71+N71+O71+P71+Q71+R71+S71+T71+U71+V71+W71+X71+Y71+Z71+AA71+AB71+AC71+AD71+AE71+AF71,"проверка пройдена","ВНИМАНИЕ! Сумма по строке не сходится с общей численностью выпускников! Исправьте ошибку в расчетах, пока это сообщение не исчезнет!") -> проверка пройдена
A72: ЮФО | B72: Волгоградская область | C72: 38.02.01 | D72: =VLOOKUP(C72,'Коды программ'!$A$2:$B$578,2,FALSE) -> Экономика и бухгалтерский учет (по отраслям) | E72: 02 | F72: из общей численности выпускников (из строки 01): лица с ОВЗ | G72: 0 | H72: 0 | I72: 0 | J72: 0 | K72: 0 | L72: 0 | M72: 0 | N72: 0 | O72: 0 | P72: 0 | Q72: 0 | R72: 0 | S72: 0 | T72: 0 | U72: 0 | V72: 0 | W72: 0 | X72: 0 | Y72: 0 | Z72: 0 | AA72: 0 | AB72: 0 | AC72: 0 | AD72: 0 | AE72: 0 | AF72: 0 | AG72: 0 | AH72: =IF(G72=H72+K72+L72+M72+N72+O72+P72+Q72+R72+S72+T72+U72+V72+W72+X72+Y72+Z72+AA72+AB72+AC72+AD72+AE72+AF72,"проверка пройдена","ВНИМАНИЕ! Сумма по строке не сходится с общей численностью выпускников! Исправьте ошибку в расчетах, пока это сообщение не исчезнет!") -> проверка пройдена
A73: ЮФО | B73: Волгоградская область | C73: 38.02.01 | D73: =VLOOKUP(C73,'Коды программ'!$A$2:$B$578,2,FALSE) -> Экономика и бухгалтерский учет (по отраслям) | E73: 03 | F73: из числа лиц с ОВЗ (из строки 02): инвалиды и дети-инвалиды | G73: 0 | H73: 0 | I73: 0 | J73: 0 | K73: 0 | L73: 0 | M73: 0 | N73: 0 | O73: 0 | P73: 0 | Q73: 0 | R73: 0 | S73: 0 | T73: 0 | U73: 0 | V73: 0 | W73: 0 | X73: 0 | Y73: 0 | Z73: 0 | AA73: 0 | AB73: 0 | AC73: 0 | AD73: 0 | AE73: 0 | AF73: 0 | AG73: 0 | AH73: =IF(G73=H73+K73+L73+M73+N73+O73+P73+Q73+R73+S73+T73+U73+V73+W73+X73+Y73+Z73+AA73+AB73+AC73+AD73+AE73+AF73,"проверка пройдена","ВНИМАНИЕ! Сумма по строке не сходится с общей численностью выпускников! Исправьте ошибку в расчетах, пока это сообщение не исчезнет!") -> проверка пройдена
A74: ЮФО | B74: Волгоградская область | C74: 38.02.01 | D74: =VLOOKUP(C74,'Коды программ'!$A$2:$B$578,2,FALSE) -> Экономика и бухгалтерский учет (по отраслям) | E74: 04 | F74: Инвалиды и дети-инвалиды (кроме учтенных в строке 03) | G74: 0 | H74: 0 | I74: 0 | J74: 0 | K74: 0 | L74: 0 | M74: 0 | N74: 0 | O74: 0 | P74: 0 | Q74: 0 | R74: 0 | S74: 0 | T74: 0 | U74: 0 | V74: 0 | W74: 0 | X74: 0 | Y74: 0 | Z74: 0 | AA74: 0 | AB74: 0 | AC74: 0 | AD74: 0 | AE74: 0 | AF74: 0 | AG74: 0 | AH74: =IF(G74=H74+K74+L74+M74+N74+O74+P74+Q74+R74+S74+T74+U74+V74+W74+X74+Y74+Z74+AA74+AB74+AC74+AD74+AE74+AF74,"проверка пройдена","ВНИМАНИЕ! Сумма по строке не сходится с общей численностью выпускников! Исправьте ошибку в расчетах, пока это сообщение не исчезнет!") -> проверка пройдена
A75: ЮФО | B75: Волгоградская область | C75: 38.02.01 | D75: =VLOOKUP(C75,'Коды программ'!$A$2:$B$578,2,FALSE) -> Экономика и бухгалтерский учет (по отраслям) | E75: 05 | F75: Имеют договор о целевом обучении | G75: 0 | H75: 0 | I75: 0 | J75: 0 | K75: 0 | L75: 0 | M75: 0 | N75: 0 | O75: 0 | P75: 0 | Q75: 0 | R75: 0 | S75: 0 | T75: 0 | U75: 0 | V75: 0 | W75: 0 | X75: 0 | Y75: 0 | Z75: 0 | AA75: 0 | AB75: 0 | AC75: 0 | AD75: 0 | AE75: 0 | AF75: 0 | AG75: 0 | AH75: =IF(G75=H75+K75+L75+M75+N75+O75+P75+Q75+R75+S75+T75+U75+V75+W75+X75+Y75+Z75+AA75+AB75+AC75+AD75+AE75+AF75,"проверка пройдена","ВНИМАНИЕ! Сумма по строке не сходится с общей численностью выпускников! Исправьте ошибку в расчетах, пока это сообщение не исчезнет!") -> проверка пройдена
A76: ЮФО | B76: Волгоградская область | C76: 38.02.03 | D76: =VLOOKUP(C76,'Коды программ'!$A$2:$B$578,2,FALSE) -> Операционная деятельность в логистике | E76: 01 | F76: Всего (общая численность выпускников) | G76: 26 | H76: 16 | I76: 12 | J76: 14 | K76: 0 | L76: 0 | M76: 10 | N76: 0 | O76: 0 | P76: 0 | Q76: 0 | R76: 0 | S76: 0 | T76: 0 | U76: 0 | V76: 0 | W76: 0 | X76: 0 | Y76: 0 | Z76: 0 | AA76: 0 | AB76: 0 | AC76: 0 | AD76: 0 | AE76: 0 | AF76: 0 | AG76: ознакомлены с банком вакансий, предложена помощь в трудоустройстве | AH76: =IF(G76=H76+K76+L76+M76+N76+O76+P76+Q76+R76+S76+T76+U76+V76+W76+X76+Y76+Z76+AA76+AB76+AC76+AD76+AE76+AF76,"проверка пройдена","ВНИМАНИЕ! Сумма по строке не сходится с общей численностью выпускников! Исправьте ошибку в расчетах, пока это сообщение не исчезнет!") -> проверка пройдена
A77: ЮФО | B77: Волгоградская область | C77: 38.02.03 | D77: =VLOOKUP(C77,'Коды программ'!$A$2:$B$578,2,FALSE) -> Операционная деятельность в логистике | E77: 02 | F77: из общей численности выпускников (из строки 01): лица с ОВЗ | G77: 0 | H77: 0 | I77: 0 | J77: 0 | K77: 0 | L77: 0 | M77: 0 | N77: 0 | O77: 0 | P77: 0 | Q77: 0 | R77: 0 | S77: 0 | T77: 0 | U77: 0 | V77: 0 | W77: 0 | X77: 0 | Y77: 0 | Z77: 0 | AA77: 0 | AB77: 0 | AC77: 0 | AD77: 0 | AE77: 0 | AF77: 0 | AG77: 0 | AH77: =IF(G77=H77+K77+L77+M77+N77+O77+P77+Q77+R77+S77+T77+U77+V77+W77+X77+Y77+Z77+AA77+AB77+AC77+AD77+AE77+AF77,"проверка пройдена","ВНИМАНИЕ! Сумма по строке не сходится с общей численностью выпускников! Исправьте ошибку в расчетах, пока это сообщение не исчезнет!") -> проверка пройдена
A78: ЮФО | B78: Волгоградская область | C78: 38.02.03 | D78: =VLOOKUP(C78,'Коды программ'!$A$2:$B$578,2,FALSE) -> Операционная деятельность в логистике | E78: 03 | F78: из числа лиц с ОВЗ (из строки 02): инвалиды и дети-инвалиды | G78: 0 | H78: 0 | I78: 0 | J78: 0 | K78: 0 | L78: 0 | M78: 0 | N78: 0 | O78: 0 | P78: 0 | Q78: 0 | R78: 0 | S78: 0 | T78: 0 | U78: 0 | V78: 0 | W78: 0 | X78: 0 | Y78: 0 | Z78: 0 | AA78: 0 | AB78: 0 | AC78: 0 | AD78: 0 | AE78: 0 | AF78: 0 | AG78: 0 | AH78: =IF(G78=H78+K78+L78+M78+N78+O78+P78+Q78+R78+S78+T78+U78+V78+W78+X78+Y78+Z78+AA78+AB78+AC78+AD78+AE78+AF78,"проверка пройдена","ВНИМАНИЕ! Сумма по строке не сходится с общей численностью выпускников! Исправьте ошибку в расчетах, пока это сообщение не исчезнет!") -> проверка пройдена
A79: ЮФО | B79: Волгоградская область | C79: 38.02.03 | D79: =VLOOKUP(C79,'Коды программ'!$A$2:$B$578,2,FALSE) -> Операционная деятельность в логистике | E79: 04 | F79: Инвалиды и дети-инвалиды (кроме учтенных в строке 03) | G79: 0 | H79: 0 | I79: 0 | J79: 0 | K79: 0 | L79: 0 | M79: 0 | N79: 0 | O79: 0 | P79: 0 | Q79: 0 | R79: 0 | S79: 0 | T79: 0 | U79: 0 | V79: 0 | W79: 0 | X79: 0 | Y79: 0 | Z79: 0 | AA79: 0 | AB79: 0 | AC79: 0 | AD79: 0 | AE79: 0 | AF79: 0 | AG79: 0 | AH79: =IF(G79=H79+K79+L79+M79+N79+O79+P79+Q79+R79+S79+T79+U79+V79+W79+X79+Y79+Z79+AA79+AB79+AC79+AD79+AE79+AF79,"проверка пройдена","ВНИМАНИЕ! Сумма по строке не сходится с общей численностью выпускников! Исправьте ошибку в расчетах, пока это сообщение не исчезнет!") -> проверка пройдена
A80: ЮФО | B80: Волгоградская область | C80: 38.02.03 | D80: =VLOOKUP(C80,'Коды программ'!$A$2:$B$578,2,FALSE) -> Операционная деятельность в логистике | E80: 05 | F80: Имеют договор о целевом обучении | G80: 0 | H80: 0 | I80: 0 | J80: 0 | K80: 0 | L80: 0 | M80: 0 | N80: 0 | O80: 0 | P80: 0 | Q80: 0 | R80: 0 | S80: 0 | T80: 0 | U80: 0 | V80: 0 | W80: 0 | X80: 0 | Y80: 0 | Z80: 0 | AA80: 0 | AB80: 0 | AC80: 0 | AD80: 0 | AE80: 0 | AF80: 0 | AG80: 0 | AH80: =IF(G80=H80+K80+L80+M80+N80+O80+P80+Q80+R80+S80+T80+U80+V80+W80+X80+Y80+Z80+AA80+AB80+AC80+AD80+AE80+AF80,"проверка пройдена","ВНИМАНИЕ! Сумма по строке не сходится с общей численностью выпускников! Исправьте ошибку в расчетах, пока это сообщение не исчезнет!") -> проверка пройдена
A81: ЮФО | B81: Волгоградская область | C81: 38.02.07 | D81: =VLOOKUP(C81,'Коды программ'!$A$2:$B$578,2,FALSE) -> Банковское дело | E81: 01 | F81: Всего (общая численность выпускников) | G81: 10 | H81: 6 | I81: 3 | J81: 6 | K81: 0 | L81: 0 | M81: 3 | N81: 1 | O81: 0 | P81: 0 | Q81: 0 | R81: 0 | S81: 0 | T81: 0 | U81: 0 | V81: 0 | W81: 0 | X81: 0 | Y81: 0 | Z81: 0 | AA81: 0 | AB81: 0 | AC81: 0 | AD81: 0 | AE81: 0 | AF81: 0 | AG81: ознакомлены с банком вакансий, предложена помощь в трудоустройстве | AH81: =IF(G81=H81+K81+L81+M81+N81+O81+P81+Q81+R81+S81+T81+U81+V81+W81+X81+Y81+Z81+AA81+AB81+AC81+AD81+AE81+AF81,"проверка пройдена","ВНИМАНИЕ! Сумма по строке не сходится с общей численностью выпускников! Исправьте ошибку в расчетах, пока это сообщение не исчезнет!") -> проверка пройдена
A82: ЮФО | B82: Волгоградская область | C82: 38.02.07 | D82: =VLOOKUP(C82,'Коды программ'!$A$2:$B$578,2,FALSE) -> Банковское дело | E82: 02 | F82: из общей численности выпускников (из строки 01): лица с ОВЗ | G82: 0 | H82: 0 | I82: 0 | J82: 0 | K82: 0 | L82: 0 | M82: 0 | N82: 0 | O82: 0 | P82: 0 | Q82: 0 | R82: 0 | S82: 0 | T82: 0 | U82: 0 | V82: 0 | W82: 0 | X82: 0 | Y82: 0 | Z82: 0 | AA82: 0 | AB82: 0 | AC82: 0 | AD82: 0 | AE82: 0 | AF82: 0 | AG82: 0 | AH82: =IF(G82=H82+K82+L82+M82+N82+O82+P82+Q82+R82+S82+T82+U82+V82+W82+X82+Y82+Z82+AA82+AB82+AC82+AD82+AE82+AF82,"проверка пройдена","ВНИМАНИЕ! Сумма по строке не сходится с общей численностью выпускников! Исправьте ошибку в расчетах, пока это сообщение не исчезнет!") -> проверка пройдена
A83: ЮФО | B83: Волгоградская область | C83: 38.02.07 | D83: =VLOOKUP(C83,'Коды программ'!$A$2:$B$578,2,FALSE) -> Банковское дело | E83: 03 | F83: из числа лиц с ОВЗ (из строки 02): инвалиды и дети-инвалиды | G83: 0 | H83: 0 | I83: 0 | J83: 0 | K83: 0 | L83: 0 | M83: 0 | N83: 0 | O83: 0 | P83: 0 | Q83: 0 | R83: 0 | S83: 0 | T83: 0 | U83: 0 | V83: 0 | W83: 0 | X83: 0 | Y83: 0 | Z83: 0 | AA83: 0 | AB83: 0 | AC83: 0 | AD83: 0 | AE83: 0 | AF83: 0 | AG83: 0 | AH83: =IF(G83=H83+K83+L83+M83+N83+O83+P83+Q83+R83+S83+T83+U83+V83+W83+X83+Y83+Z83+AA83+AB83+AC83+AD83+AE83+AF83,"проверка пройдена","ВНИМАНИЕ! Сумма по строке не сходится с общей численностью выпускников! Исправьте ошибку в расчетах, пока это сообщение не исчезнет!") -> проверка пройдена
A84: ЮФО | B84: Волгоградская область | C84: 38.02.07 | D84: =VLOOKUP(C84,'Коды программ'!$A$2:$B$578,2,FALSE) -> Банковское дело | E84: 04 | F84: Инвалиды и дети-инвалиды (кроме учтенных в строке 03) | G84: 0 | H84: 0 | I84: 0 | J84: 0 | K84: 0 | L84: 0 | M84: 0 | N84: 0 | O84: 0 | P84: 0 | Q84: 0 | R84: 0 | S84: 0 | T84: 0 | U84: 0 | V84: 0 | W84: 0 | X84: 0 | Y84: 0 | Z84: 0 | AA84: 0 | AB84: 0 | AC84: 0 | AD84: 0 | AE84: 0 | AF84: 0 | AG84: 0 | AH84: =IF(G84=H84+K84+L84+M84+N84+O84+P84+Q84+R84+S84+T84+U84+V84+W84+X84+Y84+Z84+AA84+AB84+AC84+AD84+AE84+AF84,"проверка пройдена","ВНИМАНИЕ! Сумма по строке не сходится с общей численностью выпускников! Исправьте ошибку в расчетах, пока это сообщение не исчезнет!") -> проверка пройдена
A85: ЮФО | B85: Волгоградская область | C85: 38.02.07 | D85: =VLOOKUP(C85,'Коды программ'!$A$2:$B$578,2,FALSE) -> Банковское дело | E85: 05 | F85: Имеют договор о целевом обучении | G85: 0 | H85: 0 | I85: 0 | J85: 0 | K85: 0 | L85: 0 | M85: 0 | N85: 0 | O85: 0 | P85: 0 | Q85: 0 | R85: 0 | S85: 0 | T85: 0 | U85: 0 | V85: 0 | W85: 0 | X85: 0 | Y85: 0 | Z85: 0 | AA85: 0 | AB85: 0 | AC85: 0 | AD85: 0 | AE85: 0 | AF85: 0 | AG85: 0 | AH85: =IF(G85=H85+K85+L85+M85+N85+O85+P85+Q85+R85+S85+T85+U85+V85+W85+X85+Y85+Z85+AA85+AB85+AC85+AD85+AE85+AF85,"проверка пройдена","ВНИМАНИЕ! Сумма по строке не сходится с общей численностью выпускников! Исправьте ошибку в расчетах, пока это сообщение не исчезнет!") -> проверка пройдена
A86: ЮФО | B86: Волгоградская область | C86: 40.02.01 | D86: =VLOOKUP(C86,'Коды программ'!$A$2:$B$578,2,FALSE) -> Право и организация социального обеспечения | E86: 01 | F86: Всего (общая численность выпускников) | G86: 45 | H86: 37 | I86: 16 | J86: 33 | K86: 0 | L86: 0 | M86: 0 | N86: 3 | O86: 0 | P86: 1 | Q86: 0 | R86: 0 | S86: 0 | T86: 0 | U86: 0 | V86: 0 | W86: 0 | X86: 0 | Y86: 0 | Z86: 0 | AA86: 4 | AB86: 0 | AC86: 0 | AD86: 0 | AE86: 0 | AF86: 0 | AG86: ознакомлены с банком вакансий, предложена помощь в трудоустройстве | AH86: =IF(G86=H86+K86+L86+M86+N86+O86+P86+Q86+R86+S86+T86+U86+V86+W86+X86+Y86+Z86+AA86+AB86+AC86+AD86+AE86+AF86,"проверка пройдена","ВНИМАНИЕ! Сумма по строке не сходится с общей численностью выпускников! Исправьте ошибку в расчетах, пока это сообщение не исчезнет!") -> проверка пройдена
A87: ЮФО | B87: Волгоградская область | C87: 40.02.01 | D87: =VLOOKUP(C87,'Коды программ'!$A$2:$B$578,2,FALSE) -> Право и организация социального обеспечения | E87: 02 | F87: из общей численности выпускников (из строки 01): лица с ОВЗ | G87: 0 | H87: 0 | I87: 0 | J87: 0 | K87: 0 | L87: 0 | M87: 0 | N87: 0 | O87: 0 | P87: 0 | Q87: 0 | R87: 0 | S87: 0 | T87: 0 | U87: 0 | V87: 0 | W87: 0 | X87: 0 | Y87: 0 | Z87: 0 | AA87: 0 | AB87: 0 | AC87: 0 | AD87: 0 | AE87: 0 | AF87: 0 | AG87: 0 | AH87: =IF(G87=H87+K87+L87+M87+N87+O87+P87+Q87+R87+S87+T87+U87+V87+W87+X87+Y87+Z87+AA87+AB87+AC87+AD87+AE87+AF87,"проверка пройдена","ВНИМАНИЕ! Сумма по строке не сходится с общей численностью выпускников! Исправьте ошибку в расчетах, пока это сообщение не исчезнет!") -> проверка пройдена
A88: ЮФО | B88: Волгоградская область | C88: 40.02.01 | D88: =VLOOKUP(C88,'Коды программ'!$A$2:$B$578,2,FALSE) -> Право и организация социального обеспечения | E88: 03 | F88: из числа лиц с ОВЗ (из строки 02): инвалиды и дети-инвалиды | G88: 0 | H88: 0 | I88: 0 | J88: 0 | K88: 0 | L88: 0 | M88: 0 | N88: 0 | O88: 0 | P88: 0 | Q88: 0 | R88: 0 | S88: 0 | T88: 0 | U88: 0 | V88: 0 | W88: 0 | X88: 0 | Y88: 0 | Z88: 0 | AA88: 0 | AB88: 0 | AC88: 0 | AD88: 0 | AE88: 0 | AF88: 0 | AG88: 0 | AH88: =IF(G88=H88+K88+L88+M88+N88+O88+P88+Q88+R88+S88+T88+U88+V88+W88+X88+Y88+Z88+AA88+AB88+AC88+AD88+AE88+AF88,"проверка пройдена","ВНИМАНИЕ! Сумма по строке не сходится с общей численностью выпускников! Исправьте ошибку в расчетах, пока это сообщение не исчезнет!") -> проверка пройдена
A89: ЮФО | B89: Волгоградская область | C89: 40.02.01 | D89: =VLOOKUP(C89,'Коды программ'!$A$2:$B$578,2,FALSE) -> Право и организация социального обеспечения | E89: 04 | F89: Инвалиды и дети-инвалиды (кроме учтенных в строке 03) | G89: 0 | H89: 0 | I89: 0 | J89: 0 | K89: 0 | L89: 0 | M89: 0 | N89: 0 | O89: 0 | P89: 0 | Q89: 0 | R89: 0 | S89: 0 | T89: 0 | U89: 0 | V89: 0 | W89: 0 | X89: 0 | Y89: 0 | Z89: 0 | AA89: 0 | AB89: 0 | AC89: 0 | AD89: 0 | AE89: 0 | AF89: 0 | AG89: 0 | AH89: =IF(G89=H89+K89+L89+M89+N89+O89+P89+Q89+R89+S89+T89+U89+V89+W89+X89+Y89+Z89+AA89+AB89+AC89+AD89+AE89+AF89,"проверка пройдена","ВНИМАНИЕ! Сумма по строке не сходится с общей численностью выпускников! Исправьте ошибку в расчетах, пока это сообщение не исчезнет!") -> проверка пройдена
A90: ЮФО | B90: Волгоградская область | C90: 40.02.01 | D90: =VLOOKUP(C90,'Коды программ'!$A$2:$B$578,2,FALSE) -> Право и организация социального обеспечения | E90: 05 | F90: Имеют договор о целевом обучении | G90: 3 | H90: 3 | I90: 3 | J90: 3 | K90: 0 | L90: 0 | M90: 0 | N90: 0 | O90: 0 | P90: 0 | Q90: 0 | R90: 0 | S90: 0 | T90: 0 | U90: 0 | V90: 0 | W90: 0 | X90: 0 | Y90: 0 | Z90: 0 | AA90: 0 | AB90: 0 | AC90: 0 | AD90: 0 | AE90: 0 | AF90: 0 | AG90: 0 | AH90: =IF(G90=H90+K90+L90+M90+N90+O90+P90+Q90+R90+S90+T90+U90+V90+W90+X90+Y90+Z90+AA90+AB90+AC90+AD90+AE90+AF90,"проверка пройдена","ВНИМАНИЕ! Сумма по строке не сходится с общей численностью выпускников! Исправьте ошибку в расчетах, пока это сообщение не исчезнет!") -> проверка пройдена
A91: ЮФО | B91: Волгоградская область | C91: 40.02.02 | D91: =VLOOKUP(C91,'Коды программ'!$A$2:$B$578,2,FALSE) -> Правоохранительная деятельность | E91: 01 | F91: Всего (общая численность выпускников) | G91: 26 | H91: 26 | I91: 16 | J91: 24 | K91: 0 | L91: 0 | M91: 0 | N91: 0 | O91: 0 | P91: 0 | Q91: 0 | R91: 0 | S91: 0 | T91: 0 | U91: 0 | V91: 0 | W91: 0 | X91: 0 | Y91: 0 | Z91: 0 | AA91: 0 | AB91: 0 | AC91: 0 | AD91: 0 | AE91: 0 | AF91: 0 | AG91: ознакомлены с банком вакансий, предложена помощь в трудоустройстве | AH91: =IF(G91=H91+K91+L91+M91+N91+O91+P91+Q91+R91+S91+T91+U91+V91+W91+X91+Y91+Z91+AA91+AB91+AC91+AD91+AE91+AF91,"проверка пройдена","ВНИМАНИЕ! Сумма по строке не сходится с общей численностью выпускников! Исправьте ошибку в расчетах, пока это сообщение не исчезнет!") -> проверка пройдена
A92: ЮФО | B92: Волгоградская область | C92: 40.02.02 | D92: =VLOOKUP(C92,'Коды программ'!$A$2:$B$578,2,FALSE) -> Правоохранительная деятельность | E92: 02 | F92: из общей численности выпускников (из строки 01): лица с ОВЗ | G92: 0 | H92: 0 | I92: 0 | J92: 0 | K92: 0 | L92: 0 | M92: 0 | N92: 0 | O92: 0 | P92: 0 | Q92: 0 | R92: 0 | S92: 0 | T92: 0 | U92: 0 | V92: 0 | W92: 0 | X92: 0 | Y92: 0 | Z92: 0 | AA92: 0 | AB92: 0 | AC92: 0 | AD92: 0 | AE92: 0 | AF92: 0 | AG92: 0 | AH92: =IF(G92=H92+K92+L92+M92+N92+O92+P92+Q92+R92+S92+T92+U92+V92+W92+X92+Y92+Z92+AA92+AB92+AC92+AD92+AE92+AF92,"проверка пройдена","ВНИМАНИЕ! Сумма по строке не сходится с общей численностью выпускников! Исправьте ошибку в расчетах, пока это сообщение не исчезнет!") -> проверка пройдена
A93: ЮФО | B93: Волгоградская область | C93: 40.02.02 | D93: =VLOOKUP(C93,'Коды программ'!$A$2:$B$578,2,FALSE) -> Правоохранительная деятельность | E93: 03 | F93: из числа лиц с ОВЗ (из строки 02): инвалиды и дети-инвалиды | G93: 0 | H93: 0 | I93: 0 | J93: 0 | K93: 0 | L93: 0 | M93: 0 | N93: 0 | O93: 0 | P93: 0 | Q93: 0 | R93: 0 | S93: 0 | T93: 0 | U93: 0 | V93: 0 | W93: 0 | X93: 0 | Y93: 0 | Z93: 0 | AA93: 0 | AB93: 0 | AC93: 0 | AD93: 0 | AE93: 0 | AF93: 0 | AG93: 0 | AH93: =IF(G93=H93+K93+L93+M93+N93+O93+P93+Q93+R93+S93+T93+U93+V93+W93+X93+Y93+Z93+AA93+AB93+AC93+AD93+AE93+AF93,"проверка пройдена","ВНИМАНИЕ! Сумма по строке не сходится с общей численностью выпускников! Исправьте ошибку в расчетах, пока это сообщение не исчезнет!") -> проверка пройдена
A94: ЮФО | B94: Волгоградская область | C94: 40.02.02 | D94: =VLOOKUP(C94,'Коды программ'!$A$2:$B$578,2,FALSE) -> Правоохранительная деятельность | E94: 04 | F94: Инвалиды и дети-инвалиды (кроме учтенных в строке 03) | G94: 0 | H94: 0 | I94: 0 | J94: 0 | K94: 0 | L94: 0 | M94: 0 | N94: 0 | O94: 0 | P94: 0 | Q94: 0 | R94: 0 | S94: 0 | T94: 0 | U94: 0 | V94: 0 | W94: 0 | X94: 0 | Y94: 0 | Z94: 0 | AA94: 0 | AB94: 0 | AC94: 0 | AD94: 0 | AE94: 0 | AF94: 0 | AG94: 0 | AH94: =IF(G94=H94+K94+L94+M94+N94+O94+P94+Q94+R94+S94+T94+U94+V94+W94+X94+Y94+Z94+AA94+AB94+AC94+AD94+AE94+AF94,"проверка пройдена","ВНИМАНИЕ! Сумма по строке не сходится с общей численностью выпускников! Исправьте ошибку в расчетах, пока это сообщение не исчезнет!") -> проверка пройдена
A95: ЮФО | B95: Волгоградская область | C95: 40.02.02 | D95: =VLOOKUP(C95,'Коды программ'!$A$2:$B$578,2,FALSE) -> Правоохранительная деятельность | E95: 05 | F95: Имеют договор о целевом обучении | G95: 0 | H95: 0 | I95: 0 | J95: 0 | K95: 0 | L95: 0 | M95: 0 | N95: 0 | O95: 0 | P95: 0 | Q95: 0 | R95: 0 | S95: 0 | T95: 0 | U95: 0 | V95: 0 | W95: 0 | X95: 0 | Y95: 0 | Z95: 0 | AA95: 0 | AB95: 0 | AC95: 0 | AD95: 0 | AE95: 0 | AF95: 0 | AG95: 0 | AH95: =IF(G95=H95+K95+L95+M95+N95+O95+P95+Q95+R95+S95+T95+U95+V95+W95+X95+Y95+Z95+AA95+AB95+AC95+AD95+AE95+AF95,"проверка пройдена","ВНИМАНИЕ! Сумма по строке не сходится с общей численностью выпускников! Исправьте ошибку в расчетах, пока это сообщение не исчезнет!") -> проверка пройдена
A96: ЮФО | B96: Волгоградская область | C96: 40.02.03 | D96: =VLOOKUP(C96,'Коды программ'!$A$2:$B$578,2,FALSE) -> Право и судебное администрирование | E96: 01 | F96: Всего (общая численность выпускников) | G96: 22 | H96: 17 | I96: 7 | J96: 13 | K96: 0 | L96: 2 | M96: 0 | N96: 1 | O96: 0 | P96: 1 | Q96: 0 | R96: 0 | S96: 0 | T96: 0 | U96: 0 | V96: 0 | W96: 0 | X96: 0 | Y96: 0 | Z96: 0 | AA96: 1 | AB96: 0 | AC96: 0 | AD96: 0 | AE96: 0 | AF96: 0 | AG96: ознакомлены с банком вакансий, предложена помощь в трудоустройстве | AH96: =IF(G96=H96+K96+L96+M96+N96+O96+P96+Q96+R96+S96+T96+U96+V96+W96+X96+Y96+Z96+AA96+AB96+AC96+AD96+AE96+AF96,"проверка пройдена","ВНИМАНИЕ! Сумма по строке не сходится с общей численностью выпускников! Исправьте ошибку в расчетах, пока это сообщение не исчезнет!") -> проверка пройдена
A97: ЮФО | B97: Волгоградская область | C97: 40.02.03 | D97: =VLOOKUP(C97,'Коды программ'!$A$2:$B$578,2,FALSE) -> Право и судебное администрирование | E97: 02 | F97: из общей численности выпускников (из строки 01): лица с ОВЗ | G97: 0 | H97: 0 | I97: 0 | J97: 0 | K97: 0 | L97: 0 | M97: 0 | N97: 0 | O97: 0 | P97: 0 | Q97: 0 | R97: 0 | S97: 0 | T97: 0 | U97: 0 | V97: 0 | W97: 0 | X97: 0 | Y97: 0 | Z97: 0 | AA97: 0 | AB97: 0 | AC97: 0 | AD97: 0 | AE97: 0 | AF97: 0 | AG97: 0 | AH97: =IF(G97=H97+K97+L97+M97+N97+O97+P97+Q97+R97+S97+T97+U97+V97+W97+X97+Y97+Z97+AA97+AB97+AC97+AD97+AE97+AF97,"проверка пройдена","ВНИМАНИЕ! Сумма по строке не сходится с общей численностью выпускников! Исправьте ошибку в расчетах, пока это сообщение не исчезнет!") -> проверка пройдена
A98: ЮФО | B98: Волгоградская область | C98: 40.02.03 | D98: =VLOOKUP(C98,'Коды программ'!$A$2:$B$578,2,FALSE) -> Право и судебное администрирование | E98: 03 | F98: из числа лиц с ОВЗ (из строки 02): инвалиды и дети-инвалиды | G98: 0 | H98: 0 | I98: 0 | J98: 0 | K98: 0 | L98: 0 | M98: 0 | N98: 0 | O98: 0 | P98: 0 | Q98: 0 | R98: 0 | S98: 0 | T98: 0 | U98: 0 | V98: 0 | W98: 0 | X98: 0 | Y98: 0 | Z98: 0 | AA98: 0 | AB98: 0 | AC98: 0 | AD98: 0 | AE98: 0 | AF98: 0 | AG98: 0 | AH98: =IF(G98=H98+K98+L98+M98+N98+O98+P98+Q98+R98+S98+T98+U98+V98+W98+X98+Y98+Z98+AA98+AB98+AC98+AD98+AE98+AF98,"проверка пройдена","ВНИМАНИЕ! Сумма по строке не сходится с общей численностью выпускников! Исправьте ошибку в расчетах, пока это сообщение не исчезнет!") -> проверка пройдена
A99: ЮФО | B99: Волгоградская область | C99: 40.02.03 | D99: =VLOOKUP(C99,'Коды программ'!$A$2:$B$578,2,FALSE) -> Право и судебное администрирование | E99: 04 | F99: Инвалиды и дети-инвалиды (кроме учтенных в строке 03) | G99: 0 | H99: 0 | I99: 0 | J99: 0 | K99: 0 | L99: 0 | M99: 0 | N99: 0 | O99: 0 | P99: 0 | Q99: 0 | R99: 0 | S99: 0 | T99: 0 | U99: 0 | V99: 0 | W99: 0 | X99: 0 | Y99: 0 | Z99: 0 | AA99: 0 | AB99: 0 | AC99: 0 | AD99: 0 | AE99: 0 | AF99: 0 | AG99: 0 | AH99: =IF(G99=H99+K99+L99+M99+N99+O99+P99+Q99+R99+S99+T99+U99+V99+W99+X99+Y99+Z99+AA99+AB99+AC99+AD99+AE99+AF99,"проверка пройдена","ВНИМАНИЕ! Сумма по строке не сходится с общей численностью выпускников! Исправьте ошибку в расчетах, пока это сообщение не исчезнет!") -> проверка пройдена
A100: ЮФО | B100: Волгоградская область | C100: 40.02.03 | D100: =VLOOKUP(C100,'Коды программ'!$A$2:$B$578,2,FALSE) -> Право и судебное администрирование | E100: 05 | F100: Имеют договор о целевом обучении | G100: 0 | H100: 0 | I100: 0 | J100: 0 | K100: 0 | L100: 0 | M100: 0 | N100: 0 | O100: 0 | P100: 0 | Q100: 0 | R100: 0 | S100: 0 | T100: 0 | U100: 0 | V100: 0 | W100: 0 | X100: 0 | Y100: 0 | Z100: 0 | AA100: 0 | AB100: 0 | AC100: 0 | AD100: 0 | AE100: 0 | AF100: 0 | AG100: 0 | AH100: =IF(G100=H100+K100+L100+M100+N100+O100+P100+Q100+R100+S100+T100+U100+V100+W100+X100+Y100+Z100+AA100+AB100+AC100+AD100+AE100+AF100,"проверка пройдена","ВНИМАНИЕ! Сумма по строке не сходится с общей численностью выпускников! Исправьте ошибку в расчетах, пока это сообщение не исчезнет!") -> проверка пройдена
...

Sheet Коды программ
A1: Коды образовательных программ | B1: Наименования образовательных программ | C1: Ведомственная принадлежность | E1: Тип | G1: Регионы | I1: ФО | K1: 1 | L1: 01 | M1: Всего (общая численность выпускников)
A2: 05.01.01 | B2: Гидрометнаблюдатель | C2: федеральная | E2: ПОО | G2: Алтайский край | I2: ДФО | K2: 2 | L2: 02 | M2: из общей численности выпускников (из строки 01): лица с ОВЗ
A3: 05.02.01 | B3: Картография | C3: региональная | E3: ОО ВО | G3: Амурская область | I3: ПФО | K3: 3 | L3: 03 | M3: из числа лиц с ОВЗ (из строки 02): инвалиды и дети-инвалиды
A4: 05.02.02 | B4: Гидрология | C4: муниципальная | G4: Архангельская область | I4: СЗФО | K4: 4 | L4: 04 | M4: Инвалиды и дети-инвалиды (кроме учтенных в строке 03)
A5: 05.02.03 | B5: Метеорология | C5: частная | G5: Астраханская область | I5: СКФО | K5: 5 | L5: 05 | M5: Имеют договор о целевом обучении
A6: 07.02.01 | B6: Архитектура | G6: Белгородская область | I6: СФО | K6: 6 | L6: 06 | M6: Автосумма строк 02 и 04 - Всего (общая численность выпускников из числа лиц с ОВЗ, инвалидов и детей-инвалидов)
A7: 08.01.01 | B7: Изготовитель арматурных сеток и каркасов | G7: Брянская область | I7: УФО | K7: 7 | L7: 07 | M7: из общей численности выпускников из числа лиц с ОВЗ, инвалидов и детей-инвалидов (из строки 06): с нарушениями: зрения
A8: 08.01.02 | B8: Монтажник трубопроводов | G8: Владимирская область | I8: ЦФО | K8: 8 | L8: 08 | M8: слуха
A9: 08.01.03 | B9: Трубоклад | G9: Волгоградская область | I9: ЮФО | K9: 9 | L9: 09 | M9: опорно-двигательного аппарата
A10: 08.01.04 | B10: Кровельщик | G10: Вологодская область | K10: 10 | L10: 10 | M10: тяжелыми нарушениями речи
A11: 08.01.05 | B11: Мастер столярно-плотничных и паркетных работ | G11: Воронежская область | K11: 11 | L11: 11 | M11: задержкой психического развития
A12: 08.01.06 | B12: Мастер сухого строительства | G12: город Москва | K12: 12 | L12: 12 | M12: расстройствами аутистического спектра
A13: 08.01.07 | B13: Мастер общестроительных работ | G13: город Санкт-Петербург | K13: 13 | L13: 13 | M13: с инвалидностью вследствие других причин
A14: 08.01.08 | B14: Мастер отделочных строительных работ | G14: город Севастополь | K14: 14 | L14: 14 | M14: из общей численности выпускников из числа лиц с ОВЗ, инвалидов и детей-инвалидов (из строки 06): имеют договор о целевом обучении
A15: 08.01.09 | B15: Слесарь по строительно-монтажным работам | G15: Еврейская автономная область | K15: 15 | L15: 15 | M15: из общей численности выпускников из числа лиц с ОВЗ, инвалидов и детей-инвалидов (из строки 06): принимали участие в чемпионате «Абилимпикс»
A16: 08.01.10 | B16: Мастер жилищно-коммунального хозяйства | G16: Забайкальский край
A17: 08.01.11 | B17: Машинист машин и оборудования в производстве цемента | G17: Ивановская область
A18: 08.01.12 | B18: Оператор технологического оборудования в производстве стеновых и вяжущих материалов | G18: Иркутская область
A19: 08.01.13 | B19: Изготовитель железобетонных изделий | G19: Кабардино-Балкарская республика
A20: 08.01.14 | B20: Монтажник санитарно-технических, вентиляционных систем и оборудования | G20: Калининградская область
A21: 08.01.15 | B21: Слесарь по изготовлению деталей и узлов технических систем в строительстве | G21: Калужская область
A22: 08.01.16 | B22: Электромонтажник по сигнализации, централизации и блокировке | G22: Камчатский край
A23: 08.01.17 | B23: Электромонтажник-наладчик | G23: Карачаево-Черкесская Республика
A24: 08.01.18 | B24: Электромонтажник электрических сетей и электрооборудования | G24: Кемеровская область - Кузбасс
A25: 08.01.19 | B25: Электромонтажник по силовым сетям и электрооборудованию | G25: Кировская область
A26: 08.01.20 | B26: Электромонтажник по электрическим машинам | G26: Костромская область
A27: 08.01.21 | B27: Монтажник электрических подъемников (лифтов) | G27: Краснодарский край
... A86: 11.02.15 | B86: Инфокоммуникационные сети и системы связи | G86: Ярославская область
A87: 11.02.16 | B87: Монтаж, техническое обслуживание и ремонт электронных приборов и устройств
A88: 12.01.01 | B88: Наладчик оборудования оптического производства
A89: 12.01.02 | B89: Оптик-механик
A90: 12.01.03 | B90: Сборщик очков
A91: 12.01.04 | B91: Электромеханик по ремонту и обслуживанию наркознодыхательной аппаратуры
A92: 12.01.05 | B92: Электромеханик по ремонту и обслуживанию медицинского оборудования
A93: 12.01.06 | B93: Электромеханик по ремонту и обслуживанию медицинских оптических приборов
A94: 12.01.07 | B94: Электромеханик по ремонту и обслуживанию электронной медицинской аппаратуры
A95: 12.01.08 | B95: Механик протезно-ортопедических изделий
A96: 12.01.09 | B96: Мастер по изготовлению и сборке деталей и узлов оптических и оптико-электронных приборов и систем
A97: 12.02.01 | B97: Авиационные приборы и комплексы
A98: 12.02.02 | B98: Акустические приборы и системы
... A578: 55.02.02 | B578: Анимация (по видам)
